{"text_format":"1","workbook":"xlsx","n_sheets":20,"sheets":["Read Me","Comments","Plant","Company","Validation","ControlPlant","Fuel CO2 Factors","Plant_new","Plant_new_Transfer","CalcA1","CalcA2","CalcB2","ControlRangesPlant","ControlRangesGrCent","InputLines","KilnControlRanges","GrCentControlRanges","Plant_newOLD","Def","Plant_Template_bak"],"not_rendered":{"charts":0,"images":22,"macros":1,"external_links":1,"defined_names":232,"comments":6,"pivot_tables":0},"unopened":[],"bounds":{"document_bytes":16777216,"sheet_cells":100000,"rows_first":2000,"rows_last":500,"rows_between":2000,"halvings":0,"cell_chars":16384,"cell_head_chars":4096},"cells_cut":0,"cells_raw":0,"read":"whole","date_system":"1900"}

{"sheet":"Read Me","index":0,"n_rows":117,"n_cols":7,"rows_kept":117,"cut":false,"hidden":false,"merged":[[1,0,1,5],[112,0,112,3],[0,0,0,5]]}
["GCCA (Global Cement and Concret Association)\nCement CO2 and Energy Protocol, Version 3.1, CO2 Emissions and Energy Inventory \nDeveloped by the WBCSD Cement Sustainability Initiative (CSI) and European Cement Research Academy (ECRA).",null,null,null,null,null,"Colour Codes, Notes & FAQ"]
["This protocol and related activities shall be compliant with all applicable legal requirements, including competition laws and regulations, whether related to information exchange or to other competition law requirements, guidelines, or practices."]
[]
["Date of latest update","2013-12-09"]
[]
[]
["Enable macros "]
[]
["The Protocol Spreadsheet is a Microsoft® Excel® file with Visual Basic macros. "]
["It is therefore very important to enable macros in your Excel application via (Options>Macro>Security)"]
["or by pressing \"enable\" if asked to do so on start-up of the Protocol Spreadsheet."]
[]
[]
[]
[]
[]
[]
[]
[]
[]
[]
[]
[]
[]
[]
[]
["Plant sheet functionality"]
[]
["The Plant sheet will expand or contract certain sections of lines according to the selection for the Inventory Boundaries  in Column E (line 7a to line 7j)."]
["Thus, some input lines only become accessible, when needed for the reporting for this plant."]
[]
["Additional Plant sheets are required, when you report data for several plants of one company in the same Protocol Spreadsheet."]
["In the line 1 you will find a button with which you can create a “New Plant Sheet”. "]
["It is recommended to name all Plant sheets \"Plant_xyz\", with xyz being replaced e.g. by the name of the plant. This will help you to keep an overview of complex company structures."]
[]
[]
["Color codes"]
[]
["Subject","Numbers / Values"]
["Basic information on plant and company","Input cell; value to be entered by Cement Company as appropriate"]
["Calculation of CO2 emissions","Calculated value"]
["Calculation of Performance indicators, Total absolute and specific emissions","Self-calculating value copied from another part of the sheet"]
["Voluntary data or indicators","Default value, to be corrected by Cement Company if more precise data are available"]
[]
[]
["Notes to the user"]
[]
["- Pant sheet: All empty white cells must be completed. If an input value is zero (0), do not leave the cell blank but enter zero."]
["- Company sheet: If you are reporting for several plants of one company, the data is consolidated in the Company sheet. Consolidated totals must be entered manually in all white \"SUM\" cells."]
["   If a value is zero (0), do not leave the cell blank but enter zero. "]
["- Non-input cells are write-protected to prevent inadvertent changes."]
["- Please note that the undo-function only works before you have pressed the ENTER-button."]
["- A detailed user manual for the application and explanation of the Protocol Spreadsheet and the Protocol Guidance Document are available via internet: www.cement-co2-protocol.org"]
["- Further information on the Cement CO2 and Energy Protocol can be found at the GCCA home page: https://gccassociation.org/sustainability-innovation/gnr-gcca-in-numbers/"]
[]
["In the Protocol Spreadsheet it is most important for correct functioning and calculations to enter values in each of the white cells."]
[]
[]
[]
[]
[]
[]
[]
[]
[]
[]
["Some white cells are filled with a default value of “0” (zero) in order to assure correct functioning of some calculation cells. "]
[]
[]
[]
[]
["Please change the value of “0” (zero) to your plant (or company) specific data, as appropriate. "]
[]
[]
["Jump marks in plant sheet"]
["Jump marks are programmed in each Plant Sheet for easy navigation to the following sections:"]
["-            General Plant Information (_PlantInformation)"]
["-            Inventory Boundaries (_InventoryBoundaries)"]
["-            Clinker and Cement Production (_ClinkerCement)"]
["-            Power Balance (_PowerBalance)"]
["-            CO2 Emissions (_CO2Balance)"]
["-            Performance Indicators (_KPI)"]
["-            Kiln Fuels (_KilnFuels)"]
["-            CO2 Emission Factors (_EmissionFactors)"]
["-            Non-Kiln Fuels (_NonKilnFuels)"]
[]
[]
[]
[]
[]
[]
[]
[]
[]
[]
[]
[]
[]
[]
[]
[]
[]
[]
[]
[]
[]
[]
[]
[]
[]
[]
[]
["When clicking on one of the mentioned jump marks (cell name) the curser jumps from any position in the plant sheet to the very first cell (column A) in the first line of the corresponding section in the sheet."]
[]
["Frequently Ask Questions (FAQs)"]
[]
["Answers to further questions are provided in the section Frequently Asked Questions (FAQs) of the Internet Manual (http://www.cement-co2-protocol.org)."]

{"sheet":"Comments","index":1,"n_rows":571,"n_cols":22,"rows_kept":571,"cut":false,"hidden":false,"merged":[[382,6,382,11],[383,6,383,11],[384,6,384,11],[378,6,378,11],[373,6,373,11],[374,6,374,11],[375,6,375,11],[377,6,377,11],[372,6,372,11],[352,6,352,11],[353,6,353,11],[354,6,354,11],[203,6,203,21],[204,6,204,21],[207,6,207,21],[348,12,358,21],[188,1,188,5],[190,6,190,21],[191,6,191,21],[194,1,194,5],[189,6,189,21],[358,6,358,11],[348,6,348,11],[349,6,349,11],[350,6,350,11],[351,6,351,11],[208,6,208,21],[192,6,192,21],[209,6,209,21],[211,6,211,21],[202,6,202,21],[198,6,198,21],[199,6,199,21],[171,1,171,5],[179,1,179,5],[182,1,182,5],[184,6,184,21],[174,6,174,21],[175,6,175,21],[176,6,176,21],[183,6,183,21],[178,6,178,21],[180,6,180,21],[129,6,129,21],[130,6,130,21],[96,6,96,21],[97,6,97,21],[98,6,98,21],[99,6,99,21],[100,6,100,21],[101,6,101,21],[103,6,103,21],[104,6,104,21],[121,6,121,21],[124,6,124,21],[125,6,125,21],[126,6,126,21],[0,0,0,3],[0,4,0,21],[7,6,7,21],[8,6,8,21],[117,6,117,21],[120,6,120,21],[107,6,107,21],[108,6,108,21],[13,6,13,21],[14,6,14,21],[15,6,15,21],[16,6,16,21],[9,6,9,21],[10,6,10,21],[11,6,11,21],[12,6,12,21],[42,6,42,21],[25,6,25,21],[26,6,26,21],[27,6,27,21],[28,6,28,21],[21,6,21,21],[22,6,22,21],[23,6,23,21],[70,6,70,21],[71,6,71,21],[72,6,72,21],[75,6,75,21],[55,6,55,21],[58,6,58,21],[59,6,59,21],[61,6,61,21],[24,6,24,21],[29,6,29,21],[39,6,39,21],[40,6,40,21],[41,6,41,21],[30,6,30,21],[31,6,31,21],[64,6,64,21],[65,6,65,21],[139,6,139,21],[140,6,140,21],[141,6,141,21],[142,6,142,21],[138,6,138,21],[131,6,131,21],[135,6,135,21],[136,6,136,21],[137,6,137,21],[151,6,151,21],[152,6,152,21],[153,6,153,21],[154,6,154,21],[143,6,143,21],[146,6,146,21],[147,6,147,21],[148,6,148,21],[163,6,163,21],[164,6,164,21],[167,6,167,21],[172,6,172,21],[155,6,155,21],[158,6,158,21],[161,6,161,21],[162,6,162,21],[185,6,185,21],[195,6,195,21],[186,6,186,21],[196,6,196,21],[197,6,197,21],[217,6,217,21],[218,6,218,21],[220,6,220,21],[221,6,221,21],[212,6,212,21],[213,6,213,21],[214,6,214,21],[215,6,215,21],[216,6,216,21],[238,6,244,21],[246,6,253,21],[256,6,261,21],[263,6,263,21],[230,6,236,21],[222,6,222,21],[223,6,223,21],[224,6,224,21],[295,6,300,21],[302,6,302,21],[304,6,304,21],[307,6,307,21],[265,6,265,21],[269,6,275,21],[277,6,283,21],[285,6,292,21],[324,6,332,21],[334,6,334,21],[335,6,340,21],[341,6,341,21],[308,6,314,21],[315,6,315,21],[316,6,322,21],[323,6,323,21],[342,6,342,21],[343,6,343,21],[344,6,344,21],[387,6,387,21],[355,6,355,11],[356,6,356,11],[357,6,357,11],[360,6,360,11],[361,6,361,11],[362,6,362,11],[404,6,412,21],[414,6,414,21],[381,6,381,11],[371,6,371,11],[367,6,367,11],[368,6,368,11],[369,6,369,11],[370,6,370,11],[379,6,379,11],[380,6,380,11],[360,12,367,21],[368,12,375,21],[377,12,384,21],[363,6,363,11],[364,6,364,11],[365,6,365,11],[366,6,366,11],[450,6,450,21],[460,6,460,21],[462,6,462,21],[453,6,458,21],[498,6,498,21],[415,6,420,21],[421,6,421,21],[388,6,394,21],[395,6,395,21],[396,6,402,21],[403,6,403,21],[434,6,434,21],[441,6,446,21],[448,6,448,21],[436,6,438,21],[422,6,422,21],[423,6,423,21],[424,6,424,21],[430,6,432,21],[484,6,484,21],[486,6,486,21],[496,6,496,21],[489,6,494,21],[523,6,523,21],[466,6,468,21],[470,6,470,21],[477,6,482,21],[472,6,474,21],[507,6,507,21],[512,6,512,21],[511,6,511,21],[508,6,510,21],[533,6,533,21],[534,6,534,21],[501,6,501,21],[502,6,504,21],[505,6,505,21],[570,6,570,21],[567,6,567,21],[568,6,568,21],[569,6,569,21],[544,6,546,21],[538,6,540,21],[541,6,541,21],[542,6,542,21],[543,6,543,21],[561,6,566,21],[560,6,560,21],[547,6,547,21],[556,6,556,21],[557,6,557,21],[558,6,558,21],[559,6,559,21],[548,6,548,21],[549,6,554,21],[522,6,522,21],[555,6,555,21],[31,2,31,3],[35,2,35,3],[85,6,85,21],[86,6,86,21],[79,6,79,21],[82,6,82,21],[83,6,83,21],[84,6,84,21],[60,6,60,21],[76,6,76,21],[116,6,116,21],[89,6,89,21],[102,6,102,21],[537,6,537,21],[531,6,531,21],[513,6,518,21],[519,6,519,21],[520,6,520,21],[521,6,521,21],[524,6,524,21],[525,6,530,21],[506,6,506,21],[532,6,532,21],[18,6,18,21],[93,6,93,21],[94,6,94,21],[95,6,95,21],[113,6,113,21],[77,6,77,21],[78,6,78,21],[17,6,17,21],[54,6,54,21],[43,6,43,21],[44,6,44,21],[33,6,33,21],[50,6,50,21],[51,6,51,21],[52,6,52,21],[53,6,53,21],[45,6,45,21],[92,6,92,21],[90,6,90,21],[91,6,91,21],[66,6,66,21],[67,6,67,21],[48,6,48,21],[49,6,49,21]]}
["GCCA (Global Cement and Concret Association)\nCement CO2 and Energy Protocol, Version 3.1, CO2 Emissions and Energy Inventory. \nDeveloped by the WBCSD Cement Sustainability Initiative (CSI) and European Cement Research Academy (ECRA).",null,null,null,"Plant Level - Comments"]
[]
[".",".",null,null,{"$f":"'Read Me'!B4","v":"2013-12-09"}]
[]
["INFORMATION"]
[]
[null,"General Plant Information",null,null,null,null,1990,{"$f":"G7+1","v":1991},1992,1993,1994,1995,1996,1997,1998,1999,2000,2001,2002,2003,2004,2005]
[null,1,"Plant"]
[null,2,"Company"]
[null,3,"Country",null,null,null,"Selection needed"]
[null,4,"Continent",null,null,null,"Selection needed"]
[null,5,"\"Kyoto\" Region (Annex 1 or non-Annex 1)"]
[null,6,"Kiln types",null,null,null,"Selection needed"]
[null,"6a","Nominal clinker capacity",null,"[t/d]",null,"Selection needed"]
[null,"6b","Plant type",null,null,null,"Selection needed"]
[null,7,"Shares owned by Company",null,"[%]"]
[null,"7aa","Third party verification",null,null,null,"Selection needed"]
[null,"7ab","Used Cement CO2 and Energy Protocol version ",null,null,null,"Fixed value for all calculations and data processed with this spreadsheet"]
[null,"7ac","Short notes or user comment (max. 250 characters)"]
[]
[null,"Inventory Boundaries: Coverage of Main Process Steps",null,null,"[yes, no or n.a.]",null,{"$f":"G$7","v":1990},1991,1992,1993,1994,1995,1996,1997,1998,1999,2000,2001,2002,2003,2004,2005]
[null,"7a","Raw material supply (quarrying, mining, crushing)",null,"Selection needed",null,"\"Yes\" means that energy consumption and emissions data for the project step are reported"]
[null,"7b","Preparation of raw materials, fuels and additives",null,"Selection needed",null,"\"No\" means that emissions are generated as a result of the process step, but the data are not reported -- Needs "]
[null,"7c","Kiln operation (pyro-processing)",null,"Selection needed",null,"explanation in a note in the cell for why \"No\" was used."]
[null,"7d","Cement grinding, blending",null,"Selection needed",null,"\"n.a.\" (not applicable) means that emissions are never generated from this source, or the source does not exist at this plant."]
[null,"7e","On-site (internal) transport",null,"Selection needed",null,"See Protocol Guideance Document, Appendix 3, for details on the different process steps."]
[null,"7f","Off-site transport with company-owned fleets",null,"Selection needed"]
[null,"7g","On-site power generation",null,"Selection needed"]
[null,"7h","Room heating and cooling",null,"Selection needed"]
[null,"7i","(add other processes as appropriate)",null,"Selection needed"]
[null,"7j","use of internal cement transfer for blending",null,"Selection needed"]
[null,"7k","Select year to copy and apply inventory boundaries (7a - 7j) ",null,"Selection needed",null,"Use macro in line7k, column E, to copy and apply inventory boundaries to specific reporting years."]
[]
[null,"7n","1.) Select calcination CO2 method (A1; A2; B1; B2)  B1=Standard (no seperate calcination sheet needed).",null,null,null,"Select method for reporting CO2 emissions from raw material calcination. Use macro in column E to create coresponding calcination sheet, if missing."]
[null,null,"2.) For A1; A2; B2 check if appropriate calcination sheet (CalcA1; CalcA2 or CalcB2) is already availabe next to plant sheet."]
[null,null,"3.) If not, press the 'create' button one time in order to create one new calcination sheet."]
[]
[null,"Clinker and Cement Production",null,null,null,null,{"$f":"G$7","v":1990},1991,1992,1993,1994,1995,1996,1997,1998,1999,2000,2001,2002,2003,2004,2005]
[null,null,"Clinker:"]
[null,{"$f":"B16+1","v":8},"Clinker production",null,"[t/yr]",null,"Actual clinker production of active kilns  "]
[null,{"$f":"B40+1","v":9},"Clinker bought from other companies and from cross-border transfer",null,"[t/yr]",null,"Amount of clinker purchased from other companies. See Section 7.4 of guidance document for details on company-internal transfers."]
[null,{"$f":"B41+1","v":10},"Clinker sold to other companies and from cross-border transfer",null,"[t/yr]",null,"Amount of clinker sold to other companies. See Section 7.4 of guidance document for details on company-internal transfers."]
[null,"10a","Change in clinker stocks (+ = increase; - = reduction)",null,"[t/yr]",null,"Amount of clinker added to stocks (positive sign) or taken from stocks (negative sign), (=stock at end minus stock at start of the year)."]
[null,"10b","Internal clinker transfer (+ = clinker received; - = clinker sent)",null,"[t/yr]",null,"Amount of clinker transfers with other plants belonging to the same company"]
[null,"10c","Clinker from internal transfer of processed cement (+ = cement received; - = cement sent)",null,"[t/yr]",null,"Amount of clinker transfers with cement transferes with other plants belonging to the same company"]
[null,{"$f":"B42+1","v":11},"Total clinker consumed",null,"[t/yr]",null,"; =line8 + line9 - line10 - line10a + line10b + line10c"]
[]
[null,null,"Mineral components (MIC) used to produce Portland and blended cements:"]
[null,{"$f":"B46+1","v":12},"Gypsum",null,"[t/yr, dry weight]",null,"Only mineral components used for portland cement and blended cement, excl. MIC used for slag cement production"]
[null,{"$f":"B49+1","v":13},"Limestone",null,"[t/yr, dry weight]",null,"idem"]
[null,{"$f":"B50+1","v":14},"Slag",null,"[t/yr, dry weight]",null,"idem"]
[null,{"$f":"B51+1","v":15},"Fly ash (for blending)",null,"[t/yr, dry weight]",null,"idem"]
[null,{"$f":"B52+1","v":16},"Puzzolana",null,"[t/yr, dry weight]",null,"idem"]
[null,{"$f":"B53+1","v":17},"Others (e.g., CKD added to cement mill)",null,"[t/yr, dry weight]",null,"idem"]
[null,"17a","MIC from internal transfer of processed cement (+ = cement received; - = cement sent)",null,"[t/yr, dry weight]",null,"Amount of MICs transfers between plants belonging to the same company"]
[null,{"$f":"B54+1","v":18},"Total MIC consumed for Portland and blended cements (dry weight)",null,"[t/yr, dry weight]",null,"; =SUM(line12:line17a)"]
[]
[null,null,"Processed mineral components (MIC) sold externally or transferred internally (dry weight):"]
[null,"19a","Processed slag sold externally",null,"[t/yr, dry weight]",null,"This is pure slag, dried and/or ground on-site and sold externally (no company-internal transfer)     "]
[null,"19b","Processed fly ash and other puzzolana sold externally",null,"[t/yr, dry weight]",null,"This is fly ash and other puzzolana, dried and/or ground on-site and sold externally (no company-internal transfer)     "]
[null,"19c","Total internal processed MIC transfer (+ = received; - = sent)",null,"[t/yr, dry weight]",null,"Total amount of MICs processed on-site and transfered between plants of the same company (not sold to or purchaesd from other companies)"]
[null,19,"Total processed MIC's used as clinker or cement substitute sold externally",null,"[t/yr, dry weight]",null,"; =SUM(line19a:line19c)",null,null,null,null,null,null,null,null,null,null,{"$f":"IF(COUNTBLANK(R59:R60)=2,\"\",SUM(R59:R60))","v":""},{"$f":"IF(COUNTBLANK(S59:S60)=2,\"\",SUM(S59:S60))","v":""},{"$f":"IF(COUNTBLANK(T59:T60)=2,\"\",SUM(T59:T60))","v":""},{"$f":"IF(COUNTBLANK(U59:U60)=2,\"\",SUM(U59:U60))","v":""},{"$f":"IF(COUNTBLANK(V59:V60)=2,\"\",SUM(V59:V60))","v":""}]
[]
[null,null,"Production totals:"]
[null,{"$f":"B62+1","v":20},"Total Portland and Blended cements ",null,"[t/yr]",null,"Total cement produced (all types together except pure slag cement and direct fly ash sales)\n; =line11 + line18"]
[null,{"$f":"B65+1","v":21},"Total cements + substitutes: Portland, Blended, Slag, etc.",null,"[t/yr]",null,"Total cements produced, excluding clinker sold, including clinker bought. Portland + Blended + Slag cements incl. direct fly ash sales\n; =line11 + line18 + line19",null,null,null,null,null,null,null,null,null,null,{"$f":"IF(OR(R46=\"\",R56=\"\",R62=\"\"),\"\",R46+R56+R62)","v":""},{"$f":"IF(OR(S46=\"\",S56=\"\",S62=\"\"),\"\",S46+S56+S62)","v":""},{"$f":"IF(OR(T46=\"\",T56=\"\",T62=\"\"),\"\",T46+T56+T62)","v":""},{"$f":"IF(OR(U46=\"\",U56=\"\",U62=\"\"),\"\",U46+U56+U62)","v":""},{"$f":"IF(OR(V46=\"\",V56=\"\",V62=\"\"),\"\",V46+V56+V62)","v":""}]
[null,"21a","Total cementitious products",null,"[t/yr]",null,"Total clinker produced plus MIC consumed for blending and production of cement substitutes, including clinker sold, excluding clinker bought\n; =line8 + line18 + line19",null,null,null,null,null,null,null,null,null,null,{"$f":"IF(OR(R40=\"\",R56=\"\",R62=\"\"),\"\",R40+R56+R62)","v":""},{"$f":"IF(OR(S40=\"\",S56=\"\",S62=\"\"),\"\",S40+S56+S62)","v":""},{"$f":"IF(OR(T40=\"\",T56=\"\",T62=\"\"),\"\",T40+T56+T62)","v":""},{"$f":"IF(OR(U40=\"\",U56=\"\",U62=\"\"),\"\",U40+U56+U62)","v":""},{"$f":"IF(OR(V40=\"\",V56=\"\",V62=\"\"),\"\",V40+V56+V62)","v":""}]
[null,"21b","Total cement equivalent",null,"[t/yr]",null,"Calculated based on Clinker production and Clinker/cement (eq.) ratio\n; =line 8 / line 92a "]
[]
[null,"Dust Production (dry weight)",null,null,null,null,{"$f":"G$7","v":1990},1991,1992,1993,1994,1995,1996,1997,1998,1999,2000,2001,2002,2003,2004,2005]
[null,22,"Bypass dust leaving kiln system",null,"[t/yr, dry weight]",null,"Only bypass dust which leaves the kiln system, e.g. for landfilling.",null,null,null,null,null,null,null,null,null,null,0,0,0,0,0]
[null,{"$f":"B71+1","v":23},"CKD leaving the kiln system",null,"[t/yr, dry weight]",null,"All CKD which leaves the kiln system, e.g. for additions to cement mill, direct sale, landfilling, etc.\nCKD volumes added to cement mill should also be entered in line 17. CKD sold directly as a product may be entered in line 19b.",null,null,null,null,null,null,null,null,null,null,0,0,0,0,0]
[null,{"$f":"B72+1","v":24},"CKD calcination rate d (Plant specific value or default 0%= dry kilns, 100%= for other kiln types)",null,"[%]",null,"Default 0% = dry kilns, 100% = for other kiln types. To be replaced with more precise data by Company if available. See Protocol Guideance Document, Appendix 4 for instructions."]
[]
[null,"Kiln Fuel Consumption incl. raw material and fuel drying",null,null,null,null,{"$f":"G$7","v":1990},1991,1992,1993,1994,1995,1996,1997,1998,1999,2000,2001,2002,2003,2004,2005]
[null,25,"Total heat consumption of kilns",null,"[TJ/yr]",null,"Sum of conventional fossil fuels, alternative fossil fuels, and biomass fuels; including fuels for drying of raw amterials and fuels\n; =SUM(line26:28)"]
[null,"25a","Total heat consumption of kilns excluding drying of fuels and raw materials",null,"[TJ/yr]",null,"Sum of conventional fossil fuels, alternative fossil fuels, and biomass fuels; excluding fuels for drying of raw amterials and fuels\n; =line25 - line184 - line184g - line184i"]
[null,{"$f":"B76+1","v":26},"Conventional fossil fuels",null,"[TJ/yr]",null,"Calculated based on consumption of individual fuels and their lower heating values\n; =line161 + line184"]
[null,{"$f":"B78+1","v":27},"Alternative fuels, fossil content; excluding biomass fraction of mixed fuels",null,"[TJ/yr]",null,"Calculated based on consumption of individual fuels and their lower heating values\n; =line168 + line184g",null,null,null,null,null,null,null,null,null,null,{"$f":"IF(OR(R316=\"\",R342=\"\"),\"\",R316+R342)","v":""},{"$f":"IF(OR(S316=\"\",S342=\"\"),\"\",S316+S342)","v":""},{"$f":"IF(OR(T316=\"\",T342=\"\"),\"\",T316+T342)","v":""},{"$f":"IF(OR(U316=\"\",U342=\"\"),\"\",U316+U342)","v":""},{"$f":"IF(OR(V316=\"\",V342=\"\"),\"\",V316+V342)","v":""}]
[null,{"$f":"B79+1","v":28},"Biomass fuels, incl. biomass content of alternative fuels",null,"[TJ/yr]",null,"Calculated based on consumption of individual fuels and their lower heating values\n; =line175 + line184i",null,null,null,null,null,null,null,null,null,null,{"$f":"IF(OR(R324=\"\",R344=\"\"),\"\",R324+R344)","v":""},{"$f":"IF(OR(S324=\"\",S344=\"\"),\"\",S324+S344)","v":""},{"$f":"IF(OR(T324=\"\",T344=\"\"),\"\",T324+T344)","v":""},{"$f":"IF(OR(U324=\"\",U344=\"\"),\"\",U324+U344)","v":""},{"$f":"IF(OR(V324=\"\",V344=\"\"),\"\",V324+V344)","v":""}]
[]
[null,"Non-Kiln Fuel Consumption",null,null,null,null,{"$f":"G$7","v":1990},1991,1992,1993,1994,1995,1996,1997,1998,1999,2000,2001,2002,2003,2004,2005]
[null,30,"Equipment and on-site vehicles",null,"[TJ/yr]",null,"Fuel used for quarry equipment and vehicles for internal transport\n; =line321+ line321c",null,null,null,null,null,null,null,null,null,null,{"$f":"R502","v":0},{"$f":"S502","v":0},{"$f":"T502","v":0},{"$f":"U502","v":0},{"$f":"V502","v":0}]
[null,"31a","Room heating and cooling",null,"[TJ/yr]",null,"Fuel used for office heating\n; =line322",null,null,null,null,null,null,null,null,null,null,{"$f":"R508","v":0},{"$f":"S508","v":0},{"$f":"T508","v":0},{"$f":"U508","v":0},{"$f":"V508","v":0}]
[null,"31b","Drying of mineral components",null,"[TJ/yr]",null,"Fuel used for drying of mineral components\n; =line 323k + line 323g + line 323i",null,null,null,null,null,null,null,null,null,null,{"$f":"IF(OR(R513=\"\",R520=\"\",R522=\"\"),\"\",R513+R520+R522)","v":""},{"$f":"IF(OR(S513=\"\",S520=\"\",S522=\"\"),\"\",S513+S520+S522)","v":""},{"$f":"IF(OR(T513=\"\",T520=\"\",T522=\"\"),\"\",T513+T520+T522)","v":""},{"$f":"IF(OR(U513=\"\",U520=\"\",U522=\"\"),\"\",U513+U520+U522)","v":""},{"$f":"IF(OR(V513=\"\",V520=\"\",V522=\"\"),\"\",V513+V520+V522)","v":""}]
[null,"31c","On-site power generation",null,"[TJ/yr]",null,"Fuel used for power generation on-site (autoproduction)\n; =line324aa + line 324f + line 324h",null,null,null,null,null,null,null,null,null,null,{"$f":"IF(OR(R524=\"\",R532=\"\",R534=\"\"),\"\",R524+R532+R534)","v":""},{"$f":"IF(OR(S524=\"\",S532=\"\",S534=\"\"),\"\",S524+S532+S534)","v":""},{"$f":"IF(OR(T524=\"\",T532=\"\",T534=\"\"),\"\",T524+T532+T534)","v":""},{"$f":"IF(OR(U524=\"\",U532=\"\",U534=\"\"),\"\",U524+U532+U534)","v":""},{"$f":"IF(OR(V524=\"\",V532=\"\",V534=\"\"),\"\",V524+V532+V534)","v":""}]
[null,32,"Total non-kiln fuel consumption",null,"[TJ/yr]",null,"; =SUM(line30:line31c)"]
[]
[null,"Power Balance",null,null,null,null,{"$f":"G$7","v":1990},1991,1992,1993,1994,1995,1996,1997,1998,1999,2000,2001,2002,2003,2004,2005]
[null,"33a","Total power production from separate on-site power generation",null,"[MWh/yr]",null,"Power production from separate on-site power generation in Mega Watt hours per year"]
[null,"33aa","       Power delivered to cement plant",null,"[MWh/yr]",null,"Power production from separate on-site power generation delivered to the cement plant in Mega Watt hours per year"]
[null,"33ab","       Power delivered externally",null,"[MWh/yr]",null,"Power production from separate on-site power generation delivered externally in Mega Watt hours per year"]
[null,"33ac","       Power consumed by on-site power generation equipment",null,"[MWh/yr]",null,"Power consumed in the power plant from separate on-site power generation in Mega Watt hours per year\n; =line33a - line33aa - line33ab"]
[null,"33ad","       CO2 per power unit produced by separate on-site power generation",null,"[kg CO2/MWh]",null,"CO2 emission factor of power produced by on-site power generation\n; =line45c / line33a *1000"]
[null,"33b","Total power production from waste heat recovery",null,"[MWh/yr]",null,"Power production from waste heat recovery in Mega Watt hours per year"]
[null,"33ba","       Power delivered to cement plant",null,"[MWh/yr]",null,"Power production from waste heat recovery delivered to the cement plant in Mega Watt hours per year"]
[null,"33bb","       Power delivered externally",null,"[MWh/yr]",null,"Power production from waste heat recovery delivered externally in Mega Watt hours per year"]
[null,"33bc","       Power consumed by waste heat recovery equipment",null,"[MWh/yr]",null,"Power consumed in the power plant from waste heat recovery in Mega Watt hours per year\n; =line33b - line33ba - line33bb"]
[null,"33c","Total external power consumption for cement manufacturing",null,"[MWh/yr]",null,"Power consumption for cement manufacturing including power plant (own consumption) obtained from the external grid or supplier\n; =SUM(line33ca:line33cc)"]
[null,"33ca","      External power delivered to cement plant",null,"[MWh/yr]",null,"Power used for cement production obtained from the external grid or supplier = purchased power minus power sold back in case of own power production."]
[null,"33cb","      Cement-related external power delivered to on-site power generation plant",null,"[MWh/yr]",null,"Power used for own consumption of on-site power plant obtained from the external grid or supplier "]
[null,"33cc","      Cement-related external power delivered to waste heat recovery plant",null,"[MWh/yr]",null,"Power used for own consumption of waste heat recovery plant obtained from the external grid or supplier "]
[null,"33d","      CO2 per power unit produced externally",null,"[kg CO2/MWh]",null,"Specific CO2 emission per unit grid power, to be obtained from power supplier or national authorities  "]
[null,"33e","Power consumption up to and including clinker production",null,"[MWh/yr]",null,"Power used for clinker production (e.g. from the quarry to the clinker storage)"]
[null,33,"Total cement plant power consumption",null,"[MWh/yr]",null,"; =(line33aa + line33ba + line33ca)"]
[]
[null,"Waste Heat Use",null,null,null,null,{"$f":"G$7","v":1990},1991,1992,1993,1994,1995,1996,1997,1998,1999,2000,2001,2002,2003,2004,2005]
[null,34,"Waste heat supplied to external consumers",null,"[GJ/yr]",null,"Waste heat exported to third parties"]
[null,"34a","Waste heat used internally (incl. power generation)",null,"[GJ/yr]",null,"Waste heat used internally (e.g. for drying of fuels or raw materials)"]
[]
["CO2 EMISSIONS "]
[]
[null,"Calculation method in calcination sheet",null,null,null,null,{"$f":"G$7","v":1990},1991,1992,1993,1994,1995,1996,1997,1998,1999,2000,2001,2002,2003,2004,2005]
[null,"34d","Calculation method in calcination sheet",null,"A1; A2; B1; B2",null,"Selected method for reporting CO2 emissions from raw material calcination"]
[]
[null,"Data for Simple Input Method (A1)",null,null,null,null,{"$f":"G$7","v":1990},1991,1992,1993,1994,1995,1996,1997,1998,1999,2000,2001,2002,2003,2004,2005]
[null,"34e","Input CalcA1: Raw meal consumption (Line 525)",null,"[t/yr, dry weight]",null,"parameters for simple input method (A1)"]
[null,"34f","Input CalcA1: Total CO2 from raw materials (Line 526)",null,"[t CO2/yr]",null,"parameters for simple input method (A1)"]
[]
[null,"Data for Detailed Input Method (A2)",null,null,null,null,{"$f":"G$7","v":1990},1991,1992,1993,1994,1995,1996,1997,1998,1999,2000,2001,2002,2003,2004,2005]
[null,"34i","Input CalcA2: Raw meal consumption (Line 681)",null,"[t/yr, dry weight]",null,"parameters for detailed input method (A2)"]
[null,"34j","Input CalcA2: Total CO2 from raw materials (Line 682)",null,"[t CO2/yr]",null,"parameters for detailed input method (A2)"]
[]
[null,"Data for Simple Output Method (B1)",null,null,null,null,{"$f":"G$7","v":1990},1991,1992,1993,1994,1995,1996,1997,1998,1999,2000,2001,2002,2003,2004,2005]
[null,"34m","Standard calcination emission factor [default 525 kg CO2/t clinker]",null,"[kg CO2/t cli]",null,"525 = Standard parameter for simple output method (B1)"]
[null,"34n","Organic carbon content of raw meal (average), default value 0.2%, or set plant specific value",null,"[%, dry weight]",null,"0,2% = Standard parameter for simple output method (B1)"]
[null,"34o","Raw meal : clinker ratio, default value 1.55, or set plant specific value",null,"[--, dry weight]",null,"1,55 = Standard parameter for simple output method (B1)"]
[]
[null,"Data for Detailed Output Method (B2)",null,null,null,null,{"$f":"G$7","v":1990},1991,1992,1993,1994,1995,1996,1997,1998,1999,2000,2001,2002,2003,2004,2005]
[null,"34q","Input CalcB2: Calcination emission factor corrected for CaO,MgO, Ca-Si, Mg-Si imports (Line 820)",null,"[kg CO2/t cli]",null,"parameter for detailed output method (B2)"]
[null,"34r","Organic carbon content of raw meal (average), default value 0.2%, or set plant specific value",null,"[%, dry weight]",null,"0,2% = Standard parameter for detailed output method (B2)"]
[null,"34s","Raw meal : clinker ratio, default value 1.55, or set plant specific value",null,"[--, dry weight]",null,"1,55 = Standard parameter for detailed output method (B2)"]
[]
["Direct CO2 Emissions"]
[null,"CO2 from Raw Materials",null,null,null,null,{"$f":"G$7","v":1990},1991,1992,1993,1994,1995,1996,1997,1998,1999,2000,2001,2002,2003,2004,2005]
[null,"35a","Calcination emission factor, corrected for CaO- and MgO imports",null,"[kg CO2/t cli]",null,"B1: Default set equal to 525 kg CO2/ t clinker. B2: To be replaced with more precise data by Company if available (see auxiliary sheet \"CalcB2\")  "]
[null,"35b","Organic carbon content of raw meal (average)",null,"[%, dry weight]",null,"B1, B2: Default set equal to 0.2%. To be replaced with company-specific data if raw materials with substantially higher or lower content of organic carbon are used. See Guidance document for details.",null,null,null,null,null,null,null,null,null,null,2E-3,2E-3,2E-3,2E-3,2E-3]
[null,"35c","Raw meal : clinker ratio",null,"[--, dry weight]",null,"B1, B2: Default set equal to 1.55. To be replaced with company-specific data (excluding fuel ash content) if organic carbon in raw materials is of relevance. Any dust leaving the kiln system should be reflected in this ratio. Ash content of fuels should be excluded.",null,null,null,null,null,null,null,null,null,null,1.55,1.55,1.55,1.55,1.55]
[null,"35d","Raw meal consumption",null,"[t/yr, dry weight]",null,"A1, A2: Input from auxilary sheet \"CalcA1\", \"CalcA2\". B1, B2: Calculated from the raw meal : clinker ratio and the amount of clinker produced\n; =line35c * line8. Raw meal converted to CKD is included in the raw meal to clinker ratio."]
[null,36,"CO2 from calcination of raw materials consumed for clinker production",null,"[t CO2/yr]",null,"B1, B2: Calculated from the calcination emission factor and the clinker production\n; =line35a / 1000 * line8. (A1, A2: Accounted in auxiliary sheet \"CalcA1\", \"CalcA2\").",null,null,null,null,null,null,null,null,null,null,{"$f":"IF(R40=\"\",\"\",R$136/1000*R40)","v":""},{"$f":"IF(S40=\"\",\"\",S$136/1000*S40)","v":""},{"$f":"IF(T40=\"\",\"\",T$136/1000*T40)","v":""},{"$f":"IF(U40=\"\",\"\",U$136/1000*U40)","v":""},{"$f":"IF(V40=\"\",\"\",V$136/1000*V40)","v":""}]
[null,{"$f":"B140+1","v":37},"CO2 from calcination of bypass dust leaving the kiln system",null,"[t CO2/yr]",null,"B1, B2: Calculated from the calcination emission factor and the amount of bypass dust leaving the kiln system (e.g. for landfilling)\n; =line35a / 1000 * line22. (A1, A2: Accounted in auxiliary sheet \"CalcA1\", \"CalcA2\").",null,null,null,null,null,null,null,null,null,null,{"$f":"IF(R71=\"\",\"\",R$136/1000*R71)","v":0},{"$f":"IF(S71=\"\",\"\",S$136/1000*S71)","v":0},{"$f":"IF(T71=\"\",\"\",T$136/1000*T71)","v":0},{"$f":"IF(U71=\"\",\"\",U$136/1000*U71)","v":0},{"$f":"IF(V71=\"\",\"\",V$136/1000*V71)","v":0}]
[null,"38a","CO2 from calcination of CKD leaving the kiln system",null,"[t CO2/yr]",null,"B1, B2: Calculated from the calcination emission factor, the amount of CKD leaving the kiln system (e.g. for landfilling or sale), and the calcination rate of CKD\n; =line23 * non-linear function of lines 35a and 24.  see Guidance document for details on formula. (A1, A2: Accounted in auxiliary sheet \"CalcA1\", \"CalcA2\").",null,null,null,null,null,null,null,null,null,null,{"$f":"IF(R72=\"\",\"\",R72*R136/1000/(1+R136/1000)*R73/(1-R136/1000/(1+R136/1000)*R73))","v":0},{"$f":"IF(S72=\"\",\"\",S72*S136/1000/(1+S136/1000)*S73/(1-S136/1000/(1+S136/1000)*S73))","v":0},{"$f":"IF(T72=\"\",\"\",T72*T136/1000/(1+T136/1000)*T73/(1-T136/1000/(1+T136/1000)*T73))","v":0},{"$f":"IF(U72=\"\",\"\",U72*U136/1000/(1+U136/1000)*U73/(1-U136/1000/(1+U136/1000)*U73))","v":0},{"$f":"IF(V72=\"\",\"\",V72*V136/1000/(1+V136/1000)*V73/(1-V136/1000/(1+V136/1000)*V73))","v":0}]
[null,"38b","CO2 from organic carbon content of raw meal",null,"[t CO2/yr]",null,"B1, B2: Calculated from the organic carbon content of raw meal, the raw meal consumption, and the CO2 to C molar weight ratio \n =line35b * line35d * 3.664. (A1, A2: Accounted in auxiliary sheet \"CalcA1\", \"CalcA2\").",null,null,null,null,null,null,null,null,null,null,{"$f":"IF(R139=\"\",\"\",R137*R139*3.664)","v":""},{"$f":"IF(S139=\"\",\"\",S137*S139*3.664)","v":""},{"$f":"IF(T139=\"\",\"\",T137*T139*3.664)","v":""},{"$f":"IF(U139=\"\",\"\",U137*U139*3.664)","v":""},{"$f":"IF(V139=\"\",\"\",V137*V139*3.664)","v":""}]
[null,39,"Total CO2 from raw materials",null,"[t CO2/yr]",null,"A1, A2: Input from auxilary sheet \"CalcA1\", \"CalcA2\". B1, B2\n; =SUM(line36:line38b)",null,null,null,null,null,null,null,null,null,null,{"$f":"IF(COUNTBLANK(R140:R143)=4,\"\",SUM(R140:R143))","v":0},{"$f":"IF(COUNTBLANK(S140:S143)=4,\"\",SUM(S140:S143))","v":0},{"$f":"IF(COUNTBLANK(T140:T143)=4,\"\",SUM(T140:T143))","v":0},{"$f":"IF(COUNTBLANK(U140:U143)=4,\"\",SUM(U140:U143))","v":0},{"$f":"IF(COUNTBLANK(V140:V143)=4,\"\",SUM(V140:V143))","v":0}]
[]
[null,"CO2 from Kiln Fuels (incl. drying of fuels and raw materials)",null,null,null,null,{"$f":"G$7","v":1990},1991,1992,1993,1994,1995,1996,1997,1998,1999,2000,2001,2002,2003,2004,2005]
[null,{"$f":"B144+1","v":40},"CO2 from conventional fossil fuels",null,"[t CO2/yr]",null,"Sum of CO2 emissions from conventional fossil fuels, including drying of fuels and raw materials\n; =line211 + line234"]
[null,{"$f":"B147+1","v":41},"CO2 from alternative fossil fuels",null,"[t CO2/yr]",null,"Sum of CO2 emissions from alternative fossil fuels, including drying of fuels and raw materials\n; =line218 + line235  "]
[null,43,"Total CO2 from fossil-based kiln fuels",null,"[t CO2/yr]",null,"; =SUM(line40:line41)"]
[]
[null,"CO2 from Non-Kiln Fuels",null,null,null,null,{"$f":"G$7","v":1990},1991,1992,1993,1994,1995,1996,1997,1998,1999,2000,2001,2002,2003,2004,2005]
[null,44,"CO2 from equipment and on-site vehicles (fossil fuels)",null,"[t CO2/yr]",null,"Sum of CO2 emissions from equipment and on-site vehicles\n; =line331"]
[null,"45a","CO2 from room heating and cooling (fossil fuels)",null,"[t CO2/yr]",null,"Sum of CO2 emissions from room heating and cooling\n; =line332"]
[null,"45b","CO2 from drying of mineral components (fossil fuels)",null,"[t CO2/yr]",null,"Sum of CO2 emissions from drying of mineral components\n; =line333k + line333g"]
[null,"45c","CO2 from seperate on-site power generation (fossil fuels)",null,"[t CO2/yr]",null,"Sum of CO2 emissions from on-site power generation (excl. biomass CO2)\n; =line334aa + line334f"]
[null,46,"Total CO2 from non-kiln fossil fuels",null,"[t CO2/yr]",null,"; =SUM(line44:line45c)"]
[]
[null,"Total Direct CO2 Emissions ",null,null,null,null,{"$f":"G$7","v":1990},1991,1992,1993,1994,1995,1996,1997,1998,1999,2000,2001,2002,2003,2004,2005]
[null,48,"Total direct CO2: all fossil CO2 sources",null,"[t CO2/yr]",null,"; =line39 + line43 + line46"]
[]
["Indirect CO2 Emissions (Main Sources)",null,null,null,null,null,{"$f":"G$7","v":1990},1991,1992,1993,1994,1995,1996,1997,1998,1999,2000,2001,2002,2003,2004,2005]
[null,"49a","CO2 from external power generation",null,"[t CO2/yr]",null,"; =line33c * line33d / 1000  "]
[null,"49b","Emission factor for inbound clinker",null,"[kg CO2/t cli]",null,"Default is 865 kg CO2/t clinker. This represents an average of several cement companies represented in CSI. Using this default consistently across different plants ensures that company-internal clinker transfers cancel out when consolidating emissions. The value of 865 kg CO2/t clinker in the Protocol version 3.0 is taken from the CSI GNR data base. It is the global weighted average for the years 2006/2007."]
[null,"49c","CO2 from net inbound (+) / outbound (-) clinker",null,"[t CO2/yr]",null,"Calculated by multiplying net clinker imports (= clinker bought minus clinker sold, including clinker transfers) by the default emission factor for bought clinker and subtracting CO2 emissions from sold clinker. Value will be negative if plant is net exporter of clinker.\n; =(((line9 + line10b + line10c) * line49b) - (line10 * line60)) / 1000.   "]
[null,"49d","Total indirect CO2 (main sources)",null,"[t CO2/yr]",null,"; =line49a + line49c"]
[]
["Direct CO2 from Biomass (Memo Item)",null,null,null,null,null,{"$f":"G$7","v":1990},1991,1992,1993,1994,1995,1996,1997,1998,1999,2000,2001,2002,2003,2004,2005]
[null,50,"CO2 from combustion of biomass (kiln and non-kiln fuels, incl. biomass content of mixed fuels)",null,"[t CO2/yr]",null,"Direct CO2 emissions from combustion of kiln and non-kiln biomass fuels and biomass content of mixed fuels\n; =line225 + line236 + line331c + 333i + line334h"]
[]
["PERFORMANCE INDICATORS"]
[]
[null,"Absolute Direct CO2 Emissions",null,null,null,null,{"$f":"G$7","v":1990},1991,1992,1993,1994,1995,1996,1997,1998,1999,2000,2001,2002,2003,2004,2005]
[null,59,"Absolute gross CO2 including CO2 from on-site power generation",null,"[t CO2/yr]",null,"Total direct emissions from raw materials, kiln fuels and non-kiln fuels\n; =line39 + line43 + line46"]
[null,"Gross CO2 Emissions (=direct fossil CO2 excluding CO2 from on-site power generation)",null,null,null,null,1990,1991,1992,1993,1994,1995,1996,1997,1998,1999,2000,2001,2002,2003,2004,2005]
[null,"59c","Absolute gross CO2",null,"[t CO2/yr]",null,"Total direct emissions from raw materials, kiln fuels and non-kiln fuels; excluding CO2 from on-site power generation\n; =line59 - line45c"]
[null,"59a",null,"calcination component","[t CO2/yr]",null,"Direct emissions from raw materials;\n; =line39"]
[null,"59b",null,"fuel component","[t CO2/yr]",null,"Direct emissions from kiln fuels and non-kiln fuels, excluding CO2 from on-site power generation\n; =line43 + line44 + line45a + line45b",null,null,null,null,null,null,null,null,null,null,{"$f":"IF(OR(R149=\"\",R152=\"\",R153=\"\",R154=\"\"),\"\",R149+R152+R153+R154)","v":""},{"$f":"IF(OR(S149=\"\",S152=\"\",S153=\"\",S154=\"\"),\"\",S149+S152+S153+S154)","v":""},{"$f":"IF(OR(T149=\"\",T152=\"\",T153=\"\",T154=\"\"),\"\",T149+T152+T153+T154)","v":""},{"$f":"IF(OR(U149=\"\",U152=\"\",U153=\"\",U154=\"\"),\"\",U149+U152+U153+U154)","v":""},{"$f":"IF(OR(V149=\"\",V152=\"\",V153=\"\",V154=\"\"),\"\",V149+V152+V153+V154)","v":""}]
[null,"Net CO2 Emissions (= gross CO2 minus alternative fossil fuels CO2; excluding CO2 from on-site power generation)",null,null,null,null,{"$f":"G$7","v":1990},1991,1992,1993,1994,1995,1996,1997,1998,1999,2000,2001,2002,2003,2004,2005]
[null,71,"Absolute net CO2",null,"[t CO2/yr]",null,"Total direct emissions from raw materials, kiln fuels and non-kiln fuels, excluding CO2 from on-site power generation, minus alternative fossil fuels\n; =line59c - line41"]
[null,"Biomass CO2 Emissions (Memo Item)",null,null,null,null,1990,1991,1992,1993,1994,1995,1996,1997,1998,1999,2000,2001,2002,2003,2004,2005]
[null,"83a","Absolute CO2 from biomass sources (including biomass content of mixed fuels)",null,"[t CO2/yr]",null,"; =line50",{"$f":"IF(H$67=\"\",\"\",IF(H$67=0,\"n. appl.\",H168/H$67*1000))","v":""},"","","","","","","","","","","","","",""]
[]
[null,"Specific Gross and Net CO2 Emissions per Clinker Produced",null,null,null,null,{"$f":"G$7","v":1990},1991,1992,1993,1994,1995,1996,1997,1998,1999,2000,2001,2002,2003,2004,2005]
[null,60,"Specific gross CO2 ","per tonne of clinker produced","[kg CO2/t cli]",null,"Total direct emissions, excluding CO2 from on-site power generation, divided by own clinker production\n; =line59c / line8 *1000",null,null,null,null,null,null,null,null,null,null,{"$f":"IF(R$40=\"\",\"\",IF(R$40=0,\"n. appl.\",R173/R$40*1000))","v":""},{"$f":"IF(S$40=\"\",\"\",IF(S$40=0,\"n. appl.\",S173/S$40*1000))","v":""},{"$f":"IF(T$40=\"\",\"\",IF(T$40=0,\"n. appl.\",T173/T$40*1000))","v":""},{"$f":"IF(U$40=\"\",\"\",IF(U$40=0,\"n. appl.\",U173/U$40*1000))","v":""},{"$f":"IF(V$40=\"\",\"\",IF(V$40=0,\"n. appl.\",V173/V$40*1000))","v":""}]
[null,"60a",null,"calcination component","[kg CO2/t cli]",null,"Direct emissions from raw materials, divided by own clinker production\n; =line59a / line8 * 1000"]
[null,"60b",null,"fuel component","[kg CO2/t cli]",null,"Direct emissions from kiln fuels and non-kiln fuels, excluding CO2 from on-site power generation, divided by own clinker production\n; =line59b / line8 * 1000"]
[null,73,"Specific net CO2 ","per tonne of clinker produced","[kg CO2/t cli]",null,"Net emissions from raw materials, kiln fuels and non-kiln fuels, excluding CO2 from on-site power generation, divided by own clinker production\n; =line71 / line8 * 1000"]
[]
[null,"Specific Gross and Net CO2 Emissions per Cement (equivalent)",null,null,null,null,{"$f":"G$7","v":1990},1991,1992,1993,1994,1995,1996,1997,1998,1999,2000,2001,2002,2003,2004,2005]
[null,63,"Specific gross CO2","per tonne of cement (eq.)","[kg CO2/t cem eq.]",null,"Total direct emissions, excluding CO2 from on-site power generation, divided by total cement (equivalent)\n; =line59c / line21b *1000",null,null,null,null,null,null,null,null,null,null,{"$f":"IF(OR(R175=\"\",R68=\"\"),\"\",R175/R68*1000)","v":""},{"$f":"IF(OR(S175=\"\",S68=\"\"),\"\",S175/S68*1000)","v":""},{"$f":"IF(OR(T175=\"\",T68=\"\"),\"\",T175/T68*1000)","v":""},{"$f":"IF(OR(U175=\"\",U68=\"\"),\"\",U175/U68*1000)","v":""},{"$f":"IF(OR(V175=\"\",V68=\"\"),\"\",V175/V68*1000)","v":""}]
[null,"63a",null,"calcination component","[kg CO2/t cem eq.]",null,"Direct emissions from raw materials, divided by total cement (equivalent)\n; =line59a / line21b * 1000"]
[null,"63b",null,"fuel component","[kg CO2/t cem eq.]",null,"Direct emissions from kiln fuels and non-kiln fuels, excluding CO2 from on-site power generation, divided by total cement (equivalent)\n; =line59b / line21b * 1000"]
[null,{"$f":"B199+1","v":75},"Specific net CO2 ","per tonne of cement (eq.)","[kg CO2/t cem eq.]",null,"Net emissions from raw materials, kiln fuels and non-kiln fuels, excluding CO2 from on-site power generation, divided by own production of cement (equivalent)\n; =line71 / line21b * 1000"]
[]
[null,"Specific Gross and Net CO2 Emissions per Cementitious Produced",null,null,null,null,{"$f":"G$7","v":1990},1991,1992,1993,1994,1995,1996,1997,1998,1999,2000,2001,2002,2003,2004,2005]
[null,62,"Specific gross CO2 ","per tonne of cementitious product","[kg CO2/t cem prod]",null,"Total direct emissions, excluding CO2 from on-site power generation, divided by own production of cementitious products (excluding bought clinker in cement)\n; =line59c / line21a *1000",null,null,null,null,null,null,null,null,null,null,{"$f":"IF(R$67=\"\",\"\",IF(R$67=0,\"n. appl.\",R173/R$67*1000))","v":""},{"$f":"IF(S$67=\"\",\"\",IF(S$67=0,\"n. appl.\",S173/S$67*1000))","v":""},{"$f":"IF(T$67=\"\",\"\",IF(T$67=0,\"n. appl.\",T173/T$67*1000))","v":""},{"$f":"IF(U$67=\"\",\"\",IF(U$67=0,\"n. appl.\",U173/U$67*1000))","v":""},{"$f":"IF(V$67=\"\",\"\",IF(V$67=0,\"n. appl.\",V173/V$67*1000))","v":""}]
[null,"62a",null,"calcination component","[kg CO2/t cem prod]",null,"Direct emissions from raw material calcination, divided by own production of cementitious products\n; =line59a / line21a * 1000",null,null,null,null,null,null,null,null,null,null,{"$f":"IF(R$67=\"\",\"\",IF(R$67=0,\"n. appl.\",R176/R$67*1000))","v":""},"","","",""]
[null,"62b",null,"fuel component","[kg CO2/t cem prod]",null,"Direct emissions from kiln fuels and non-kiln fuels, excluding CO2 from on-site power generation, divided by own production of cementitious products\n; =line59b / line21a * 1000",null,null,null,null,null,null,null,null,null,null,"","","","",""]
[null,{"$f":"B187+1","v":74},"Specific net CO2 ","per tonne of cementitious product","[kg CO2/t cem prod]",null,"Net emissions from raw materials, kiln fuels and non-kiln fuels, excluding CO2 from on-site power generation, divided by own production of cementitious products\n; =line71 / line21a * 1000"]
[null,77,"Improvement rate  -  net CO2 per tonne of cementitious product",null,"[% relative to base yr]",null," Reduction of specific emissions relative to base year (default 1990)\n; =(line74 yr n - line74 yr 1990) / line74 yr 1990"]
[]
[null,"Specific Indirect CO2 Emission",null,null,null,null,{"$f":"G$7","v":1990},1991,1992,1993,1994,1995,1996,1997,1998,1999,2000,2001,2002,2003,2004,2005]
[null,"82c","Specific indirect CO2 from external power generation per tonne of cement (eq.)",null,"[kg CO2/t cem eq.]",null,"; =line49a / line21b * 1000"]
[null,"82a","Specific indirect CO2 from external power generation per tonne of cementitious product",null,"[kg CO2/t cem prod]",null,"; =line49a / line21a * 1000"]
[null,"82b","Specific indirect CO2 from net clinker imports (+) / exports (-) per tonne of cementitious product",null,"[kg CO2/t cem prod]",null,"; =line49c / line21a * 1000",{"$f":"IF(H$67=\"\",\"\",IF(H$67=0,\"n. appl.\",H164/H$67*1000))","v":""},"","","","","","","","","","","","","",""]
[]
[null,"General Performance Indicators",null,null,null,null,{"$f":"G$7","v":1990},1991,1992,1993,1994,1995,1996,1997,1998,1999,2000,2001,2002,2003,2004,2005]
[null,91,"Net outbound clinker per net clinker consumption",null,"[%]",null,"percentage of direct clinker sales versus clinker consumed to produce cement\n; =(line10 - line9 - 10b - 10c) / line11"]
[null,"92a","Clinker/cement (eq.) factor*",null,"[%]",null,"Calculated based on total clinker consumed and total Portland + Blended cements\n=line11 / line20",{"$f":"IF(OR(H46=\"\",H65=\"\"),\"\",100*H46/H65)","v":""},"","","","","","","","","","","","","",""]
[null,{"$f":"B208+1","v":92},"Clinker/cementitious factor*",null,"[%]",null,"Clinker/cementitious factor (excluding clinker sold, including clinker bought) = Total clinker consumed divided by the total of cements produced\n; =line11 / line21"]
[]
[null,{"$f":"B210+1","v":93},"Specific heat consumption of clinker production",null,"[MJ/t cli]",null,"Total heat consumption of kilns divided by the clinker production\n; =line25 * 10^6 / line8"]
[null,{"$f":"B212+1","v":94},"Conventional fossil fuel rate (kiln fuels)",null,"[%]",null,"Consumption of conventional fossil fuels divided by the total heat consumption of kilns\n; =line26 / line25"]
[null,{"$f":"B213+1","v":95},"Alternative fossil fuel rate (kiln fuels)",null,"[%]",null,"Consumption of alternative fossil fuels divided by the total heat consumption of kilns\n; =line27 / line25",null,null,null,null,null,null,null,null,null,null,{"$f":"IF(R$76=\"\",\"\",IF(R$76=0,\"n. appl.\",R79/R$76))","v":""},"","","",""]
[null,{"$f":"B214+1","v":96},"Biomass fuel rate (kiln fuels)",null,"[%]",null,"Consumption of biomass fuels divided by the total heat consumption of kilns\n; =line28 / line25",null,null,null,null,null,null,null,null,null,null,"","","","",""]
[null,"96a","CO2 emission factor for kiln fuel mix ",null,"[kg CO2/GJ]",null,"Total CO2 from fossil-based kiln fuels divided by total heat consumption of kilns\n; =line43 / line25"]
[null,"96b","Total conventional fossil fuel rate at plant level ",null,"[%]",null,"Total conventional fossil fuel energy used in the whole plant divided by total fuel energy use in % \n; =(line26 + line321 + (line321c * (1 - line200g)) + line322 + line323k + line324aa) / (line25 + line321 + line321c + line322 + line323k + line323g + line323i + line324aa + line324f + line324h)"]
[null,"96c","Total alternative fossil fuel rate at plant level ",null,"[%]",null,"Total alternative fossil fuel energy used in the whole plant divided by total fuel energy use in % \n; =(line27 + line323g + line324f) / (line25 + line321 + line321c + line322 + line323k + line323g + line323i + line324aa + line324f + line324h)"]
[null,"96d","Total biomass fuel rate at plant level ",null,"[%]",null,"Total biomass fuel energy used in the whole plant divided by total fuel energy use in %\n; =(line28 + (line321c * line200g) + line323i + line324h) / (line25 + line321 + line321c + line322 + line323k + line323g + line323i + line324aa + line324f + line324h))"]
[]
[null,{"$f":"B215+1","v":97},"Specific total power consumption*",null,"[kWh/t cem prod]",null,"Total plant power consumption divided by total cements and substitutes produced\n; =line33 / line21 * 1000 "]
[null,98,"Specific power consumption of clinker production",null,"[kWh/t cli]",null,"Power consumption up to and including clinker production divided by clinker production\n; =line33e / line8 * 1000"]
[null,"98c","Specific power consumption of cement production*",null,"[kWh/t cem prod]",null,"Power consumption of cement production incl. power consumption of production of clinker consumed divided by cement and substitute production\n; =(line98 * line92) + (line33 - line33e)*1000 / line21"]
[null,"98a","National energy conversion factor",null,"[MJ/KWh]",null,"Optional parameter"]
[null,"98b","Total energy intensity of clinker production (fuel and power)",null,"[MJ/t cli]",null,"Optional result\n; =line98 * line98a + line93"]
[]
["KILN FUELS - DETAILED INFORMATION"]
[]
[null,"Kiln Fuel Consumption in tonnes per year",null,null,null,null,{"$f":"G$7","v":1990},1991,1992,1993,1994,1995,1996,1997,1998,1999,2000,2001,2002,2003,2004,2005]
[null,101,"Conventional fossil fuels (excl. drying of raw materials and fuels)"]
[null,{"$f":"B230+1","v":102},null,"coal + anthracite","[t/yr]",null,"This table lists the consumption of conventional fossil fuels in tonnes per year, excluding fuels for drying of raw materials and fuels. Some fuel types are clustered for reasons of simplicity, but may be unclustered as appropriate."]
[null,103,null,"petrol coke","[t/yr]"]
[null,104,null,"(ultra) heavy fuel","[t/yr]"]
[null,105,null,"diesel oil","[t/yr]"]
[null,106,null,"natural gas ","[1'000 Nm3/yr]"]
[null,107,null,"shale","[t/yr]"]
[null,"107a",null,"lignite","[t/yr]"]
[null,{"$f":"B236+1","v":108},"Alternative fossil and mixed fuels (excl. drying of raw materials and fuels)"]
[null,{"$f":"B238+1","v":109},null,"waste oil","[t/yr]",null,"This table lists the consumption of alternative fossil fuels in tonnes per year, excluding fuels for drying of raw materials and fuels. Some fuel types are clustered for reasons of simplicity, but may be unclustered as appropriate."]
[null,{"$f":"B239+1","v":110},null,"tyres ","[t/yr]"]
[null,{"$f":"B240+1","v":111},null,"RDF including plastics","[t/yr]"]
[null,{"$f":"B241+1","v":112},null,"solvents","[t/yr]"]
[null,{"$f":"B242+1","v":113},null,"impregnated saw dust","[t/yr]"]
[null,"113a",null,"mixed industrial waste","[t/yr]"]
[null,114,null,"other fossil based wastes and mixed fuels","[t/yr]"]
[null,{"$f":"B245+1","v":115},"Biomass fuels (excl. drying of raw materials and fuels)"]
[null,116,null,"dried sewage sludge","[t/yr]",null,"This table lists the consumption of biomass fuels in tonnes per year, excluding fuels for drying of raw materials and fuels. Some fuel types are clustered for reasons of simplicity, but may be unclustered as appropriate."]
[null,117,null,"wood, non impregnated saw dust","[t/yr]"]
[null,118,null,"paper, carton","[t/yr]"]
[null,119,null,"animal meal","[t/yr]"]
[null,120,null,"animal bone meal","[t/yr]"]
[null,121,null,"animal fat","[t/yr]"]
[null,122,null,"agricultural, organic, diaper waste, charcoal","[t/yr]"]
[null,123,null,"other biomass","[t/yr]"]
[null,"Drying of raw materials and fuels",null,null,null,null,{"$f":"G$7","v":1990},1991,1992,1993,1994,1995,1996,1997,1998,1999,2000,2001,2002,2003,2004,2005]
[null,124,"Conventional fossil fuels"]
[null,"124a",null,"coal + anthracite +lignite","[t/yr]",null,"This table lists the consumption of conventional fossil fuels for drying of raw materials and fuels in tonnes per year. Some fuel types are clustered for reasons of simplicity,\n but may be unclustered as appropriate."]
[null,"124b",null,"petrol coke","[t/yr]"]
[null,"124c",null,"(ultra) heavy fuel","[t/yr]"]
[null,"124d",null,"diesel oil","[t/yr]"]
[null,"124e",null,"natural gas ","[1'000 Nm3/yr]"]
[null,"124f",null,"shale","[t/yr]"]
[null,125,"Alternative fossil and mixed fuels"]
[null,"125a",null,"other fossil based wastes and mixed fuels","[t/yr]",null,"Consumption of alternative fossil fuels for drying of raw materials and fuels in tonnes per year. Fuel types are clustered for reasons of simplicity."]
[null,126,"Alternative biomass fuels"]
[null,"126a",null,"other biomass","[t/yr]",null,"Consumption of biomass fuels for drying of raw materials and fuels in tonnes per year. Fuel types are clustered for reasons of simplicity."]
[]
[null,"Fuel Lower Heating Values",null,null,null,null,{"$f":"G$7","v":1990},1991,1992,1993,1994,1995,1996,1997,1998,1999,2000,2001,2002,2003,2004,2005]
[null,131,"Conventional fossil fuels"]
[null,{"$f":"B269+1","v":132},null,"coal + anthracite + waste coal","[GJ/t]",null,"Average lower heating value (= net calorific value) of fuels. \nValues should refer to the same moisture content as the fuel consumption data listed in lines 101-123 (for example, based on dry weight)."]
[null,133,null,"petrol coke","[GJ/t]"]
[null,134,null,"(ultra) heavy fuel","[GJ/t]"]
[null,135,null,"diesel oil","[GJ/t]"]
[null,136,null,"natural gas ","[GJ/1'000 Nm3]"]
[null,137,null,"shale","[GJ/t]"]
[null,"137a",null,"lignite","[GJ/t]"]
[null,{"$f":"B275+1","v":138},"Alternative fossil and mixed fuels"]
[null,{"$f":"B277+1","v":139},null,"waste oil","[GJ/t]",null,"Average lower heating value (= net calorific value) of fuels. \nValues should refer to the same moisture content as the fuel consumption data listed in lines 101-123 (for example, based on dry weight)."]
[null,{"$f":"B278+1","v":140},null,"tyres","[GJ/t]"]
[null,{"$f":"B279+1","v":141},null,"RDF including plastics","[GJ/t]"]
[null,{"$f":"B280+1","v":142},null,"solvents","[GJ/t]"]
[null,{"$f":"B281+1","v":143},null,"impregnated saw dust","[GJ/t]"]
[null,"143a",null,"mixed industrial waste","[GJ/t]"]
[null,144,null,"other fossil based wastes and mixed fuels","[GJ/t]"]
[null,{"$f":"B284+1","v":145},"Biomass fuels"]
[null,146,null,"sewage sludge","[GJ/t]",null,"Average lower heating value (= net calorific value) of fuels. \nValues should refer to the same moisture content as the fuel consumption data listed in lines 101-123 (for example, based on dry weight)."]
[null,147,null,"wood, non impregnated saw dust","[GJ/t]"]
[null,148,null,"paper, carton","[GJ/t]"]
[null,149,null,"animal meal","[GJ/t]"]
[null,150,null,"animal bone meal","[GJ/t]"]
[null,151,null,"animal fat","[GJ/t]"]
[null,152,null,"agricultural, organic, diaper waste, charcoal","[GJ/t]"]
[null,153,null,"other biomass","[GJ/t]"]
[null,"Drying of raw materials and fuels",null,null,null,null,{"$f":"G$7","v":1990},1991,1992,1993,1994,1995,1996,1997,1998,1999,2000,2001,2002,2003,2004,2005]
[null,154,"Conventional fossil fuels"]
[null,"154a",null,"coal + anthracite +lignite","[GJ/t]",null,"Average lower heating value (= net calorific value) of fuels, expressed in GJ per t of consumed fuel. \nDefault lower heating values are taken from the lines 132-137a (fuel lower heating values of conventional fossil fuels).\nEnter more specific lower heating values for this fuel if available.\n"]
[null,"154b",null,"petrol coke","[GJ/t]"]
[null,"154c",null,"(ultra) heavy fuel","[GJ/t]"]
[null,"154d",null,"diesel oil","[GJ/t]"]
[null,"154e",null,"natural gas ","[GJ/1'000 Nm3]"]
[null,"154f",null,"shale","[GJ/t]"]
[null,155,"Alternative fossil and mixed fuels"]
[null,"155a",null,"other fossil based wastes and mixed fuels","[GJ/t]",null,"Average lower heating value (= net calorific value) of fuels. Values should refer to the same moisture content as the fuel consumption data listed in lines 101-123\n (for example, based on dry weight)."]
[null,156,"Alternative biomass fuels"]
[null,"156a",null,"other biomass","[GJ/t]",null,"Average lower heating value (= net calorific value) of fuels. Values should refer to the same moisture content as the fuel consumption data listed in lines 101-123\n (for example, based on dry weight)."]
[]
[null,"Kiln Fuel Consumption in terajoules (TJ) per year",null,null,null,null,{"$f":"G$7","v":1990},1991,1992,1993,1994,1995,1996,1997,1998,1999,2000,2001,2002,2003,2004,2005]
[null,161,"Conventional fossil fuels",null,"[TJ/yr]",null,"This is the total heat consumption of all conventional fossil kiln fuels. This result is registered in line 26 above"]
[null,{"$f":"B308+1","v":162},null,"coal + anthracite","[TJ/yr]",null,"Heat consumption of conventional fossil kiln fuels, calculated from the amount of each fuel and their lower heating values"]
[null,163,null,"petrol coke","[TJ/yr]"]
[null,164,null,"(ultra) heavy fuel","[TJ/yr]"]
[null,165,null,"diesel oil","[TJ/yr]"]
[null,166,null,"natural gas ","[TJ/yr]"]
[null,167,null,"shale","[TJ/yr]"]
[null,"167a",null,"lignite","[TJ/yr]"]
[null,{"$f":"B314+1","v":168},"Alternative fossil and mixed fuels, excluding biomass fraction of mixed fuels",null,"[TJ/yr]",null,"This is the total heat consumption of all alternative fossil kiln fuels. This result is registered in line 27 above  "]
[null,{"$f":"B316+1","v":169},null,"waste oil","[TJ/yr]",null,"Heat consumption of alternative fossil kiln fuels, calculated from the amount of each fuel and their lower heating values"]
[null,{"$f":"B317+1","v":170},null,"tyres","[TJ/yr]"]
[null,{"$f":"B318+1","v":171},null,"RDF including plastics","[TJ/yr]"]
[null,{"$f":"B319+1","v":172},null,"solvents","[TJ/yr]"]
[null,{"$f":"B320+1","v":173},null,"impregnated saw dust","[TJ/yr]"]
[null,"173a",null,"mixed industrial waste","[TJ/yr]"]
[null,174,null,"other fossil based wastes (excl. biomass content of mixed fuels)","[TJ/yr]"]
[null,{"$f":"B323+1","v":175},"Biomass fuels - total, incl. biomass cont. from alternative fossil fuels",null,"[TJ/yr]",null,"This is the total heat consumption of all biomass kiln fuels. This result is registered in line 28 above  "]
[null,176,null,"sewage sludge","[TJ/yr]",null,"Heat consumption of biomass kiln fuels, calculated from the amount of each fuel and their lower heating values"]
[null,177,null,"wood, non impregnated saw dust","[TJ/yr]"]
[null,178,null,"paper, carton","[TJ/yr]"]
[null,179,null,"animal meal","[TJ/yr]"]
[null,180,null,"animal bone meal","[TJ/yr]"]
[null,181,null,"animal fat","[TJ/yr]"]
[null,182,null,"agricultural, organic, diaper waste, charcoal","[TJ/yr]"]
[null,183,null,"other biomass","[TJ/yr]"]
[null,"183a",null,"biomass content from alternative fuels","[TJ/yr]"]
[null,"Drying of raw materials and fuels",null,null,null,null,{"$f":"G$7","v":1990},1991,1992,1993,1994,1995,1996,1997,1998,1999,2000,2001,2002,2003,2004,2005]
[null,184,"Conventional fossil fuels",null,"[TJ/yr]",null,"This is the total heat consumption of all conventional fossil fuels for drying of raw materials and fuels. This result is registered in line 25a and line 26 above"]
[null,"184a",null,"coal + anthracite + lignite","[TJ/yr]",null,"Heat consumption of conventional fossil fuels for drying of raw materials and fuels, calculated from the amount of each fuel and their lower heating values"]
[null,"184b",null,"petrol coke","[TJ/yr]"]
[null,"184c",null,"(ultra) heavy fuel","[TJ/yr]"]
[null,"184d",null,"diesel oil","[TJ/yr]"]
[null,"184e",null,"natural gas ","[TJ/yr]"]
[null,"184f",null,"shale","[TJ/yr]"]
[null,"184g","Alternative fossil fuels",null,"[TJ/yr]",null,"This is the total heat consumption of all alternative fossil fuels for drying of raw materials and fuels. This result is registered in line 25a line 27 above  "]
[null,"184h",null,"other fossil based wastes (excl. biomass content of mixed fuels)","[TJ/yr]",null,"Heat consumption of alternative fossil fuels, for drying of raw materials and fuels, calculated from the amount of each fuel and their lower heating values"]
[null,"184i","Alternative biomass fuels",null,"[TJ/yr]",null,"This is the total heat consumption of all biomass fuels, for drying of raw materials and fuels. This result is registered in line 25a and line 28 above  "]
[null,"184j",null,"other biomass (incl. biomass content of mixed fuels)","[TJ/yr]",null,"Heat consumption of biomass fuels, for drying of raw materials and fuels, calculated from the amount of each fuel and their lower heating values"]
[]
[null,"CO2 Emission Factors of Kiln and Non-Kiln Fuels (per lower heating value)",null,null,null,null,{"$f":"G$7","v":1990},1991,1992,1993,1994,1995,1996,1997,1998,1999,2000,2001,2002,2003,2004,2005]
[null,185,"Conventional fossil fuels"]
[null,{"$f":"B348+1","v":186},null,"coal + anthracite","[kg CO2/GJ]",null,"used in line 212, 234a, 333a, 334a",null,null,null,null,null,"CO2 emission factors of fuels, expressed in kg CO2 per GJ lower heating value (net calorific value). \nDefault emission factors are taken from Worksheet \"Fuel CO2 Factors\".\nEnter plant- or company-specific emission factors if available"]
[null,187,null,"petrol coke","[kg CO2/GJ]",null,"used in line 213, 234b, 333b, 334i"]
[null,188,null,"(ultra) heavy fuel","[kg CO2/GJ]",null,"used in Line 214, 234c, 333c, 334b"]
[null,189,null,"diesel oil","[kg CO2/GJ]",null,"used in line 215, 234d, 331a, 332a, 333d, 334c"]
[null,190,null,"natural gas ","[kg CO2/GJ]",null,"used in line 216, 234e, 332b, 333e, 334d"]
[null,191,null,"shale","[kg CO2/GJ]",null,"used in line 217, 234f, 333f"]
[null,192,null,"lignite","[kg CO2/GJ]",null,"used in line 217a"]
[null,"192a",null,"gasoline","[kg CO2/GJ]",null,"used in line 331b"]
[null,"192d",null,"other fossil fuels (Equipment and On-Site Vehicles)","[kg CO2/GJ]",null,"used in line 331ba"]
[null,"192b",null,"other fossil fuels (Room heating and cooling)","[kg CO2/GJ]",null,"used in line 332c"]
[null,"192c",null,"other fossil fuels (On-site power generation)","[kg CO2/GJ]",null,"used in line 334j"]
[null,{"$f":"B355+1","v":193},"Alternative fossil fuels, including mixed fuels"]
[null,194,null,"waste oil","[kg CO2/GJ]",null,"used in line 219, 233a",null,null,null,null,null,"CO2 emission factors of fuels, expressed in kg CO2 per GJ lower heating value (net calorific value). \nDefault emission factors are taken from Worksheet \"Fuel CO2 Factors\".\nEnter plant- or company-specific emission factors if available."]
[null,195,null,"tyres","[kg CO2/GJ]",null,"used in line 220, 233a"]
[null,196,null,"RDF including plastics","[kg CO2/GJ]",null,"used in line 221, 233a"]
[null,197,null,"solvents","[kg CO2/GJ]",null,"used in line 222, 233a"]
[null,198,null,"impregnated saw dust","[kg CO2/GJ]",null,"used in line 223, 233a"]
[null,199,null,"mixed industrial waste","[kg CO2/GJ]",null,"used in line 223a, 233a"]
[null,"199a",null,"bio and mixed diesel","[kg CO2/GJ]",null,"used in line 236a, 331a, 331d"]
[null,{"$f":"B366+1","v":200},null,"other fossil based wastes and mixed fuels","[kg CO2/GJ]",null,"used in line 224, 233a, 235a, 236a, 333h, 333j, 334g, 334e"]
[null,"200a",null,"biomass in waste oil","[ % Cbio/TC]",null,"used in line 169, 183a, 233a",null,null,null,null,null,"Biomass content of fuels, expressed in % biogenic carbon per total carbon content. \nDefault factors are taken from Worksheet \"Fuel CO2 Factors\".\nEnter plant- or company-specific biomass factors if available."]
[null,"200b",null,"biomass in tyres","[ % Cbio/TC]",null,"used in line 170, 183a, 233a"]
[null,"200c",null,"biomass in RDF including plastics","[ % Cbio/TC]",null,"used in line 171, 183a, 233a"]
[null,"200d",null,"biomass in solvents","[ % Cbio/TC]",null,"used in line 172, 183a, 233a"]
[null,"200e",null,"biomass in impregnated saw dust","[ % Cbio/TC]",null,"used in line 173, 183a, 233a"]
[null,"200f",null,"biomass in mixed industrial waste","[ % Cbio/TC]",null,"used in line 173a, 183a, 233a"]
[null,"200g",null,"biomass in bio and mixed diesel","[ % Cbio/TC]",null,"used in line 96b, 96d, 331a, 331d"]
[null,"200h",null,"biomass in other fossil based wastes and mixed fuels","[ % Cbio/TC]",null,"Line 174, 183a, 184h, 184j, 233a, 236a, 333h, 333j, 334g 334e"]
[null,{"$f":"B368+1","v":201},"Biomass fuels"]
[null,{"$f":"B377+1","v":202},null,"sewage sludge","[kg CO2/GJ]",null,"used in line 226",null,null,null,null,null,"CO2 emission factors of fuels, expressed in kg CO2 per GJ lower heating value (net calorific value). \nDefault emission factors are taken from Worksheet \"Fuel CO2 Factors\".\nEnter plant- or company-specific emission factors if available."]
[null,203,null,"wood, non impregnated saw dust","[kg CO2/GJ]",null,"used in line 227"]
[null,204,null,"paper, carton","[kg CO2/GJ]",null,"used in line 228"]
[null,205,null,"animal meal","[kg CO2/GJ]",null,"used in line 229"]
[null,206,null,"animal bone meal","[kg CO2/GJ]",null,"used in line 230"]
[null,207,null,"animal fat","[kg CO2/GJ]",null,"used in line 231"]
[null,208,null,"agricultural, organic, diaper waste, charcoal","[kg CO2/GJ]",null,"used in line 232"]
[null,209,null,"other biomass","[kg CO2/GJ]",null,"used in line 233, 236a, 333j, 334e"]
[]
[null,"CO2 Emissions from Kiln Fuels",null,null,null,null,{"$f":"G$7","v":1990},1991,1992,1993,1994,1995,1996,1997,1998,1999,2000,2001,2002,2003,2004,2005]
[null,211,"Conventional fossil fuels - total emissions",null,"[t CO2/yr]",null,"These are the total CO2 emissions from all conventional fossil kiln fuels. This result is registered in line 40 above  "]
[null,{"$f":"B388+1","v":212},null,"coal + anthracite","[t CO2/yr]",null,"This table calculates CO2 emissions by multiplying the heat consumption (in TJ/year, lines 162 ff) with the corresponding emission factors (given in lines 186ff)"]
[null,213,null,"petrol coke","[t CO2/yr]"]
[null,214,null,"(ultra) heavy fuel","[t CO2/yr]"]
[null,215,null,"diesel oil","[t CO2/yr]"]
[null,216,null,"natural gas ","[t CO2/yr]"]
[null,217,null,"shale","[t CO2/yr]"]
[null,"217a",null,"lignite","[t CO2/yr]"]
[null,{"$f":"B394+1","v":218},"Alternative fossil and mixed fuels - total fossil emissions",null,"[t CO2/yr]",null,"These are the total CO2 emissions from all alternative fossil kiln fuels. This result is registered in line 41 above  "]
[null,{"$f":"B396+1","v":219},null,"waste oil / fossil content","[t CO2/yr]",null,"This table calculates CO2 emissions by multiplying the heat consumption (in TJ/year, lines 169 ff) with the corresponding emission factors (given in lines 194ff) "]
[null,{"$f":"B397+1","v":220},null,"waste tyres / fossil content","[t CO2/yr]"]
[null,{"$f":"B398+1","v":221},null,"RDF including plastics / fossil content","[t CO2/yr]"]
[null,{"$f":"B399+1","v":222},null,"solvents / fossil content","[t CO2/yr]"]
[null,{"$f":"B400+1","v":223},null,"impregnated saw dust / fossil content","[t CO2/yr]"]
[null,"223a",null,"mixed industrial waste / fossil content","[t CO2/yr]"]
[null,224,null,"other fossil based wastes / fossil content","[t CO2/yr]"]
[null,{"$f":"B403+1","v":225},"Biomass fuels - total, incl. biomass cont. from alternative mixed fuels",null,"[t CO2/yr]",null,"These are the total CO2 emissions from all biomass kiln fuels. This result is registered in line 50 above  "]
[null,226,null,"sewage sludge","[t CO2/yr]",null,"This table calculates CO2 emissions by multiplying the heat consumption (in TJ/year, lines 176 ff) with the corresponding emission factors (given in lines 202ff)"]
[null,227,null,"wood, non impregnated saw dust","[t CO2/yr]"]
[null,228,null,"paper, carton","[t CO2/yr]"]
[null,229,null,"animal meal","[t CO2/yr]"]
[null,230,null,"animal bone meal","[t CO2/yr]"]
[null,231,null,"animal fat","[t CO2/yr]"]
[null,232,null,"agricultural, organic, diaper waste, charcoal","[t CO2/yr]"]
[null,233,null,"other biomass","[t CO2/yr]"]
[null,"233a",null,"biomass content from alternative fuels","[t CO2/yr]"]
[null,"Drying of raw materials and fuels",null,null,null,null,{"$f":"G$7","v":1990},1991,1992,1993,1994,1995,1996,1997,1998,1999,2000,2001,2002,2003,2004,2005]
[null,234,"Conventional fossil fuels - total emissions",null,"[t CO2/yr]",null,"These are the total CO2 emissions from all conventional fossil fuels, for drying of raw materials and fuels. This result is registered in line 40 above  "]
[null,"234a",null,"coal + anthracite + lignite","[t CO2/yr]",null,"This table calculates CO2 emissions by multiplying the heat consumption (in TJ/year, lines 184a ff) with the corresponding emission factors (given in lines 186ff)"]
[null,"234b",null,"petrol coke","[t CO2/yr]"]
[null,"234c",null,"(ultra) heavy fuel","[t CO2/yr]"]
[null,"234d",null,"diesel oil","[t CO2/yr]"]
[null,"234e",null,"natural gas ","[t CO2/yr]"]
[null,"234f",null,"shale","[t CO2/yr]"]
[null,235,"Alternative fossil fuels - fossil total emissions",null,"[t CO2/yr]",null,"These are the total CO2 emissions from all alternative fossil fuels, for drying of raw materials and fuels. This result is registered in line 41 above  "]
[null,"235a",null,"other fossil based wastes / fossil content","[t CO2/yr]",null,"This cell calculates CO2 emissions by multiplying the heat consumption (in TJ/year, line184h) with the corresponding emission factors (given in line200)"]
[null,236,"Alternative biomass fuels - biomass total emissions",null,"[t CO2/yr]",null,"These are the total CO2 emissions from all biomass fuels, for drying of raw materials and fuels. This result is registered in line 50 above  "]
[null,"236a",null,"other biomass (incl. biomass content of mixed fuels)","[t CO2/yr]",null,"This cell calculates CO2 emissions by multiplying the heat consumption (in TJ/year, line184j) with the corresponding emission factors (given in line 209)"]
[]
["NON-KILN FUELS - DETAILED INFORMATION"]
[]
[null,"Non-Kiln Fuel Consumption in tonnes per year",null,null,null,null,{"$f":"G$7","v":1990},1991,1992,1993,1994,1995,1996,1997,1998,1999,2000,2001,2002,2003,2004,2005]
[null,301,"Equipment and On-Site Vehicles fossil fuels"]
[null,"301a",null,"diesel oil","[t/yr]",null,"This table lists the consumption of fossil fuels used by equipment and on-site vehicles in tonnes per year. Some fuel types are clustered for reasons of simplicity, but may be unclustered as appropriate in the seperate calculation and using the input line for other fuels."]
[null,"301b",null,"gasoline","[t/yr]"]
[null,"301ba",null,"other fossil fuels","[t/yr]"]
[null,"301c","Equipment and On-Site Vehicles fuels (containing biomass)"]
[null,"301d",null,"bio and mixed diesel ","[t/yr]",null,"This cell lists the consumption of fuels containing biomass used by equipment and on-site vehicles in tonnes per year."]
[null,302,"Room Heating and Cooling"]
[null,"302a",null,"diesel oil","[t/yr]",null,"This table lists the consumption of fossil fuels used for room heating and cooling in tonnes per year. Some fuel types are clustered for reasons of simplicity, but may be unclustered as appropriatein the seperate calculation and using the input line for other fuels."]
[null,"302b",null,"natural gas","[1'000 Nm3/yr]"]
[null,"302c",null,"other fossil fuels","[t/yr]"]
[null,303,"Drying of mineral components"]
[null,"303k","     Conventional fossil fuels"]
[null,"303a",null,"coal + anthracite + lignite","[t/yr]",null,"This table lists the consumption of conventional fossil fuels used for drying of raw materials and mineral components in tonnes per year. \nSome fuel types are clustered for reasons of simplicity, but may be unclustered as appropriate."]
[null,"303b",null,"petrol coke","[t/yr]"]
[null,"303c",null,"(ultra) heavy fuel","[t/yr]"]
[null,"303d",null,"diesel oil","[t/yr]"]
[null,"303e",null,"natural gas ","[1'000 Nm3/yr]"]
[null,"303f",null,"shale","[t/yr]"]
[null,"303g","     Alternative fossil and mixed fuels"]
[null,"303h",null,"other fossil based wastes and mixed fuels","[t/yr]",null,"This cell lists the consumption of alternative fossil fuels used for drying of raw materials and mineral components in tonnes per year. "]
[null,"303i","     Alternative biomass fuels"]
[null,"303j",null,"other biomass","[t/yr]",null,"This cell lists the consumption of alternative biomass fuels used for drying of raw materials and mineral components in tonnes per year. "]
[null,304,"On-site power generation"]
[null,"304aa","     Conventional fossil fuels"]
[null,"304a",null,"coal + anthracite + lignite","[t/yr]",null,"This table lists the consumption of conventional fossil fuels used on-site power generation in tonnes per year. Some fuel types are clustered for reasons of simplicity, but may be unclustered as appropriate in the seperate calculation and using the input line for other fuels."]
[null,"304b",null,"(ultra) heavy fuel","[t/yr]"]
[null,"304c",null,"diesel oil","[t/yr]"]
[null,"304d",null,"natural gas ","[1'000 Nm3/yr]"]
[null,"304i",null,"petrol coke","[t/yr]"]
[null,"304j",null,"other fossil fuels","[t/yr]"]
[null,"304f","     Alternative fossil and mixed fuels"]
[null,"304g",null,"other fossil based wastes and mixed fuels","[t/yr]",null,"This cell lists the consumption of alternative fossil fuels used on-site power generation in tonnes per year."]
[null,"304h","     Alternative biomass fuels"]
[null,"304e",null,"other biomass","[t/yr]",null,"This cell lists the consumption of alternative biomass fuels used on-site power generation in tonnes per year."]
[]
[null,"Non-Kiln Fuel Lower Heating Values",null,null,null,null,{"$f":"G$7","v":1990},1991,1992,1993,1994,1995,1996,1997,1998,1999,2000,2001,2002,2003,2004,2005]
[null,311,"Equipment and On-Site Vehicles fossil fuels"]
[null,"311a",null,"diesel oil","[GJ/t]",null,"Average lower heating value (= net calorific value) of fuels, expressed in GJ per t of consumed fuel. Default lower heating values are taken from the lines 132-137a (fuel lower heating values of conventional fossil fuels). Enter more specific lower heating values for this fuel if available.\n"]
[null,"311b",null,"gasoline","[GJ/t]"]
[null,"311ba",null,"other fossil fuels","[GJ/t]"]
[null,"311c","Equipment and On-Site Vehicles fuels (containing biomass)"]
[null,"311d",null,"bio and mixed diesel ","[GJ/t]",null,"Average lower heating values (= net calorific value) and CO2 emission factors of fuels containing biomass. Emission factors are used as specified  for kiln and non-kiln fuels in lines 186-200."]
[null,312,"Room Heating and Cooling"]
[null,"312a",null,"diesel oil","[GJ/t]",null,"Average lower heating value (= net calorific value) of fuels, expressed in GJ per t of consumed fuel. Default lower heating values are taken from the lines 132-137a (fuel lower heating values of conventional fossil fuels). Enter more specific lower heating values for this fuel if available.\n"]
[null,"312b",null,"natural gas","[GJ/1'000 Nm3]"]
[null,"312c",null,"other fossil fuels","[GJ/t]"]
[null,313,"Drying of mineral components"]
[null,"313k","     Conventional fossil fuels"]
[null,"313a",null,"coal + anthracite + lignite","[GJ/t]",null,"Average lower heating value (= net calorific value) of fuels, expressed in GJ per t of consumed fuel. \nDefault lower heating values are taken from the lines 132-137a (fuel lower heating values of conventional fossil fuels). \nEnter more specific lower heating values for this fuel if available.\n"]
[null,"313b",null,"petrol coke","[GJ/t]"]
[null,"313c",null,"(ultra) heavy fuel","[GJ/t]"]
[null,"313d",null,"diesel oil","[GJ/t]"]
[null,"313e",null,"natural gas ","[GJ/1'000 Nm3]"]
[null,"313f",null,"shale","[GJ/t]"]
[null,"313g","     Alternative fossil and mixed fuels"]
[null,"313h",null,"other fossil based wastes and mixed fuels","[GJ/t]",null,"Average lower heating values (= net calorific value) and CO2 emission factors of alternative fossil fuels. Values should refer to the same moisture content as the fuel consumption data listed in lines 303h (for example, based on dry weight). Emission factors are used as specified  for kiln and non-kiln fuels in lines 186-200."]
[null,"313i","     Alternative biomass fuels"]
[null,"313j",null,"other biomass","[GJ/t]",null,"Average lower heating values (= net calorific value) and CO2 emission factors of alternative biomass fuels. Values should refer to the same moisture content as the fuel consumption data listed in lines 303j (for example, based on dry weight). Emission factors are used as specified  for kiln and non-kiln fuels in lines 186-200.",0,0,0,0,0,0,0,0,0,0,0,0,0,0,0]
[null,314,"On-site power generation"]
[null,"314aa","     Conventional fossil fuels"]
[null,"314a",null,"coal + anthracite + lignite","[GJ/t]",null,"Average lower heating value (= net calorific value) of fuels, expressed in GJ per t of consumed fuel. \nDefault lower heating values are taken from the lines 132-137a (fuel lower heating values of conventional fossil fuels). \nEnter more specific lower heating values for this fuel if available.\n"]
[null,"314b",null,"(ultra) heavy fuel","[GJ/t]"]
[null,"314c",null,"diesel oil","[GJ/t]"]
[null,"314d",null,"natural gas ","[GJ/1'000 Nm3]"]
[null,"314i",null,"petrol coke","[GJ/t]"]
[null,"314j",null,"other fossil fuels","[GJ/t]"]
[null,"314f","     Alternative fossil and mixed fuels"]
[null,"314g",null,"other fossil based wastes and mixed fuels","[GJ/t]",null,"Average lower heating values (= net calorific value) and CO2 emission factors of alternative fossil fuels. Values should refer to the same moisture content as the fuel consumption data listed in lines 304g (for example, based on dry weight). Emission factors are used as specified  for kiln and non-kiln fuels in lines 186-200."]
[null,"314h","     Alternative biomass fuels"]
[null,"314e",null,"other biomass","[GJ/t]",null,"Average lower heating values (= net calorific value) and CO2 emission factors of alternative biomass fuels. Values should refer to the same moisture content as the fuel consumption data listed in lines 304e (for example, based on dry weight). Emission factors are used as specified  for kiln and non-kiln fuels in lines 186-200.",0,0,0,0,0,0,0,0,0,0,0,0,0,0,0]
[]
[null,"Non-Kiln Fuel Consumption in terajoules (TJ) per year",null,null,null,null,{"$f":"G$7","v":1990},1991,1992,1993,1994,1995,1996,1997,1998,1999,2000,2001,2002,2003,2004,2005]
[null,321,"Equipment and On-Site Vehicles fossil fuels",null,"[TJ/yr]",null,"This is the sum of equipment and on-site vehicles. The result is registered in line 30 above"]
[null,"321a",null,"diesel oil","[TJ/yr]",null,"Heat consumption calculated from non-kiln fuel consumption and lower heating values"]
[null,"321b",null,"gasoline","[TJ/yr]"]
[null,"321ba",null,"other fossil fuels","[TJ/yr]"]
[null,"321c","Equipment and On-Site Vehicles fuels (containing biomass)",null,"[TJ/yr]",null,"This is the sum of equipment and on-site vehicles of biomass fuels"]
[null,"321d",null,"bio and mixed diesel ","[TJ/yr]",null,"Heat consumption calculated from non-kiln fuel consumption and lower heating values of biomass fuels."]
[null,322,"Room Heating and Cooling",null,"[TJ/yr]",null,"This is the sum of room heating and cooling. The result is registered in line 31a above"]
[null,"322a",null,"diesel oil","[TJ/yr]",null,"Heat consumption calculated from non-kiln fuel consumption and lower heating values"]
[null,"322b",null,"natural gas","[TJ/yr]"]
[null,"322c",null,"other fossil fuels","[TJ/yr]"]
[null,323,"Drying of mineral components"]
[null,"323k","     Conventional fossil fuels",null,"[TJ/yr]",null,"This is the sum of drying of raw materials and mineral components from conventional fossil fuels. The result is registered in line 31b above"]
[null,"323a",null,"coal + anthracite + lignite","[TJ/yr]",null,"Heat consumption calculated from non-kiln fuel consumption and lower heating values"]
[null,"323b",null,"petrol coke","[TJ/yr]"]
[null,"323c",null,"(ultra) heavy fuel","[TJ/yr]"]
[null,"323d",null,"diesel oil","[TJ/yr]"]
[null,"323e",null,"natural gas ","[TJ/yr]"]
[null,"323f",null,"shale","[TJ/yr]"]
[null,"323g","     Alternative fossil and mixed fuels",null,"[TJ/yr]",null,"This is the sum of drying of raw materials and mineral components from alternative fossil fuels. The result is registered in line 31b above"]
[null,"323h",null,"other fossil based wastes and mixed fuels","[TJ/yr]",null,"Heat consumption calculated from non-kiln fuel consumption and lower heating values"]
[null,"323i","     Alternative biomass fuels",null,"[TJ/yr]",null,"This is the sum of drying of raw materials and mineral components from alternative biomass fuels. The result is registered in line 31b above"]
[null,"323j",null,"other biomass","[TJ/yr]",null,"Heat consumption calculated from non-kiln fuel consumption and lower heating values"]
[null,324,"On-site power generation"]
[null,"324aa","     Conventional fossil fuels",null,"[TJ/yr]",null,"This is the sum of on-site power generation from conventional fossil fuels. The result is registered in line 31c above"]
[null,"324a",null,"coal + anthracite + lignite","[TJ/yr]",null,"Heat consumption calculated from non-kiln fuel consumption and lower heating values"]
[null,"324b",null,"(ultra) heavy fuel","[TJ/yr]"]
[null,"324c",null,"diesel oil","[TJ/yr]"]
[null,"324d",null,"natural gas ","[TJ/yr]"]
[null,"324i",null,"petrol coke","[TJ/yr]"]
[null,"324j",null,"other fossil fuels","[TJ/yr]"]
[null,"324f","     Alternative fossil and mixed fuels",null,"[TJ/yr]",null,"This is the sum of on-site power generation from alternative fossil fuels. The result is registered in line 31c above"]
[null,"324g",null,"other fossil based wastes and mixed fuels","[TJ/yr]",null,"Heat consumption calculated from non-kiln fuel consumption and lower heating values"]
[null,"324h","     Alternative biomass fuels",null,"[TJ/yr]",null,"This is the sum of on-site power generation from biomass fuels. The result is registered in line 31c above"]
[null,"324e",null,"other biomass","[TJ/yr]",null,"Heat consumption calculated from non-kiln fuel consumption and lower heating values"]
[]
[null,"CO2 Emissions from Non-Kiln fuels",null,null,null,null,{"$f":"G$7","v":1990},1991,1992,1993,1994,1995,1996,1997,1998,1999,2000,2001,2002,2003,2004,2005]
[null,331,"Equipment and On-Site Vehicles",null,"[t CO2/yr]",null,"This is the sum of equipment and on-site vehicles. The result is registered in line 44 above"]
[null,"331a",null,"diesel oil (incl. fossil CO2 of mixed diesel)","[t CO2/yr]",null,"This table calculates CO2 emissions by multiplying the Heat consumption (in TJ/year, lines 321 ff) with the appropriate emission factors (lines 186ff, except for gasoline where the emission factor is taken from line is 311b)"]
[null,"331b",null,"gasoline","[t CO2/yr]"]
[null,"331ba",null,"other fossil fuels","[t CO2/yr]"]
[null,"331c","Equipment and On-Site Vehicles biomass fuels",null,"[t CO2/yr]",null,"This is the sum of equipment and on-site vehicles(biomass fuels).The result is registered in line 50 above"]
[null,"331d",null,"bio diesel (biogenic CO2 of bio or mixed diesel)","[t CO2/yr]",null,"This cell calculates CO2 emissions by multiplying the Heat consumption (in TJ/year, lines 321d) with the emission factor (lines 199a) and Biomass content (line200g)"]
[null,332,"Room Heating and Cooling",null,"[t CO2/yr]",null,"This is the sum of room heating and cooling. The result is registered in line 45a above"]
[null,"332a",null,"diesel oil","[t CO2/yr]",null,"This table calculates CO2 emissions by multiplying the Heat consumption (in TJ/year, lines 322ff) with the appropriate emission factors (lines 186ff)"]
[null,"332b",null,"natural gas","[t CO2/yr]"]
[null,"332c",null,"other fossil fuels","[t CO2/yr]"]
[null,333,"Drying of mineral components"]
[null,"333k","     Conventional fossil fuels",null,"[t CO2/yr]",null,"This is the sum of drying of raw materials and mineral components from conventional fossil fuels. The result is registered in line 45b above"]
[null,"333a",null,"coal + anthracite + lignite","[t CO2/yr]",null,"This table calculates CO2 emissions by multiplying the Heat consumption (in TJ/year, lines 323 ff) with the appropriate emission factors (lines 186ff)"]
[null,"333b",null,"petrol coke","[t CO2/yr]"]
[null,"333c",null,"(ultra) heavy fuel","[t CO2/yr]"]
[null,"333d",null,"diesel oil","[t CO2/yr]"]
[null,"333e",null,"natural gas ","[t CO2/yr]"]
[null,"333f",null,"shale","[t CO2/yr]"]
[null,"333g","     Alternative fossil fuels - fossil total emissions",null,"[t CO2/yr]",null,"This is the sum of drying of raw materials and mineral components from alternative fossil fuels. The result is registered in line 45b above"]
[null,"333h",null,"other fossil based wastes / fossil content","[t CO2/yr]",null,"This cell calculates CO2 emissions by multiplying the Heat consumption (in TJ/year, lines 323h) with the emission factors (lines200) and biomass content (line200h)"]
[null,"333i","     Alternative biomass fuels - biomass total emissions",null,"[t CO2/yr]",null,"This is the sum of drying of raw materials and mineral components from biomass fuels. The result is registered in line 50 above"]
[null,"333j",null,"other biomass (incl. biomass content of mixed fuels)","[t CO2/yr]",null,"This cell calculates CO2 emissions by multiplying the Heat consumption (in TJ/year, lines 323j) with the emission factors (line209)"]
[null,334,"On-site power generation"]
[null,"334aa","     Conventional fossil fuels",null,"[t CO2/yr]",null,"This is the sum of on-site power generation from conventional fossil fuels. The result is registered in line 45c above"]
[null,"334a",null,"coal + anthracite + lignite","[t CO2/yr]",null,"This table calculates CO2 emissions by multiplying the Heat consumption (in TJ/year, lines 324a -324j) with the appropriate emission factors (lines 186ff)\n"]
[null,"334b",null,"(ultra) heavy fuel","[t CO2/yr]"]
[null,"334c",null,"diesel oil","[t CO2/yr]"]
[null,"334d",null,"natural gas ","[t CO2/yr]"]
[null,"334i",null,"petrol coke","[t CO2/yr]"]
[null,"334j",null,"other fossil fuels","[t CO2/yr]"]
[null,"334f","     Alternative fossil fuels - fossil total emissions",null,"[t CO2/yr]",null,"This is the sum of on-site power generation from alternative fossil fuels. The result is registered in line 45c above"]
[null,"334g",null,"other fossil based wastes / fossil content","[t CO2/yr]",null,"This cell calculates CO2 emissions by multiplying the Heat consumption (in TJ/year, line324g) with the emission factors (line200) and biomass content (line200h)"]
[null,"334h","     Alternative biomass fuels - biomass total emissions",null,"[t CO2/yr]",null,"This is the sum of on-site power generation. The result is registered in line 50 above"]
[null,"334e",null,"other biomass (incl. biomass content of mixed fuels)","[t CO2/yr]",null,"This cell calculates CO2 emissions by multiplying the Heat consumption (in TJ/year, lines 324e) with the emission factors (line209)"]

{"sheet":"Plant","index":2,"n_rows":571,"n_cols":67,"rows_kept":571,"cut":false,"hidden":false,"merged":[[194,1,194,5],[188,1,188,5],[171,1,171,5],[182,1,182,5],[179,1,179,5],[0,0,0,3],[0,4,0,15],[35,2,35,3],[31,2,31,3],[32,4,32,5]]}
["GCCA (Global Cement and Concret Association)\nCement CO2 and Energy Protocol, Version 3.1, CO2 Emissions and Energy Inventory. \nDeveloped by the WBCSD Cement Sustainability Initiative (CSI) and European Cement Research Academy (ECRA).",null,null,null,"Plant Level"]
[]
[null,"Date of latest update",null,null,{"$f":"'Read Me'!B4","v":"2013-12-09"}]
[]
["INFORMATION"]
[]
[null,"General Plant Information",null,null,null,null,1990,1991,1992,1993,1994,1995,1996,1997,1998,1999,2000,2001,2002,2003,2004,2005,2006,2007,2008,2009,2010,2011,2012,2013,2014,2015,2016,2017,2018,2019,2020,2021,2022,2023,2024,2025,2026,2027,2028,2029,2030,2031,2032,2033,2034,2035,2036,2037,2038,2039,2040,2041,2042,2043,2044,2045,2046,2047,2048,2049,2050]
[null,1,"Plant"]
[null,2,"Company"]
[null,3,"Country"]
[null,4,"Continent"]
[null,5,"\"Kyoto\" Region (Annex 1 or non-Annex 1)"]
[null,6,"Kiln types"]
[null,"6a","Nominal clinker capacity",null,"[t/d]"]
[null,"6b","Plant type"]
[null,7,"Shares owned by Company",null,"[%]"]
[null,"7aa","Third party verification"]
[null,"7ab","Used Cement CO2 and Energy Protocol version ",null,null,null,"V3.1","V3.1","V3.1","V3.1","V3.1","V3.1","V3.1","V3.1","V3.1","V3.1","V3.1","V3.1","V3.1","V3.1","V3.1","V3.1","V3.1","V3.1","V3.1","V3.1","V3.1","V3.1","V3.1","V3.1","V3.1","V3.1","V3.1","V3.1","V3.1","V3.1","V3.1","V3.1","V3.1","V3.1","V3.1","V3.1","V3.1","V3.1","V3.1","V3.1","V3.1","V3.1","V3.1","V3.1","V3.1","V3.1","V3.1","V3.1","V3.1","V3.1","V3.1","V3.1","V3.1","V3.1","V3.1","V3.1","V3.1","V3.1","V3.1","V3.1","V3.1"]
[null,"7ac","Short notes or user comment (max. 250 characters)",null,null,null,"Recalculation with protocol V3 (GNR data until 2010 according to V2)","Recalculation with protocol V3 (GNR data until 2010 according to V2)",null,null,null,null,null,null,null,null,"Recalculation with protocol V3 (GNR data until 2010 according to V2)",null,null,null,null,"Recalculation with protocol V3 (GNR data until 2010 according to V2)","Recalculation with protocol V3 (GNR data until 2010 according to V2)","Recalculation with protocol V3 (GNR data until 2010 according to V2)","Recalculation with protocol V3 (GNR data until 2010 according to V2)","Recalculation with protocol V3 (GNR data until 2010 according to V2)","Recalculation with protocol V3 (GNR data until 2010 according to V2)"]
[null,null,null,null,null,null,"."]
[null,"Inventory Boundaries: Coverage of Main Process Steps",null,null,"[yes, no or n.a.]",null,{"$f":"G$7","v":1990},1991,1992,1993,1994,1995,1996,1997,1998,1999,2000,2001,2002,2003,2004,2005,2006,2007,2008,2009,2010,2011,2012,2013,2014,2015,2016,2017,2018,2019,2020,2021,2022,2023,2024,2025,2026,2027,2028,2029,2030,2031,2032,2033,2034,2035,2036,2037,2038,2039,2040,2041,2042,2043,2044,2045,2046,2047,2048,2049,2050]
[null,"7a","Raw material supply (quarrying, mining, crushing)",null,"no"]
[null,"7b","Preparation of raw materials, fuels and additives",null,"no"]
[null,"7c","Kiln operation (pyro-processing)",null,"no"]
[null,"7d","Cement grinding, blending",null,"no"]
[null,"7e","On-site (internal) transport",null,"no"]
[null,"7f","Off-site transport with company-owned fleets",null,"no"]
[null,"7g","On-site power generation",null,"no"]
[null,"7h","Room heating and cooling",null,"no"]
[null,"7i","(add other processes as appropriate)",null,"no"]
[null,"7j","use of internal cement transfer for blending",null,"no"]
[null,"7k","Select year to copy and apply inventory boundaries (7a - 7j) "]
[]
[null,"7n","1.) Select calcination CO2 method (A1; A2; B1; B2)  B1=Standard (no seperate calcination sheet needed).",null,null,null,"B1","B1","B1","B1","B1","B1","B1","B1","B1","B1","B1","B1","B1","B1","B1","B1","B1","B1","B1","B1","B1","B1","B1","B1","B1","B1","B1","B1","B1","B1","B1","B1","B1","B1","B1","B1","B1","B1","B1","B1","B1","B1","B1","B1","B1","B1","B1","B1","B1","B1","B1","B1","B1","B1","B1","B1","B1","B1","B1","B1","B1"]
[null,null,"2.) For A1; A2; B2 check if appropriate calcination sheet (CalcA1; CalcA2 or CalcB2) is already availabe next to plant sheet."]
[null,null,"3.) If not, press the 'create' button one time in order to create one new calcination sheet."]
[]
[null,"Clinker and Cement Production",null,null,null,null,{"$f":"G$7","v":1990},1991,1992,1993,1994,1995,1996,1997,1998,1999,2000,2001,2002,2003,2004,2005,2006,2007,2008,2009,2010,2011,2012,2013,2014,2015,2016,2017,2018,2019,2020,2021,2022,2023,2024,2025,2026,2027,2028,2029,2030,2031,2032,2033,2034,2035,2036,2037,2038,2039,2040,2041,2042,2043,2044,2045,2046,2047,2048,2049,2050]
[null,null,"Clinker:"]
[null,{"$f":"B16+1","v":8},"Clinker production",null,"[t/yr]"]
[null,{"$f":"B40+1","v":9},"Clinker bought from other companies and from cross-border transfer",null,"[t/yr]"]
[null,{"$f":"B41+1","v":10},"Clinker sold to other companies and from cross-border transfer",null,"[t/yr]"]
[null,"10a","Change in clinker stocks (+ = increase; - = reduction)",null,"[t/yr]"]
[null,"10b","Internal clinker transfer (+ = clinker received; - = clinker sent)",null,"[t/yr]"]
[null,"10c","Clinker from internal transfer of processed cement (+ = cement received; - = cement sent)",null,"[t/yr]"]
[null,{"$f":"B42+1","v":11},"Total clinker consumed",null,"[t/yr]",null,{"$f":"IF(COUNTBLANK(G40:G45)=6,\"\",G40+G41-G42-G43+G44+G45)","v":""},{"$f":"IF(COUNTBLANK(H40:H45)=6,\"\",H40+H41-H42-H43+H44+H45)","v":""},"","","","","","","","","","","","","","","","","","","","","","","","","","","","","",{"$f":"IF(COUNTBLANK(AL40:AL45)=6,\"\",AL40+AL41-AL42-AL43+AL44+AL45)","v":""},{"$f":"IF(COUNTBLANK(AM40:AM45)=6,\"\",AM40+AM41-AM42-AM43+AM44+AM45)","v":""},{"$f":"IF(COUNTBLANK(AN40:AN45)=6,\"\",AN40+AN41-AN42-AN43+AN44+AN45)","v":""},{"$f":"IF(COUNTBLANK(AO40:AO45)=6,\"\",AO40+AO41-AO42-AO43+AO44+AO45)","v":""},{"$f":"IF(COUNTBLANK(AP40:AP45)=6,\"\",AP40+AP41-AP42-AP43+AP44+AP45)","v":""},{"$f":"IF(COUNTBLANK(AQ40:AQ45)=6,\"\",AQ40+AQ41-AQ42-AQ43+AQ44+AQ45)","v":""},"","","","","","","","","","","","","","","","","","","","","","","",""]
[]
[null,null,"Mineral components (MIC) used to produce Portland and blended cements:"]
[null,{"$f":"B46+1","v":12},"Gypsum",null,"[t/yr, dry weight]"]
[null,{"$f":"B49+1","v":13},"Limestone",null,"[t/yr, dry weight]"]
[null,{"$f":"B50+1","v":14},"Slag",null,"[t/yr, dry weight]"]
[null,{"$f":"B51+1","v":15},"Fly ash (for blending)",null,"[t/yr, dry weight]"]
[null,{"$f":"B52+1","v":16},"Puzzolana",null,"[t/yr, dry weight]"]
[null,{"$f":"B53+1","v":17},"Others (e.g., CKD added to cement mill)",null,"[t/yr, dry weight]"]
[null,"17a","MIC from internal transfer of processed cement (+ = cement received; - = cement sent)",null,"[t/yr, dry weight]"]
[null,{"$f":"B54+1","v":18},"Total MIC consumed for Portland and blended cements (dry weight)",null,"[t/yr, dry weight]",null,{"$f":"IF(COUNTBLANK(G49:G55)=7,\"\",SUM(G49:G55))","v":""},{"$f":"IF(COUNTBLANK(H49:H55)=7,\"\",SUM(H49:H55))","v":""},"","","","","","","","","","","","","","","","","","","","","","","","","","","","","",{"$f":"IF(COUNTBLANK(AL49:AL55)=7,\"\",SUM(AL49:AL55))","v":""},{"$f":"IF(COUNTBLANK(AM49:AM55)=7,\"\",SUM(AM49:AM55))","v":""},{"$f":"IF(COUNTBLANK(AN49:AN55)=7,\"\",SUM(AN49:AN55))","v":""},{"$f":"IF(COUNTBLANK(AO49:AO55)=7,\"\",SUM(AO49:AO55))","v":""},{"$f":"IF(COUNTBLANK(AP49:AP55)=7,\"\",SUM(AP49:AP55))","v":""},{"$f":"IF(COUNTBLANK(AQ49:AQ55)=7,\"\",SUM(AQ49:AQ55))","v":""},"","","","","","","","","","","","","","","","","","","","","","","",""]
[]
[null,null,"Processed mineral components (MIC) sold externally or transferred internally (dry weight):"]
[null,"19a","Processed slag sold externally",null,"[t/yr, dry weight]"]
[null,"19b","Processed fly ash and other puzzolana sold externally",null,"[t/yr, dry weight]"]
[null,"19c","Total internal processed MIC transfer (+ = received; - = sent)",null,"[t/yr, dry weight]"]
[null,19,"Total processed MIC's used as clinker or cement substitute sold externally",null,"[t/yr, dry weight]",null,{"$f":"IF(COUNTBLANK(G59:G61)=3,\"\",SUM(G59:G61))","v":""},{"$f":"IF(COUNTBLANK(H59:H61)=3,\"\",SUM(H59:H61))","v":""},"","","","","","","","","","","","","","","","","","","","","","","","","","","","","",{"$f":"IF(COUNTBLANK(AL59:AL61)=3,\"\",SUM(AL59:AL61))","v":""},{"$f":"IF(COUNTBLANK(AM59:AM61)=3,\"\",SUM(AM59:AM61))","v":""},{"$f":"IF(COUNTBLANK(AN59:AN61)=3,\"\",SUM(AN59:AN61))","v":""},{"$f":"IF(COUNTBLANK(AO59:AO61)=3,\"\",SUM(AO59:AO61))","v":""},{"$f":"IF(COUNTBLANK(AP59:AP61)=3,\"\",SUM(AP59:AP61))","v":""},{"$f":"IF(COUNTBLANK(AQ59:AQ61)=3,\"\",SUM(AQ59:AQ61))","v":""},"","","","","","","","","","","","","","","","","","","","","","","",""]
[]
[null,null,"Production totals:"]
[null,{"$f":"B62+1","v":20},"Total Portland and Blended cements ",null,"[t/yr]",null,{"$f":"IF(OR(G46=\"\",G56=\"\"),\"\",G46+G56)","v":""},{"$f":"IF(OR(H46=\"\",H56=\"\"),\"\",H46+H56)","v":""},"","","","","","","","","","","","","","","","","","","","","","","","","","","","","",{"$f":"IF(OR(AL46=\"\",AL56=\"\"),\"\",AL46+AL56)","v":""},{"$f":"IF(OR(AM46=\"\",AM56=\"\"),\"\",AM46+AM56)","v":""},{"$f":"IF(OR(AN46=\"\",AN56=\"\"),\"\",AN46+AN56)","v":""},{"$f":"IF(OR(AO46=\"\",AO56=\"\"),\"\",AO46+AO56)","v":""},{"$f":"IF(OR(AP46=\"\",AP56=\"\"),\"\",AP46+AP56)","v":""},{"$f":"IF(OR(AQ46=\"\",AQ56=\"\"),\"\",AQ46+AQ56)","v":""},"","","","","","","","","","","","","","","","","","","","","","","",""]
[null,{"$f":"B65+1","v":21},"Total cements + substitutes: Portland, Blended, Slag, etc.",null,"[t/yr]",null,{"$f":"IF(OR(G46=\"\",G56=\"\",G62=\"\"),\"\",G46+G56+G62)","v":""},"","","","","","","","","","","","","","","","","","","","","","","","","","","","","","",{"$f":"IF(OR(AL46=\"\",AL56=\"\",AL62=\"\"),\"\",AL46+AL56+AL62)","v":""},{"$f":"IF(OR(AM46=\"\",AM56=\"\",AM62=\"\"),\"\",AM46+AM56+AM62)","v":""},{"$f":"IF(OR(AN46=\"\",AN56=\"\",AN62=\"\"),\"\",AN46+AN56+AN62)","v":""},{"$f":"IF(OR(AO46=\"\",AO56=\"\",AO62=\"\"),\"\",AO46+AO56+AO62)","v":""},{"$f":"IF(OR(AP46=\"\",AP56=\"\",AP62=\"\"),\"\",AP46+AP56+AP62)","v":""},{"$f":"IF(OR(AQ46=\"\",AQ56=\"\",AQ62=\"\"),\"\",AQ46+AQ56+AQ62)","v":""},"","","","","","","","","","","","","","","","","","","","","","","",""]
[null,"21a","Total cementitious products",null,"[t/yr]",null,{"$f":"IF(OR(G40=\"\",G56=\"\",G62=\"\"),\"\",G40+G56+G62)","v":""},"","","","","","","","","","","","","","","","","","","","","","","","","","","","","","",{"$f":"IF(OR(AL40=\"\",AL56=\"\",AL62=\"\"),\"\",AL40+AL56+AL62)","v":""},{"$f":"IF(OR(AM40=\"\",AM56=\"\",AM62=\"\"),\"\",AM40+AM56+AM62)","v":""},{"$f":"IF(OR(AN40=\"\",AN56=\"\",AN62=\"\"),\"\",AN40+AN56+AN62)","v":""},{"$f":"IF(OR(AO40=\"\",AO56=\"\",AO62=\"\"),\"\",AO40+AO56+AO62)","v":""},{"$f":"IF(OR(AP40=\"\",AP56=\"\",AP62=\"\"),\"\",AP40+AP56+AP62)","v":""},{"$f":"IF(OR(AQ40=\"\",AQ56=\"\",AQ62=\"\"),\"\",AQ40+AQ56+AQ62)","v":""},"","","","","","","","","","","","","","","","","","","","","","","",""]
[null,"21b","Total cement equivalent",null,"[t/yr]",null,{"$f":"IF(OR(G40=\"\",G40=0,G209=\"n. appl.\"),\"n. appl.\",G40/G209)","v":"n. appl."},{"$f":"IF(OR(H40=\"\",H40=0,H209=\"n. appl.\"),\"n. appl.\",H40/H209)","v":"n. appl."},"n. appl.","n. appl.","n. appl.","n. appl.","n. appl.","n. appl.","n. appl.","n. appl.","n. appl.","n. appl.","n. appl.","n. appl.","n. appl.","n. appl.","n. appl.","n. appl.","n. appl.","n. appl.","n. appl.","n. appl.","n. appl.","n. appl.","n. appl.","n. appl.","n. appl.","n. appl.","n. appl.","n. appl.","n. appl.","n. appl.","n. appl.","n. appl.","n. appl.","n. appl.",{"$f":"IF(OR(AQ40=\"\",AQ40=0,AQ209=\"n. appl.\"),\"n. appl.\",AQ40/AQ209)","v":"n. appl."},"n. appl.","n. appl.","n. appl.","n. appl.","n. appl.","n. appl.","n. appl.","n. appl.","n. appl.","n. appl.","n. appl.","n. appl.","n. appl.","n. appl.","n. appl.","n. appl.","n. appl.","n. appl.","n. appl.","n. appl.","n. appl.","n. appl.","n. appl.","n. appl."]
[]
[null,"Dust Production (dry weight)",null,null,null,null,{"$f":"G$7","v":1990},1991,1992,1993,1994,1995,1996,1997,1998,1999,2000,2001,2002,2003,2004,2005,2006,2007,2008,2009,2010,2011,2012,2013,2014,2015,2016,2017,2018,2019,2020,2021,2022,2023,2024,2025,2026,2027,2028,2029,2030,2031,2032,2033,2034,2035,2036,2037,2038,2039,2040,2041,2042,2043,2044,2045,2046,2047,2048,2049,2050]
[null,22,"Bypass dust leaving kiln system",null,"[t/yr, dry weight]",null,0,0,0,0,0,0,0,0,0,0,0,0,0,0,0,0,0,0,0,0,0,0,0,0,0,0,0,0,0,0,0,0,0,0,0,0,0,0,0,0,0,0,0,0,0,0,0,0,0,0,0,0,0,0,0,0,0,0,0,0,0]
[null,{"$f":"B71+1","v":23},"CKD leaving the kiln system",null,"[t/yr, dry weight]",null,0,0,0,0,0,0,0,0,0,0,0,0,0,0,0,0,0,0,0,0,0,0,0,0,0,0,0,0,0,0,0,0,0,0,0,0,0,0,0,0,0,0,0,0,0,0,0,0,0,0,0,0,0,0,0,0,0,0,0,0,0]
[null,{"$f":"B72+1","v":24},"CKD calcination rate d (Plant specific value or default 0%= dry kilns, 100%= for other kiln types)",null,"[%]",null,0,0,0,0,0,0,0,0,0,0,0,0,0,0,0,0,0,0,0,0,0,0,0,0,0,0,0,0,0,0,0,0,0,0,0,0,0,0,0,0,0,0,0,0,0,0,0,0,0,0,0,0,0,0,0,0,0,0,0,0,0]
[]
[null,"Kiln Fuel Consumption incl. raw material and fuel drying",null,null,null,null,{"$f":"G$7","v":1990},1991,1992,1993,1994,1995,1996,1997,1998,1999,2000,2001,2002,2003,2004,2005,2006,2007,2008,2009,2010,2011,2012,2013,2014,2015,2016,2017,2018,2019,2020,2021,2022,2023,2024,2025,2026,2027,2028,2029,2030,2031,2032,2033,2034,2035,2036,2037,2038,2039,2040,2041,2042,2043,2044,2045,2046,2047,2048,2049,2050]
[null,25,"Total heat consumption of kilns",null,"[TJ/yr]",null,{"$f":"IF(COUNTBLANK(G78:G80)=3,\"\",SUM(G78:G80))","v":0},{"$f":"IF(COUNTBLANK(H78:H80)=3,\"\",SUM(H78:H80))","v":0},0,0,0,0,0,0,0,0,0,0,0,0,0,0,0,0,0,0,0,0,0,0,0,0,0,0,0,0,0,{"$f":"IF(COUNTBLANK(AL78:AL80)=3,\"\",SUM(AL78:AL80))","v":0},{"$f":"IF(COUNTBLANK(AM78:AM80)=3,\"\",SUM(AM78:AM80))","v":0},{"$f":"IF(COUNTBLANK(AN78:AN80)=3,\"\",SUM(AN78:AN80))","v":0},{"$f":"IF(COUNTBLANK(AO78:AO80)=3,\"\",SUM(AO78:AO80))","v":0},{"$f":"IF(COUNTBLANK(AP78:AP80)=3,\"\",SUM(AP78:AP80))","v":0},{"$f":"IF(COUNTBLANK(AQ78:AQ80)=3,\"\",SUM(AQ78:AQ80))","v":0},0,0,0,0,0,0,0,0,0,0,0,0,0,0,0,0,0,0,0,0,0,0,0,0]
[null,"25a","Total heat consumption of kilns excluding drying of fuels and raw materials",null,"[TJ/yr]",null,{"$f":"IF(OR(G76=\"\",G335=\"\",G342=\"\",G344=\"\"),\"\",G76-G335-G342-G344)","v":0},{"$f":"IF(OR(H76=\"\",H335=\"\",H342=\"\",H344=\"\"),\"\",H76-H335-H342-H344)","v":0},0,0,0,0,0,0,0,0,0,0,0,0,0,0,0,0,0,0,0,0,0,0,0,0,0,0,0,0,0,{"$f":"IF(OR(AL76=\"\",AL335=\"\",AL342=\"\",AL344=\"\"),\"\",AL76-AL335-AL342-AL344)","v":0},{"$f":"IF(OR(AM76=\"\",AM335=\"\",AM342=\"\",AM344=\"\"),\"\",AM76-AM335-AM342-AM344)","v":0},{"$f":"IF(OR(AN76=\"\",AN335=\"\",AN342=\"\",AN344=\"\"),\"\",AN76-AN335-AN342-AN344)","v":0},{"$f":"IF(OR(AO76=\"\",AO335=\"\",AO342=\"\",AO344=\"\"),\"\",AO76-AO335-AO342-AO344)","v":0},{"$f":"IF(OR(AP76=\"\",AP335=\"\",AP342=\"\",AP344=\"\"),\"\",AP76-AP335-AP342-AP344)","v":0},{"$f":"IF(OR(AQ76=\"\",AQ335=\"\",AQ342=\"\",AQ344=\"\"),\"\",AQ76-AQ335-AQ342-AQ344)","v":0},0,0,0,0,0,0,0,0,0,0,0,0,0,0,0,0,0,0,0,0,0,0,0,0]
[null,{"$f":"B76+1","v":26},"Conventional fossil fuels",null,"[TJ/yr]",null,{"$f":"IF(OR(G308=\"\",G335=\"\"),\"\",G308+G335)","v":0},{"$f":"IF(OR(H308=\"\",H335=\"\"),\"\",H308+H335)","v":0},0,0,0,0,0,0,0,0,0,0,0,0,0,0,0,0,0,0,0,0,0,0,0,0,0,0,0,0,0,{"$f":"IF(OR(AL308=\"\",AL335=\"\"),\"\",AL308+AL335)","v":0},{"$f":"IF(OR(AM308=\"\",AM335=\"\"),\"\",AM308+AM335)","v":0},{"$f":"IF(OR(AN308=\"\",AN335=\"\"),\"\",AN308+AN335)","v":0},{"$f":"IF(OR(AO308=\"\",AO335=\"\"),\"\",AO308+AO335)","v":0},{"$f":"IF(OR(AP308=\"\",AP335=\"\"),\"\",AP308+AP335)","v":0},{"$f":"IF(OR(AQ308=\"\",AQ335=\"\"),\"\",AQ308+AQ335)","v":0},0,0,0,0,0,0,0,0,0,0,0,0,0,0,0,0,0,0,0,0,0,0,0,0]
[null,{"$f":"B78+1","v":27},"Alternative fuels, fossil content; excluding biomass fraction of mixed fuels",null,"[TJ/yr]",null,{"$f":"IF(OR(G316=\"\",G342=\"\"),\"\",G316+G342)","v":0},{"$f":"IF(OR(H316=\"\",H342=\"\"),\"\",H316+H342)","v":0},0,0,0,0,0,0,0,0,0,0,0,0,0,0,0,0,0,0,0,0,0,0,0,0,0,0,0,0,0,{"$f":"IF(OR(AL316=\"\",AL342=\"\"),\"\",AL316+AL342)","v":0},{"$f":"IF(OR(AM316=\"\",AM342=\"\"),\"\",AM316+AM342)","v":0},{"$f":"IF(OR(AN316=\"\",AN342=\"\"),\"\",AN316+AN342)","v":0},{"$f":"IF(OR(AO316=\"\",AO342=\"\"),\"\",AO316+AO342)","v":0},{"$f":"IF(OR(AP316=\"\",AP342=\"\"),\"\",AP316+AP342)","v":0},{"$f":"IF(OR(AQ316=\"\",AQ342=\"\"),\"\",AQ316+AQ342)","v":0},0,0,0,0,0,0,0,0,0,0,0,0,0,0,0,0,0,0,0,0,0,0,0,0]
[null,{"$f":"B79+1","v":28},"Biomass fuels, incl. biomass content of alternative fuels",null,"[TJ/yr]",null,{"$f":"IF(OR(G324=\"\",G344=\"\"),\"\",G324+G344)","v":0},{"$f":"IF(OR(H324=\"\",H344=\"\"),\"\",H324+H344)","v":0},0,0,0,0,0,0,0,0,0,0,0,0,0,0,0,0,0,0,0,0,0,0,0,0,0,0,0,0,0,{"$f":"IF(OR(AL324=\"\",AL344=\"\"),\"\",AL324+AL344)","v":0},{"$f":"IF(OR(AM324=\"\",AM344=\"\"),\"\",AM324+AM344)","v":0},{"$f":"IF(OR(AN324=\"\",AN344=\"\"),\"\",AN324+AN344)","v":0},{"$f":"IF(OR(AO324=\"\",AO344=\"\"),\"\",AO324+AO344)","v":0},{"$f":"IF(OR(AP324=\"\",AP344=\"\"),\"\",AP324+AP344)","v":0},{"$f":"IF(OR(AQ324=\"\",AQ344=\"\"),\"\",AQ324+AQ344)","v":0},0,0,0,0,0,0,0,0,0,0,0,0,0,0,0,0,0,0,0,0,0,0,0,0]
[]
[null,"Non-Kiln Fuel Consumption",null,null,null,null,{"$f":"G$7","v":1990},1991,1992,1993,1994,1995,1996,1997,1998,1999,2000,2001,2002,2003,2004,2005,2006,2007,2008,2009,2010,2011,2012,2013,2014,2015,2016,2017,2018,2019,2020,2021,2022,2023,2024,2025,2026,2027,2028,2029,2030,2031,2032,2033,2034,2035,2036,2037,2038,2039,2040,2041,2042,2043,2044,2045,2046,2047,2048,2049,2050]
[null,30,"Equipment and on-site vehicles",null,"[TJ/yr]",null,{"$f":"G502+G506","v":0},{"$f":"H502+H506","v":0},0,0,0,0,0,0,0,0,0,0,0,0,0,0,0,0,0,0,0,0,0,0,0,0,0,0,0,0,0,{"$f":"AL502+AL506","v":0},{"$f":"AM502+AM506","v":0},{"$f":"AN502+AN506","v":0},{"$f":"AO502+AO506","v":0},{"$f":"AP502+AP506","v":0},{"$f":"AQ502+AQ506","v":0},0,0,0,0,0,0,0,0,0,0,0,0,0,0,0,0,0,0,0,0,0,0,0,0]
[null,"31a","Room heating and cooling",null,"[TJ/yr]",null,{"$f":"G508","v":0},{"$f":"H508","v":0},0,0,0,0,0,0,0,0,0,0,0,0,0,0,0,0,0,0,0,0,0,0,0,0,0,0,0,0,0,{"$f":"AL508","v":0},{"$f":"AM508","v":0},{"$f":"AN508","v":0},{"$f":"AO508","v":0},{"$f":"AP508","v":0},{"$f":"AQ508","v":0},0,0,0,0,0,0,0,0,0,0,0,0,0,0,0,0,0,0,0,0,0,0,0,0]
[null,"31b","Drying of mineral components",null,"[TJ/yr]",null,{"$f":"IF(OR(G513=\"\",G520=\"\",G522=\"\"),\"\",G513+G520+G522)","v":0},{"$f":"IF(OR(H513=\"\",H520=\"\",H522=\"\"),\"\",H513+H520+H522)","v":0},0,0,0,0,0,0,0,0,0,0,0,0,0,0,0,0,0,0,0,0,0,0,0,0,0,0,0,0,0,{"$f":"IF(OR(AL513=\"\",AL520=\"\",AL522=\"\"),\"\",AL513+AL520+AL522)","v":0},{"$f":"IF(OR(AM513=\"\",AM520=\"\",AM522=\"\"),\"\",AM513+AM520+AM522)","v":0},{"$f":"IF(OR(AN513=\"\",AN520=\"\",AN522=\"\"),\"\",AN513+AN520+AN522)","v":0},{"$f":"IF(OR(AO513=\"\",AO520=\"\",AO522=\"\"),\"\",AO513+AO520+AO522)","v":0},{"$f":"IF(OR(AP513=\"\",AP520=\"\",AP522=\"\"),\"\",AP513+AP520+AP522)","v":0},{"$f":"IF(OR(AQ513=\"\",AQ520=\"\",AQ522=\"\"),\"\",AQ513+AQ520+AQ522)","v":0},0,0,0,0,0,0,0,0,0,0,0,0,0,0,0,0,0,0,0,0,0,0,0,0]
[null,"31c","On-site power generation",null,"[TJ/yr]",null,{"$f":"IF(OR(G525=\"\",G532=\"\",G534=\"\"),\"\",G525+G532+G534)","v":0},{"$f":"IF(OR(H525=\"\",H532=\"\",H534=\"\"),\"\",H525+H532+H534)","v":0},0,0,0,0,0,0,0,0,0,0,0,0,0,0,0,0,0,0,0,0,0,0,0,0,0,0,0,0,0,{"$f":"IF(OR(AL525=\"\",AL532=\"\",AL534=\"\"),\"\",AL525+AL532+AL534)","v":0},{"$f":"IF(OR(AM525=\"\",AM532=\"\",AM534=\"\"),\"\",AM525+AM532+AM534)","v":0},{"$f":"IF(OR(AN525=\"\",AN532=\"\",AN534=\"\"),\"\",AN525+AN532+AN534)","v":0},{"$f":"IF(OR(AO525=\"\",AO532=\"\",AO534=\"\"),\"\",AO525+AO532+AO534)","v":0},{"$f":"IF(OR(AP525=\"\",AP532=\"\",AP534=\"\"),\"\",AP525+AP532+AP534)","v":0},{"$f":"IF(OR(AQ525=\"\",AQ532=\"\",AQ534=\"\"),\"\",AQ525+AQ532+AQ534)","v":0},0,0,0,0,0,0,0,0,0,0,0,0,0,0,0,0,0,0,0,0,0,0,0,0]
[null,32,"Total non-kiln fuel consumption",null,"[TJ/yr]",null,{"$f":"IF(COUNTBLANK(G83:G86)=4,\"\",SUM(G83:G86))","v":0},0,0,0,0,0,0,0,0,0,0,0,0,0,0,0,0,0,0,0,0,0,0,0,0,0,0,0,0,0,0,{"$f":"IF(COUNTBLANK(AL83:AL86)=4,\"\",SUM(AL83:AL86))","v":0},{"$f":"IF(COUNTBLANK(AM83:AM86)=4,\"\",SUM(AM83:AM86))","v":0},{"$f":"IF(COUNTBLANK(AN83:AN86)=4,\"\",SUM(AN83:AN86))","v":0},{"$f":"IF(COUNTBLANK(AO83:AO86)=4,\"\",SUM(AO83:AO86))","v":0},{"$f":"IF(COUNTBLANK(AP83:AP86)=4,\"\",SUM(AP83:AP86))","v":0},{"$f":"IF(COUNTBLANK(AQ83:AQ86)=4,\"\",SUM(AQ83:AQ86))","v":0},0,0,0,0,0,0,0,0,0,0,0,0,0,0,0,0,0,0,0,0,0,0,0,0]
[]
[null,"Power Balance",null,null,null,null,{"$f":"G$7","v":1990},1991,1992,1993,1994,1995,1996,1997,1998,1999,2000,2001,2002,2003,2004,2005,2006,2007,2008,2009,2010,2011,2012,2013,2014,2015,2016,2017,2018,2019,2020,2021,2022,2023,2024,2025,2026,2027,2028,2029,2030,2031,2032,2033,2034,2035,2036,2037,2038,2039,2040,2041,2042,2043,2044,2045,2046,2047,2048,2049,2050]
[null,"33a","Total power production from separate on-site power generation",null,"[MWh/yr]",null,0,0,0,0,0,0,0,0,0,0,0,0,0,0,0,0,0,0,0,0,0,0,0,0,0,0,0,0,0,0,0,0,0,0,0,0,0,0,0,0,0,0,0,0,0,0,0,0,0,0,0,0,0,0,0,0,0,0,0,0,0]
[null,"33aa","       Power delivered to cement plant",null,"[MWh/yr]",null,0,0,0,0,0,0,0,0,0,0,0,0,0,0,0,0,0,0,0,0,0,0,0,0,0,0,0,0,0,0,0,0,0,0,0,0,0,0,0,0,0,0,0,0,0,0,0,0,0,0,0,0,0,0,0,0,0,0,0,0,0]
[null,"33ab","       Power delivered externally",null,"[MWh/yr]",null,0,0,0,0,0,0,0,0,0,0,0,0,0,0,0,0,0,0,0,0,0,0,0,0,0,0,0,0,0,0,0,0,0,0,0,0,0,0,0,0,0,0,0,0,0,0,0,0,0,0,0,0,0,0,0,0,0,0,0,0,0]
[null,"33ac","       Power consumed by on-site power generation equipment",null,"[MWh/yr]",null,{"$f":"IF(OR(G90=\"\",G91=\"\",G92=\"\"),\"\",G90-G91-G92)","v":0},0,0,0,0,0,0,0,0,0,0,0,0,0,0,0,0,0,0,0,0,0,0,0,0,0,0,0,0,0,0,{"$f":"IF(OR(AL90=\"\",AL91=\"\",AL92=\"\"),\"\",AL90-AL91-AL92)","v":0},{"$f":"IF(OR(AM90=\"\",AM91=\"\",AM92=\"\"),\"\",AM90-AM91-AM92)","v":0},{"$f":"IF(OR(AN90=\"\",AN91=\"\",AN92=\"\"),\"\",AN90-AN91-AN92)","v":0},{"$f":"IF(OR(AO90=\"\",AO91=\"\",AO92=\"\"),\"\",AO90-AO91-AO92)","v":0},{"$f":"IF(OR(AP90=\"\",AP91=\"\",AP92=\"\"),\"\",AP90-AP91-AP92)","v":0},{"$f":"IF(OR(AQ90=\"\",AQ91=\"\",AQ92=\"\"),\"\",AQ90-AQ91-AQ92)","v":0},0,0,0,0,0,0,0,0,0,0,0,0,0,0,0,0,0,0,0,0,0,0,0,0]
[null,"33ad","       CO2 per power unit produced by separate on-site power generation",null,"[kg CO2/MWh]",null,{"$f":"IF(G90=0,\"\",G155/G90*1000)","v":""},{"$f":"IF(H90=0,\"\",H155/H90*1000)","v":""},"","","","","","","","","","","","","","","","","","","","","","","","","","","","","",{"$f":"IF(AL90=0,\"\",AL155/AL90*1000)","v":""},{"$f":"IF(AM90=0,\"\",AM155/AM90*1000)","v":""},{"$f":"IF(AN90=0,\"\",AN155/AN90*1000)","v":""},{"$f":"IF(AO90=0,\"\",AO155/AO90*1000)","v":""},{"$f":"IF(AP90=0,\"\",AP155/AP90*1000)","v":""},{"$f":"IF(AQ90=0,\"\",AQ155/AQ90*1000)","v":""},"","","","","","","","","","","","","","","","","","","","","","","",""]
[null,"33b","Total power production from waste heat recovery",null,"[MWh/yr]",null,0,0,0,0,0,0,0,0,0,0,0,0,0,0,0,0,0,0,0,0,0,0,0,0,0,0,0,0,0,0,0,0,0,0,0,0,0,0,0,0,0,0,0,0,0,0,0,0,0,0,0,0,0,0,0,0,0,0,0,0,0]
[null,"33ba","       Power delivered to cement plant",null,"[MWh/yr]",null,0,0,0,0,0,0,0,0,0,0,0,0,0,0,0,0,0,0,0,0,0,0,0,0,0,0,0,0,0,0,0,0,0,0,0,0,0,0,0,0,0,0,0,0,0,0,0,0,0,0,0,0,0,0,0,0,0,0,0,0,0]
[null,"33bb","       Power delivered externally",null,"[MWh/yr]",null,0,0,0,0,0,0,0,0,0,0,0,0,0,0,0,0,0,0,0,0,0,0,0,0,0,0,0,0,0,0,0,0,0,0,0,0,0,0,0,0,0,0,0,0,0,0,0,0,0,0,0,0,0,0,0,0,0,0,0,0,0]
[null,"33bc","       Power consumed by waste heat recovery equipment",null,"[MWh/yr]",null,{"$f":"IF(OR(G95=\"\",G96=\"\",G97=\"\"),\"\",G95-G96-G97)","v":0},0,0,0,0,0,0,0,0,0,0,0,0,0,0,0,0,0,0,0,0,0,0,0,0,0,0,0,0,0,0,{"$f":"IF(OR(AL95=\"\",AL96=\"\",AL97=\"\"),\"\",AL95-AL96-AL97)","v":0},{"$f":"IF(OR(AM95=\"\",AM96=\"\",AM97=\"\"),\"\",AM95-AM96-AM97)","v":0},{"$f":"IF(OR(AN95=\"\",AN96=\"\",AN97=\"\"),\"\",AN95-AN96-AN97)","v":0},{"$f":"IF(OR(AO95=\"\",AO96=\"\",AO97=\"\"),\"\",AO95-AO96-AO97)","v":0},{"$f":"IF(OR(AP95=\"\",AP96=\"\",AP97=\"\"),\"\",AP95-AP96-AP97)","v":0},{"$f":"IF(OR(AQ95=\"\",AQ96=\"\",AQ97=\"\"),\"\",AQ95-AQ96-AQ97)","v":0},0,0,0,0,0,0,0,0,0,0,0,0,0,0,0,0,0,0,0,0,0,0,0,0]
[null,"33c","Total external power consumption for cement manufacturing",null,"[MWh/yr]",null,{"$f":"IF(COUNTBLANK(G100:G102)=3,\"\",SUM(G100:G102))","v":0},{"$f":"IF(COUNTBLANK(H100:H102)=3,\"\",SUM(H100:H102))","v":0},0,0,0,0,0,0,0,0,0,0,0,0,0,0,0,0,0,0,0,0,0,0,0,0,0,0,0,0,0,{"$f":"IF(COUNTBLANK(AL100:AL102)=3,\"\",SUM(AL100:AL102))","v":0},{"$f":"IF(COUNTBLANK(AM100:AM102)=3,\"\",SUM(AM100:AM102))","v":0},{"$f":"IF(COUNTBLANK(AN100:AN102)=3,\"\",SUM(AN100:AN102))","v":0},{"$f":"IF(COUNTBLANK(AO100:AO102)=3,\"\",SUM(AO100:AO102))","v":0},{"$f":"IF(COUNTBLANK(AP100:AP102)=3,\"\",SUM(AP100:AP102))","v":0},{"$f":"IF(COUNTBLANK(AQ100:AQ102)=3,\"\",SUM(AQ100:AQ102))","v":0},0,0,0,0,0,0,0,0,0,0,0,0,0,0,0,0,0,0,0,0,0,0,0,0]
[null,"33ca","      External power delivered to cement plant",null,"[MWh/yr]"]
[null,"33cb","      Cement-related external power delivered to on-site power generation plant",null,"[MWh/yr]",null,0,0,0,0,0,0,0,0,0,0,0,0,0,0,0,0,0,0,0,0,0,0,0,0,0,0,0,0,0,0,0,0,0,0,0,0,0,0,0,0,0,0,0,0,0,0,0,0,0,0,0,0,0,0,0,0,0,0,0,0,0]
[null,"33cc","      Cement-related external power delivered to waste heat recovery plant",null,"[MWh/yr]",null,0,0,0,0,0,0,0,0,0,0,0,0,0,0,0,0,0,0,0,0,0,0,0,0,0,0,0,0,0,0,0,0,0,0,0,0,0,0,0,0,0,0,0,0,0,0,0,0,0,0,0,0,0,0,0,0,0,0,0,0,0]
[null,"33d","      CO2 per power unit produced externally",null,"[kg CO2/MWh]"]
[null,"33e","Power consumption up to and including clinker production",null,"[MWh/yr]"]
[null,33,"Total cement plant power consumption",null,"[MWh/yr]",null,{"$f":"IF(AND(G91=0,G96=0,G100=\"\"),\"\",G91+G96+G100)","v":""},{"$f":"IF(AND(H91=0,H96=0,H100=\"\"),\"\",H91+H96+H100)","v":""},"","","","","","","","","","","","","","","","","","","","","","","","","","","","","","","","","","",{"$f":"IF(AND(AQ91=0,AQ96=0,AQ100=\"\"),\"\",AQ91+AQ96+AQ100)","v":""},"","","","","","","","","","","","","","","","","","","","","","","",""]
[]
[null,"Waste Heat Use",null,null,null,null,{"$f":"G$7","v":1990},1991,1992,1993,1994,1995,1996,1997,1998,1999,2000,2001,2002,2003,2004,2005,2006,2007,2008,2009,2010,2011,2012,2013,2014,2015,2016,2017,2018,2019,2020,2021,2022,2023,2024,2025,2026,2027,2028,2029,2030,2031,2032,2033,2034,2035,2036,2037,2038,2039,2040,2041,2042,2043,2044,2045,2046,2047,2048,2049,2050]
[null,34,"Waste heat supplied to external consumers",null,"[GJ/yr]",null,0,0,0,0,0,0,0,0,0,0,0,0,0,0,0,0,0,0,0,0,0,0,0,0,0,0,0,0,0,0,0,0,0,0,0,0,0,0,0,0,0,0,0,0,0,0,0,0,0,0,0,0,0,0,0,0,0,0,0,0,0]
[null,"34a","Waste heat used internally (incl. power generation)",null,"[GJ/yr]"]
[]
["CO2 EMISSIONS "]
[]
[null,"Calculation method in calcination sheet",null,null,null,null,{"$f":"G$7","v":1990},1991,1992,1993,1994,1995,1996,1997,1998,1999,2000,2001,2002,2003,2004,2005,2006,2007,2008,2009,2010,2011,2012,2013,2014,2015,2016,2017,2018,2019,2020,2021,2022,2023,2024,2025,2026,2027,2028,2029,2030,2031,2032,2033,2034,2035,2036,2037,2038,2039,2040,2041,2042,2043,2044,2045,2046,2047,2048,2049,2050]
[null,"34d","Calculation method in calcination sheet",null,"A1; A2; B1; B2",null,{"$f":"IF(G34=\"\",\"\",G34)","v":"B1"},"B1","B1","B1","B1","B1","B1","B1","B1","B1","B1","B1","B1","B1","B1","B1","B1","B1","B1","B1","B1","B1","B1","B1","B1","B1",{"$f":"IF(AG34=\"\",\"\",AG34)","v":"B1"},"B1","B1","B1","B1","B1","B1","B1","B1","B1",{"$f":"IF(AQ34=\"\",\"\",AQ34)","v":"B1"},"B1","B1","B1","B1","B1","B1","B1","B1","B1","B1","B1","B1","B1","B1","B1","B1","B1","B1","B1","B1","B1","B1","B1","B1"]
[]
[null,"Data for Simple Input Method (A1)",null,null,null,null,{"$f":"G$7","v":1990},1991,1992,1993,1994,1995,1996,1997,1998,1999,2000,2001,2002,2003,2004,2005,2006,2007,2008,2009,2010,2011,2012,2013,2014,2015,2016,2017,2018,2019,2020,2021,2022,2023,2024,2025,2026,2027,2028,2029,2030,2031,2032,2033,2034,2035,2036,2037,2038,2039,2040,2041,2042,2043,2044,2045,2046,2047,2048,2049,2050]
[null,"34e","Input CalcA1: Raw meal consumption (Line 525)",null,"[t/yr, dry weight]"]
[null,"34f","Input CalcA1: Total CO2 from raw materials (Line 526)",null,"[t CO2/yr]"]
[]
[null,"Data for Detailed Input Method (A2)",null,null,null,null,{"$f":"G$7","v":1990},1991,1992,1993,1994,1995,1996,1997,1998,1999,2000,2001,2002,2003,2004,2005,2006,2007,2008,2009,2010,2011,2012,2013,2014,2015,2016,2017,2018,2019,2020,2021,2022,2023,2024,2025,2026,2027,2028,2029,2030,2031,2032,2033,2034,2035,2036,2037,2038,2039,2040,2041,2042,2043,2044,2045,2046,2047,2048,2049,2050]
[null,"34i","Input CalcA2: Raw meal consumption (Line 681)",null,"[t/yr, dry weight]"]
[null,"34j","Input CalcA2: Total CO2 from raw materials (Line 682)",null,"[t CO2/yr]"]
[]
[null,"Data for Simple Output Method (B1)",null,null,null,null,{"$f":"G$7","v":1990},1991,1992,1993,1994,1995,1996,1997,1998,1999,2000,2001,2002,2003,2004,2005,2006,2007,2008,2009,2010,2011,2012,2013,2014,2015,2016,2017,2018,2019,2020,2021,2022,2023,2024,2025,2026,2027,2028,2029,2030,2031,2032,2033,2034,2035,2036,2037,2038,2039,2040,2041,2042,2043,2044,2045,2046,2047,2048,2049,2050]
[null,"34m","Standard calcination emission factor [default 525 kg CO2/t clinker]",null,"[kg CO2/t cli]",null,525,525,525,525,525,525,525,525,525,525,525,525,525,525,525,525,525,525,525,525,525,525,525,525,525,525,525,525,525,525,525,525,525,525,525,525,525,525,525,525,525,525,525,525,525,525,525,525,525,525,525,525,525,525,525,525,525,525,525,525,525]
[null,"34n","Organic carbon content of raw meal (average), default value 0.2%, or set plant specific value",null,"[%, dry weight]",null,2E-3,2E-3,2E-3,2E-3,2E-3,2E-3,2E-3,2E-3,2E-3,2E-3,2E-3,2E-3,2E-3,2E-3,2E-3,2E-3,2E-3,2E-3,2E-3,2E-3,2E-3,2E-3,2E-3,2E-3,2E-3,2E-3,2E-3,2E-3,2E-3,2E-3,2E-3,2E-3,2E-3,2E-3,2E-3,2E-3,2E-3,2E-3,2E-3,2E-3,2E-3,2E-3,2E-3,2E-3,2E-3,2E-3,2E-3,2E-3,2E-3,2E-3,2E-3,2E-3,2E-3,2E-3,2E-3,2E-3,2E-3,2E-3,2E-3,2E-3,2E-3]
[null,"34o","Raw meal : clinker ratio, default value 1.55, or set plant specific value",null,"[--, dry weight]",null,1.55,1.55,1.55,1.55,1.55,1.55,1.55,1.55,1.55,1.55,1.55,1.55,1.55,1.55,1.55,1.55,1.55,1.55,1.55,1.55,1.55,1.55,1.55,1.55,1.55,1.55,1.55,1.55,1.55,1.55,1.55,1.55,1.55,1.55,1.55,1.55,1.55,1.55,1.55,1.55,1.55,1.55,1.55,1.55,1.55,1.55,1.55,1.55,1.55,1.55,1.55,1.55,1.55,1.55,1.55,1.55,1.55,1.55,1.55,1.55,1.55]
[]
[null,"Data for Detailed Output Method (B2)",null,null,null,null,{"$f":"G$7","v":1990},1991,1992,1993,1994,1995,1996,1997,1998,1999,2000,2001,2002,2003,2004,2005,2006,2007,2008,2009,2010,2011,2012,2013,2014,2015,2016,2017,2018,2019,2020,2021,2022,2023,2024,2025,2026,2027,2028,2029,2030,2031,2032,2033,2034,2035,2036,2037,2038,2039,2040,2041,2042,2043,2044,2045,2046,2047,2048,2049,2050]
[null,"34q","Input CalcB2: Calcination emission factor corrected for CaO,MgO, Ca-Si, Mg-Si imports (Line 820)",null,"[kg CO2/t cli]"]
[null,"34r","Organic carbon content of raw meal (average), default value 0.2%, or set plant specific value",null,"[%, dry weight]",null,2E-3,2E-3,2E-3,2E-3,2E-3,2E-3,2E-3,2E-3,2E-3,2E-3,2E-3,2E-3,2E-3,2E-3,2E-3,2E-3,2E-3,2E-3,2E-3,2E-3,2E-3,2E-3,2E-3,2E-3,2E-3,2E-3,2E-3,2E-3,2E-3,2E-3,2E-3,2E-3,2E-3,2E-3,2E-3,2E-3,2E-3,2E-3,2E-3,2E-3,2E-3,2E-3,2E-3,2E-3,2E-3,2E-3,2E-3,2E-3,2E-3,2E-3,2E-3,2E-3,2E-3,2E-3,2E-3,2E-3,2E-3,2E-3,2E-3,2E-3,2E-3]
[null,"34s","Raw meal : clinker ratio, default value 1.55, or set plant specific value",null,"[--, dry weight]",null,1.55,1.55,1.55,1.55,1.55,1.55,1.55,1.55,1.55,1.55,1.55,1.55,1.55,1.55,1.55,1.55,1.55,1.55,1.55,1.55,1.55,1.55,1.55,1.55,1.55,1.55,1.55,1.55,1.55,1.55,1.55,1.55,1.55,1.55,1.55,1.55,1.55,1.55,1.55,1.55,1.55,1.55,1.55,1.55,1.55,1.55,1.55,1.55,1.55,1.55,1.55,1.55,1.55,1.55,1.55,1.55,1.55,1.55,1.55,1.55,1.55]
[]
["Direct CO2 Emissions"]
[null,"CO2 from Raw Materials",null,null,null,null,{"$f":"G$7","v":1990},1991,1992,1993,1994,1995,1996,1997,1998,1999,2000,2001,2002,2003,2004,2005,2006,2007,2008,2009,2010,2011,2012,2013,2014,2015,2016,2017,2018,2019,2020,2021,2022,2023,2024,2025,2026,2027,2028,2029,2030,2031,2032,2033,2034,2035,2036,2037,2038,2039,2040,2041,2042,2043,2044,2045,2046,2047,2048,2049,2050]
[null,"35a","Calcination emission factor, corrected for CaO- and MgO imports",null,"[kg CO2/t cli]",null,{"$f":"IF(G114=\"B2\",G130,IF(G114=\"B1\",G125,\"n. appl.\"))","v":525},{"$f":"IF(H114=\"B2\",H130,IF(H114=\"B1\",H125,\"n. appl.\"))","v":525},525,525,525,525,525,525,525,525,525,525,525,525,525,525,525,525,525,525,525,525,525,525,525,525,{"$f":"IF(AG114=\"B2\",AG130,IF(AG114=\"B1\",AG125,\"n. appl.\"))","v":525},525,525,525,525,525,525,525,525,525,{"$f":"IF(AQ114=\"B2\",AQ130,IF(AQ114=\"B1\",AQ125,\"n. appl.\"))","v":525},525,525,525,525,525,525,525,525,525,525,525,525,525,525,525,525,525,525,525,525,525,525,525,525]
[null,"35b","Organic carbon content of raw meal (average)",null,"[%, dry weight]",null,{"$f":"IF(G114=\"B1\",G126,IF(G114=\"B2\",G131,\"n. appl.\"))","v":2E-3},{"$f":"IF(H114=\"B1\",H126,IF(H114=\"B2\",H131,\"n. appl.\"))","v":2E-3},2E-3,2E-3,2E-3,2E-3,2E-3,2E-3,2E-3,2E-3,2E-3,2E-3,2E-3,2E-3,2E-3,2E-3,2E-3,2E-3,2E-3,2E-3,2E-3,2E-3,2E-3,2E-3,2E-3,2E-3,{"$f":"IF(AG114=\"B1\",AG126,IF(AG114=\"B2\",AG131,\"n. appl.\"))","v":2E-3},2E-3,2E-3,2E-3,2E-3,2E-3,2E-3,2E-3,2E-3,2E-3,{"$f":"IF(AQ114=\"B1\",AQ126,IF(AQ114=\"B2\",AQ131,\"n. appl.\"))","v":2E-3},2E-3,2E-3,2E-3,2E-3,2E-3,2E-3,2E-3,2E-3,2E-3,2E-3,2E-3,2E-3,2E-3,2E-3,2E-3,2E-3,2E-3,2E-3,2E-3,2E-3,2E-3,2E-3,2E-3,2E-3]
[null,"35c","Raw meal : clinker ratio",null,"[--, dry weight]",null,{"$f":"IF(G114=\"B1\",G127,IF(G114=\"B2\",G132,\"n. appl.\"))","v":1.55},{"$f":"IF(H114=\"B1\",H127,IF(H114=\"B2\",H132,\"n. appl.\"))","v":1.55},1.55,1.55,1.55,1.55,1.55,1.55,1.55,1.55,1.55,1.55,1.55,1.55,1.55,1.55,1.55,1.55,1.55,1.55,1.55,1.55,1.55,1.55,1.55,1.55,{"$f":"IF(AG114=\"B1\",AG127,IF(AG114=\"B2\",AG132,\"n. appl.\"))","v":1.55},1.55,1.55,1.55,1.55,1.55,1.55,1.55,1.55,1.55,{"$f":"IF(AQ114=\"B1\",AQ127,IF(AQ114=\"B2\",AQ132,\"n. appl.\"))","v":1.55},1.55,1.55,1.55,1.55,1.55,1.55,1.55,1.55,1.55,1.55,1.55,1.55,1.55,1.55,1.55,1.55,1.55,1.55,1.55,1.55,1.55,1.55,1.55,1.55]
[null,"35d","Raw meal consumption",null,"[t/yr, dry weight]",null,{"$f":"IF(G114=\"A1\",G117,IF(G114=\"A2\",G121,IF(G40=\"\",\"\",G40*G138)))","v":""},"","","","","","","","","","","","","","","","","","","","","","","","","","","","","","",{"$f":"IF(AL114=\"A1\",AL117,IF(AL114=\"A2\",AL121,IF(AL40=\"\",\"\",AL40*AL138)))","v":""},{"$f":"IF(AM114=\"A1\",AM117,IF(AM114=\"A2\",AM121,IF(AM40=\"\",\"\",AM40*AM138)))","v":""},{"$f":"IF(AN114=\"A1\",AN117,IF(AN114=\"A2\",AN121,IF(AN40=\"\",\"\",AN40*AN138)))","v":""},{"$f":"IF(AO114=\"A1\",AO117,IF(AO114=\"A2\",AO121,IF(AO40=\"\",\"\",AO40*AO138)))","v":""},{"$f":"IF(AP114=\"A1\",AP117,IF(AP114=\"A2\",AP121,IF(AP40=\"\",\"\",AP40*AP138)))","v":""},{"$f":"IF(AQ114=\"A1\",AQ117,IF(AQ114=\"A2\",AQ121,IF(AQ40=\"\",\"\",AQ40*AQ138)))","v":""},"","","","","","","","","","","","","","","","","","","","","","","",""]
[null,36,"CO2 from calcination of raw materials consumed for clinker production",null,"[t CO2/yr]",null,{"$f":"IF(OR(G114=\"A1\",G114=\"A2\"),\"n. appl.\",IF(G40=\"\",\"\",G$136/1000*G40))","v":""},"","","","","","","","","","","","","","","","","","","","","","","","","","","","","","",{"$f":"IF(OR(AL114=\"A1\",AL114=\"A2\"),\"n. appl.\",IF(AL40=\"\",\"\",AL$136/1000*AL40))","v":""},{"$f":"IF(OR(AM114=\"A1\",AM114=\"A2\"),\"n. appl.\",IF(AM40=\"\",\"\",AM$136/1000*AM40))","v":""},{"$f":"IF(OR(AN114=\"A1\",AN114=\"A2\"),\"n. appl.\",IF(AN40=\"\",\"\",AN$136/1000*AN40))","v":""},{"$f":"IF(OR(AO114=\"A1\",AO114=\"A2\"),\"n. appl.\",IF(AO40=\"\",\"\",AO$136/1000*AO40))","v":""},{"$f":"IF(OR(AP114=\"A1\",AP114=\"A2\"),\"n. appl.\",IF(AP40=\"\",\"\",AP$136/1000*AP40))","v":""},{"$f":"IF(OR(AQ114=\"A1\",AQ114=\"A2\"),\"n. appl.\",IF(AQ40=\"\",\"\",AQ$136/1000*AQ40))","v":""},"","","","","","","","","","","","","","","","","","","","","","","",""]
[null,{"$f":"B140+1","v":37},"CO2 from calcination of bypass dust leaving the kiln system",null,"[t CO2/yr]",null,{"$f":"IF(OR(G114=\"A1\",G114=\"A2\"),\"n. appl.\",IF(G71=\"\",\"\",G$136/1000*G71))","v":0},{"$f":"IF(OR(H114=\"A1\",H114=\"A2\"),\"n. appl.\",IF(H71=\"\",\"\",H$136/1000*H71))","v":0},0,0,0,0,0,0,0,0,0,0,0,0,0,0,0,0,0,0,0,0,0,0,0,0,{"$f":"IF(OR(AG114=\"A1\",AG114=\"A2\"),\"n. appl.\",IF(AG71=\"\",\"\",AG$136/1000*AG71))","v":0},0,0,0,0,0,0,0,0,0,{"$f":"IF(OR(AQ114=\"A1\",AQ114=\"A2\"),\"n. appl.\",IF(AQ71=\"\",\"\",AQ$136/1000*AQ71))","v":0},0,0,0,0,0,0,0,0,0,0,0,0,0,0,0,0,0,0,0,0,0,0,0,0]
[null,"38a","CO2 from calcination of CKD leaving the kiln system",null,"[t CO2/yr]",null,{"$f":"IF(OR(G114=\"A1\",G114=\"A2\"),\"n. appl.\",IF(G72=\"\",\"\",G72*G136/1000/(1+G136/1000)*G73/(1-G136/1000/(1+G136/1000)*G73)))","v":0},{"$f":"IF(OR(H114=\"A1\",H114=\"A2\"),\"n. appl.\",IF(H72=\"\",\"\",H72*H136/1000/(1+H136/1000)*H73/(1-H136/1000/(1+H136/1000)*H73)))","v":0},0,0,0,0,0,0,0,0,0,0,0,0,0,0,0,0,0,0,0,0,0,0,0,0,{"$f":"IF(OR(AG114=\"A1\",AG114=\"A2\"),\"n. appl.\",IF(AG72=\"\",\"\",AG72*AG136/1000/(1+AG136/1000)*AG73/(1-AG136/1000/(1+AG136/1000)*AG73)))","v":0},0,0,0,0,0,0,0,0,0,{"$f":"IF(OR(AQ114=\"A1\",AQ114=\"A2\"),\"n. appl.\",IF(AQ72=\"\",\"\",AQ72*AQ136/1000/(1+AQ136/1000)*AQ73/(1-AQ136/1000/(1+AQ136/1000)*AQ73)))","v":0},0,0,0,0,0,0,0,0,0,0,0,0,0,0,0,0,0,0,0,0,0,0,0,0]
[null,"38b","CO2 from organic carbon content of raw meal",null,"[t CO2/yr]",null,{"$f":"IF(OR(G114=\"A1\",G114=\"A2\"),\"n. appl.\",IF(G139=\"\",\"\",G137*G139*3.664))","v":""},{"$f":"IF(OR(H114=\"A1\",H114=\"A2\"),\"n. appl.\",IF(H139=\"\",\"\",H137*H139*3.664))","v":""},"","","","","","","","","","","","","","","","","","","","","","","","",{"$f":"IF(OR(AG114=\"A1\",AG114=\"A2\"),\"n. appl.\",IF(AG139=\"\",\"\",AG137*AG139*3.664))","v":""},"","","","","","","","","",{"$f":"IF(OR(AQ114=\"A1\",AQ114=\"A2\"),\"n. appl.\",IF(AQ139=\"\",\"\",AQ137*AQ139*3.664))","v":""},"","","","","","","","","","","","","","","","","","","","","","","",""]
[null,39,"Total CO2 from raw materials",null,"[t CO2/yr]",null,{"$f":"IF(G114=\"A1\",G118,IF(G114=\"A2\",G122,SUM(G140:G143)))","v":0},{"$f":"IF(H114=\"A1\",H118,IF(H114=\"A2\",H122,SUM(H140:H143)))","v":0},0,0,0,0,0,0,0,0,0,0,0,0,0,0,0,0,0,0,0,0,0,0,0,0,0,0,0,0,0,{"$f":"IF(AL114=\"A1\",AL118,IF(AL114=\"A2\",AL122,SUM(AL140:AL143)))","v":0},{"$f":"IF(AM114=\"A1\",AM118,IF(AM114=\"A2\",AM122,SUM(AM140:AM143)))","v":0},{"$f":"IF(AN114=\"A1\",AN118,IF(AN114=\"A2\",AN122,SUM(AN140:AN143)))","v":0},{"$f":"IF(AO114=\"A1\",AO118,IF(AO114=\"A2\",AO122,SUM(AO140:AO143)))","v":0},{"$f":"IF(AP114=\"A1\",AP118,IF(AP114=\"A2\",AP122,SUM(AP140:AP143)))","v":0},{"$f":"IF(AQ114=\"A1\",AQ118,IF(AQ114=\"A2\",AQ122,SUM(AQ140:AQ143)))","v":0},0,0,0,0,0,0,0,0,0,0,0,0,0,0,0,0,0,0,0,0,0,0,0,0]
[]
[null,"CO2 from Kiln Fuels (incl. drying of fuels and raw materials)",null,null,null,null,{"$f":"G$7","v":1990},1991,1992,1993,1994,1995,1996,1997,1998,1999,2000,2001,2002,2003,2004,2005,2006,2007,2008,2009,2010,2011,2012,2013,2014,2015,2016,2017,2018,2019,2020,2021,2022,2023,2024,2025,2026,2027,2028,2029,2030,2031,2032,2033,2034,2035,2036,2037,2038,2039,2040,2041,2042,2043,2044,2045,2046,2047,2048,2049,2050]
[null,{"$f":"B144+1","v":40},"CO2 from conventional fossil fuels",null,"[t CO2/yr]",null,{"$f":"IF(OR(G388=\"\",G415=\"\"),\"\",G388+G415)","v":0},{"$f":"IF(OR(H388=\"\",H415=\"\"),\"\",H388+H415)","v":0},0,0,0,0,0,0,0,0,0,0,0,0,0,0,0,0,0,0,0,0,0,0,0,0,{"$f":"IF(OR(AG388=\"\",AG415=\"\"),\"\",AG388+AG415)","v":0},0,0,0,0,0,0,0,0,0,{"$f":"IF(OR(AQ388=\"\",AQ415=\"\"),\"\",AQ388+AQ415)","v":0},0,0,0,0,0,0,0,0,0,0,0,0,0,0,0,0,0,0,0,0,0,0,0,0]
[null,{"$f":"B147+1","v":41},"CO2 from alternative fossil fuels",null,"[t CO2/yr]",null,{"$f":"IF(OR(G396=\"\",G422=\"\"),\"\",G396+G422)","v":0},{"$f":"IF(OR(H396=\"\",H422=\"\"),\"\",H396+H422)","v":0},0,0,0,0,0,0,0,0,0,0,0,0,0,0,0,0,0,0,0,0,0,0,0,0,{"$f":"IF(OR(AG396=\"\",AG422=\"\"),\"\",AG396+AG422)","v":0},0,0,0,0,0,0,0,0,0,{"$f":"IF(OR(AQ396=\"\",AQ422=\"\"),\"\",AQ396+AQ422)","v":0},0,0,0,0,0,0,0,0,0,0,0,0,0,0,0,0,0,0,0,0,0,0,0,0]
[null,43,"Total CO2 from fossil-based kiln fuels",null,"[t CO2/yr]",null,{"$f":"IF(COUNTBLANK(G147:G148)=2,\"\",SUM(G147:G148))","v":0},0,0,0,0,0,0,0,0,0,0,0,0,0,0,0,0,0,0,0,0,0,0,0,0,0,{"$f":"IF(COUNTBLANK(AG147:AG148)=2,\"\",SUM(AG147:AG148))","v":0},0,0,0,0,0,0,0,0,0,{"$f":"IF(COUNTBLANK(AQ147:AQ148)=2,\"\",SUM(AQ147:AQ148))","v":0},0,0,0,0,0,0,0,0,0,0,0,0,0,0,0,0,0,0,0,0,0,0,0,0]
[]
[null,"CO2 from Non-Kiln Fuels",null,null,null,null,{"$f":"G$7","v":1990},1991,1992,1993,1994,1995,1996,1997,1998,1999,2000,2001,2002,2003,2004,2005,2006,2007,2008,2009,2010,2011,2012,2013,2014,2015,2016,2017,2018,2019,2020,2021,2022,2023,2024,2025,2026,2027,2028,2029,2030,2031,2032,2033,2034,2035,2036,2037,2038,2039,2040,2041,2042,2043,2044,2045,2046,2047,2048,2049,2050]
[null,44,"CO2 from equipment and on-site vehicles (fossil fuels)",null,"[t CO2/yr]",null,{"$f":"G538","v":0},{"$f":"H538","v":0},0,0,0,0,0,0,0,0,0,0,0,0,0,0,0,0,0,0,0,0,0,0,0,0,{"$f":"AG538","v":0},0,0,0,0,0,0,0,0,0,{"$f":"AQ538","v":0},0,0,0,0,0,0,0,0,0,0,0,0,0,0,0,0,0,0,0,0,0,0,0,0]
[null,"45a","CO2 from room heating and cooling (fossil fuels)",null,"[t CO2/yr]",null,{"$f":"G544","v":0},{"$f":"H544","v":0},0,0,0,0,0,0,0,0,0,0,0,0,0,0,0,0,0,0,0,0,0,0,0,0,{"$f":"AG544","v":0},0,0,0,0,0,0,0,0,0,{"$f":"AQ544","v":0},0,0,0,0,0,0,0,0,0,0,0,0,0,0,0,0,0,0,0,0,0,0,0,0]
[null,"45b","CO2 from drying of mineral components (fossil fuels)",null,"[t CO2/yr]",null,{"$f":"IF(OR(G549=\"\",G556=\"\"),\"\",G549+G556)","v":0},{"$f":"IF(OR(H549=\"\",H556=\"\"),\"\",H549+H556)","v":0},0,0,0,0,0,0,0,0,0,0,0,0,0,0,0,0,0,0,0,0,0,0,0,0,{"$f":"IF(OR(AG549=\"\",AG556=\"\"),\"\",AG549+AG556)","v":0},0,0,0,0,0,0,0,0,0,{"$f":"IF(OR(AQ549=\"\",AQ556=\"\"),\"\",AQ549+AQ556)","v":0},0,0,0,0,0,0,0,0,0,0,0,0,0,0,0,0,0,0,0,0,0,0,0,0]
[null,"45c","CO2 from seperate on-site power generation (fossil fuels)",null,"[t CO2/yr]",null,{"$f":"IF(OR(G561=\"\",G568=\"\"),\"\",G561+G568)","v":0},{"$f":"IF(OR(H561=\"\",H568=\"\"),\"\",H561+H568)","v":0},0,0,0,0,0,0,0,0,0,0,0,0,0,0,0,0,0,0,0,0,0,0,0,0,{"$f":"IF(OR(AG561=\"\",AG568=\"\"),\"\",AG561+AG568)","v":0},0,0,0,0,0,0,0,0,0,{"$f":"IF(OR(AQ561=\"\",AQ568=\"\"),\"\",AQ561+AQ568)","v":0},0,0,0,0,0,0,0,0,0,0,0,0,0,0,0,0,0,0,0,0,0,0,0,0]
[null,46,"Total CO2 from non-kiln fossil fuels",null,"[t CO2/yr]",null,{"$f":"IF(COUNTBLANK(G152:G155)=4,\"\",SUM(G152:G155))","v":0},0,0,0,0,0,0,0,0,0,0,0,0,0,0,0,0,0,0,0,0,0,0,0,0,0,{"$f":"IF(COUNTBLANK(AG152:AG155)=4,\"\",SUM(AG152:AG155))","v":0},0,0,0,0,0,0,0,0,0,{"$f":"IF(COUNTBLANK(AQ152:AQ155)=4,\"\",SUM(AQ152:AQ155))","v":0},0,0,0,0,0,0,0,0,0,0,0,0,0,0,0,0,0,0,0,0,0,0,0,0]
[]
[null,"Total Direct CO2 Emissions ",null,null,null,null,{"$f":"G$7","v":1990},1991,1992,1993,1994,1995,1996,1997,1998,1999,2000,2001,2002,2003,2004,2005,2006,2007,2008,2009,2010,2011,2012,2013,2014,2015,2016,2017,2018,2019,2020,2021,2022,2023,2024,2025,2026,2027,2028,2029,2030,2031,2032,2033,2034,2035,2036,2037,2038,2039,2040,2041,2042,2043,2044,2045,2046,2047,2048,2049,2050]
[null,48,"Total direct CO2: all fossil CO2 sources",null,"[t CO2/yr]",null,{"$f":"IF(OR(G144=\"\",G149=\"\",G156=\"\"),\"\",G144+G149+G156)","v":0},0,0,0,0,0,0,0,0,0,0,0,0,0,0,0,0,0,0,0,0,0,0,0,0,0,{"$f":"IF(OR(AG144=\"\",AG149=\"\",AG156=\"\"),\"\",AG144+AG149+AG156)","v":0},0,0,0,0,0,0,0,0,0,{"$f":"IF(OR(AQ144=\"\",AQ149=\"\",AQ156=\"\"),\"\",AQ144+AQ149+AQ156)","v":0},0,0,0,0,0,0,0,0,0,0,0,0,0,0,0,0,0,0,0,0,0,0,0,0]
[]
["Indirect CO2 Emissions (Main Sources)",null,null,null,null,null,{"$f":"G$7","v":1990},1991,1992,1993,1994,1995,1996,1997,1998,1999,2000,2001,2002,2003,2004,2005,2006,2007,2008,2009,2010,2011,2012,2013,2014,2015,2016,2017,2018,2019,2020,2021,2022,2023,2024,2025,2026,2027,2028,2029,2030,2031,2032,2033,2034,2035,2036,2037,2038,2039,2040,2041,2042,2043,2044,2045,2046,2047,2048,2049,2050]
[null,"49a","CO2 from external power generation",null,"[t CO2/yr]",null,{"$f":"IF(G99=0,\"\",G99*G103/1000)","v":""},{"$f":"IF(H99=0,\"\",H99*H103/1000)","v":""},"","","","","","","","","","","","","","","","","","","","","","","","","","","","","","","","","","",{"$f":"IF(AQ99=0,\"\",AQ99*AQ103/1000)","v":""},"","","","","","","","","","","","","","","","","","","","","","","",""]
[null,"49b","Emission factor for inbound clinker",null,"[kg CO2/t cli]",null,865,865,865,865,865,865,865,865,865,865,865,865,865,865,865,865,865,865,865,865,865,865,865,865,865,865,865,865,865,865,865,865,865,865,865,865,865,865,865,865,865,865,865,865,865,865,865,865,865,865,865,865,865,865,865,865,865,865,865,865,865]
[null,"49c","CO2 from net inbound (+) / outbound (-) clinker",null,"[t CO2/yr]",null,{"$f":"IF(OR(G41=\"\",G44=\"\",G45=\"\",G42=\"\"),\"\",IF(G184<>\"n. appl.\",(((G41+G44+G45)*G163)-(G42*G184))/1000,(G41+G44+G45)*G163/1000))","v":""},"","","","","","","","","","","","","","","","","","","","","","","","","","","","","","",{"$f":"IF(OR(AL41=\"\",AL44=\"\",AL45=\"\",AL42=\"\"),\"\",IF(AL184<>\"n. appl.\",(((AL41+AL44+AL45)*AL163)-(AL42*AL184))/1000,(AL41+AL44+AL45)*AL163/1000))","v":""},{"$f":"IF(OR(AM41=\"\",AM44=\"\",AM45=\"\",AM42=\"\"),\"\",IF(AM184<>\"n. appl.\",(((AM41+AM44+AM45)*AM163)-(AM42*AM184))/1000,(AM41+AM44+AM45)*AM163/1000))","v":""},{"$f":"IF(OR(AN41=\"\",AN44=\"\",AN45=\"\",AN42=\"\"),\"\",IF(AN184<>\"n. appl.\",(((AN41+AN44+AN45)*AN163)-(AN42*AN184))/1000,(AN41+AN44+AN45)*AN163/1000))","v":""},{"$f":"IF(OR(AO41=\"\",AO44=\"\",AO45=\"\",AO42=\"\"),\"\",IF(AO184<>\"n. appl.\",(((AO41+AO44+AO45)*AO163)-(AO42*AO184))/1000,(AO41+AO44+AO45)*AO163/1000))","v":""},{"$f":"IF(OR(AP41=\"\",AP44=\"\",AP45=\"\",AP42=\"\"),\"\",IF(AP184<>\"n. appl.\",(((AP41+AP44+AP45)*AP163)-(AP42*AP184))/1000,(AP41+AP44+AP45)*AP163/1000))","v":""},{"$f":"IF(OR(AQ41=\"\",AQ44=\"\",AQ45=\"\",AQ42=\"\"),\"\",IF(AQ184<>\"n. appl.\",(((AQ41+AQ44+AQ45)*AQ163)-(AQ42*AQ184))/1000,(AQ41+AQ44+AQ45)*AQ163/1000))","v":""},"","","","","","","","","","","","","","","","","","","","","","","",""]
[null,"49d","Total indirect CO2 (main sources)",null,"[t CO2/yr]",null,{"$f":"IF(OR(G162=\"\",G164=\"\"),\"\",G162+G164)","v":""},"","","","","","","","","","","","","","","","","","","","","","","","","",{"$f":"IF(OR(AG162=\"\",AG164=\"\"),\"\",AG162+AG164)","v":""},"","","","","","","","","",{"$f":"IF(OR(AQ162=\"\",AQ164=\"\"),\"\",AQ162+AQ164)","v":""},"","","","","","","","","","","","","","","","","","","","","","","",""]
[]
["Direct CO2 from Biomass (Memo Item)",null,null,null,null,null,{"$f":"G$7","v":1990},1991,1992,1993,1994,1995,1996,1997,1998,1999,2000,2001,2002,2003,2004,2005,2006,2007,2008,2009,2010,2011,2012,2013,2014,2015,2016,2017,2018,2019,2020,2021,2022,2023,2024,2025,2026,2027,2028,2029,2030,2031,2032,2033,2034,2035,2036,2037,2038,2039,2040,2041,2042,2043,2044,2045,2046,2047,2048,2049,2050]
[null,50,"CO2 from combustion of biomass (kiln and non-kiln fuels, incl. biomass content of mixed fuels)",null,"[t CO2/yr]",null,{"$f":"IF(OR(G404=\"\",G424=\"\",G542=\"\",G558=\"\",G570=\"\"),\"\",G404+G424+G542+G558+G570)","v":0},0,0,0,0,0,0,0,0,0,0,0,0,0,0,0,0,0,0,0,0,0,0,0,0,0,0,0,0,0,0,{"$f":"IF(OR(AL404=\"\",AL424=\"\",AL542=\"\",AL558=\"\",AL570=\"\"),\"\",AL404+AL424+AL542+AL558+AL570)","v":0},{"$f":"IF(OR(AM404=\"\",AM424=\"\",AM542=\"\",AM558=\"\",AM570=\"\"),\"\",AM404+AM424+AM542+AM558+AM570)","v":0},{"$f":"IF(OR(AN404=\"\",AN424=\"\",AN542=\"\",AN558=\"\",AN570=\"\"),\"\",AN404+AN424+AN542+AN558+AN570)","v":0},{"$f":"IF(OR(AO404=\"\",AO424=\"\",AO542=\"\",AO558=\"\",AO570=\"\"),\"\",AO404+AO424+AO542+AO558+AO570)","v":0},{"$f":"IF(OR(AP404=\"\",AP424=\"\",AP542=\"\",AP558=\"\",AP570=\"\"),\"\",AP404+AP424+AP542+AP558+AP570)","v":0},{"$f":"IF(OR(AQ404=\"\",AQ424=\"\",AQ542=\"\",AQ558=\"\",AQ570=\"\"),\"\",AQ404+AQ424+AQ542+AQ558+AQ570)","v":0},0,0,0,0,0,0,0,0,0,0,0,0,0,0,0,0,0,0,0,0,0,0,0,0]
[]
["PERFORMANCE INDICATORS"]
[]
[null,"Absolute Direct CO2 Emissions",null,null,null,null,{"$f":"G$7","v":1990},1991,1992,1993,1994,1995,1996,1997,1998,1999,2000,2001,2002,2003,2004,2005,2006,2007,2008,2009,2010,2011,2012,2013,2014,2015,2016,2017,2018,2019,2020,2021,{"$f":"AM$7","v":2022},2023,2024,2025,2026,2027,2028,2029,2030,2031,2032,2033,2034,2035,2036,{"$f":"BB$7","v":2037},2038,2039,2040,2041,2042,2043,2044,2045,2046,2047,2048,2049,2050]
[null,59,"Absolute gross CO2 including CO2 from on-site power generation",null,"[t CO2/yr]",null,{"$f":"IF(OR(G144=\"\",G149=\"\",G156=\"\"),\"\",G144+G149+G156)","v":0},0,0,0,0,0,0,0,0,0,0,0,0,0,0,0,0,0,0,0,0,0,0,0,0,0,0,0,0,0,0,{"$f":"IF(OR(AL144=\"\",AL149=\"\",AL156=\"\"),\"\",AL144+AL149+AL156)","v":0},{"$f":"IF(OR(AM144=\"\",AM149=\"\",AM156=\"\"),\"\",AM144+AM149+AM156)","v":0},{"$f":"IF(OR(AN144=\"\",AN149=\"\",AN156=\"\"),\"\",AN144+AN149+AN156)","v":0},{"$f":"IF(OR(AO144=\"\",AO149=\"\",AO156=\"\"),\"\",AO144+AO149+AO156)","v":0},{"$f":"IF(OR(AP144=\"\",AP149=\"\",AP156=\"\"),\"\",AP144+AP149+AP156)","v":0},{"$f":"IF(OR(AQ144=\"\",AQ149=\"\",AQ156=\"\"),\"\",AQ144+AQ149+AQ156)","v":0},0,0,0,0,0,0,0,0,0,0,0,0,0,0,0,0,0,0,0,0,0,0,0,0]
[null,"Gross CO2 Emissions (=direct fossil CO2 excluding CO2 from on-site power generation)",null,null,null,null,1990,1991,1992,1993,1994,1995,1996,1997,1998,1999,2000,2001,2002,2003,2004,2005,2006,2007,2008,2009,2010,2011,2012,2013,2014,2015,2016,2017,2018,2019,2020,2021,2022,2023,2024,2025,2026,2027,2028,2029,2030,2031,2032,2033,2034,2035,2036,2037,2038,2039,2040,2041,2042,2043,2044,2045,2046,2047,2048,2049,2050]
[null,"59c","Absolute gross CO2",null,"[t CO2/yr]",null,{"$f":"IF(OR(G173=\"\",G155=\"\"),\"\",G173-G155)","v":0},0,0,0,0,0,0,0,0,0,0,0,0,0,0,0,0,0,0,0,0,0,0,0,0,0,0,0,0,0,0,{"$f":"IF(OR(AL173=\"\",AL155=\"\"),\"\",AL173-AL155)","v":0},{"$f":"IF(OR(AM173=\"\",AM155=\"\"),\"\",AM173-AM155)","v":0},{"$f":"IF(OR(AN173=\"\",AN155=\"\"),\"\",AN173-AN155)","v":0},{"$f":"IF(OR(AO173=\"\",AO155=\"\"),\"\",AO173-AO155)","v":0},{"$f":"IF(OR(AP173=\"\",AP155=\"\"),\"\",AP173-AP155)","v":0},{"$f":"IF(OR(AQ173=\"\",AQ155=\"\"),\"\",AQ173-AQ155)","v":0},0,0,0,0,0,0,0,0,0,0,0,0,0,0,0,0,0,0,0,0,0,0,0,0]
[null,"59a",null,"calcination component","[t CO2/yr]",null,{"$f":"G144","v":0},{"$f":"H144","v":0},0,0,0,0,0,0,0,0,0,0,0,0,0,0,0,0,0,0,0,0,0,0,0,0,{"$f":"AG144","v":0},0,0,0,0,0,0,0,0,0,{"$f":"AQ144","v":0},0,0,0,0,0,0,0,0,0,0,0,0,0,0,0,0,0,0,0,0,0,0,0,0]
[null,"59b",null,"fuel component","[t CO2/yr]",null,{"$f":"IF(OR(G149=\"\",G152=\"\",G153=\"\",G154=\"\"),\"\",G149+G152+G153+G154)","v":0},{"$f":"IF(OR(H149=\"\",H152=\"\",H153=\"\",H154=\"\"),\"\",H149+H152+H153+H154)","v":0},0,0,0,0,0,0,0,0,0,0,0,0,0,0,0,0,0,0,0,0,0,0,0,0,{"$f":"IF(OR(AG149=\"\",AG152=\"\",AG153=\"\",AG154=\"\"),\"\",AG149+AG152+AG153+AG154)","v":0},0,0,0,0,0,0,0,0,0,{"$f":"IF(OR(AQ149=\"\",AQ152=\"\",AQ153=\"\",AQ154=\"\"),\"\",AQ149+AQ152+AQ153+AQ154)","v":0},0,0,0,0,0,0,0,0,0,0,0,0,0,0,0,0,0,0,0,0,0,0,0,0]
[null,"Net CO2 Emissions (= gross CO2 minus alternative fossil fuels CO2; excluding CO2 from on-site power generation)",null,null,null,null,{"$f":"G$7","v":1990},1991,1992,1993,1994,1995,1996,1997,1998,1999,2000,2001,2002,2003,2004,2005,2006,2007,2008,2009,2010,2011,2012,2013,2014,2015,2016,2017,2018,2019,2020,2021,2022,2023,2024,2025,2026,2027,2028,2029,2030,2031,2032,2033,2034,2035,2036,2037,2038,2039,2040,2041,2042,2043,2044,2045,2046,2047,2048,2049,2050]
[null,71,"Absolute net CO2",null,"[t CO2/yr]",null,{"$f":"IF(OR(G175=\"\",G148=\"\"),\"\",G175-G148)","v":0},0,0,0,0,0,0,0,0,0,0,0,0,0,0,0,0,0,0,0,0,0,0,0,0,0,0,0,0,0,0,{"$f":"IF(OR(AL175=\"\",AL148=\"\"),\"\",AL175-AL148)","v":0},{"$f":"IF(OR(AM175=\"\",AM148=\"\"),\"\",AM175-AM148)","v":0},{"$f":"IF(OR(AN175=\"\",AN148=\"\"),\"\",AN175-AN148)","v":0},{"$f":"IF(OR(AO175=\"\",AO148=\"\"),\"\",AO175-AO148)","v":0},{"$f":"IF(OR(AP175=\"\",AP148=\"\"),\"\",AP175-AP148)","v":0},{"$f":"IF(OR(AQ175=\"\",AQ148=\"\"),\"\",AQ175-AQ148)","v":0},0,0,0,0,0,0,0,0,0,0,0,0,0,0,0,0,0,0,0,0,0,0,0,0]
[null,"Biomass CO2 Emissions (Memo Item)",null,null,null,null,{"$f":"G$7","v":1990},1991,1992,1993,1994,1995,1996,1997,1998,1999,2000,2001,2002,2003,2004,2005,2006,2007,2008,2009,2010,2011,2012,2013,2014,2015,2016,2017,2018,2019,2020,2021,2022,2023,2024,2025,2026,2027,2028,2029,2030,2031,2032,2033,2034,2035,2036,2037,2038,2039,2040,2041,2042,2043,2044,2045,2046,2047,2048,2049,2050]
[null,"83a","Absolute CO2 from biomass sources (including biomass content of mixed fuels)",null,"[t CO2/yr]",null,{"$f":"G168","v":0},{"$f":"H168","v":0},0,0,0,0,0,0,0,0,0,0,0,0,0,0,0,0,0,0,0,0,0,0,0,0,0,0,0,0,0,{"$f":"AL168","v":0},{"$f":"AM168","v":0},{"$f":"AN168","v":0},{"$f":"AO168","v":0},{"$f":"AP168","v":0},{"$f":"AQ168","v":0},0,0,0,0,0,0,0,0,0,0,0,0,0,0,0,0,0,0,0,0,0,0,0,0]
[]
[null,"Specific Gross and Net CO2 Emissions per Clinker Produced",null,null,null,null,{"$f":"G$7","v":1990},1991,1992,1993,1994,1995,1996,1997,1998,1999,2000,2001,2002,2003,2004,2005,2006,2007,2008,2009,2010,2011,2012,2013,2014,2015,2016,2017,2018,2019,2020,2021,2022,2023,2024,2025,2026,2027,2028,2029,2030,2031,2032,2033,2034,2035,2036,2037,2038,2039,2040,2041,2042,2043,2044,2045,2046,2047,2048,2049,2050]
[null,60,"Specific gross CO2 ","per tonne of clinker produced","[kg CO2/t cli]",null,{"$f":"IF(G$40=\"\",\"\",IF(G$40=0,\"n. appl.\",G175/G$40*1000))","v":""},"","","","","","","","","","","","","","","","","","","","","","","","","","","","","","",{"$f":"IF(AL$40=\"\",\"\",IF(AL$40=0,\"n. appl.\",AL175/AL$40*1000))","v":""},"","","","",{"$f":"IF(AQ$40=\"\",\"\",IF(AQ$40=0,\"n. appl.\",AQ175/AQ$40*1000))","v":""},"","","","","","","","","","","","","","","","","","","","","","","",""]
[null,"60a",null,"calcination component","[kg CO2/t cli]",null,{"$f":"IF(G$40=\"\",\"\",IF(G$40=0,\"n. appl.\",G176/G$40*1000))","v":""},{"$f":"IF(H$40=\"\",\"\",IF(H$40=0,\"n. appl.\",H176/H$40*1000))","v":""},"","","","","","","","","","","","","","","","","","","","","","","","","","","","","","","","","","",{"$f":"IF(AQ$40=\"\",\"\",IF(AQ$40=0,\"n. appl.\",AQ176/AQ$40*1000))","v":""},"","","","","","","","","","","","","","","","","","","","","","","",""]
[null,"60b",null,"fuel component","[kg CO2/t cli]",null,{"$f":"IF(G$40=\"\",\"\",IF(G$40=0,\"n. appl.\",G177/G$40*1000))","v":""},{"$f":"IF(H$40=\"\",\"\",IF(H$40=0,\"n. appl.\",H177/H$40*1000))","v":""},"","","","","","","","","","","","","","","","","","","","","","","","","","","","","","","","","","",{"$f":"IF(AQ$40=\"\",\"\",IF(AQ$40=0,\"n. appl.\",AQ177/AQ$40*1000))","v":""},"","","","","","","","","","","","","","","","","","","","","","","",""]
[null,73,"Specific net CO2 ","per tonne of clinker produced","[kg CO2/t cli]",null,{"$f":"IF(G$40=\"\",\"\",IF(G$40=0,\"n. appl.\",G179/G$40*1000))","v":""},"","","","","","","","","","","","","","","","","","","","","","","","","","","","","","",{"$f":"IF(AL$40=\"\",\"\",IF(AL$40=0,\"n. appl.\",AL179/AL$40*1000))","v":""},{"$f":"IF(AM$40=\"\",\"\",IF(AM$40=0,\"n. appl.\",AM179/AM$40*1000))","v":""},{"$f":"IF(AN$40=\"\",\"\",IF(AN$40=0,\"n. appl.\",AN179/AN$40*1000))","v":""},{"$f":"IF(AO$40=\"\",\"\",IF(AO$40=0,\"n. appl.\",AO179/AO$40*1000))","v":""},{"$f":"IF(AP$40=\"\",\"\",IF(AP$40=0,\"n. appl.\",AP179/AP$40*1000))","v":""},{"$f":"IF(AQ$40=\"\",\"\",IF(AQ$40=0,\"n. appl.\",AQ179/AQ$40*1000))","v":""},"","","","","","","","","","","","","","","","","","","","","","","",""]
[]
[null,"Specific Gross and Net CO2 Emissions per Cement (equivalent)",null,null,null,null,{"$f":"G$7","v":1990},1991,1992,1993,1994,1995,1996,1997,1998,1999,2000,2001,2002,2003,2004,2005,2006,2007,2008,2009,2010,2011,2012,2013,2014,2015,2016,2017,2018,2019,2020,2021,2022,2023,2024,2025,2026,2027,2028,2029,2030,2031,2032,2033,2034,2035,2036,2037,2038,2039,2040,2041,2042,2043,2044,2045,2046,2047,2048,2049,2050]
[null,63,"Specific gross CO2","per tonne of cement (eq.)","[kg CO2/t cem eq.]",null,{"$f":"IF(OR(G175=\"\",G68=\"n. appl.\"),\"n. appl.\",G175/G68*1000)","v":"n. appl."},{"$f":"IF(OR(H175=\"\",H68=\"n. appl.\"),\"n. appl.\",H175/H68*1000)","v":"n. appl."},"n. appl.","n. appl.","n. appl.","n. appl.","n. appl.","n. appl.","n. appl.","n. appl.","n. appl.","n. appl.","n. appl.","n. appl.","n. appl.","n. appl.","n. appl.","n. appl.","n. appl.","n. appl.","n. appl.","n. appl.","n. appl.","n. appl.","n. appl.","n. appl.","n. appl.","n. appl.","n. appl.","n. appl.","n. appl.","n. appl.","n. appl.","n. appl.","n. appl.","n. appl.",{"$f":"IF(OR(AQ175=\"\",AQ68=\"n. appl.\"),\"n. appl.\",AQ175/AQ68*1000)","v":"n. appl."},"n. appl.","n. appl.","n. appl.","n. appl.","n. appl.","n. appl.","n. appl.","n. appl.","n. appl.","n. appl.","n. appl.","n. appl.","n. appl.","n. appl.","n. appl.","n. appl.","n. appl.","n. appl.","n. appl.","n. appl.","n. appl.","n. appl.","n. appl.","n. appl."]
[null,"63a",null,"calcination component","[kg CO2/t cem eq.]",null,{"$f":"IF(G$40=\"\",\"\",IF(OR(G$40=0,G46=0),\"n. appl.\",G176/G$68*1000))","v":""},{"$f":"IF(H$40=\"\",\"\",IF(OR(H$40=0,H46=0),\"n. appl.\",H176/H$68*1000))","v":""},"","","","","","","","","","","","","","","","","","","","","","","","","","","","","","","","","","",{"$f":"IF(AQ$40=\"\",\"\",IF(OR(AQ$40=0,AQ46=0),\"n. appl.\",AQ176/AQ$68*1000))","v":""},"","","","","","","","","","","","","","","","","","","","","","","",""]
[null,"63b",null,"fuel component","[kg CO2/t cem eq.]",null,{"$f":"IF(G$40=\"\",\"\",IF(OR(G$40=0,G46=0),\"n. appl.\",G177/G$68*1000))","v":""},{"$f":"IF(H$40=\"\",\"\",IF(OR(H$40=0,H46=0),\"n. appl.\",H177/H$68*1000))","v":""},"","","","","","","","","","","","","","","","","","","","","","","","","","","","","","","","","","",{"$f":"IF(AQ$40=\"\",\"\",IF(OR(AQ$40=0,AQ46=0),\"n. appl.\",AQ177/AQ$68*1000))","v":""},"","","","","","","","","","","","","","","","","","","","","","","",""]
[null,{"$f":"B199+1","v":75},"Specific net CO2 ","per tonne of cement (eq.)","[kg CO2/t cem eq.]",null,{"$f":"IF(OR(G$68=\"n. appl.\",G$68=0),\"n. appl.\",G179/G$68*1000)","v":"n. appl."},{"$f":"IF(OR(H$68=\"n. appl.\",H$68=0),\"n. appl.\",H179/H$68*1000)","v":"n. appl."},"n. appl.","n. appl.","n. appl.","n. appl.","n. appl.","n. appl.","n. appl.","n. appl.","n. appl.","n. appl.","n. appl.","n. appl.","n. appl.","n. appl.","n. appl.","n. appl.","n. appl.","n. appl.","n. appl.","n. appl.","n. appl.","n. appl.","n. appl.","n. appl.","n. appl.","n. appl.","n. appl.","n. appl.","n. appl.","n. appl.","n. appl.","n. appl.","n. appl.","n. appl.",{"$f":"IF(OR(AQ$68=\"n. appl.\",AQ$68=0),\"n. appl.\",AQ179/AQ$68*1000)","v":"n. appl."},"n. appl.","n. appl.","n. appl.","n. appl.","n. appl.","n. appl.","n. appl.","n. appl.","n. appl.","n. appl.","n. appl.","n. appl.","n. appl.","n. appl.","n. appl.","n. appl.","n. appl.","n. appl.","n. appl.","n. appl.","n. appl.","n. appl.","n. appl.","n. appl."]
[]
[null,"Specific Gross and Net CO2 Emissions per Cementitious Produced",null,null,null,null,{"$f":"G$7","v":1990},1991,1992,1993,1994,1995,1996,1997,1998,1999,2000,2001,2002,2003,2004,2005,2006,2007,2008,2009,2010,2011,2012,2013,2014,2015,2016,2017,2018,2019,2020,2021,2022,2023,2024,2025,2026,2027,2028,2029,2030,2031,2032,2033,2034,2035,2036,2037,2038,2039,2040,2041,2042,2043,2044,2045,2046,2047,2048,2049,2050]
[null,62,"Specific gross CO2 ","per tonne of cementitious product","[kg CO2/t cem prod]",null,{"$f":"IF(G$67=\"\",\"\",IF(G$67=0,\"n. appl.\",G175/G$67*1000))","v":""},{"$f":"IF(H$67=\"\",\"\",IF(H$67=0,\"n. appl.\",H175/H$67*1000))","v":""},"","","","","","","","","","","","","","","","","","","","","","","","",{"$f":"IF(AG$67=\"\",\"\",IF(AG$67=0,\"n. appl.\",AG175/AG$67*1000))","v":""},"","","","",{"$f":"IF(AL$67=\"\",\"\",IF(AL$67=0,\"n. appl.\",AL175/AL$67*1000))","v":""},"","","","",{"$f":"IF(AQ$67=\"\",\"\",IF(AQ$67=0,\"n. appl.\",AQ175/AQ$67*1000))","v":""},"","","","","","","","","","","","","","","","","","","","","","","",""]
[null,"62a",null,"calcination component","[kg CO2/t cem prod]",null,{"$f":"IF(G$67=\"\",\"\",IF(G$67=0,\"n. appl.\",G176/G$67*1000))","v":""},{"$f":"IF(H$67=\"\",\"\",IF(H$67=0,\"n. appl.\",H176/H$67*1000))","v":""},"","","","","","","","","","","","","","","","","","","","","","","","","","","","","","","","","","",{"$f":"IF(AQ$67=\"\",\"\",IF(AQ$67=0,\"n. appl.\",AQ176/AQ$67*1000))","v":""},"","","","","","","","","","","","","","","","","","","","","","","",""]
[null,"62b",null,"fuel component","[kg CO2/t cem prod]",null,{"$f":"IF(G$67=\"\",\"\",IF(G$67=0,\"n. appl.\",G177/G$67*1000))","v":""},{"$f":"IF(H$67=\"\",\"\",IF(H$67=0,\"n. appl.\",H177/H$67*1000))","v":""},"","","","","","","","","","","","","","","","","","","","","","","","","","","","","","","","","","",{"$f":"IF(AQ$67=\"\",\"\",IF(AQ$67=0,\"n. appl.\",AQ177/AQ$67*1000))","v":""},"","","","","","","","","","","","","","","","","","","","","","","",""]
[null,{"$f":"B187+1","v":74},"Specific net CO2 ","per tonne of cementitious product","[kg CO2/t cem prod]",null,{"$f":"IF(G$67=\"\",\"\",IF(G$67=0,\"n. appl.\",G179/G$67*1000))","v":""},"","","","","","","","","","","","","","","","","","","","","","","","","","","","","","",{"$f":"IF(AL$67=\"\",\"\",IF(AL$67=0,\"n. appl.\",AL179/AL$67*1000))","v":""},{"$f":"IF(AM$67=\"\",\"\",IF(AM$67=0,\"n. appl.\",AM179/AM$67*1000))","v":""},{"$f":"IF(AN$67=\"\",\"\",IF(AN$67=0,\"n. appl.\",AN179/AN$67*1000))","v":""},{"$f":"IF(AO$67=\"\",\"\",IF(AO$67=0,\"n. appl.\",AO179/AO$67*1000))","v":""},{"$f":"IF(AP$67=\"\",\"\",IF(AP$67=0,\"n. appl.\",AP179/AP$67*1000))","v":""},{"$f":"IF(AQ$67=\"\",\"\",IF(AQ$67=0,\"n. appl.\",AQ179/AQ$67*1000))","v":""},"","","","","","","","","","","","","","","","","","","","","","","",""]
[null,77,"Improvement rate  -  net CO2 per tonne of cementitious product",null,"[% relative to base yr]",null,{"$f":"IF(G199=\"\",\"\",IF(OR($G199=\"n. appl.\",$G199=0),\"n. appl.\",(G199-$G199)/$G199))","v":""},"","","","","","","","","","","","","","","","","","","","","","","","","",{"$f":"IF(AG199=\"\",\"\",IF(OR($G199=\"n. appl.\",$G199=0),\"n. appl.\",(AG199-$G199)/$G199))","v":""},"","","","","","","","","",{"$f":"IF(AQ199=\"\",\"\",IF(OR($G199=\"n. appl.\",$G199=0),\"n. appl.\",(AQ199-$G199)/$G199))","v":""},"","","","","","","","","","","","","","","","","","","","","","","",""]
[]
[null,"Specific Indirect CO2 Emission",null,null,null,null,{"$f":"G$7","v":1990},1991,1992,1993,1994,1995,1996,1997,1998,1999,2000,2001,2002,2003,2004,2005,2006,2007,2008,2009,2010,2011,2012,2013,2014,2015,2016,2017,2018,2019,2020,2021,2022,2023,2024,2025,2026,2027,2028,2029,2030,2031,2032,2033,2034,2035,2036,2037,2038,2039,2040,2041,2042,2043,2044,2045,2046,2047,2048,2049,2050]
[null,"82c","Specific indirect CO2 from external power generation per tonne of cement (eq.)",null,"[kg CO2/t cem eq.]",null,{"$f":"IF(OR(G$68=\"n. appl.\",G$68=0),\"n. appl.\",G162/G$68*1000)","v":"n. appl."},{"$f":"IF(OR(H$68=\"n. appl.\",H$68=0),\"n. appl.\",H162/H$68*1000)","v":"n. appl."},"n. appl.","n. appl.","n. appl.","n. appl.","n. appl.","n. appl.","n. appl.","n. appl.","n. appl.","n. appl.","n. appl.","n. appl.","n. appl.","n. appl.","n. appl.","n. appl.","n. appl.","n. appl.","n. appl.","n. appl.","n. appl.","n. appl.","n. appl.","n. appl.","n. appl.","n. appl.","n. appl.","n. appl.","n. appl.","n. appl.","n. appl.","n. appl.","n. appl.","n. appl.",{"$f":"IF(OR(AQ$68=\"n. appl.\",AQ$68=0),\"n. appl.\",AQ162/AQ$68*1000)","v":"n. appl."},"n. appl.","n. appl.","n. appl.","n. appl.","n. appl.","n. appl.","n. appl.","n. appl.","n. appl.","n. appl.","n. appl.","n. appl.","n. appl.","n. appl.","n. appl.","n. appl.","n. appl.","n. appl.","n. appl.","n. appl.","n. appl.","n. appl.","n. appl.","n. appl."]
[null,"82a","Specific indirect CO2 from external power generation per tonne of cementitious product",null,"[kg CO2/t cem prod]",null,{"$f":"IF(G$67=\"\",\"\",IF(G$67=0,\"n. appl.\",G162/G$67*1000))","v":""},{"$f":"IF(H$67=\"\",\"\",IF(H$67=0,\"n. appl.\",H162/H$67*1000))","v":""},"","","","","","","","","","","","","","","","","","","","","","","","",{"$f":"IF(AG$67=\"\",\"\",IF(AG$67=0,\"n. appl.\",AG162/AG$67*1000))","v":""},"","","","","","","","","",{"$f":"IF(AQ$67=\"\",\"\",IF(AQ$67=0,\"n. appl.\",AQ162/AQ$67*1000))","v":""},"","","","","","","","","","","","","","","","","","","","","","","",""]
[null,"82b","Specific indirect CO2 from net clinker imports (+) / exports (-) per tonne of cementitious product",null,"[kg CO2/t cem prod]",null,{"$f":"IF(G$67=\"\",\"\",IF(G$67=0,\"n. appl.\",G164/G$67*1000))","v":""},{"$f":"IF(H$67=\"\",\"\",IF(H$67=0,\"n. appl.\",H164/H$67*1000))","v":""},"","","","","","","","","","","","","","","","","","","","","","","","",{"$f":"IF(AG$67=\"\",\"\",IF(AG$67=0,\"n. appl.\",AG164/AG$67*1000))","v":""},"","","","","","","","","",{"$f":"IF(AQ$67=\"\",\"\",IF(AQ$67=0,\"n. appl.\",AQ164/AQ$67*1000))","v":""},"","","","","","","","","","","","","","","","","","","","","","","",""]
[]
[null,"General Performance Indicators",null,null,null,null,{"$f":"G$7","v":1990},1991,1992,1993,1994,1995,1996,1997,1998,1999,2000,2001,2002,2003,2004,2005,2006,2007,2008,2009,2010,2011,2012,2013,2014,2015,2016,2017,2018,2019,2020,2021,2022,2023,2024,2025,2026,2027,2028,2029,2030,2031,2032,2033,2034,2035,2036,2037,2038,2039,2040,2041,2042,2043,2044,2045,2046,2047,2048,2049,2050]
[null,91,"Net outbound clinker per net clinker consumption",null,"[%]",null,{"$f":"IF(G46=\"\",\"\",IF(G46=0,\"n. appl.\",(G42-G41-G44-G45)/G46))","v":""},{"$f":"IF(H46=\"\",\"\",IF(H46=0,\"n. appl.\",(H42-H41-H44-H45)/H46))","v":""},"","","","","","","","","","","","","","","","","","","","","","","","",{"$f":"IF(AG46=\"\",\"\",IF(AG46=0,\"n. appl.\",(AG42-AG41-AG44-AG45)/AG46))","v":""},"","","","","","","","","",{"$f":"IF(AQ46=\"\",\"\",IF(AQ46=0,\"n. appl.\",(AQ42-AQ41-AQ44-AQ45)/AQ46))","v":""},"","","","","","","","","","","","","","","","","","","","","","","",""]
[null,"92a","Clinker/cement (eq.) factor*",null,"[%]",null,{"$f":"IF(OR(G46=\"\",G65=\"\",G46=0,G65=0),\"n. appl.\",G46/G65)","v":"n. appl."},{"$f":"IF(OR(H46=\"\",H65=\"\",H46=0,H65=0),\"n. appl.\",H46/H65)","v":"n. appl."},"n. appl.","n. appl.","n. appl.","n. appl.","n. appl.","n. appl.","n. appl.","n. appl.","n. appl.","n. appl.","n. appl.","n. appl.","n. appl.","n. appl.","n. appl.","n. appl.","n. appl.","n. appl.","n. appl.","n. appl.","n. appl.","n. appl.","n. appl.","n. appl.","n. appl.","n. appl.","n. appl.","n. appl.","n. appl.","n. appl.","n. appl.","n. appl.","n. appl.","n. appl.",{"$f":"IF(OR(AQ46=\"\",AQ65=\"\",AQ46=0,AQ65=0),\"n. appl.\",AQ46/AQ65)","v":"n. appl."},"n. appl.","n. appl.","n. appl.","n. appl.","n. appl.","n. appl.","n. appl.","n. appl.","n. appl.","n. appl.","n. appl.","n. appl.","n. appl.","n. appl.","n. appl.","n. appl.","n. appl.","n. appl.","n. appl.","n. appl.","n. appl.","n. appl.","n. appl.","n. appl."]
[null,{"$f":"B208+1","v":92},"Clinker/cementitious factor*",null,"[%]",null,{"$f":"IF(G66=\"\",\"\",IF(G66=0,\"n. appl.\",G46/G66))","v":""},"","","","","","","","","","","","","","","","","","","","","","","","","","","","","","",{"$f":"IF(AL66=\"\",\"\",IF(AL66=0,\"n. appl.\",AL46/AL66))","v":""},{"$f":"IF(AM66=\"\",\"\",IF(AM66=0,\"n. appl.\",AM46/AM66))","v":""},{"$f":"IF(AN66=\"\",\"\",IF(AN66=0,\"n. appl.\",AN46/AN66))","v":""},{"$f":"IF(AO66=\"\",\"\",IF(AO66=0,\"n. appl.\",AO46/AO66))","v":""},{"$f":"IF(AP66=\"\",\"\",IF(AP66=0,\"n. appl.\",AP46/AP66))","v":""},{"$f":"IF(AQ66=\"\",\"\",IF(AQ66=0,\"n. appl.\",AQ46/AQ66))","v":""},"","","","","","","","","","","","","","","","","","","","","","","",""]
[]
[null,{"$f":"B210+1","v":93},"Specific heat consumption of clinker production",null,"[MJ/t cli]",null,{"$f":"IF(G40=\"\",\"\",IF(G40=0,\"n. appl.\",G76*10^6/G40))","v":""},"","","","","","","","","","","","","","","","","","","","","","","","","","","","","","",{"$f":"IF(AL40=\"\",\"\",IF(AL40=0,\"n. appl.\",AL76*10^6/AL40))","v":""},{"$f":"IF(AM40=\"\",\"\",IF(AM40=0,\"n. appl.\",AM76*10^6/AM40))","v":""},{"$f":"IF(AN40=\"\",\"\",IF(AN40=0,\"n. appl.\",AN76*10^6/AN40))","v":""},{"$f":"IF(AO40=\"\",\"\",IF(AO40=0,\"n. appl.\",AO76*10^6/AO40))","v":""},{"$f":"IF(AP40=\"\",\"\",IF(AP40=0,\"n. appl.\",AP76*10^6/AP40))","v":""},{"$f":"IF(AQ40=\"\",\"\",IF(AQ40=0,\"n. appl.\",AQ76*10^6/AQ40))","v":""},"","","","","","","","","","","","","","","","","","","","","","","",""]
[null,{"$f":"B212+1","v":94},"Conventional fossil fuel rate (kiln fuels)",null,"[%]",null,{"$f":"IF(G$76=\"\",\"\",IF(G$76=0,\"n. appl.\",G78/G$76))","v":"n. appl."},{"$f":"IF(H$76=\"\",\"\",IF(H$76=0,\"n. appl.\",H78/H$76))","v":"n. appl."},"n. appl.","n. appl.","n. appl.","n. appl.","n. appl.","n. appl.","n. appl.","n. appl.","n. appl.","n. appl.","n. appl.","n. appl.","n. appl.","n. appl.","n. appl.","n. appl.","n. appl.","n. appl.","n. appl.","n. appl.","n. appl.","n. appl.","n. appl.","n. appl.",{"$f":"IF(AG$76=\"\",\"\",IF(AG$76=0,\"n. appl.\",AG78/AG$76))","v":"n. appl."},"n. appl.","n. appl.","n. appl.","n. appl.",{"$f":"IF(AL$76=\"\",\"\",IF(AL$76=0,\"n. appl.\",AL78/AL$76))","v":"n. appl."},"n. appl.","n. appl.","n. appl.","n. appl.",{"$f":"IF(AQ$76=\"\",\"\",IF(AQ$76=0,\"n. appl.\",AQ78/AQ$76))","v":"n. appl."},"n. appl.","n. appl.","n. appl.","n. appl.","n. appl.","n. appl.","n. appl.","n. appl.","n. appl.","n. appl.","n. appl.","n. appl.","n. appl.","n. appl.","n. appl.","n. appl.","n. appl.","n. appl.","n. appl.","n. appl.","n. appl.","n. appl.","n. appl.","n. appl."]
[null,{"$f":"B213+1","v":95},"Alternative fossil fuel rate (kiln fuels)",null,"[%]",null,{"$f":"IF(G$76=\"\",\"\",IF(G$76=0,\"n. appl.\",G79/G$76))","v":"n. appl."},{"$f":"IF(H$76=\"\",\"\",IF(H$76=0,\"n. appl.\",H79/H$76))","v":"n. appl."},"n. appl.","n. appl.","n. appl.","n. appl.","n. appl.","n. appl.","n. appl.","n. appl.","n. appl.","n. appl.","n. appl.","n. appl.","n. appl.","n. appl.","n. appl.","n. appl.","n. appl.","n. appl.","n. appl.","n. appl.","n. appl.","n. appl.","n. appl.","n. appl.","n. appl.","n. appl.","n. appl.","n. appl.","n. appl.","n. appl.","n. appl.","n. appl.","n. appl.","n. appl.",{"$f":"IF(AQ$76=\"\",\"\",IF(AQ$76=0,\"n. appl.\",AQ79/AQ$76))","v":"n. appl."},"n. appl.","n. appl.","n. appl.","n. appl.","n. appl.","n. appl.","n. appl.","n. appl.","n. appl.","n. appl.","n. appl.","n. appl.","n. appl.","n. appl.","n. appl.","n. appl.","n. appl.","n. appl.","n. appl.","n. appl.","n. appl.","n. appl.","n. appl.","n. appl."]
[null,{"$f":"B214+1","v":96},"Biomass fuel rate (kiln fuels)",null,"[%]",null,{"$f":"IF(G$76=\"\",\"\",IF(G$76=0,\"n. appl.\",G80/G$76))","v":"n. appl."},{"$f":"IF(H$76=\"\",\"\",IF(H$76=0,\"n. appl.\",H80/H$76))","v":"n. appl."},"n. appl.","n. appl.","n. appl.","n. appl.","n. appl.","n. appl.","n. appl.","n. appl.","n. appl.","n. appl.","n. appl.","n. appl.","n. appl.","n. appl.","n. appl.","n. appl.","n. appl.","n. appl.","n. appl.","n. appl.","n. appl.","n. appl.","n. appl.","n. appl.","n. appl.","n. appl.","n. appl.","n. appl.","n. appl.","n. appl.","n. appl.","n. appl.","n. appl.","n. appl.",{"$f":"IF(AQ$76=\"\",\"\",IF(AQ$76=0,\"n. appl.\",AQ80/AQ$76))","v":"n. appl."},"n. appl.","n. appl.","n. appl.","n. appl.","n. appl.","n. appl.","n. appl.","n. appl.","n. appl.","n. appl.","n. appl.","n. appl.","n. appl.","n. appl.","n. appl.","n. appl.","n. appl.","n. appl.","n. appl.","n. appl.","n. appl.","n. appl.","n. appl.","n. appl."]
[null,"96a","CO2 emission factor for kiln fuel mix ",null,"[kg CO2/GJ]",null,{"$f":"IF(G149=\"\",\"\",IF(G149=0,\"n. appl.\",G149/G76))","v":"n. appl."},{"$f":"IF(H149=\"\",\"\",IF(H149=0,\"n. appl.\",H149/H76))","v":"n. appl."},"n. appl.","n. appl.","n. appl.","n. appl.","n. appl.","n. appl.","n. appl.","n. appl.","n. appl.","n. appl.","n. appl.","n. appl.","n. appl.","n. appl.","n. appl.","n. appl.","n. appl.","n. appl.","n. appl.","n. appl.","n. appl.","n. appl.","n. appl.","n. appl.",{"$f":"IF(AG149=\"\",\"\",IF(AG149=0,\"n. appl.\",AG149/AG76))","v":"n. appl."},"n. appl.","n. appl.","n. appl.","n. appl.","n. appl.","n. appl.","n. appl.","n. appl.","n. appl.",{"$f":"IF(AQ149=\"\",\"\",IF(AQ149=0,\"n. appl.\",AQ149/AQ76))","v":"n. appl."},"n. appl.","n. appl.","n. appl.","n. appl.","n. appl.","n. appl.","n. appl.","n. appl.","n. appl.","n. appl.","n. appl.","n. appl.","n. appl.","n. appl.","n. appl.","n. appl.","n. appl.","n. appl.","n. appl.","n. appl.","n. appl.","n. appl.","n. appl.","n. appl."]
[null,"96b","Total conventional fossil fuel rate at plant level ",null,"[%]",null,{"$f":"IF(AND(G$76=0,G$502=0,G$506=0,G$508=0,G$513=0,G$520=0,G$522=0,G$525=0,G$532=0,G$534=0),\"n. appl.\",(G78+G502+(G506*(1-G375))+G508+G513+G525)/(G$76+G$502+G$506+G$508+G$513+G$520+G$522+G$525+G$532+G$534))","v":"n. appl."},"n. appl.","n. appl.","n. appl.","n. appl.","n. appl.","n. appl.","n. appl.","n. appl.","n. appl.","n. appl.","n. appl.","n. appl.","n. appl.","n. appl.","n. appl.","n. appl.","n. appl.","n. appl.","n. appl.","n. appl.","n. appl.","n. appl.","n. appl.","n. appl.","n. appl.","n. appl.","n. appl.","n. appl.","n. appl.","n. appl.",{"$f":"IF(AND(AL$76=0,AL$502=0,AL$506=0,AL$508=0,AL$513=0,AL$520=0,AL$522=0,AL$525=0,AL$532=0,AL$534=0),\"n. appl.\",(AL78+AL502+(AL506*(1-AL375))+AL508+AL513+AL525)/(AL$76+AL$502+AL$506+AL$508+AL$513+AL$520+AL$522+AL$525+AL$532+AL$534))","v":"n. appl."},{"$f":"IF(AND(AM$76=0,AM$502=0,AM$506=0,AM$508=0,AM$513=0,AM$520=0,AM$522=0,AM$525=0,AM$532=0,AM$534=0),\"n. appl.\",(AM78+AM502+(AM506*(1-AM375))+AM508+AM513+AM525)/(AM$76+AM$502+AM$506+AM$508+AM$513+AM$520+AM$522+AM$525+AM$532+AM$534))","v":"n. appl."},{"$f":"IF(AND(AN$76=0,AN$502=0,AN$506=0,AN$508=0,AN$513=0,AN$520=0,AN$522=0,AN$525=0,AN$532=0,AN$534=0),\"n. appl.\",(AN78+AN502+(AN506*(1-AN375))+AN508+AN513+AN525)/(AN$76+AN$502+AN$506+AN$508+AN$513+AN$520+AN$522+AN$525+AN$532+AN$534))","v":"n. appl."},{"$f":"IF(AND(AO$76=0,AO$502=0,AO$506=0,AO$508=0,AO$513=0,AO$520=0,AO$522=0,AO$525=0,AO$532=0,AO$534=0),\"n. appl.\",(AO78+AO502+(AO506*(1-AO375))+AO508+AO513+AO525)/(AO$76+AO$502+AO$506+AO$508+AO$513+AO$520+AO$522+AO$525+AO$532+AO$534))","v":"n. appl."},{"$f":"IF(AND(AP$76=0,AP$502=0,AP$506=0,AP$508=0,AP$513=0,AP$520=0,AP$522=0,AP$525=0,AP$532=0,AP$534=0),\"n. appl.\",(AP78+AP502+(AP506*(1-AP375))+AP508+AP513+AP525)/(AP$76+AP$502+AP$506+AP$508+AP$513+AP$520+AP$522+AP$525+AP$532+AP$534))","v":"n. appl."},{"$f":"IF(AND(AQ$76=0,AQ$502=0,AQ$506=0,AQ$508=0,AQ$513=0,AQ$520=0,AQ$522=0,AQ$525=0,AQ$532=0,AQ$534=0),\"n. appl.\",(AQ78+AQ502+(AQ506*(1-AQ375))+AQ508+AQ513+AQ525)/(AQ$76+AQ$502+AQ$506+AQ$508+AQ$513+AQ$520+AQ$522+AQ$525+AQ$532+AQ$534))","v":"n. appl."},"n. appl.","n. appl.","n. appl.","n. appl.","n. appl.","n. appl.","n. appl.","n. appl.","n. appl.","n. appl.","n. appl.","n. appl.","n. appl.","n. appl.","n. appl.","n. appl.","n. appl.","n. appl.","n. appl.","n. appl.","n. appl.","n. appl.","n. appl.","n. appl."]
[null,"96c","Total alternative fossil fuel rate at plant level ",null,"[%]",null,{"$f":"IF(AND(G$76=0,G$502=0,G$506=0,G$508=0,G$513=0,G$520=0,G$522=0,G$525=0,G$532=0,G$534=0),\"n. appl.\",(G79+G520+G532)/(G$76+G$502+G$506+G$508+G$513+G$520+G$522+G$525+G$532+G$534))","v":"n. appl."},"n. appl.","n. appl.","n. appl.","n. appl.","n. appl.","n. appl.","n. appl.","n. appl.","n. appl.","n. appl.","n. appl.","n. appl.","n. appl.","n. appl.","n. appl.","n. appl.","n. appl.","n. appl.","n. appl.","n. appl.","n. appl.","n. appl.","n. appl.","n. appl.","n. appl.","n. appl.","n. appl.","n. appl.","n. appl.","n. appl.",{"$f":"IF(AND(AL$76=0,AL$502=0,AL$506=0,AL$508=0,AL$513=0,AL$520=0,AL$522=0,AL$525=0,AL$532=0,AL$534=0),\"n. appl.\",(AL79+AL520+AL532)/(AL$76+AL$502+AL$506+AL$508+AL$513+AL$520+AL$522+AL$525+AL$532+AL$534))","v":"n. appl."},{"$f":"IF(AND(AM$76=0,AM$502=0,AM$506=0,AM$508=0,AM$513=0,AM$520=0,AM$522=0,AM$525=0,AM$532=0,AM$534=0),\"n. appl.\",(AM79+AM520+AM532)/(AM$76+AM$502+AM$506+AM$508+AM$513+AM$520+AM$522+AM$525+AM$532+AM$534))","v":"n. appl."},{"$f":"IF(AND(AN$76=0,AN$502=0,AN$506=0,AN$508=0,AN$513=0,AN$520=0,AN$522=0,AN$525=0,AN$532=0,AN$534=0),\"n. appl.\",(AN79+AN520+AN532)/(AN$76+AN$502+AN$506+AN$508+AN$513+AN$520+AN$522+AN$525+AN$532+AN$534))","v":"n. appl."},{"$f":"IF(AND(AO$76=0,AO$502=0,AO$506=0,AO$508=0,AO$513=0,AO$520=0,AO$522=0,AO$525=0,AO$532=0,AO$534=0),\"n. appl.\",(AO79+AO520+AO532)/(AO$76+AO$502+AO$506+AO$508+AO$513+AO$520+AO$522+AO$525+AO$532+AO$534))","v":"n. appl."},{"$f":"IF(AND(AP$76=0,AP$502=0,AP$506=0,AP$508=0,AP$513=0,AP$520=0,AP$522=0,AP$525=0,AP$532=0,AP$534=0),\"n. appl.\",(AP79+AP520+AP532)/(AP$76+AP$502+AP$506+AP$508+AP$513+AP$520+AP$522+AP$525+AP$532+AP$534))","v":"n. appl."},{"$f":"IF(AND(AQ$76=0,AQ$502=0,AQ$506=0,AQ$508=0,AQ$513=0,AQ$520=0,AQ$522=0,AQ$525=0,AQ$532=0,AQ$534=0),\"n. appl.\",(AQ79+AQ520+AQ532)/(AQ$76+AQ$502+AQ$506+AQ$508+AQ$513+AQ$520+AQ$522+AQ$525+AQ$532+AQ$534))","v":"n. appl."},"n. appl.","n. appl.","n. appl.","n. appl.","n. appl.","n. appl.","n. appl.","n. appl.","n. appl.","n. appl.","n. appl.","n. appl.","n. appl.","n. appl.","n. appl.","n. appl.","n. appl.","n. appl.","n. appl.","n. appl.","n. appl.","n. appl.","n. appl.","n. appl."]
[null,"96d","Total biomass fuel rate at plant level ",null,"[%]",null,{"$f":"IF(AND(G$76=0,G$502=0,G$506=0,G$508=0,G$513=0,G$520=0,G$522=0,G$525=0,G$532=0,G$534=0),\"n. appl.\",(G80+(G506*G375)+G522+G534)/(G$76+G$502+G$506+G$508+G$513+G$520+G$522+G$525+G$532+G$534))","v":"n. appl."},"n. appl.","n. appl.","n. appl.","n. appl.","n. appl.","n. appl.","n. appl.","n. appl.","n. appl.","n. appl.","n. appl.","n. appl.","n. appl.","n. appl.","n. appl.","n. appl.","n. appl.","n. appl.","n. appl.","n. appl.","n. appl.","n. appl.","n. appl.","n. appl.","n. appl.","n. appl.","n. appl.","n. appl.","n. appl.","n. appl.",{"$f":"IF(AND(AL$76=0,AL$502=0,AL$506=0,AL$508=0,AL$513=0,AL$520=0,AL$522=0,AL$525=0,AL$532=0,AL$534=0),\"n. appl.\",(AL80+(AL506*AL375)+AL522+AL534)/(AL$76+AL$502+AL$506+AL$508+AL$513+AL$520+AL$522+AL$525+AL$532+AL$534))","v":"n. appl."},{"$f":"IF(AND(AM$76=0,AM$502=0,AM$506=0,AM$508=0,AM$513=0,AM$520=0,AM$522=0,AM$525=0,AM$532=0,AM$534=0),\"n. appl.\",(AM80+(AM506*AM375)+AM522+AM534)/(AM$76+AM$502+AM$506+AM$508+AM$513+AM$520+AM$522+AM$525+AM$532+AM$534))","v":"n. appl."},{"$f":"IF(AND(AN$76=0,AN$502=0,AN$506=0,AN$508=0,AN$513=0,AN$520=0,AN$522=0,AN$525=0,AN$532=0,AN$534=0),\"n. appl.\",(AN80+(AN506*AN375)+AN522+AN534)/(AN$76+AN$502+AN$506+AN$508+AN$513+AN$520+AN$522+AN$525+AN$532+AN$534))","v":"n. appl."},{"$f":"IF(AND(AO$76=0,AO$502=0,AO$506=0,AO$508=0,AO$513=0,AO$520=0,AO$522=0,AO$525=0,AO$532=0,AO$534=0),\"n. appl.\",(AO80+(AO506*AO375)+AO522+AO534)/(AO$76+AO$502+AO$506+AO$508+AO$513+AO$520+AO$522+AO$525+AO$532+AO$534))","v":"n. appl."},{"$f":"IF(AND(AP$76=0,AP$502=0,AP$506=0,AP$508=0,AP$513=0,AP$520=0,AP$522=0,AP$525=0,AP$532=0,AP$534=0),\"n. appl.\",(AP80+(AP506*AP375)+AP522+AP534)/(AP$76+AP$502+AP$506+AP$508+AP$513+AP$520+AP$522+AP$525+AP$532+AP$534))","v":"n. appl."},{"$f":"IF(AND(AQ$76=0,AQ$502=0,AQ$506=0,AQ$508=0,AQ$513=0,AQ$520=0,AQ$522=0,AQ$525=0,AQ$532=0,AQ$534=0),\"n. appl.\",(AQ80+(AQ506*AQ375)+AQ522+AQ534)/(AQ$76+AQ$502+AQ$506+AQ$508+AQ$513+AQ$520+AQ$522+AQ$525+AQ$532+AQ$534))","v":"n. appl."},"n. appl.","n. appl.","n. appl.","n. appl.","n. appl.","n. appl.","n. appl.","n. appl.","n. appl.","n. appl.","n. appl.","n. appl.","n. appl.","n. appl.","n. appl.","n. appl.","n. appl.","n. appl.","n. appl.","n. appl.","n. appl.","n. appl.","n. appl.","n. appl."]
[]
[null,{"$f":"B215+1","v":97},"Specific total power consumption*",null,"[kWh/t cem prod]",null,{"$f":"IF(G66=\"\",\"\",IF(G66=0,\"n. appl.\",G105/G66*1000))","v":""},{"$f":"IF(H66=\"\",\"\",IF(H66=0,\"n. appl.\",H105/H66*1000))","v":""},"","","","","","","","","","","","","","","","","","","","","","","","",{"$f":"IF(AG66=\"\",\"\",IF(AG66=0,\"n. appl.\",AG105/AG66*1000))","v":""},"","","","","","","","","",{"$f":"IF(AQ66=\"\",\"\",IF(AQ66=0,\"n. appl.\",AQ105/AQ66*1000))","v":""},"","","","","","","","","","","","","","","","","","","","","","","",""]
[null,98,"Specific power consumption of clinker production",null,"[kWh/t cli]",null,{"$f":"IF(G40=\"\",\"\",IF(G40=0,\"n. appl.\",G104/G40*1000))","v":""},"","","","","","","","","","","","","","","","","","","","","","","","","","","","","","",{"$f":"IF(AL40=\"\",\"\",IF(AL40=0,\"n. appl.\",AL104/AL40*1000))","v":""},{"$f":"IF(AM40=\"\",\"\",IF(AM40=0,\"n. appl.\",AM104/AM40*1000))","v":""},{"$f":"IF(AN40=\"\",\"\",IF(AN40=0,\"n. appl.\",AN104/AN40*1000))","v":""},{"$f":"IF(AO40=\"\",\"\",IF(AO40=0,\"n. appl.\",AO104/AO40*1000))","v":""},{"$f":"IF(AP40=\"\",\"\",IF(AP40=0,\"n. appl.\",AP104/AP40*1000))","v":""},{"$f":"IF(AQ40=\"\",\"\",IF(AQ40=0,\"n. appl.\",AQ104/AQ40*1000))","v":""},"","","","","","","","","","","","","","","","","","","","","","","",""]
[null,"98c","Specific power consumption of cement production*",null,"[kWh/t cem prod]",null,{"$f":"IF(OR(G66=\"\",G66=0),\"n. appl.\",IF(G222<>\"n. appl.\",(G222*G210)+(G105-G104)*1000/G66,(G105-G104)*1000/G66))","v":"n. appl."},{"$f":"IF(OR(H66=\"\",H66=0),\"n. appl.\",IF(H222<>\"n. appl.\",(H222*H210)+(H105-H104)*1000/H66,(H105-H104)*1000/H66))","v":"n. appl."},"n. appl.","n. appl.","n. appl.","n. appl.","n. appl.","n. appl.","n. appl.","n. appl.","n. appl.","n. appl.","n. appl.","n. appl.","n. appl.","n. appl.","n. appl.","n. appl.","n. appl.","n. appl.","n. appl.","n. appl.","n. appl.","n. appl.","n. appl.","n. appl.","n. appl.","n. appl.","n. appl.","n. appl.","n. appl.","n. appl.","n. appl.","n. appl.","n. appl.","n. appl.",{"$f":"IF(OR(AQ66=\"\",AQ66=0),\"n. appl.\",IF(AQ222<>\"n. appl.\",(AQ222*AQ210)+(AQ105-AQ104)*1000/AQ66,(AQ105-AQ104)*1000/AQ66))","v":"n. appl."},"n. appl.","n. appl.","n. appl.","n. appl.","n. appl.","n. appl.","n. appl.","n. appl.","n. appl.","n. appl.","n. appl.","n. appl.","n. appl.","n. appl.","n. appl.","n. appl.","n. appl.","n. appl.","n. appl.","n. appl.","n. appl.","n. appl.","n. appl.","n. appl."]
[null,"98a","National energy conversion factor",null,"[MJ/kWh]"]
[null,"98b","Total energy intensity of clinker production (fuel and power)",null,"[MJ/t cli]",null,{"$f":"IF(G224<>\"\",G222*G224+G212,\"\")","v":""},"","","","","","","","","","","","","","","","","","","","","","","","","",{"$f":"IF(AG224<>\"\",AG222*AG224+AG212,\"\")","v":""},"","","","","","","","","",{"$f":"IF(AQ224<>\"\",AQ222*AQ224+AQ212,\"\")","v":""},"","","","","","","","","","","","","","","","","","","","","","","",""]
[]
["KILN FUELS - DETAILED INFORMATION"]
[]
[null,"Kiln Fuel Consumption in tonnes per year",null,null,null,null,{"$f":"G$7","v":1990},1991,1992,1993,1994,1995,1996,1997,1998,1999,2000,2001,2002,2003,2004,2005,2006,2007,2008,2009,2010,2011,2012,2013,2014,2015,2016,2017,2018,2019,2020,2021,2022,2023,2024,2025,2026,2027,2028,2029,2030,2031,2032,2033,2034,2035,2036,2037,2038,2039,2040,2041,2042,2043,2044,2045,2046,2047,2048,2049,2050]
[null,101,"Conventional fossil fuels (excl. drying of raw materials and fuels)"]
[null,{"$f":"B230+1","v":102},null,"coal + anthracite","[t/yr]",null,0,0,0,0,0,0,0,0,0,0,0,0,0,0,0,0,0,0,0,0,0,0,0,0,0,0,0,0,0,0,0,0,0,0,0,0,0,0,0,0,0,0,0,0,0,0,0,0,0,0,0,0,0,0,0,0,0,0,0,0,0]
[null,103,null,"petrol coke","[t/yr]",null,0,0,0,0,0,0,0,0,0,0,0,0,0,0,0,0,0,0,0,0,0,0,0,0,0,0,0,0,0,0,0,0,0,0,0,0,0,0,0,0,0,0,0,0,0,0,0,0,0,0,0,0,0,0,0,0,0,0,0,0,0]
[null,104,null,"(ultra) heavy fuel","[t/yr]",null,0,0,0,0,0,0,0,0,0,0,0,0,0,0,0,0,0,0,0,0,0,0,0,0,0,0,0,0,0,0,0,0,0,0,0,0,0,0,0,0,0,0,0,0,0,0,0,0,0,0,0,0,0,0,0,0,0,0,0,0,0]
[null,105,null,"diesel oil","[t/yr]",null,0,0,0,0,0,0,0,0,0,0,0,0,0,0,0,0,0,0,0,0,0,0,0,0,0,0,0,0,0,0,0,0,0,0,0,0,0,0,0,0,0,0,0,0,0,0,0,0,0,0,0,0,0,0,0,0,0,0,0,0,0]
[null,106,null,"natural gas ","[1'000 Nm3/yr]",null,0,0,0,0,0,0,0,0,0,0,0,0,0,0,0,0,0,0,0,0,0,0,0,0,0,0,0,0,0,0,0,0,0,0,0,0,0,0,0,0,0,0,0,0,0,0,0,0,0,0,0,0,0,0,0,0,0,0,0,0,0]
[null,107,null,"shale","[t/yr]",null,0,0,0,0,0,0,0,0,0,0,0,0,0,0,0,0,0,0,0,0,0,0,0,0,0,0,0,0,0,0,0,0,0,0,0,0,0,0,0,0,0,0,0,0,0,0,0,0,0,0,0,0,0,0,0,0,0,0,0,0,0]
[null,"107a",null,"lignite","[t/yr]",null,0,0,0,0,0,0,0,0,0,0,0,0,0,0,0,0,0,0,0,0,0,0,0,0,0,0,0,0,0,0,0,0,0,0,0,0,0,0,0,0,0,0,0,0,0,0,0,0,0,0,0,0,0,0,0,0,0,0,0,0,0]
[null,{"$f":"B236+1","v":108},"Alternative fossil and mixed fuels (excl. drying of raw materials and fuels)"]
[null,{"$f":"B238+1","v":109},null,"waste oil","[t/yr]",null,0,0,0,0,0,0,0,0,0,0,0,0,0,0,0,0,0,0,0,0,0,0,0,0,0,0,0,0,0,0,0,0,0,0,0,0,0,0,0,0,0,0,0,0,0,0,0,0,0,0,0,0,0,0,0,0,0,0,0,0,0]
[null,{"$f":"B239+1","v":110},null,"tyres ","[t/yr]",null,0,0,0,0,0,0,0,0,0,0,0,0,0,0,0,0,0,0,0,0,0,0,0,0,0,0,0,0,0,0,0,0,0,0,0,0,0,0,0,0,0,0,0,0,0,0,0,0,0,0,0,0,0,0,0,0,0,0,0,0,0]
[null,{"$f":"B240+1","v":111},null,"RDF including plastics","[t/yr]",null,0,0,0,0,0,0,0,0,0,0,0,0,0,0,0,0,0,0,0,0,0,0,0,0,0,0,0,0,0,0,0,0,0,0,0,0,0,0,0,0,0,0,0,0,0,0,0,0,0,0,0,0,0,0,0,0,0,0,0,0,0]
[null,{"$f":"B241+1","v":112},null,"solvents","[t/yr]",null,0,0,0,0,0,0,0,0,0,0,0,0,0,0,0,0,0,0,0,0,0,0,0,0,0,0,0,0,0,0,0,0,0,0,0,0,0,0,0,0,0,0,0,0,0,0,0,0,0,0,0,0,0,0,0,0,0,0,0,0,0]
[null,{"$f":"B242+1","v":113},null,"impregnated saw dust","[t/yr]",null,0,0,0,0,0,0,0,0,0,0,0,0,0,0,0,0,0,0,0,0,0,0,0,0,0,0,0,0,0,0,0,0,0,0,0,0,0,0,0,0,0,0,0,0,0,0,0,0,0,0,0,0,0,0,0,0,0,0,0,0,0]
[null,"113a",null,"mixed industrial waste","[t/yr]",null,0,0,0,0,0,0,0,0,0,0,0,0,0,0,0,0,0,0,0,0,0,0,0,0,0,0,0,0,0,0,0,0,0,0,0,0,0,0,0,0,0,0,0,0,0,0,0,0,0,0,0,0,0,0,0,0,0,0,0,0,0]
[null,114,null,"other fossil based wastes and mixed fuels","[t/yr]",null,0,0,0,0,0,0,0,0,0,0,0,0,0,0,0,0,0,0,0,0,0,0,0,0,0,0,0,0,0,0,0,0,0,0,0,0,0,0,0,0,0,0,0,0,0,0,0,0,0,0,0,0,0,0,0,0,0,0,0,0,0]
[null,{"$f":"B245+1","v":115},"Biomass fuels (excl. drying of raw materials and fuels)"]
[null,116,null,"dried sewage sludge","[t/yr]",null,0,0,0,0,0,0,0,0,0,0,0,0,0,0,0,0,0,0,0,0,0,0,0,0,0,0,0,0,0,0,0,0,0,0,0,0,0,0,0,0,0,0,0,0,0,0,0,0,0,0,0,0,0,0,0,0,0,0,0,0,0]
[null,117,null,"wood, non impregnated saw dust","[t/yr]",null,0,0,0,0,0,0,0,0,0,0,0,0,0,0,0,0,0,0,0,0,0,0,0,0,0,0,0,0,0,0,0,0,0,0,0,0,0,0,0,0,0,0,0,0,0,0,0,0,0,0,0,0,0,0,0,0,0,0,0,0,0]
[null,118,null,"paper, carton","[t/yr]",null,0,0,0,0,0,0,0,0,0,0,0,0,0,0,0,0,0,0,0,0,0,0,0,0,0,0,0,0,0,0,0,0,0,0,0,0,0,0,0,0,0,0,0,0,0,0,0,0,0,0,0,0,0,0,0,0,0,0,0,0,0]
[null,119,null,"animal meal","[t/yr]",null,0,0,0,0,0,0,0,0,0,0,0,0,0,0,0,0,0,0,0,0,0,0,0,0,0,0,0,0,0,0,0,0,0,0,0,0,0,0,0,0,0,0,0,0,0,0,0,0,0,0,0,0,0,0,0,0,0,0,0,0,0]
[null,120,null,"animal bone meal","[t/yr]",null,0,0,0,0,0,0,0,0,0,0,0,0,0,0,0,0,0,0,0,0,0,0,0,0,0,0,0,0,0,0,0,0,0,0,0,0,0,0,0,0,0,0,0,0,0,0,0,0,0,0,0,0,0,0,0,0,0,0,0,0,0]
[null,121,null,"animal fat","[t/yr]",null,0,0,0,0,0,0,0,0,0,0,0,0,0,0,0,0,0,0,0,0,0,0,0,0,0,0,0,0,0,0,0,0,0,0,0,0,0,0,0,0,0,0,0,0,0,0,0,0,0,0,0,0,0,0,0,0,0,0,0,0,0]
[null,122,null,"agricultural, organic, diaper waste, charcoal","[t/yr]",null,0,0,0,0,0,0,0,0,0,0,0,0,0,0,0,0,0,0,0,0,0,0,0,0,0,0,0,0,0,0,0,0,0,0,0,0,0,0,0,0,0,0,0,0,0,0,0,0,0,0,0,0,0,0,0,0,0,0,0,0,0]
[null,123,null,"other biomass","[t/yr]",null,0,0,0,0,0,0,0,0,0,0,0,0,0,0,0,0,0,0,0,0,0,0,0,0,0,0,0,0,0,0,0,0,0,0,0,0,0,0,0,0,0,0,0,0,0,0,0,0,0,0,0,0,0,0,0,0,0,0,0,0,0]
[null,"Drying of raw materials and fuels",null,null,null,null,{"$f":"G$7","v":1990},1991,1992,1993,1994,1995,1996,1997,1998,1999,2000,2001,2002,2003,2004,2005,2006,2007,2008,2009,2010,2011,2012,2013,2014,2015,2016,2017,2018,2019,2020,2021,2022,2023,2024,2025,2026,2027,2028,2029,2030,2031,2032,2033,2034,2035,2036,2037,2038,2039,2040,2041,2042,2043,2044,2045,2046,2047,2048,2049,2050]
[null,124,"Conventional fossil fuels"]
[null,"124a",null,"coal + anthracite + lignite","[t/yr]",null,0,0,0,0,0,0,0,0,0,0,0,0,0,0,0,0,0,0,0,0,0,0,0,0,0,0,0,0,0,0,0,0,0,0,0,0,0,0,0,0,0,0,0,0,0,0,0,0,0,0,0,0,0,0,0,0,0,0,0,0,0]
[null,"124b",null,"petrol coke","[t/yr]",null,0,0,0,0,0,0,0,0,0,0,0,0,0,0,0,0,0,0,0,0,0,0,0,0,0,0,0,0,0,0,0,0,0,0,0,0,0,0,0,0,0,0,0,0,0,0,0,0,0,0,0,0,0,0,0,0,0,0,0,0,0]
[null,"124c",null,"(ultra) heavy fuel","[t/yr]",null,0,0,0,0,0,0,0,0,0,0,0,0,0,0,0,0,0,0,0,0,0,0,0,0,0,0,0,0,0,0,0,0,0,0,0,0,0,0,0,0,0,0,0,0,0,0,0,0,0,0,0,0,0,0,0,0,0,0,0,0,0]
[null,"124d",null,"diesel oil","[t/yr]",null,0,0,0,0,0,0,0,0,0,0,0,0,0,0,0,0,0,0,0,0,0,0,0,0,0,0,0,0,0,0,0,0,0,0,0,0,0,0,0,0,0,0,0,0,0,0,0,0,0,0,0,0,0,0,0,0,0,0,0,0,0]
[null,"124e",null,"natural gas ","[1'000 Nm3/yr]",null,0,0,0,0,0,0,0,0,0,0,0,0,0,0,0,0,0,0,0,0,0,0,0,0,0,0,0,0,0,0,0,0,0,0,0,0,0,0,0,0,0,0,0,0,0,0,0,0,0,0,0,0,0,0,0,0,0,0,0,0,0]
[null,"124f",null,"shale","[t/yr]",null,0,0,0,0,0,0,0,0,0,0,0,0,0,0,0,0,0,0,0,0,0,0,0,0,0,0,0,0,0,0,0,0,0,0,0,0,0,0,0,0,0,0,0,0,0,0,0,0,0,0,0,0,0,0,0,0,0,0,0,0,0]
[null,125,"Alternative fossil and mixed fuels"]
[null,"125a",null,"other fossil based wastes and mixed fuels","[t/yr]",null,0,0,0,0,0,0,0,0,0,0,0,0,0,0,0,0,0,0,0,0,0,0,0,0,0,0,0,0,0,0,0,0,0,0,0,0,0,0,0,0,0,0,0,0,0,0,0,0,0,0,0,0,0,0,0,0,0,0,0,0,0]
[null,126,"Alternative biomass fuels"]
[null,"126a",null,"other biomass","[t/yr]",null,0,0,0,0,0,0,0,0,0,0,0,0,0,0,0,0,0,0,0,0,0,0,0,0,0,0,0,0,0,0,0,0,0,0,0,0,0,0,0,0,0,0,0,0,0,0,0,0,0,0,0,0,0,0,0,0,0,0,0,0,0]
[]
[null,"Fuel Lower Heating Values",null,null,null,null,{"$f":"G$7","v":1990},1991,1992,1993,1994,1995,1996,1997,1998,1999,2000,2001,2002,2003,2004,2005,2006,2007,2008,2009,2010,2011,2012,2013,2014,2015,2016,2017,2018,2019,2020,2021,2022,2023,2024,2025,2026,2027,2028,2029,2030,2031,2032,2033,2034,2035,2036,2037,2038,2039,2040,2041,2042,2043,2044,2045,2046,2047,2048,2049,2050]
[null,131,"Conventional fossil fuels"]
[null,{"$f":"B269+1","v":132},null,"coal + anthracite","[GJ/t]",null,0,0,0,0,0,0,0,0,0,0,0,0,0,0,0,0,0,0,0,0,0,0,0,0,0,0,0,0,0,0,0,0,0,0,0,0,0,0,0,0,0,0,0,0,0,0,0,0,0,0,0,0,0,0,0,0,0,0,0,0,0]
[null,133,null,"petrol coke","[GJ/t]",null,0,0,0,0,0,0,0,0,0,0,0,0,0,0,0,0,0,0,0,0,0,0,0,0,0,0,0,0,0,0,0,0,0,0,0,0,0,0,0,0,0,0,0,0,0,0,0,0,0,0,0,0,0,0,0,0,0,0,0,0,0]
[null,134,null,"(ultra) heavy fuel","[GJ/t]",null,0,0,0,0,0,0,0,0,0,0,0,0,0,0,0,0,0,0,0,0,0,0,0,0,0,0,0,0,0,0,0,0,0,0,0,0,0,0,0,0,0,0,0,0,0,0,0,0,0,0,0,0,0,0,0,0,0,0,0,0,0]
[null,135,null,"diesel oil","[GJ/t]",null,0,0,0,0,0,0,0,0,0,0,0,0,0,0,0,0,0,0,0,0,0,0,0,0,0,0,0,0,0,0,0,0,0,0,0,0,0,0,0,0,0,0,0,0,0,0,0,0,0,0,0,0,0,0,0,0,0,0,0,0,0]
[null,136,null,"natural gas ","[GJ/1'000 Nm3]",null,0,0,0,0,0,0,0,0,0,0,0,0,0,0,0,0,0,0,0,0,0,0,0,0,0,0,0,0,0,0,0,0,0,0,0,0,0,0,0,0,0,0,0,0,0,0,0,0,0,0,0,0,0,0,0,0,0,0,0,0,0]
[null,137,null,"shale","[GJ/t]",null,0,0,0,0,0,0,0,0,0,0,0,0,0,0,0,0,0,0,0,0,0,0,0,0,0,0,0,0,0,0,0,0,0,0,0,0,0,0,0,0,0,0,0,0,0,0,0,0,0,0,0,0,0,0,0,0,0,0,0,0,0]
[null,"137a",null,"lignite","[GJ/t]",null,0,0,0,0,0,0,0,0,0,0,0,0,0,0,0,0,0,0,0,0,0,0,0,0,0,0,0,0,0,0,0,0,0,0,0,0,0,0,0,0,0,0,0,0,0,0,0,0,0,0,0,0,0,0,0,0,0,0,0,0,0]
[null,{"$f":"B275+1","v":138},"Alternative fossil and mixed fuels"]
[null,{"$f":"B277+1","v":139},null,"waste oil","[GJ/t]",null,0,0,0,0,0,0,0,0,0,0,0,0,0,0,0,0,0,0,0,0,0,0,0,0,0,0,0,0,0,0,0,0,0,0,0,0,0,0,0,0,0,0,0,0,0,0,0,0,0,0,0,0,0,0,0,0,0,0,0,0,0]
[null,{"$f":"B278+1","v":140},null,"tyres","[GJ/t]",null,0,0,0,0,0,0,0,0,0,0,0,0,0,0,0,0,0,0,0,0,0,0,0,0,0,0,0,0,0,0,0,0,0,0,0,0,0,0,0,0,0,0,0,0,0,0,0,0,0,0,0,0,0,0,0,0,0,0,0,0,0]
[null,{"$f":"B279+1","v":141},null,"RDF including plastics","[GJ/t]",null,0,0,0,0,0,0,0,0,0,0,0,0,0,0,0,0,0,0,0,0,0,0,0,0,0,0,0,0,0,0,0,0,0,0,0,0,0,0,0,0,0,0,0,0,0,0,0,0,0,0,0,0,0,0,0,0,0,0,0,0,0]
[null,{"$f":"B280+1","v":142},null,"solvents","[GJ/t]",null,0,0,0,0,0,0,0,0,0,0,0,0,0,0,0,0,0,0,0,0,0,0,0,0,0,0,0,0,0,0,0,0,0,0,0,0,0,0,0,0,0,0,0,0,0,0,0,0,0,0,0,0,0,0,0,0,0,0,0,0,0]
[null,{"$f":"B281+1","v":143},null,"impregnated saw dust","[GJ/t]",null,0,0,0,0,0,0,0,0,0,0,0,0,0,0,0,0,0,0,0,0,0,0,0,0,0,0,0,0,0,0,0,0,0,0,0,0,0,0,0,0,0,0,0,0,0,0,0,0,0,0,0,0,0,0,0,0,0,0,0,0,0]
[null,"143a",null,"mixed industrial waste","[GJ/t]",null,0,0,0,0,0,0,0,0,0,0,0,0,0,0,0,0,0,0,0,0,0,0,0,0,0,0,0,0,0,0,0,0,0,0,0,0,0,0,0,0,0,0,0,0,0,0,0,0,0,0,0,0,0,0,0,0,0,0,0,0,0]
[null,144,null,"other fossil based wastes and mixed fuels","[GJ/t]",null,0,0,0,0,0,0,0,0,0,0,0,0,0,0,0,0,0,0,0,0,0,0,0,0,0,0,0,0,0,0,0,0,0,0,0,0,0,0,0,0,0,0,0,0,0,0,0,0,0,0,0,0,0,0,0,0,0,0,0,0,0]
[null,{"$f":"B284+1","v":145},"Biomass fuels"]
[null,146,null,"sewage sludge","[GJ/t]",null,0,0,0,0,0,0,0,0,0,0,0,0,0,0,0,0,0,0,0,0,0,0,0,0,0,0,0,0,0,0,0,0,0,0,0,0,0,0,0,0,0,0,0,0,0,0,0,0,0,0,0,0,0,0,0,0,0,0,0,0,0]
[null,147,null,"wood, non impregnated saw dust","[GJ/t]",null,0,0,0,0,0,0,0,0,0,0,0,0,0,0,0,0,0,0,0,0,0,0,0,0,0,0,0,0,0,0,0,0,0,0,0,0,0,0,0,0,0,0,0,0,0,0,0,0,0,0,0,0,0,0,0,0,0,0,0,0,0]
[null,148,null,"paper, carton","[GJ/t]",null,0,0,0,0,0,0,0,0,0,0,0,0,0,0,0,0,0,0,0,0,0,0,0,0,0,0,0,0,0,0,0,0,0,0,0,0,0,0,0,0,0,0,0,0,0,0,0,0,0,0,0,0,0,0,0,0,0,0,0,0,0]
[null,149,null,"animal meal","[GJ/t]",null,0,0,0,0,0,0,0,0,0,0,0,0,0,0,0,0,0,0,0,0,0,0,0,0,0,0,0,0,0,0,0,0,0,0,0,0,0,0,0,0,0,0,0,0,0,0,0,0,0,0,0,0,0,0,0,0,0,0,0,0,0]
[null,150,null,"animal bone meal","[GJ/t]",null,0,0,0,0,0,0,0,0,0,0,0,0,0,0,0,0,0,0,0,0,0,0,0,0,0,0,0,0,0,0,0,0,0,0,0,0,0,0,0,0,0,0,0,0,0,0,0,0,0,0,0,0,0,0,0,0,0,0,0,0,0]
[null,151,null,"animal fat","[GJ/t]",null,0,0,0,0,0,0,0,0,0,0,0,0,0,0,0,0,0,0,0,0,0,0,0,0,0,0,0,0,0,0,0,0,0,0,0,0,0,0,0,0,0,0,0,0,0,0,0,0,0,0,0,0,0,0,0,0,0,0,0,0,0]
[null,152,null,"agricultural, organic, diaper waste, charcoal","[GJ/t]",null,0,0,0,0,0,0,0,0,0,0,0,0,0,0,0,0,0,0,0,0,0,0,0,0,0,0,0,0,0,0,0,0,0,0,0,0,0,0,0,0,0,0,0,0,0,0,0,0,0,0,0,0,0,0,0,0,0,0,0,0,0]
[null,153,null,"other biomass","[GJ/t]",null,0,0,0,0,0,0,0,0,0,0,0,0,0,0,0,0,0,0,0,0,0,0,0,0,0,0,0,0,0,0,0,0,0,0,0,0,0,0,0,0,0,0,0,0,0,0,0,0,0,0,0,0,0,0,0,0,0,0,0,0,0]
[null,"Drying of raw materials and fuels",null,null,null,null,{"$f":"G$7","v":1990},1991,1992,1993,1994,1995,1996,1997,1998,1999,2000,2001,2002,2003,2004,2005,2006,2007,2008,2009,2010,2011,2012,2013,2014,2015,2016,2017,2018,2019,2020,2021,2022,2023,2024,2025,2026,2027,2028,2029,2030,2031,2032,2033,2034,2035,2036,2037,2038,2039,2040,2041,2042,2043,2044,2045,2046,2047,2048,2049,2050]
[null,154,"Conventional fossil fuels"]
[null,"154a",null,"coal + anthracite + lignite","[GJ/t]",null,{"$f":"G270","v":0},0,0,0,0,0,0,0,0,0,0,0,0,0,0,0,0,0,0,0,0,0,0,0,0,0,0,0,0,0,0,{"$f":"AL270","v":0},0,0,0,0,{"$f":"AQ270","v":0},0,0,0,0,0,0,0,0,0,0,0,0,0,0,0,0,0,0,0,0,0,0,0,0]
[null,"154b",null,"petrol coke","[GJ/t]",null,{"$f":"G271","v":0},0,0,0,0,0,0,0,0,0,0,0,0,0,0,0,0,0,0,0,0,0,0,0,0,0,0,0,0,0,0,0,0,0,0,0,{"$f":"AQ271","v":0},0,0,0,0,0,0,0,0,0,0,0,0,0,0,0,0,0,0,0,0,0,0,0,0]
[null,"154c",null,"(ultra) heavy fuel","[GJ/t]",null,{"$f":"G272","v":0},0,0,0,0,0,0,0,0,0,0,0,0,0,0,0,0,0,0,0,0,0,0,0,0,0,0,0,0,0,0,0,0,0,0,0,{"$f":"AQ272","v":0},0,0,0,0,0,0,0,0,0,0,0,0,0,0,0,0,0,0,0,0,0,0,0,0]
[null,"154d",null,"diesel oil","[GJ/t]",null,{"$f":"G273","v":0},0,0,0,0,0,0,0,0,0,0,0,0,0,0,0,0,0,0,0,0,0,0,0,0,0,0,0,0,0,0,0,0,0,0,0,{"$f":"AQ273","v":0},0,0,0,0,0,0,0,0,0,0,0,0,0,0,0,0,0,0,0,0,0,0,0,0]
[null,"154e",null,"natural gas ","[GJ/1'000 Nm3]",null,{"$f":"G274","v":0},0,0,0,0,0,0,0,0,0,0,0,0,0,0,0,0,0,0,0,0,0,0,0,0,0,0,0,0,0,0,{"$f":"AL274","v":0},0,0,0,0,{"$f":"AQ274","v":0},0,0,0,0,0,0,0,0,0,0,0,0,0,0,0,0,0,0,0,0,0,0,0,0]
[null,"154f",null,"shale","[GJ/t]",null,{"$f":"G275","v":0},0,0,0,0,0,0,0,0,0,0,0,0,0,0,0,0,0,0,0,0,0,0,0,0,0,0,0,0,0,0,0,0,0,0,0,{"$f":"AQ275","v":0},0,0,0,0,0,0,0,0,0,0,0,0,0,0,0,0,0,0,0,0,0,0,0,0]
[null,155,"Alternative fossil and mixed fuels"]
[null,"155a",null,"other fossil based wastes and mixed fuels","[GJ/t]",null,0,0,0,0,0,0,0,0,0,0,0,0,0,0,0,0,0,0,0,0,0,0,0,0,0,0,0,0,0,0,0,0,0,0,0,0,0,0,0,0,0,0,0,0,0,0,0,0,0,0,0,0,0,0,0,0,0,0,0,0,0]
[null,156,"Alternative biomass fuels"]
[null,"156a",null,"other biomass","[GJ/t]",null,0,0,0,0,0,0,0,0,0,0,0,0,0,0,0,0,0,0,0,0,0,0,0,0,0,0,0,0,0,0,0,0,0,0,0,0,0,0,0,0,0,0,0,0,0,0,0,0,0,0,0,0,0,0,0,0,0,0,0,0,0]
[]
[null,"Kiln Fuel Consumption in terajoules (TJ) per year",null,null,null,null,{"$f":"G$7","v":1990},1991,1992,1993,1994,1995,1996,1997,1998,1999,2000,2001,2002,2003,2004,2005,2006,2007,2008,2009,2010,2011,2012,2013,2014,2015,2016,2017,2018,2019,2020,2021,2022,2023,2024,2025,2026,2027,2028,2029,2030,2031,2032,2033,2034,2035,2036,2037,2038,2039,2040,2041,2042,2043,2044,2045,2046,2047,2048,2049,2050]
[null,161,"Conventional fossil fuels",null,"[TJ/yr]",null,{"$f":"IF(COUNTBLANK(G309:G315)=7,\"\",SUM(G309:G315))","v":0},{"$f":"IF(COUNTBLANK(H309:H315)=7,\"\",SUM(H309:H315))","v":0},0,0,0,0,0,0,0,0,0,0,0,0,0,0,0,0,0,0,0,0,0,0,0,0,{"$f":"IF(COUNTBLANK(AG309:AG315)=7,\"\",SUM(AG309:AG315))","v":0},0,0,0,0,0,0,0,0,0,{"$f":"IF(COUNTBLANK(AQ309:AQ315)=7,\"\",SUM(AQ309:AQ315))","v":0},0,0,0,0,0,0,0,0,0,0,0,0,0,0,0,0,0,0,0,0,0,0,0,0]
[null,{"$f":"B308+1","v":162},null,"coal + anthracite","[TJ/yr]",null,{"$f":"IF(G231=\"\",\"\",G231*G270/1000)","v":0},{"$f":"IF(H231=\"\",\"\",H231*H270/1000)","v":0},0,0,0,0,0,0,0,0,0,0,0,0,0,0,0,0,0,0,0,0,0,0,0,0,{"$f":"IF(AG231=\"\",\"\",AG231*AG270/1000)","v":0},0,0,0,0,{"$f":"IF(AL231=\"\",\"\",AL231*AL270/1000)","v":0},0,0,0,0,{"$f":"IF(AQ231=\"\",\"\",AQ231*AQ270/1000)","v":0},0,0,0,0,0,0,0,0,0,0,0,0,0,0,0,0,0,0,0,0,0,0,0,0]
[null,163,null,"petrol coke","[TJ/yr]",null,0,{"$f":"IF(H232=\"\",\"\",H232*H271/1000)","v":0},0,0,0,0,0,0,0,0,0,0,0,0,0,0,0,0,0,0,0,0,0,0,0,0,0,0,0,0,0,0,0,0,0,0,{"$f":"IF(AQ232=\"\",\"\",AQ232*AQ271/1000)","v":0},0,0,0,0,0,0,0,0,0,0,0,0,0,0,0,0,0,0,0,0,0,0,0,0]
[null,164,null,"(ultra) heavy fuel","[TJ/yr]",null,0,0,0,0,0,0,0,0,0,0,0,0,0,0,0,0,0,0,0,0,0,0,0,0,0,0,0,0,0,0,0,0,0,0,0,0,{"$f":"IF(AQ233=\"\",\"\",AQ233*AQ272/1000)","v":0},0,0,0,0,0,0,0,0,0,0,0,0,0,0,0,0,0,0,0,0,0,0,0,0]
[null,165,null,"diesel oil","[TJ/yr]",null,0,0,0,0,0,0,0,0,0,0,0,0,0,0,0,0,0,0,0,0,0,0,0,0,0,0,0,0,0,0,0,0,0,0,0,0,{"$f":"IF(AQ234=\"\",\"\",AQ234*AQ273/1000)","v":0},0,0,0,0,0,0,0,0,0,0,0,0,0,0,0,0,0,0,0,0,0,0,0,0]
[null,166,null,"natural gas ","[TJ/yr]",null,0,0,0,0,0,0,0,0,0,0,0,0,0,0,0,0,0,0,0,0,0,0,0,0,0,0,0,0,0,0,0,0,0,0,0,0,{"$f":"IF(AQ235=\"\",\"\",AQ235*AQ274/1000)","v":0},0,0,0,0,0,0,0,0,0,0,0,0,0,0,0,0,0,0,0,0,0,0,0,0]
[null,167,null,"shale","[TJ/yr]",null,0,0,0,0,0,0,0,0,0,0,0,0,0,0,0,0,0,0,0,0,0,0,0,0,0,0,0,0,0,0,0,0,0,0,0,0,{"$f":"IF(AQ236=\"\",\"\",AQ236*AQ275/1000)","v":0},0,0,0,0,0,0,0,0,0,0,0,0,0,0,0,0,0,0,0,0,0,0,0,0]
[null,"167a",null,"lignite","[TJ/yr]",null,0,0,0,0,0,0,0,0,0,0,0,0,0,0,0,0,0,0,0,0,0,0,0,0,0,0,0,0,0,0,0,0,0,0,0,0,{"$f":"IF(AQ237=\"\",\"\",AQ237*AQ276/1000)","v":0},0,0,0,0,0,0,0,0,0,0,0,0,0,0,0,0,0,0,0,0,0,0,0,0]
[null,{"$f":"B314+1","v":168},"Alternative fossil and mixed fuels, excluding biomass fraction of mixed fuels",null,"[TJ/yr]",null,{"$f":"IF(COUNTBLANK(G317:G323)=7,\"\",SUM(G317:G323))","v":0},{"$f":"IF(COUNTBLANK(H317:H323)=7,\"\",SUM(H317:H323))","v":0},0,0,0,0,0,0,0,0,0,0,0,0,0,0,0,0,0,0,0,0,0,0,0,0,{"$f":"IF(COUNTBLANK(AG317:AG323)=7,\"\",SUM(AG317:AG323))","v":0},0,0,0,0,0,0,0,0,0,{"$f":"IF(COUNTBLANK(AQ317:AQ323)=7,\"\",SUM(AQ317:AQ323))","v":0},0,0,0,0,0,0,0,0,0,0,0,0,0,0,0,0,0,0,0,0,0,0,0,0]
[null,{"$f":"B316+1","v":169},null,"waste oil","[TJ/yr]",null,{"$f":"IF(G239=\"\",\"\",G239*(G278/1000)*(1-G369))","v":0},{"$f":"IF(H239=\"\",\"\",H239*(H278/1000)*(1-H369))","v":0},0,0,0,0,0,0,0,0,0,0,0,0,0,0,0,0,0,0,0,0,0,0,0,0,{"$f":"IF(AG239=\"\",\"\",AG239*(AG278/1000)*(1-AG369))","v":0},0,0,0,0,{"$f":"IF(AL239=\"\",\"\",AL239*(AL278/1000)*(1-AL369))","v":0},0,0,0,0,{"$f":"IF(AQ239=\"\",\"\",AQ239*(AQ278/1000)*(1-AQ369))","v":0},0,0,0,0,0,0,0,0,0,0,0,0,0,0,0,0,0,0,0,0,0,0,0,0]
[null,{"$f":"B317+1","v":170},null,"tyres","[TJ/yr]",null,0,{"$f":"IF(H240=\"\",\"\",H240*(H279/1000)*(1-H370))","v":0},0,0,0,0,0,0,0,0,0,0,0,0,0,0,0,0,0,0,0,0,0,0,0,0,0,0,0,0,0,0,0,0,0,0,{"$f":"IF(AQ240=\"\",\"\",AQ240*(AQ279/1000)*(1-AQ370))","v":0},0,0,0,0,0,0,0,0,0,0,0,0,0,0,0,0,0,0,0,0,0,0,0,0]
[null,{"$f":"B318+1","v":171},null,"RDF including plastics","[TJ/yr]",null,0,{"$f":"IF(H241=\"\",\"\",H241*(H280/1000)*(1-H371))","v":0},0,0,0,0,0,0,0,0,0,0,0,0,0,0,0,0,0,0,0,0,0,0,0,0,0,0,0,0,0,0,0,0,0,0,{"$f":"IF(AQ241=\"\",\"\",AQ241*(AQ280/1000)*(1-AQ371))","v":0},0,0,0,0,0,0,0,0,0,0,0,0,0,0,0,0,0,0,0,0,0,0,0,0]
[null,{"$f":"B319+1","v":172},null,"solvents","[TJ/yr]",null,0,{"$f":"IF(H242=\"\",\"\",H242*(H281/1000)*(1-H372))","v":0},0,0,0,0,0,0,0,0,0,0,0,0,0,0,0,0,0,0,0,0,0,0,0,0,0,0,0,0,0,0,0,0,0,0,{"$f":"IF(AQ242=\"\",\"\",AQ242*(AQ281/1000)*(1-AQ372))","v":0},0,0,0,0,0,0,0,0,0,0,0,0,0,0,0,0,0,0,0,0,0,0,0,0]
[null,{"$f":"B320+1","v":173},null,"impregnated saw dust","[TJ/yr]",null,0,{"$f":"IF(H243=\"\",\"\",H243*(H282/1000)*(1-H373))","v":0},0,0,0,0,0,0,0,0,0,0,0,0,0,0,0,0,0,0,0,0,0,0,0,0,0,0,0,0,0,0,0,0,0,0,{"$f":"IF(AQ243=\"\",\"\",AQ243*(AQ282/1000)*(1-AQ373))","v":0},0,0,0,0,0,0,0,0,0,0,0,0,0,0,0,0,0,0,0,0,0,0,0,0]
[null,"173a",null,"mixed industrial waste","[TJ/yr]",null,0,{"$f":"IF(H244=\"\",\"\",H244*(H283/1000)*(1-H374))","v":0},0,0,0,0,0,0,0,0,0,0,0,0,0,0,0,0,0,0,0,0,0,0,0,0,0,0,0,0,0,0,0,0,0,0,{"$f":"IF(AQ244=\"\",\"\",AQ244*(AQ283/1000)*(1-AQ374))","v":0},0,0,0,0,0,0,0,0,0,0,0,0,0,0,0,0,0,0,0,0,0,0,0,0]
[null,174,null,"other fossil based wastes (excl. biomass content of mixed fuels)","[TJ/yr]",null,{"$f":"IF(G245=\"\",\"\",G245*(G284/1000)*(1-G376))","v":0},{"$f":"IF(H245=\"\",\"\",H245*(H284/1000)*(1-H376))","v":0},0,0,0,0,0,0,0,0,0,0,0,0,0,0,0,0,0,0,0,0,0,0,0,0,{"$f":"IF(AG245=\"\",\"\",AG245*(AG284/1000)*(1-AG376))","v":0},0,0,0,0,0,0,0,0,0,{"$f":"IF(AQ245=\"\",\"\",AQ245*(AQ284/1000)*(1-AQ376))","v":0},0,0,0,0,0,0,0,0,0,0,0,0,0,0,0,0,0,0,0,0,0,0,0,0]
[null,{"$f":"B323+1","v":175},"Biomass fuels - total, incl. biomass cont. from alternative fossil fuels",null,"[TJ/yr]",null,{"$f":"IF(COUNTBLANK(G325:G333)=9,\"\",SUM(G325:G333))","v":0},{"$f":"IF(COUNTBLANK(H325:H333)=9,\"\",SUM(H325:H333))","v":0},0,0,0,0,0,0,0,0,0,0,0,0,0,0,0,0,0,0,0,0,0,0,0,0,{"$f":"IF(COUNTBLANK(AG325:AG333)=9,\"\",SUM(AG325:AG333))","v":0},0,0,0,0,0,0,0,0,0,{"$f":"IF(COUNTBLANK(AQ325:AQ333)=9,\"\",SUM(AQ325:AQ333))","v":0},0,0,0,0,0,0,0,0,0,0,0,0,0,0,0,0,0,0,0,0,0,0,0,0]
[null,176,null,"sewage sludge","[TJ/yr]",null,{"$f":"IF(G247=\"\",\"\",G247*G286/1000)","v":0},{"$f":"IF(H247=\"\",\"\",H247*H286/1000)","v":0},0,0,0,0,0,0,0,0,0,0,0,0,0,0,0,0,0,0,0,0,0,0,0,0,{"$f":"IF(AG247=\"\",\"\",AG247*AG286/1000)","v":0},0,0,0,0,{"$f":"IF(AL247=\"\",\"\",AL247*AL286/1000)","v":0},0,0,0,0,{"$f":"IF(AQ247=\"\",\"\",AQ247*AQ286/1000)","v":0},0,0,0,0,0,0,0,0,0,0,0,0,0,0,0,0,0,0,0,0,0,0,0,0]
[null,177,null,"wood, non impregnated saw dust","[TJ/yr]",null,0,{"$f":"IF(H248=\"\",\"\",H248*H287/1000)","v":0},0,0,0,0,0,0,0,0,0,0,0,0,0,0,0,0,0,0,0,0,0,0,0,0,0,0,0,0,0,0,0,0,0,0,{"$f":"IF(AQ248=\"\",\"\",AQ248*AQ287/1000)","v":0},0,0,0,0,0,0,0,0,0,0,0,0,0,0,0,0,0,0,0,0,0,0,0,0]
[null,178,null,"paper, carton","[TJ/yr]",null,0,0,0,0,0,0,0,0,0,0,0,0,0,0,0,0,0,0,0,0,0,0,0,0,0,0,0,0,0,0,0,0,0,0,0,0,{"$f":"IF(AQ249=\"\",\"\",AQ249*AQ288/1000)","v":0},0,0,0,0,0,0,0,0,0,0,0,0,0,0,0,0,0,0,0,0,0,0,0,0]
[null,179,null,"animal meal","[TJ/yr]",null,0,0,0,0,0,0,0,0,0,0,0,0,0,0,0,0,0,0,0,0,0,0,0,0,0,0,0,0,0,0,0,0,0,0,0,0,{"$f":"IF(AQ250=\"\",\"\",AQ250*AQ289/1000)","v":0},0,0,0,0,0,0,0,0,0,0,0,0,0,0,0,0,0,0,0,0,0,0,0,0]
[null,180,null,"animal bone meal","[TJ/yr]",null,0,0,0,0,0,0,0,0,0,0,0,0,0,0,0,0,0,0,0,0,0,0,0,0,0,0,0,0,0,0,0,0,0,0,0,0,{"$f":"IF(AQ251=\"\",\"\",AQ251*AQ290/1000)","v":0},0,0,0,0,0,0,0,0,0,0,0,0,0,0,0,0,0,0,0,0,0,0,0,0]
[null,181,null,"animal fat","[TJ/yr]",null,0,0,0,0,0,0,0,0,0,0,0,0,0,0,0,0,0,0,0,0,0,0,0,0,0,0,0,0,0,0,0,0,0,0,0,0,{"$f":"IF(AQ252=\"\",\"\",AQ252*AQ291/1000)","v":0},0,0,0,0,0,0,0,0,0,0,0,0,0,0,0,0,0,0,0,0,0,0,0,0]
[null,182,null,"agricultural, organic, diaper waste, charcoal","[TJ/yr]",null,0,0,0,0,0,0,0,0,0,0,0,0,0,0,0,0,0,0,0,0,0,0,0,0,0,0,0,0,0,0,0,0,0,0,0,0,{"$f":"IF(AQ253=\"\",\"\",AQ253*AQ292/1000)","v":0},0,0,0,0,0,0,0,0,0,0,0,0,0,0,0,0,0,0,0,0,0,0,0,0]
[null,183,null,"other biomass","[TJ/yr]",null,0,0,0,0,0,0,0,0,0,0,0,0,0,0,0,0,0,0,0,0,0,0,0,0,0,0,0,0,0,0,0,0,0,0,0,0,{"$f":"IF(AQ254=\"\",\"\",AQ254*AQ293/1000)","v":0},0,0,0,0,0,0,0,0,0,0,0,0,0,0,0,0,0,0,0,0,0,0,0,0]
[null,"183a",null,"biomass content from alternative fuels","[TJ/yr]",null,{"$f":"(G239*G278*G$369+G240*G279*G$370+G241*G280*G$371+G242*G281*G$372+G243*G282*G$373+G244*G283*G$374+G245*G284*G$376)/1000","v":0},{"$f":"(H239*H278*H$369+H240*H279*H$370+H241*H280*H$371+H242*H281*H$372+H243*H282*H$373+H244*H283*H$374+H245*H284*H$376)/1000","v":0},0,0,0,0,0,0,0,0,0,0,0,0,0,0,0,0,0,0,0,0,0,0,0,0,{"$f":"(AG239*AG278*AG$369+AG240*AG279*AG$370+AG241*AG280*AG$371+AG242*AG281*AG$372+AG243*AG282*AG$373+AG244*AG283*AG$374+AG245*AG284*AG$376)/1000","v":0},0,0,0,0,0,0,0,0,0,{"$f":"(AQ239*AQ278*AQ$369+AQ240*AQ279*AQ$370+AQ241*AQ280*AQ$371+AQ242*AQ281*AQ$372+AQ243*AQ282*AQ$373+AQ244*AQ283*AQ$374+AQ245*AQ284*AQ$376)/1000","v":0},0,0,0,0,0,0,0,0,0,0,0,0,0,0,0,0,0,0,0,0,0,0,0,0]
[null,"Drying of raw materials and fuels",null,null,null,null,{"$f":"G$7","v":1990},1991,1992,1993,1994,1995,1996,1997,1998,1999,2000,2001,2002,2003,2004,2005,2006,2007,2008,2009,2010,2011,2012,2013,2014,2015,2016,2017,2018,2019,2020,2021,2022,2023,2024,2025,2026,2027,2028,2029,2030,2031,2032,2033,2034,2035,2036,2037,2038,2039,2040,2041,2042,2043,2044,2045,2046,2047,2048,2049,2050]
[null,184,"Conventional fossil fuels",null,"[TJ/yr]",null,{"$f":"IF(COUNTBLANK(G336:G341)=6,\"\",SUM(G336:G341))","v":0},{"$f":"IF(COUNTBLANK(H336:H341)=6,\"\",SUM(H336:H341))","v":0},0,0,0,0,0,0,0,0,0,0,0,0,0,0,0,0,0,0,0,0,0,0,0,0,{"$f":"IF(COUNTBLANK(AG336:AG341)=6,\"\",SUM(AG336:AG341))","v":0},0,0,0,0,0,0,0,0,0,{"$f":"IF(COUNTBLANK(AQ336:AQ341)=6,\"\",SUM(AQ336:AQ341))","v":0},0,0,0,0,0,0,0,0,0,0,0,0,0,0,0,0,0,0,0,0,0,0,0,0]
[null,"184a",null,"coal + anthracite + lignite","[TJ/yr]",null,{"$f":"IF(G257=\"\",\"\",G257*G296/1000)","v":0},{"$f":"IF(H257=\"\",\"\",H257*H296/1000)","v":0},0,0,0,0,0,0,0,0,0,0,0,0,0,0,0,0,0,0,0,0,0,0,0,0,{"$f":"IF(AG257=\"\",\"\",AG257*AG296/1000)","v":0},0,0,0,0,{"$f":"IF(AL257=\"\",\"\",AL257*AL296/1000)","v":0},0,0,0,0,{"$f":"IF(AQ257=\"\",\"\",AQ257*AQ296/1000)","v":0},0,0,0,0,0,0,0,0,0,0,0,0,0,0,0,0,0,0,0,0,0,0,0,0]
[null,"184b",null,"petrol coke","[TJ/yr]",null,0,{"$f":"IF(H258=\"\",\"\",H258*H297/1000)","v":0},0,0,0,0,0,0,0,0,0,0,0,0,0,0,0,0,0,0,0,0,0,0,0,0,0,0,0,0,0,0,0,0,0,0,{"$f":"IF(AQ258=\"\",\"\",AQ258*AQ297/1000)","v":0},0,0,0,0,0,0,0,0,0,0,0,0,0,0,0,0,0,0,0,0,0,0,0,0]
[null,"184c",null,"(ultra) heavy fuel","[TJ/yr]",null,0,{"$f":"IF(H259=\"\",\"\",H259*H298/1000)","v":0},0,0,0,0,0,0,0,0,0,0,0,0,0,0,0,0,0,0,0,0,0,0,0,0,0,0,0,0,0,0,0,0,0,0,{"$f":"IF(AQ259=\"\",\"\",AQ259*AQ298/1000)","v":0},0,0,0,0,0,0,0,0,0,0,0,0,0,0,0,0,0,0,0,0,0,0,0,0]
[null,"184d",null,"diesel oil","[TJ/yr]",null,0,{"$f":"IF(H260=\"\",\"\",H260*H299/1000)","v":0},0,0,0,0,0,0,0,0,0,0,0,0,0,0,0,0,0,0,0,0,0,0,0,0,0,0,0,0,0,0,0,0,0,0,{"$f":"IF(AQ260=\"\",\"\",AQ260*AQ299/1000)","v":0},0,0,0,0,0,0,0,0,0,0,0,0,0,0,0,0,0,0,0,0,0,0,0,0]
[null,"184e",null,"natural gas ","[TJ/yr]",null,0,{"$f":"IF(H261=\"\",\"\",H261*H300/1000)","v":0},0,0,0,0,0,0,0,0,0,0,0,0,0,0,0,0,0,0,0,0,0,0,0,0,0,0,0,0,0,0,0,0,0,0,{"$f":"IF(AQ261=\"\",\"\",AQ261*AQ300/1000)","v":0},0,0,0,0,0,0,0,0,0,0,0,0,0,0,0,0,0,0,0,0,0,0,0,0]
[null,"184f",null,"shale","[TJ/yr]",null,0,{"$f":"IF(H262=\"\",\"\",H262*H301/1000)","v":0},0,0,0,0,0,0,0,0,0,0,0,0,0,0,0,0,0,0,0,0,0,0,0,0,0,0,0,0,0,0,0,0,0,0,{"$f":"IF(AQ262=\"\",\"\",AQ262*AQ301/1000)","v":0},0,0,0,0,0,0,0,0,0,0,0,0,0,0,0,0,0,0,0,0,0,0,0,0]
[null,"184g","Alternative fossil fuels",null,"[TJ/yr]",null,{"$f":"G343","v":0},0,0,0,0,0,0,0,0,0,0,0,0,0,0,0,0,0,0,0,0,0,0,0,0,0,0,0,0,0,0,0,0,0,0,0,0,0,0,0,0,0,0,0,0,0,0,0,0,0,0,0,0,0,0,0,0,0,0,0,0]
[null,"184h",null,"other fossil based wastes (excl. biomass content of mixed fuels)","[TJ/yr]",null,{"$f":"IF(G264=\"\",\"\",G264*(G303/1000)*(1-G376))","v":0},{"$f":"IF(H264=\"\",\"\",H264*(H303/1000)*(1-H376))","v":0},0,0,0,0,0,0,0,0,0,0,0,0,0,0,0,0,0,0,0,0,0,0,0,0,{"$f":"IF(AG264=\"\",\"\",AG264*(AG303/1000)*(1-AG376))","v":0},0,0,0,0,0,0,0,0,0,{"$f":"IF(AQ264=\"\",\"\",AQ264*(AQ303/1000)*(1-AQ376))","v":0},0,0,0,0,0,0,0,0,0,0,0,0,0,0,0,0,0,0,0,0,0,0,0,0]
[null,"184i","Alternative biomass fuels",null,"[TJ/yr]",null,{"$f":"G345","v":0},0,0,0,0,0,0,0,0,0,0,0,0,0,0,0,0,0,0,0,0,0,0,0,0,0,0,0,0,0,0,0,0,0,0,0,0,0,0,0,0,0,0,0,0,0,0,0,0,0,0,0,0,0,0,0,0,0,0,0,0]
[null,"184j",null,"other biomass (incl. biomass content of mixed fuels)","[TJ/yr]",null,{"$f":"IF(G266=\"\",\"\",(G266*G305/1000)+(G264*G303/1000*G376))","v":0},{"$f":"IF(H266=\"\",\"\",(H266*H305/1000)+(H264*H303/1000*H376))","v":0},0,0,0,0,0,0,0,0,0,0,0,0,0,0,0,0,0,0,0,0,0,0,0,0,{"$f":"IF(AG266=\"\",\"\",(AG266*AG305/1000)+(AG264*AG303/1000*AG376))","v":0},0,0,0,0,0,0,0,0,0,{"$f":"IF(AQ266=\"\",\"\",(AQ266*AQ305/1000)+(AQ264*AQ303/1000*AQ376))","v":0},0,0,0,0,0,0,0,0,0,0,0,0,0,0,0,0,0,0,0,0,0,0,0,0]
[]
[null,"CO2 Emission Factors of Kiln and Non-Kiln Fuels (per lower heating value)",null,null,null,null,{"$f":"G$7","v":1990},1991,1992,1993,1994,1995,1996,1997,1998,1999,2000,2001,2002,2003,2004,2005,2006,2007,2008,2009,2010,2011,2012,2013,2014,2015,2016,2017,2018,2019,2020,2021,2022,2023,2024,2025,2026,2027,2028,2029,2030,2031,2032,2033,2034,2035,2036,2037,2038,2039,2040,2041,2042,2043,2044,2045,2046,2047,2048,2049,2050]
[null,185,"Conventional fossil fuels"]
[null,{"$f":"B348+1","v":186},null,"coal + anthracite","[kg CO2/GJ]",null,{"$f":"'Fuel CO2 Factors'!$D7","v":96},{"$f":"'Fuel CO2 Factors'!$D7","v":96},{"$f":"'Fuel CO2 Factors'!$D7","v":96},{"$f":"'Fuel CO2 Factors'!$D7","v":96},{"$f":"'Fuel CO2 Factors'!$D7","v":96},{"$f":"'Fuel CO2 Factors'!$D7","v":96},{"$f":"'Fuel CO2 Factors'!$D7","v":96},{"$f":"'Fuel CO2 Factors'!$D7","v":96},{"$f":"'Fuel CO2 Factors'!$D7","v":96},{"$f":"'Fuel CO2 Factors'!$D7","v":96},{"$f":"'Fuel CO2 Factors'!$D7","v":96},{"$f":"'Fuel CO2 Factors'!$D7","v":96},{"$f":"'Fuel CO2 Factors'!$D7","v":96},{"$f":"'Fuel CO2 Factors'!$D7","v":96},{"$f":"'Fuel CO2 Factors'!$D7","v":96},{"$f":"'Fuel CO2 Factors'!$D7","v":96},{"$f":"'Fuel CO2 Factors'!$D7","v":96},{"$f":"'Fuel CO2 Factors'!$D7","v":96},{"$f":"'Fuel CO2 Factors'!$D7","v":96},{"$f":"'Fuel CO2 Factors'!$D7","v":96},{"$f":"'Fuel CO2 Factors'!$D7","v":96},{"$f":"'Fuel CO2 Factors'!$D7","v":96},{"$f":"'Fuel CO2 Factors'!$D7","v":96},{"$f":"'Fuel CO2 Factors'!$D7","v":96},{"$f":"'Fuel CO2 Factors'!$D7","v":96},{"$f":"'Fuel CO2 Factors'!$D7","v":96},{"$f":"'Fuel CO2 Factors'!$D7","v":96},{"$f":"'Fuel CO2 Factors'!$D7","v":96},{"$f":"'Fuel CO2 Factors'!$D7","v":96},{"$f":"'Fuel CO2 Factors'!$D7","v":96},{"$f":"'Fuel CO2 Factors'!$D7","v":96},{"$f":"'Fuel CO2 Factors'!$D7","v":96},{"$f":"'Fuel CO2 Factors'!$D7","v":96},{"$f":"'Fuel CO2 Factors'!$D7","v":96},{"$f":"'Fuel CO2 Factors'!$D7","v":96},{"$f":"'Fuel CO2 Factors'!$D7","v":96},{"$f":"'Fuel CO2 Factors'!$D7","v":96},{"$f":"'Fuel CO2 Factors'!$D7","v":96},{"$f":"'Fuel CO2 Factors'!$D7","v":96},{"$f":"'Fuel CO2 Factors'!$D7","v":96},{"$f":"'Fuel CO2 Factors'!$D7","v":96},{"$f":"'Fuel CO2 Factors'!$D7","v":96},{"$f":"'Fuel CO2 Factors'!$D7","v":96},{"$f":"'Fuel CO2 Factors'!$D7","v":96},{"$f":"'Fuel CO2 Factors'!$D7","v":96},{"$f":"'Fuel CO2 Factors'!$D7","v":96},{"$f":"'Fuel CO2 Factors'!$D7","v":96},{"$f":"'Fuel CO2 Factors'!$D7","v":96},{"$f":"'Fuel CO2 Factors'!$D7","v":96},{"$f":"'Fuel CO2 Factors'!$D7","v":96},{"$f":"'Fuel CO2 Factors'!$D7","v":96},{"$f":"'Fuel CO2 Factors'!$D7","v":96},{"$f":"'Fuel CO2 Factors'!$D7","v":96},{"$f":"'Fuel CO2 Factors'!$D7","v":96},{"$f":"'Fuel CO2 Factors'!$D7","v":96},{"$f":"'Fuel CO2 Factors'!$D7","v":96},{"$f":"'Fuel CO2 Factors'!$D7","v":96},{"$f":"'Fuel CO2 Factors'!$D7","v":96},{"$f":"'Fuel CO2 Factors'!$D7","v":96},{"$f":"'Fuel CO2 Factors'!$D7","v":96},{"$f":"'Fuel CO2 Factors'!$D7","v":96}]
[null,187,null,"petrol coke","[kg CO2/GJ]",null,{"$f":"'Fuel CO2 Factors'!$E8","v":92.8},{"$f":"'Fuel CO2 Factors'!$E8","v":92.8},{"$f":"'Fuel CO2 Factors'!$E8","v":92.8},{"$f":"'Fuel CO2 Factors'!$E8","v":92.8},{"$f":"'Fuel CO2 Factors'!$E8","v":92.8},{"$f":"'Fuel CO2 Factors'!$E8","v":92.8},{"$f":"'Fuel CO2 Factors'!$E8","v":92.8},{"$f":"'Fuel CO2 Factors'!$E8","v":92.8},{"$f":"'Fuel CO2 Factors'!$E8","v":92.8},{"$f":"'Fuel CO2 Factors'!$E8","v":92.8},{"$f":"'Fuel CO2 Factors'!$E8","v":92.8},{"$f":"'Fuel CO2 Factors'!$E8","v":92.8},{"$f":"'Fuel CO2 Factors'!$E8","v":92.8},{"$f":"'Fuel CO2 Factors'!$E8","v":92.8},{"$f":"'Fuel CO2 Factors'!$E8","v":92.8},{"$f":"'Fuel CO2 Factors'!$E8","v":92.8},{"$f":"'Fuel CO2 Factors'!$E8","v":92.8},{"$f":"'Fuel CO2 Factors'!$E8","v":92.8},{"$f":"'Fuel CO2 Factors'!$E8","v":92.8},{"$f":"'Fuel CO2 Factors'!$E8","v":92.8},{"$f":"'Fuel CO2 Factors'!$E8","v":92.8},{"$f":"'Fuel CO2 Factors'!$E8","v":92.8},{"$f":"'Fuel CO2 Factors'!$E8","v":92.8},{"$f":"'Fuel CO2 Factors'!$E8","v":92.8},{"$f":"'Fuel CO2 Factors'!$E8","v":92.8},{"$f":"'Fuel CO2 Factors'!$E8","v":92.8},{"$f":"'Fuel CO2 Factors'!$E8","v":92.8},{"$f":"'Fuel CO2 Factors'!$E8","v":92.8},{"$f":"'Fuel CO2 Factors'!$E8","v":92.8},{"$f":"'Fuel CO2 Factors'!$E8","v":92.8},{"$f":"'Fuel CO2 Factors'!$E8","v":92.8},{"$f":"'Fuel CO2 Factors'!$E8","v":92.8},{"$f":"'Fuel CO2 Factors'!$E8","v":92.8},{"$f":"'Fuel CO2 Factors'!$E8","v":92.8},{"$f":"'Fuel CO2 Factors'!$E8","v":92.8},{"$f":"'Fuel CO2 Factors'!$E8","v":92.8},{"$f":"'Fuel CO2 Factors'!$E8","v":92.8},{"$f":"'Fuel CO2 Factors'!$E8","v":92.8},{"$f":"'Fuel CO2 Factors'!$E8","v":92.8},{"$f":"'Fuel CO2 Factors'!$E8","v":92.8},{"$f":"'Fuel CO2 Factors'!$E8","v":92.8},{"$f":"'Fuel CO2 Factors'!$E8","v":92.8},{"$f":"'Fuel CO2 Factors'!$E8","v":92.8},{"$f":"'Fuel CO2 Factors'!$E8","v":92.8},{"$f":"'Fuel CO2 Factors'!$E8","v":92.8},{"$f":"'Fuel CO2 Factors'!$E8","v":92.8},{"$f":"'Fuel CO2 Factors'!$E8","v":92.8},{"$f":"'Fuel CO2 Factors'!$E8","v":92.8},{"$f":"'Fuel CO2 Factors'!$E8","v":92.8},{"$f":"'Fuel CO2 Factors'!$E8","v":92.8},{"$f":"'Fuel CO2 Factors'!$E8","v":92.8},{"$f":"'Fuel CO2 Factors'!$E8","v":92.8},{"$f":"'Fuel CO2 Factors'!$E8","v":92.8},{"$f":"'Fuel CO2 Factors'!$E8","v":92.8},{"$f":"'Fuel CO2 Factors'!$E8","v":92.8},{"$f":"'Fuel CO2 Factors'!$E8","v":92.8},{"$f":"'Fuel CO2 Factors'!$E8","v":92.8},{"$f":"'Fuel CO2 Factors'!$E8","v":92.8},{"$f":"'Fuel CO2 Factors'!$E8","v":92.8},{"$f":"'Fuel CO2 Factors'!$E8","v":92.8},{"$f":"'Fuel CO2 Factors'!$E8","v":92.8}]
[null,188,null,"(ultra) heavy fuel","[kg CO2/GJ]",null,{"$f":"'Fuel CO2 Factors'!$D9","v":77.400000000000006},{"$f":"'Fuel CO2 Factors'!$D9","v":77.400000000000006},{"$f":"'Fuel CO2 Factors'!$D9","v":77.400000000000006},{"$f":"'Fuel CO2 Factors'!$D9","v":77.400000000000006},{"$f":"'Fuel CO2 Factors'!$D9","v":77.400000000000006},{"$f":"'Fuel CO2 Factors'!$D9","v":77.400000000000006},{"$f":"'Fuel CO2 Factors'!$D9","v":77.400000000000006},{"$f":"'Fuel CO2 Factors'!$D9","v":77.400000000000006},{"$f":"'Fuel CO2 Factors'!$D9","v":77.400000000000006},{"$f":"'Fuel CO2 Factors'!$D9","v":77.400000000000006},{"$f":"'Fuel CO2 Factors'!$D9","v":77.400000000000006},{"$f":"'Fuel CO2 Factors'!$D9","v":77.400000000000006},{"$f":"'Fuel CO2 Factors'!$D9","v":77.400000000000006},{"$f":"'Fuel CO2 Factors'!$D9","v":77.400000000000006},{"$f":"'Fuel CO2 Factors'!$D9","v":77.400000000000006},{"$f":"'Fuel CO2 Factors'!$D9","v":77.400000000000006},{"$f":"'Fuel CO2 Factors'!$D9","v":77.400000000000006},{"$f":"'Fuel CO2 Factors'!$D9","v":77.400000000000006},{"$f":"'Fuel CO2 Factors'!$D9","v":77.400000000000006},{"$f":"'Fuel CO2 Factors'!$D9","v":77.400000000000006},{"$f":"'Fuel CO2 Factors'!$D9","v":77.400000000000006},{"$f":"'Fuel CO2 Factors'!$D9","v":77.400000000000006},{"$f":"'Fuel CO2 Factors'!$D9","v":77.400000000000006},{"$f":"'Fuel CO2 Factors'!$D9","v":77.400000000000006},{"$f":"'Fuel CO2 Factors'!$D9","v":77.400000000000006},{"$f":"'Fuel CO2 Factors'!$D9","v":77.400000000000006},{"$f":"'Fuel CO2 Factors'!$D9","v":77.400000000000006},{"$f":"'Fuel CO2 Factors'!$D9","v":77.400000000000006},{"$f":"'Fuel CO2 Factors'!$D9","v":77.400000000000006},{"$f":"'Fuel CO2 Factors'!$D9","v":77.400000000000006},{"$f":"'Fuel CO2 Factors'!$D9","v":77.400000000000006},{"$f":"'Fuel CO2 Factors'!$D9","v":77.400000000000006},{"$f":"'Fuel CO2 Factors'!$D9","v":77.400000000000006},{"$f":"'Fuel CO2 Factors'!$D9","v":77.400000000000006},{"$f":"'Fuel CO2 Factors'!$D9","v":77.400000000000006},{"$f":"'Fuel CO2 Factors'!$D9","v":77.400000000000006},{"$f":"'Fuel CO2 Factors'!$D9","v":77.400000000000006},{"$f":"'Fuel CO2 Factors'!$D9","v":77.400000000000006},{"$f":"'Fuel CO2 Factors'!$D9","v":77.400000000000006},{"$f":"'Fuel CO2 Factors'!$D9","v":77.400000000000006},{"$f":"'Fuel CO2 Factors'!$D9","v":77.400000000000006},{"$f":"'Fuel CO2 Factors'!$D9","v":77.400000000000006},{"$f":"'Fuel CO2 Factors'!$D9","v":77.400000000000006},{"$f":"'Fuel CO2 Factors'!$D9","v":77.400000000000006},{"$f":"'Fuel CO2 Factors'!$D9","v":77.400000000000006},{"$f":"'Fuel CO2 Factors'!$D9","v":77.400000000000006},{"$f":"'Fuel CO2 Factors'!$D9","v":77.400000000000006},{"$f":"'Fuel CO2 Factors'!$D9","v":77.400000000000006},{"$f":"'Fuel CO2 Factors'!$D9","v":77.400000000000006},{"$f":"'Fuel CO2 Factors'!$D9","v":77.400000000000006},{"$f":"'Fuel CO2 Factors'!$D9","v":77.400000000000006},{"$f":"'Fuel CO2 Factors'!$D9","v":77.400000000000006},{"$f":"'Fuel CO2 Factors'!$D9","v":77.400000000000006},{"$f":"'Fuel CO2 Factors'!$D9","v":77.400000000000006},{"$f":"'Fuel CO2 Factors'!$D9","v":77.400000000000006},{"$f":"'Fuel CO2 Factors'!$D9","v":77.400000000000006},{"$f":"'Fuel CO2 Factors'!$D9","v":77.400000000000006},{"$f":"'Fuel CO2 Factors'!$D9","v":77.400000000000006},{"$f":"'Fuel CO2 Factors'!$D9","v":77.400000000000006},{"$f":"'Fuel CO2 Factors'!$D9","v":77.400000000000006},{"$f":"'Fuel CO2 Factors'!$D9","v":77.400000000000006}]
[null,189,null,"diesel oil","[kg CO2/GJ]",null,{"$f":"'Fuel CO2 Factors'!$D10","v":74.099999999999994},{"$f":"'Fuel CO2 Factors'!$D10","v":74.099999999999994},{"$f":"'Fuel CO2 Factors'!$D10","v":74.099999999999994},{"$f":"'Fuel CO2 Factors'!$D10","v":74.099999999999994},{"$f":"'Fuel CO2 Factors'!$D10","v":74.099999999999994},{"$f":"'Fuel CO2 Factors'!$D10","v":74.099999999999994},{"$f":"'Fuel CO2 Factors'!$D10","v":74.099999999999994},{"$f":"'Fuel CO2 Factors'!$D10","v":74.099999999999994},{"$f":"'Fuel CO2 Factors'!$D10","v":74.099999999999994},{"$f":"'Fuel CO2 Factors'!$D10","v":74.099999999999994},{"$f":"'Fuel CO2 Factors'!$D10","v":74.099999999999994},{"$f":"'Fuel CO2 Factors'!$D10","v":74.099999999999994},{"$f":"'Fuel CO2 Factors'!$D10","v":74.099999999999994},{"$f":"'Fuel CO2 Factors'!$D10","v":74.099999999999994},{"$f":"'Fuel CO2 Factors'!$D10","v":74.099999999999994},{"$f":"'Fuel CO2 Factors'!$D10","v":74.099999999999994},{"$f":"'Fuel CO2 Factors'!$D10","v":74.099999999999994},{"$f":"'Fuel CO2 Factors'!$D10","v":74.099999999999994},{"$f":"'Fuel CO2 Factors'!$D10","v":74.099999999999994},{"$f":"'Fuel CO2 Factors'!$D10","v":74.099999999999994},{"$f":"'Fuel CO2 Factors'!$D10","v":74.099999999999994},{"$f":"'Fuel CO2 Factors'!$D10","v":74.099999999999994},{"$f":"'Fuel CO2 Factors'!$D10","v":74.099999999999994},{"$f":"'Fuel CO2 Factors'!$D10","v":74.099999999999994},{"$f":"'Fuel CO2 Factors'!$D10","v":74.099999999999994},{"$f":"'Fuel CO2 Factors'!$D10","v":74.099999999999994},{"$f":"'Fuel CO2 Factors'!$D10","v":74.099999999999994},{"$f":"'Fuel CO2 Factors'!$D10","v":74.099999999999994},{"$f":"'Fuel CO2 Factors'!$D10","v":74.099999999999994},{"$f":"'Fuel CO2 Factors'!$D10","v":74.099999999999994},{"$f":"'Fuel CO2 Factors'!$D10","v":74.099999999999994},{"$f":"'Fuel CO2 Factors'!$D10","v":74.099999999999994},{"$f":"'Fuel CO2 Factors'!$D10","v":74.099999999999994},{"$f":"'Fuel CO2 Factors'!$D10","v":74.099999999999994},{"$f":"'Fuel CO2 Factors'!$D10","v":74.099999999999994},{"$f":"'Fuel CO2 Factors'!$D10","v":74.099999999999994},{"$f":"'Fuel CO2 Factors'!$D10","v":74.099999999999994},{"$f":"'Fuel CO2 Factors'!$D10","v":74.099999999999994},{"$f":"'Fuel CO2 Factors'!$D10","v":74.099999999999994},{"$f":"'Fuel CO2 Factors'!$D10","v":74.099999999999994},{"$f":"'Fuel CO2 Factors'!$D10","v":74.099999999999994},{"$f":"'Fuel CO2 Factors'!$D10","v":74.099999999999994},{"$f":"'Fuel CO2 Factors'!$D10","v":74.099999999999994},{"$f":"'Fuel CO2 Factors'!$D10","v":74.099999999999994},{"$f":"'Fuel CO2 Factors'!$D10","v":74.099999999999994},{"$f":"'Fuel CO2 Factors'!$D10","v":74.099999999999994},{"$f":"'Fuel CO2 Factors'!$D10","v":74.099999999999994},{"$f":"'Fuel CO2 Factors'!$D10","v":74.099999999999994},{"$f":"'Fuel CO2 Factors'!$D10","v":74.099999999999994},{"$f":"'Fuel CO2 Factors'!$D10","v":74.099999999999994},{"$f":"'Fuel CO2 Factors'!$D10","v":74.099999999999994},{"$f":"'Fuel CO2 Factors'!$D10","v":74.099999999999994},{"$f":"'Fuel CO2 Factors'!$D10","v":74.099999999999994},{"$f":"'Fuel CO2 Factors'!$D10","v":74.099999999999994},{"$f":"'Fuel CO2 Factors'!$D10","v":74.099999999999994},{"$f":"'Fuel CO2 Factors'!$D10","v":74.099999999999994},{"$f":"'Fuel CO2 Factors'!$D10","v":74.099999999999994},{"$f":"'Fuel CO2 Factors'!$D10","v":74.099999999999994},{"$f":"'Fuel CO2 Factors'!$D10","v":74.099999999999994},{"$f":"'Fuel CO2 Factors'!$D10","v":74.099999999999994},{"$f":"'Fuel CO2 Factors'!$D10","v":74.099999999999994}]
[null,190,null,"natural gas ","[kg CO2/GJ]",null,{"$f":"'Fuel CO2 Factors'!$D11","v":56.1},{"$f":"'Fuel CO2 Factors'!$D11","v":56.1},{"$f":"'Fuel CO2 Factors'!$D11","v":56.1},{"$f":"'Fuel CO2 Factors'!$D11","v":56.1},{"$f":"'Fuel CO2 Factors'!$D11","v":56.1},{"$f":"'Fuel CO2 Factors'!$D11","v":56.1},{"$f":"'Fuel CO2 Factors'!$D11","v":56.1},{"$f":"'Fuel CO2 Factors'!$D11","v":56.1},{"$f":"'Fuel CO2 Factors'!$D11","v":56.1},{"$f":"'Fuel CO2 Factors'!$D11","v":56.1},{"$f":"'Fuel CO2 Factors'!$D11","v":56.1},{"$f":"'Fuel CO2 Factors'!$D11","v":56.1},{"$f":"'Fuel CO2 Factors'!$D11","v":56.1},{"$f":"'Fuel CO2 Factors'!$D11","v":56.1},{"$f":"'Fuel CO2 Factors'!$D11","v":56.1},{"$f":"'Fuel CO2 Factors'!$D11","v":56.1},{"$f":"'Fuel CO2 Factors'!$D11","v":56.1},{"$f":"'Fuel CO2 Factors'!$D11","v":56.1},{"$f":"'Fuel CO2 Factors'!$D11","v":56.1},{"$f":"'Fuel CO2 Factors'!$D11","v":56.1},{"$f":"'Fuel CO2 Factors'!$D11","v":56.1},{"$f":"'Fuel CO2 Factors'!$D11","v":56.1},{"$f":"'Fuel CO2 Factors'!$D11","v":56.1},{"$f":"'Fuel CO2 Factors'!$D11","v":56.1},{"$f":"'Fuel CO2 Factors'!$D11","v":56.1},{"$f":"'Fuel CO2 Factors'!$D11","v":56.1},{"$f":"'Fuel CO2 Factors'!$D11","v":56.1},{"$f":"'Fuel CO2 Factors'!$D11","v":56.1},{"$f":"'Fuel CO2 Factors'!$D11","v":56.1},{"$f":"'Fuel CO2 Factors'!$D11","v":56.1},{"$f":"'Fuel CO2 Factors'!$D11","v":56.1},{"$f":"'Fuel CO2 Factors'!$D11","v":56.1},{"$f":"'Fuel CO2 Factors'!$D11","v":56.1},{"$f":"'Fuel CO2 Factors'!$D11","v":56.1},{"$f":"'Fuel CO2 Factors'!$D11","v":56.1},{"$f":"'Fuel CO2 Factors'!$D11","v":56.1},{"$f":"'Fuel CO2 Factors'!$D11","v":56.1},{"$f":"'Fuel CO2 Factors'!$D11","v":56.1},{"$f":"'Fuel CO2 Factors'!$D11","v":56.1},{"$f":"'Fuel CO2 Factors'!$D11","v":56.1},{"$f":"'Fuel CO2 Factors'!$D11","v":56.1},{"$f":"'Fuel CO2 Factors'!$D11","v":56.1},{"$f":"'Fuel CO2 Factors'!$D11","v":56.1},{"$f":"'Fuel CO2 Factors'!$D11","v":56.1},{"$f":"'Fuel CO2 Factors'!$D11","v":56.1},{"$f":"'Fuel CO2 Factors'!$D11","v":56.1},{"$f":"'Fuel CO2 Factors'!$D11","v":56.1},{"$f":"'Fuel CO2 Factors'!$D11","v":56.1},{"$f":"'Fuel CO2 Factors'!$D11","v":56.1},{"$f":"'Fuel CO2 Factors'!$D11","v":56.1},{"$f":"'Fuel CO2 Factors'!$D11","v":56.1},{"$f":"'Fuel CO2 Factors'!$D11","v":56.1},{"$f":"'Fuel CO2 Factors'!$D11","v":56.1},{"$f":"'Fuel CO2 Factors'!$D11","v":56.1},{"$f":"'Fuel CO2 Factors'!$D11","v":56.1},{"$f":"'Fuel CO2 Factors'!$D11","v":56.1},{"$f":"'Fuel CO2 Factors'!$D11","v":56.1},{"$f":"'Fuel CO2 Factors'!$D11","v":56.1},{"$f":"'Fuel CO2 Factors'!$D11","v":56.1},{"$f":"'Fuel CO2 Factors'!$D11","v":56.1},{"$f":"'Fuel CO2 Factors'!$D11","v":56.1}]
[null,191,null,"shale","[kg CO2/GJ]",null,{"$f":"'Fuel CO2 Factors'!$D12","v":107},{"$f":"'Fuel CO2 Factors'!$D12","v":107},{"$f":"'Fuel CO2 Factors'!$D12","v":107},{"$f":"'Fuel CO2 Factors'!$D12","v":107},{"$f":"'Fuel CO2 Factors'!$D12","v":107},{"$f":"'Fuel CO2 Factors'!$D12","v":107},{"$f":"'Fuel CO2 Factors'!$D12","v":107},{"$f":"'Fuel CO2 Factors'!$D12","v":107},{"$f":"'Fuel CO2 Factors'!$D12","v":107},{"$f":"'Fuel CO2 Factors'!$D12","v":107},{"$f":"'Fuel CO2 Factors'!$D12","v":107},{"$f":"'Fuel CO2 Factors'!$D12","v":107},{"$f":"'Fuel CO2 Factors'!$D12","v":107},{"$f":"'Fuel CO2 Factors'!$D12","v":107},{"$f":"'Fuel CO2 Factors'!$D12","v":107},{"$f":"'Fuel CO2 Factors'!$D12","v":107},{"$f":"'Fuel CO2 Factors'!$D12","v":107},{"$f":"'Fuel CO2 Factors'!$D12","v":107},{"$f":"'Fuel CO2 Factors'!$D12","v":107},{"$f":"'Fuel CO2 Factors'!$D12","v":107},{"$f":"'Fuel CO2 Factors'!$D12","v":107},{"$f":"'Fuel CO2 Factors'!$D12","v":107},{"$f":"'Fuel CO2 Factors'!$D12","v":107},{"$f":"'Fuel CO2 Factors'!$D12","v":107},{"$f":"'Fuel CO2 Factors'!$D12","v":107},{"$f":"'Fuel CO2 Factors'!$D12","v":107},{"$f":"'Fuel CO2 Factors'!$D12","v":107},{"$f":"'Fuel CO2 Factors'!$D12","v":107},{"$f":"'Fuel CO2 Factors'!$D12","v":107},{"$f":"'Fuel CO2 Factors'!$D12","v":107},{"$f":"'Fuel CO2 Factors'!$D12","v":107},{"$f":"'Fuel CO2 Factors'!$D12","v":107},{"$f":"'Fuel CO2 Factors'!$D12","v":107},{"$f":"'Fuel CO2 Factors'!$D12","v":107},{"$f":"'Fuel CO2 Factors'!$D12","v":107},{"$f":"'Fuel CO2 Factors'!$D12","v":107},{"$f":"'Fuel CO2 Factors'!$D12","v":107},{"$f":"'Fuel CO2 Factors'!$D12","v":107},{"$f":"'Fuel CO2 Factors'!$D12","v":107},{"$f":"'Fuel CO2 Factors'!$D12","v":107},{"$f":"'Fuel CO2 Factors'!$D12","v":107},{"$f":"'Fuel CO2 Factors'!$D12","v":107},{"$f":"'Fuel CO2 Factors'!$D12","v":107},{"$f":"'Fuel CO2 Factors'!$D12","v":107},{"$f":"'Fuel CO2 Factors'!$D12","v":107},{"$f":"'Fuel CO2 Factors'!$D12","v":107},{"$f":"'Fuel CO2 Factors'!$D12","v":107},{"$f":"'Fuel CO2 Factors'!$D12","v":107},{"$f":"'Fuel CO2 Factors'!$D12","v":107},{"$f":"'Fuel CO2 Factors'!$D12","v":107},{"$f":"'Fuel CO2 Factors'!$D12","v":107},{"$f":"'Fuel CO2 Factors'!$D12","v":107},{"$f":"'Fuel CO2 Factors'!$D12","v":107},{"$f":"'Fuel CO2 Factors'!$D12","v":107},{"$f":"'Fuel CO2 Factors'!$D12","v":107},{"$f":"'Fuel CO2 Factors'!$D12","v":107},{"$f":"'Fuel CO2 Factors'!$D12","v":107},{"$f":"'Fuel CO2 Factors'!$D12","v":107},{"$f":"'Fuel CO2 Factors'!$D12","v":107},{"$f":"'Fuel CO2 Factors'!$D12","v":107},{"$f":"'Fuel CO2 Factors'!$D12","v":107}]
[null,192,null,"lignite","[kg CO2/GJ]",null,{"$f":"'Fuel CO2 Factors'!$D13","v":101},{"$f":"'Fuel CO2 Factors'!$D13","v":101},{"$f":"'Fuel CO2 Factors'!$D13","v":101},{"$f":"'Fuel CO2 Factors'!$D13","v":101},{"$f":"'Fuel CO2 Factors'!$D13","v":101},{"$f":"'Fuel CO2 Factors'!$D13","v":101},{"$f":"'Fuel CO2 Factors'!$D13","v":101},{"$f":"'Fuel CO2 Factors'!$D13","v":101},{"$f":"'Fuel CO2 Factors'!$D13","v":101},{"$f":"'Fuel CO2 Factors'!$D13","v":101},{"$f":"'Fuel CO2 Factors'!$D13","v":101},{"$f":"'Fuel CO2 Factors'!$D13","v":101},{"$f":"'Fuel CO2 Factors'!$D13","v":101},{"$f":"'Fuel CO2 Factors'!$D13","v":101},{"$f":"'Fuel CO2 Factors'!$D13","v":101},{"$f":"'Fuel CO2 Factors'!$D13","v":101},{"$f":"'Fuel CO2 Factors'!$D13","v":101},{"$f":"'Fuel CO2 Factors'!$D13","v":101},{"$f":"'Fuel CO2 Factors'!$D13","v":101},{"$f":"'Fuel CO2 Factors'!$D13","v":101},{"$f":"'Fuel CO2 Factors'!$D13","v":101},{"$f":"'Fuel CO2 Factors'!$D13","v":101},{"$f":"'Fuel CO2 Factors'!$D13","v":101},{"$f":"'Fuel CO2 Factors'!$D13","v":101},{"$f":"'Fuel CO2 Factors'!$D13","v":101},{"$f":"'Fuel CO2 Factors'!$D13","v":101},{"$f":"'Fuel CO2 Factors'!$D13","v":101},{"$f":"'Fuel CO2 Factors'!$D13","v":101},{"$f":"'Fuel CO2 Factors'!$D13","v":101},{"$f":"'Fuel CO2 Factors'!$D13","v":101},{"$f":"'Fuel CO2 Factors'!$D13","v":101},{"$f":"'Fuel CO2 Factors'!$D13","v":101},{"$f":"'Fuel CO2 Factors'!$D13","v":101},{"$f":"'Fuel CO2 Factors'!$D13","v":101},{"$f":"'Fuel CO2 Factors'!$D13","v":101},{"$f":"'Fuel CO2 Factors'!$D13","v":101},{"$f":"'Fuel CO2 Factors'!$D13","v":101},{"$f":"'Fuel CO2 Factors'!$D13","v":101},{"$f":"'Fuel CO2 Factors'!$D13","v":101},{"$f":"'Fuel CO2 Factors'!$D13","v":101},{"$f":"'Fuel CO2 Factors'!$D13","v":101},{"$f":"'Fuel CO2 Factors'!$D13","v":101},{"$f":"'Fuel CO2 Factors'!$D13","v":101},{"$f":"'Fuel CO2 Factors'!$D13","v":101},{"$f":"'Fuel CO2 Factors'!$D13","v":101},{"$f":"'Fuel CO2 Factors'!$D13","v":101},{"$f":"'Fuel CO2 Factors'!$D13","v":101},{"$f":"'Fuel CO2 Factors'!$D13","v":101},{"$f":"'Fuel CO2 Factors'!$D13","v":101},{"$f":"'Fuel CO2 Factors'!$D13","v":101},{"$f":"'Fuel CO2 Factors'!$D13","v":101},{"$f":"'Fuel CO2 Factors'!$D13","v":101},{"$f":"'Fuel CO2 Factors'!$D13","v":101},{"$f":"'Fuel CO2 Factors'!$D13","v":101},{"$f":"'Fuel CO2 Factors'!$D13","v":101},{"$f":"'Fuel CO2 Factors'!$D13","v":101},{"$f":"'Fuel CO2 Factors'!$D13","v":101},{"$f":"'Fuel CO2 Factors'!$D13","v":101},{"$f":"'Fuel CO2 Factors'!$D13","v":101},{"$f":"'Fuel CO2 Factors'!$D13","v":101},{"$f":"'Fuel CO2 Factors'!$D13","v":101}]
[null,"192a",null,"gasoline","[kg CO2/GJ]",null,{"$f":"'Fuel CO2 Factors'!$D14","v":69.3},{"$f":"'Fuel CO2 Factors'!$D14","v":69.3},{"$f":"'Fuel CO2 Factors'!$D14","v":69.3},{"$f":"'Fuel CO2 Factors'!$D14","v":69.3},{"$f":"'Fuel CO2 Factors'!$D14","v":69.3},{"$f":"'Fuel CO2 Factors'!$D14","v":69.3},{"$f":"'Fuel CO2 Factors'!$D14","v":69.3},{"$f":"'Fuel CO2 Factors'!$D14","v":69.3},{"$f":"'Fuel CO2 Factors'!$D14","v":69.3},{"$f":"'Fuel CO2 Factors'!$D14","v":69.3},{"$f":"'Fuel CO2 Factors'!$D14","v":69.3},{"$f":"'Fuel CO2 Factors'!$D14","v":69.3},{"$f":"'Fuel CO2 Factors'!$D14","v":69.3},{"$f":"'Fuel CO2 Factors'!$D14","v":69.3},{"$f":"'Fuel CO2 Factors'!$D14","v":69.3},{"$f":"'Fuel CO2 Factors'!$D14","v":69.3},{"$f":"'Fuel CO2 Factors'!$D14","v":69.3},{"$f":"'Fuel CO2 Factors'!$D14","v":69.3},{"$f":"'Fuel CO2 Factors'!$D14","v":69.3},{"$f":"'Fuel CO2 Factors'!$D14","v":69.3},{"$f":"'Fuel CO2 Factors'!$D14","v":69.3},{"$f":"'Fuel CO2 Factors'!$D14","v":69.3},{"$f":"'Fuel CO2 Factors'!$D14","v":69.3},{"$f":"'Fuel CO2 Factors'!$D14","v":69.3},{"$f":"'Fuel CO2 Factors'!$D14","v":69.3},{"$f":"'Fuel CO2 Factors'!$D14","v":69.3},{"$f":"'Fuel CO2 Factors'!$D14","v":69.3},{"$f":"'Fuel CO2 Factors'!$D14","v":69.3},{"$f":"'Fuel CO2 Factors'!$D14","v":69.3},{"$f":"'Fuel CO2 Factors'!$D14","v":69.3},{"$f":"'Fuel CO2 Factors'!$D14","v":69.3},{"$f":"'Fuel CO2 Factors'!$D14","v":69.3},{"$f":"'Fuel CO2 Factors'!$D14","v":69.3},{"$f":"'Fuel CO2 Factors'!$D14","v":69.3},{"$f":"'Fuel CO2 Factors'!$D14","v":69.3},{"$f":"'Fuel CO2 Factors'!$D14","v":69.3},{"$f":"'Fuel CO2 Factors'!$D14","v":69.3},{"$f":"'Fuel CO2 Factors'!$D14","v":69.3},{"$f":"'Fuel CO2 Factors'!$D14","v":69.3},{"$f":"'Fuel CO2 Factors'!$D14","v":69.3},{"$f":"'Fuel CO2 Factors'!$D14","v":69.3},{"$f":"'Fuel CO2 Factors'!$D14","v":69.3},{"$f":"'Fuel CO2 Factors'!$D14","v":69.3},{"$f":"'Fuel CO2 Factors'!$D14","v":69.3},{"$f":"'Fuel CO2 Factors'!$D14","v":69.3},{"$f":"'Fuel CO2 Factors'!$D14","v":69.3},{"$f":"'Fuel CO2 Factors'!$D14","v":69.3},{"$f":"'Fuel CO2 Factors'!$D14","v":69.3},{"$f":"'Fuel CO2 Factors'!$D14","v":69.3},{"$f":"'Fuel CO2 Factors'!$D14","v":69.3},{"$f":"'Fuel CO2 Factors'!$D14","v":69.3},{"$f":"'Fuel CO2 Factors'!$D14","v":69.3},{"$f":"'Fuel CO2 Factors'!$D14","v":69.3},{"$f":"'Fuel CO2 Factors'!$D14","v":69.3},{"$f":"'Fuel CO2 Factors'!$D14","v":69.3},{"$f":"'Fuel CO2 Factors'!$D14","v":69.3},{"$f":"'Fuel CO2 Factors'!$D14","v":69.3},{"$f":"'Fuel CO2 Factors'!$D14","v":69.3},{"$f":"'Fuel CO2 Factors'!$D14","v":69.3},{"$f":"'Fuel CO2 Factors'!$D14","v":69.3},{"$f":"'Fuel CO2 Factors'!$D14","v":69.3}]
[null,"192d",null,"other fossil fuels (Equipment and On-Site Vehicles)","[kg CO2/GJ]",null,0,0,0,0,0,0,0,0,0,0,0,0,0,0,0,0,0,0,0,0,0,0,0,0,0,0,0,0,0,0,0,0,0,0,0,0,0,0,0,0,0,0,0,0,0,0,0,0,0,0,0,0,0,0,0,0,0,0,0,0,0]
[null,"192b",null,"other fossil fuels (Room Heating and Cooling)","[kg CO2/GJ]",null,0,0,0,0,0,0,0,0,0,0,0,0,0,0,0,0,0,0,0,0,0,0,0,0,0,0,0,0,0,0,0,0,0,0,0,0,0,0,0,0,0,0,0,0,0,0,0,0,0,0,0,0,0,0,0,0,0,0,0,0,0]
[null,"192c",null,"other fossil fuels (On-Site Power Generation)","[kg CO2/GJ]",null,0,0,0,0,0,0,0,0,0,0,0,0,0,0,0,0,0,0,0,0,0,0,0,0,0,0,0,0,0,0,0,0,0,0,0,0,0,0,0,0,0,0,0,0,0,0,0,0,0,0,0,0,0,0,0,0,0,0,0,0,0]
[null,{"$f":"B355+1","v":193},"Alternative fossil fuels, including mixed fuels"]
[null,194,null,"waste oil","[kg CO2/GJ]",null,{"$f":"'Fuel CO2 Factors'!$E16","v":74},{"$f":"'Fuel CO2 Factors'!$E16","v":74},74,{"$f":"'Fuel CO2 Factors'!$E16","v":74},{"$f":"'Fuel CO2 Factors'!$E16","v":74},{"$f":"'Fuel CO2 Factors'!$E16","v":74},{"$f":"'Fuel CO2 Factors'!$E16","v":74},{"$f":"'Fuel CO2 Factors'!$E16","v":74},{"$f":"'Fuel CO2 Factors'!$E16","v":74},{"$f":"'Fuel CO2 Factors'!$E16","v":74},{"$f":"'Fuel CO2 Factors'!$E16","v":74},{"$f":"'Fuel CO2 Factors'!$E16","v":74},{"$f":"'Fuel CO2 Factors'!$E16","v":74},{"$f":"'Fuel CO2 Factors'!$E16","v":74},{"$f":"'Fuel CO2 Factors'!$E16","v":74},{"$f":"'Fuel CO2 Factors'!$E16","v":74},{"$f":"'Fuel CO2 Factors'!$E16","v":74},{"$f":"'Fuel CO2 Factors'!$E16","v":74},{"$f":"'Fuel CO2 Factors'!$E16","v":74},{"$f":"'Fuel CO2 Factors'!$E16","v":74},{"$f":"'Fuel CO2 Factors'!$E16","v":74},{"$f":"'Fuel CO2 Factors'!$E16","v":74},{"$f":"'Fuel CO2 Factors'!$E16","v":74},{"$f":"'Fuel CO2 Factors'!$E16","v":74},{"$f":"'Fuel CO2 Factors'!$E16","v":74},{"$f":"'Fuel CO2 Factors'!$E16","v":74},{"$f":"'Fuel CO2 Factors'!$E16","v":74},{"$f":"'Fuel CO2 Factors'!$E16","v":74},{"$f":"'Fuel CO2 Factors'!$E16","v":74},{"$f":"'Fuel CO2 Factors'!$E16","v":74},{"$f":"'Fuel CO2 Factors'!$E16","v":74},{"$f":"'Fuel CO2 Factors'!$E16","v":74},{"$f":"'Fuel CO2 Factors'!$E16","v":74},{"$f":"'Fuel CO2 Factors'!$E16","v":74},{"$f":"'Fuel CO2 Factors'!$E16","v":74},{"$f":"'Fuel CO2 Factors'!$E16","v":74},{"$f":"'Fuel CO2 Factors'!$E16","v":74},{"$f":"'Fuel CO2 Factors'!$E16","v":74},{"$f":"'Fuel CO2 Factors'!$E16","v":74},{"$f":"'Fuel CO2 Factors'!$E16","v":74},{"$f":"'Fuel CO2 Factors'!$E16","v":74},{"$f":"'Fuel CO2 Factors'!$E16","v":74},{"$f":"'Fuel CO2 Factors'!$E16","v":74},{"$f":"'Fuel CO2 Factors'!$E16","v":74},{"$f":"'Fuel CO2 Factors'!$E16","v":74},{"$f":"'Fuel CO2 Factors'!$E16","v":74},{"$f":"'Fuel CO2 Factors'!$E16","v":74},{"$f":"'Fuel CO2 Factors'!$E16","v":74},{"$f":"'Fuel CO2 Factors'!$E16","v":74},{"$f":"'Fuel CO2 Factors'!$E16","v":74},{"$f":"'Fuel CO2 Factors'!$E16","v":74},{"$f":"'Fuel CO2 Factors'!$E16","v":74},{"$f":"'Fuel CO2 Factors'!$E16","v":74},{"$f":"'Fuel CO2 Factors'!$E16","v":74},{"$f":"'Fuel CO2 Factors'!$E16","v":74},{"$f":"'Fuel CO2 Factors'!$E16","v":74},{"$f":"'Fuel CO2 Factors'!$E16","v":74},{"$f":"'Fuel CO2 Factors'!$E16","v":74},{"$f":"'Fuel CO2 Factors'!$E16","v":74},{"$f":"'Fuel CO2 Factors'!$E16","v":74},{"$f":"'Fuel CO2 Factors'!$E16","v":74}]
[null,195,null,"tyres","[kg CO2/GJ]",null,{"$f":"'Fuel CO2 Factors'!$E17","v":85},{"$f":"'Fuel CO2 Factors'!$E17","v":85},{"$f":"'Fuel CO2 Factors'!$E17","v":85},{"$f":"'Fuel CO2 Factors'!$E17","v":85},{"$f":"'Fuel CO2 Factors'!$E17","v":85},{"$f":"'Fuel CO2 Factors'!$E17","v":85},{"$f":"'Fuel CO2 Factors'!$E17","v":85},{"$f":"'Fuel CO2 Factors'!$E17","v":85},{"$f":"'Fuel CO2 Factors'!$E17","v":85},{"$f":"'Fuel CO2 Factors'!$E17","v":85},{"$f":"'Fuel CO2 Factors'!$E17","v":85},{"$f":"'Fuel CO2 Factors'!$E17","v":85},{"$f":"'Fuel CO2 Factors'!$E17","v":85},{"$f":"'Fuel CO2 Factors'!$E17","v":85},{"$f":"'Fuel CO2 Factors'!$E17","v":85},{"$f":"'Fuel CO2 Factors'!$E17","v":85},{"$f":"'Fuel CO2 Factors'!$E17","v":85},{"$f":"'Fuel CO2 Factors'!$E17","v":85},{"$f":"'Fuel CO2 Factors'!$E17","v":85},{"$f":"'Fuel CO2 Factors'!$E17","v":85},{"$f":"'Fuel CO2 Factors'!$E17","v":85},{"$f":"'Fuel CO2 Factors'!$E17","v":85},{"$f":"'Fuel CO2 Factors'!$E17","v":85},{"$f":"'Fuel CO2 Factors'!$E17","v":85},{"$f":"'Fuel CO2 Factors'!$E17","v":85},{"$f":"'Fuel CO2 Factors'!$E17","v":85},{"$f":"'Fuel CO2 Factors'!$E17","v":85},{"$f":"'Fuel CO2 Factors'!$E17","v":85},{"$f":"'Fuel CO2 Factors'!$E17","v":85},{"$f":"'Fuel CO2 Factors'!$E17","v":85},{"$f":"'Fuel CO2 Factors'!$E17","v":85},{"$f":"'Fuel CO2 Factors'!$E17","v":85},{"$f":"'Fuel CO2 Factors'!$E17","v":85},{"$f":"'Fuel CO2 Factors'!$E17","v":85},{"$f":"'Fuel CO2 Factors'!$E17","v":85},{"$f":"'Fuel CO2 Factors'!$E17","v":85},{"$f":"'Fuel CO2 Factors'!$E17","v":85},{"$f":"'Fuel CO2 Factors'!$E17","v":85},{"$f":"'Fuel CO2 Factors'!$E17","v":85},{"$f":"'Fuel CO2 Factors'!$E17","v":85},{"$f":"'Fuel CO2 Factors'!$E17","v":85},{"$f":"'Fuel CO2 Factors'!$E17","v":85},{"$f":"'Fuel CO2 Factors'!$E17","v":85},{"$f":"'Fuel CO2 Factors'!$E17","v":85},{"$f":"'Fuel CO2 Factors'!$E17","v":85},{"$f":"'Fuel CO2 Factors'!$E17","v":85},{"$f":"'Fuel CO2 Factors'!$E17","v":85},{"$f":"'Fuel CO2 Factors'!$E17","v":85},{"$f":"'Fuel CO2 Factors'!$E17","v":85},{"$f":"'Fuel CO2 Factors'!$E17","v":85},{"$f":"'Fuel CO2 Factors'!$E17","v":85},{"$f":"'Fuel CO2 Factors'!$E17","v":85},{"$f":"'Fuel CO2 Factors'!$E17","v":85},{"$f":"'Fuel CO2 Factors'!$E17","v":85},{"$f":"'Fuel CO2 Factors'!$E17","v":85},{"$f":"'Fuel CO2 Factors'!$E17","v":85},{"$f":"'Fuel CO2 Factors'!$E17","v":85},{"$f":"'Fuel CO2 Factors'!$E17","v":85},{"$f":"'Fuel CO2 Factors'!$E17","v":85},{"$f":"'Fuel CO2 Factors'!$E17","v":85},{"$f":"'Fuel CO2 Factors'!$E17","v":85}]
[null,196,null,"RDF including plastics","[kg CO2/GJ]",null,{"$f":"'Fuel CO2 Factors'!$E18","v":75},{"$f":"'Fuel CO2 Factors'!$E18","v":75},{"$f":"'Fuel CO2 Factors'!$E18","v":75},{"$f":"'Fuel CO2 Factors'!$E18","v":75},{"$f":"'Fuel CO2 Factors'!$E18","v":75},{"$f":"'Fuel CO2 Factors'!$E18","v":75},{"$f":"'Fuel CO2 Factors'!$E18","v":75},{"$f":"'Fuel CO2 Factors'!$E18","v":75},{"$f":"'Fuel CO2 Factors'!$E18","v":75},{"$f":"'Fuel CO2 Factors'!$E18","v":75},{"$f":"'Fuel CO2 Factors'!$E18","v":75},{"$f":"'Fuel CO2 Factors'!$E18","v":75},{"$f":"'Fuel CO2 Factors'!$E18","v":75},{"$f":"'Fuel CO2 Factors'!$E18","v":75},{"$f":"'Fuel CO2 Factors'!$E18","v":75},{"$f":"'Fuel CO2 Factors'!$E18","v":75},{"$f":"'Fuel CO2 Factors'!$E18","v":75},{"$f":"'Fuel CO2 Factors'!$E18","v":75},{"$f":"'Fuel CO2 Factors'!$E18","v":75},{"$f":"'Fuel CO2 Factors'!$E18","v":75},{"$f":"'Fuel CO2 Factors'!$E18","v":75},{"$f":"'Fuel CO2 Factors'!$E18","v":75},{"$f":"'Fuel CO2 Factors'!$E18","v":75},{"$f":"'Fuel CO2 Factors'!$E18","v":75},{"$f":"'Fuel CO2 Factors'!$E18","v":75},{"$f":"'Fuel CO2 Factors'!$E18","v":75},{"$f":"'Fuel CO2 Factors'!$E18","v":75},{"$f":"'Fuel CO2 Factors'!$E18","v":75},{"$f":"'Fuel CO2 Factors'!$E18","v":75},{"$f":"'Fuel CO2 Factors'!$E18","v":75},{"$f":"'Fuel CO2 Factors'!$E18","v":75},{"$f":"'Fuel CO2 Factors'!$E18","v":75},{"$f":"'Fuel CO2 Factors'!$E18","v":75},{"$f":"'Fuel CO2 Factors'!$E18","v":75},{"$f":"'Fuel CO2 Factors'!$E18","v":75},{"$f":"'Fuel CO2 Factors'!$E18","v":75},{"$f":"'Fuel CO2 Factors'!$E18","v":75},{"$f":"'Fuel CO2 Factors'!$E18","v":75},{"$f":"'Fuel CO2 Factors'!$E18","v":75},{"$f":"'Fuel CO2 Factors'!$E18","v":75},{"$f":"'Fuel CO2 Factors'!$E18","v":75},{"$f":"'Fuel CO2 Factors'!$E18","v":75},{"$f":"'Fuel CO2 Factors'!$E18","v":75},{"$f":"'Fuel CO2 Factors'!$E18","v":75},{"$f":"'Fuel CO2 Factors'!$E18","v":75},{"$f":"'Fuel CO2 Factors'!$E18","v":75},{"$f":"'Fuel CO2 Factors'!$E18","v":75},{"$f":"'Fuel CO2 Factors'!$E18","v":75},{"$f":"'Fuel CO2 Factors'!$E18","v":75},{"$f":"'Fuel CO2 Factors'!$E18","v":75},{"$f":"'Fuel CO2 Factors'!$E18","v":75},{"$f":"'Fuel CO2 Factors'!$E18","v":75},{"$f":"'Fuel CO2 Factors'!$E18","v":75},{"$f":"'Fuel CO2 Factors'!$E18","v":75},{"$f":"'Fuel CO2 Factors'!$E18","v":75},{"$f":"'Fuel CO2 Factors'!$E18","v":75},{"$f":"'Fuel CO2 Factors'!$E18","v":75},{"$f":"'Fuel CO2 Factors'!$E18","v":75},{"$f":"'Fuel CO2 Factors'!$E18","v":75},{"$f":"'Fuel CO2 Factors'!$E18","v":75},{"$f":"'Fuel CO2 Factors'!$E18","v":75}]
[null,197,null,"solvents","[kg CO2/GJ]",null,{"$f":"'Fuel CO2 Factors'!$E19","v":74},{"$f":"'Fuel CO2 Factors'!$E19","v":74},{"$f":"'Fuel CO2 Factors'!$E19","v":74},{"$f":"'Fuel CO2 Factors'!$E19","v":74},{"$f":"'Fuel CO2 Factors'!$E19","v":74},{"$f":"'Fuel CO2 Factors'!$E19","v":74},{"$f":"'Fuel CO2 Factors'!$E19","v":74},{"$f":"'Fuel CO2 Factors'!$E19","v":74},{"$f":"'Fuel CO2 Factors'!$E19","v":74},{"$f":"'Fuel CO2 Factors'!$E19","v":74},{"$f":"'Fuel CO2 Factors'!$E19","v":74},{"$f":"'Fuel CO2 Factors'!$E19","v":74},{"$f":"'Fuel CO2 Factors'!$E19","v":74},{"$f":"'Fuel CO2 Factors'!$E19","v":74},{"$f":"'Fuel CO2 Factors'!$E19","v":74},{"$f":"'Fuel CO2 Factors'!$E19","v":74},{"$f":"'Fuel CO2 Factors'!$E19","v":74},{"$f":"'Fuel CO2 Factors'!$E19","v":74},{"$f":"'Fuel CO2 Factors'!$E19","v":74},{"$f":"'Fuel CO2 Factors'!$E19","v":74},{"$f":"'Fuel CO2 Factors'!$E19","v":74},{"$f":"'Fuel CO2 Factors'!$E19","v":74},{"$f":"'Fuel CO2 Factors'!$E19","v":74},{"$f":"'Fuel CO2 Factors'!$E19","v":74},{"$f":"'Fuel CO2 Factors'!$E19","v":74},{"$f":"'Fuel CO2 Factors'!$E19","v":74},{"$f":"'Fuel CO2 Factors'!$E19","v":74},{"$f":"'Fuel CO2 Factors'!$E19","v":74},{"$f":"'Fuel CO2 Factors'!$E19","v":74},{"$f":"'Fuel CO2 Factors'!$E19","v":74},{"$f":"'Fuel CO2 Factors'!$E19","v":74},{"$f":"'Fuel CO2 Factors'!$E19","v":74},{"$f":"'Fuel CO2 Factors'!$E19","v":74},{"$f":"'Fuel CO2 Factors'!$E19","v":74},{"$f":"'Fuel CO2 Factors'!$E19","v":74},{"$f":"'Fuel CO2 Factors'!$E19","v":74},{"$f":"'Fuel CO2 Factors'!$E19","v":74},{"$f":"'Fuel CO2 Factors'!$E19","v":74},{"$f":"'Fuel CO2 Factors'!$E19","v":74},{"$f":"'Fuel CO2 Factors'!$E19","v":74},{"$f":"'Fuel CO2 Factors'!$E19","v":74},{"$f":"'Fuel CO2 Factors'!$E19","v":74},{"$f":"'Fuel CO2 Factors'!$E19","v":74},{"$f":"'Fuel CO2 Factors'!$E19","v":74},{"$f":"'Fuel CO2 Factors'!$E19","v":74},{"$f":"'Fuel CO2 Factors'!$E19","v":74},{"$f":"'Fuel CO2 Factors'!$E19","v":74},{"$f":"'Fuel CO2 Factors'!$E19","v":74},{"$f":"'Fuel CO2 Factors'!$E19","v":74},{"$f":"'Fuel CO2 Factors'!$E19","v":74},{"$f":"'Fuel CO2 Factors'!$E19","v":74},{"$f":"'Fuel CO2 Factors'!$E19","v":74},{"$f":"'Fuel CO2 Factors'!$E19","v":74},{"$f":"'Fuel CO2 Factors'!$E19","v":74},{"$f":"'Fuel CO2 Factors'!$E19","v":74},{"$f":"'Fuel CO2 Factors'!$E19","v":74},{"$f":"'Fuel CO2 Factors'!$E19","v":74},{"$f":"'Fuel CO2 Factors'!$E19","v":74},{"$f":"'Fuel CO2 Factors'!$E19","v":74},{"$f":"'Fuel CO2 Factors'!$E19","v":74},{"$f":"'Fuel CO2 Factors'!$E19","v":74}]
[null,198,null,"impregnated saw dust","[kg CO2/GJ]",null,{"$f":"'Fuel CO2 Factors'!$E20","v":75},{"$f":"'Fuel CO2 Factors'!$E20","v":75},{"$f":"'Fuel CO2 Factors'!$E20","v":75},{"$f":"'Fuel CO2 Factors'!$E20","v":75},{"$f":"'Fuel CO2 Factors'!$E20","v":75},{"$f":"'Fuel CO2 Factors'!$E20","v":75},{"$f":"'Fuel CO2 Factors'!$E20","v":75},{"$f":"'Fuel CO2 Factors'!$E20","v":75},{"$f":"'Fuel CO2 Factors'!$E20","v":75},{"$f":"'Fuel CO2 Factors'!$E20","v":75},{"$f":"'Fuel CO2 Factors'!$E20","v":75},{"$f":"'Fuel CO2 Factors'!$E20","v":75},{"$f":"'Fuel CO2 Factors'!$E20","v":75},{"$f":"'Fuel CO2 Factors'!$E20","v":75},{"$f":"'Fuel CO2 Factors'!$E20","v":75},{"$f":"'Fuel CO2 Factors'!$E20","v":75},{"$f":"'Fuel CO2 Factors'!$E20","v":75},{"$f":"'Fuel CO2 Factors'!$E20","v":75},{"$f":"'Fuel CO2 Factors'!$E20","v":75},{"$f":"'Fuel CO2 Factors'!$E20","v":75},{"$f":"'Fuel CO2 Factors'!$E20","v":75},{"$f":"'Fuel CO2 Factors'!$E20","v":75},{"$f":"'Fuel CO2 Factors'!$E20","v":75},{"$f":"'Fuel CO2 Factors'!$E20","v":75},{"$f":"'Fuel CO2 Factors'!$E20","v":75},{"$f":"'Fuel CO2 Factors'!$E20","v":75},{"$f":"'Fuel CO2 Factors'!$E20","v":75},{"$f":"'Fuel CO2 Factors'!$E20","v":75},{"$f":"'Fuel CO2 Factors'!$E20","v":75},{"$f":"'Fuel CO2 Factors'!$E20","v":75},{"$f":"'Fuel CO2 Factors'!$E20","v":75},{"$f":"'Fuel CO2 Factors'!$E20","v":75},{"$f":"'Fuel CO2 Factors'!$E20","v":75},{"$f":"'Fuel CO2 Factors'!$E20","v":75},{"$f":"'Fuel CO2 Factors'!$E20","v":75},{"$f":"'Fuel CO2 Factors'!$E20","v":75},{"$f":"'Fuel CO2 Factors'!$E20","v":75},{"$f":"'Fuel CO2 Factors'!$E20","v":75},{"$f":"'Fuel CO2 Factors'!$E20","v":75},{"$f":"'Fuel CO2 Factors'!$E20","v":75},{"$f":"'Fuel CO2 Factors'!$E20","v":75},{"$f":"'Fuel CO2 Factors'!$E20","v":75},{"$f":"'Fuel CO2 Factors'!$E20","v":75},{"$f":"'Fuel CO2 Factors'!$E20","v":75},{"$f":"'Fuel CO2 Factors'!$E20","v":75},{"$f":"'Fuel CO2 Factors'!$E20","v":75},{"$f":"'Fuel CO2 Factors'!$E20","v":75},{"$f":"'Fuel CO2 Factors'!$E20","v":75},{"$f":"'Fuel CO2 Factors'!$E20","v":75},{"$f":"'Fuel CO2 Factors'!$E20","v":75},{"$f":"'Fuel CO2 Factors'!$E20","v":75},{"$f":"'Fuel CO2 Factors'!$E20","v":75},{"$f":"'Fuel CO2 Factors'!$E20","v":75},{"$f":"'Fuel CO2 Factors'!$E20","v":75},{"$f":"'Fuel CO2 Factors'!$E20","v":75},{"$f":"'Fuel CO2 Factors'!$E20","v":75},{"$f":"'Fuel CO2 Factors'!$E20","v":75},{"$f":"'Fuel CO2 Factors'!$E20","v":75},{"$f":"'Fuel CO2 Factors'!$E20","v":75},{"$f":"'Fuel CO2 Factors'!$E20","v":75},{"$f":"'Fuel CO2 Factors'!$E20","v":75}]
[null,199,null,"mixed industrial waste","[kg CO2/GJ]",null,{"$f":"'Fuel CO2 Factors'!$E21","v":83},{"$f":"'Fuel CO2 Factors'!$E21","v":83},{"$f":"'Fuel CO2 Factors'!$E21","v":83},{"$f":"'Fuel CO2 Factors'!$E21","v":83},{"$f":"'Fuel CO2 Factors'!$E21","v":83},{"$f":"'Fuel CO2 Factors'!$E21","v":83},{"$f":"'Fuel CO2 Factors'!$E21","v":83},{"$f":"'Fuel CO2 Factors'!$E21","v":83},{"$f":"'Fuel CO2 Factors'!$E21","v":83},{"$f":"'Fuel CO2 Factors'!$E21","v":83},{"$f":"'Fuel CO2 Factors'!$E21","v":83},{"$f":"'Fuel CO2 Factors'!$E21","v":83},{"$f":"'Fuel CO2 Factors'!$E21","v":83},{"$f":"'Fuel CO2 Factors'!$E21","v":83},{"$f":"'Fuel CO2 Factors'!$E21","v":83},{"$f":"'Fuel CO2 Factors'!$E21","v":83},{"$f":"'Fuel CO2 Factors'!$E21","v":83},{"$f":"'Fuel CO2 Factors'!$E21","v":83},{"$f":"'Fuel CO2 Factors'!$E21","v":83},{"$f":"'Fuel CO2 Factors'!$E21","v":83},{"$f":"'Fuel CO2 Factors'!$E21","v":83},{"$f":"'Fuel CO2 Factors'!$E21","v":83},{"$f":"'Fuel CO2 Factors'!$E21","v":83},{"$f":"'Fuel CO2 Factors'!$E21","v":83},{"$f":"'Fuel CO2 Factors'!$E21","v":83},{"$f":"'Fuel CO2 Factors'!$E21","v":83},{"$f":"'Fuel CO2 Factors'!$E21","v":83},{"$f":"'Fuel CO2 Factors'!$E21","v":83},{"$f":"'Fuel CO2 Factors'!$E21","v":83},{"$f":"'Fuel CO2 Factors'!$E21","v":83},{"$f":"'Fuel CO2 Factors'!$E21","v":83},{"$f":"'Fuel CO2 Factors'!$E21","v":83},{"$f":"'Fuel CO2 Factors'!$E21","v":83},{"$f":"'Fuel CO2 Factors'!$E21","v":83},{"$f":"'Fuel CO2 Factors'!$E21","v":83},{"$f":"'Fuel CO2 Factors'!$E21","v":83},{"$f":"'Fuel CO2 Factors'!$E21","v":83},{"$f":"'Fuel CO2 Factors'!$E21","v":83},{"$f":"'Fuel CO2 Factors'!$E21","v":83},{"$f":"'Fuel CO2 Factors'!$E21","v":83},{"$f":"'Fuel CO2 Factors'!$E21","v":83},{"$f":"'Fuel CO2 Factors'!$E21","v":83},{"$f":"'Fuel CO2 Factors'!$E21","v":83},{"$f":"'Fuel CO2 Factors'!$E21","v":83},{"$f":"'Fuel CO2 Factors'!$E21","v":83},{"$f":"'Fuel CO2 Factors'!$E21","v":83},{"$f":"'Fuel CO2 Factors'!$E21","v":83},{"$f":"'Fuel CO2 Factors'!$E21","v":83},{"$f":"'Fuel CO2 Factors'!$E21","v":83},{"$f":"'Fuel CO2 Factors'!$E21","v":83},{"$f":"'Fuel CO2 Factors'!$E21","v":83},{"$f":"'Fuel CO2 Factors'!$E21","v":83},{"$f":"'Fuel CO2 Factors'!$E21","v":83},{"$f":"'Fuel CO2 Factors'!$E21","v":83},{"$f":"'Fuel CO2 Factors'!$E21","v":83},{"$f":"'Fuel CO2 Factors'!$E21","v":83},{"$f":"'Fuel CO2 Factors'!$E21","v":83},{"$f":"'Fuel CO2 Factors'!$E21","v":83},{"$f":"'Fuel CO2 Factors'!$E21","v":83},{"$f":"'Fuel CO2 Factors'!$E21","v":83},{"$f":"'Fuel CO2 Factors'!$E21","v":83}]
[null,"199a",null,"bio and mixed diesel","[kg CO2/GJ]",null,74,74,74,74,74,74,74,74,74,74,74,74,74,74,74,74,74,74,74,74,74,74,74,74,74,74,74,74,74,74,74,74,74,74,74,74,75,76,77,78,79,80,81,82,83,84,85,86,87,88,89,90,91,92,93,94,95,96,97,98,99]
[null,{"$f":"B366+1","v":200},null,"other fossil based wastes and mixed fuels","[kg CO2/GJ]",null,80,{"$f":"'Fuel CO2 Factors'!$E22","v":80},{"$f":"'Fuel CO2 Factors'!$E22","v":80},{"$f":"'Fuel CO2 Factors'!$E22","v":80},{"$f":"'Fuel CO2 Factors'!$E22","v":80},{"$f":"'Fuel CO2 Factors'!$E22","v":80},{"$f":"'Fuel CO2 Factors'!$E22","v":80},{"$f":"'Fuel CO2 Factors'!$E22","v":80},{"$f":"'Fuel CO2 Factors'!$E22","v":80},{"$f":"'Fuel CO2 Factors'!$E22","v":80},{"$f":"'Fuel CO2 Factors'!$E22","v":80},{"$f":"'Fuel CO2 Factors'!$E22","v":80},{"$f":"'Fuel CO2 Factors'!$E22","v":80},{"$f":"'Fuel CO2 Factors'!$E22","v":80},{"$f":"'Fuel CO2 Factors'!$E22","v":80},{"$f":"'Fuel CO2 Factors'!$E22","v":80},{"$f":"'Fuel CO2 Factors'!$E22","v":80},{"$f":"'Fuel CO2 Factors'!$E22","v":80},{"$f":"'Fuel CO2 Factors'!$E22","v":80},{"$f":"'Fuel CO2 Factors'!$E22","v":80},{"$f":"'Fuel CO2 Factors'!$E22","v":80},{"$f":"'Fuel CO2 Factors'!$E22","v":80},{"$f":"'Fuel CO2 Factors'!$E22","v":80},{"$f":"'Fuel CO2 Factors'!$E22","v":80},{"$f":"'Fuel CO2 Factors'!$E22","v":80},{"$f":"'Fuel CO2 Factors'!$E22","v":80},{"$f":"'Fuel CO2 Factors'!$E22","v":80},{"$f":"'Fuel CO2 Factors'!$E22","v":80},{"$f":"'Fuel CO2 Factors'!$E22","v":80},{"$f":"'Fuel CO2 Factors'!$E22","v":80},{"$f":"'Fuel CO2 Factors'!$E22","v":80},{"$f":"'Fuel CO2 Factors'!$E22","v":80},{"$f":"'Fuel CO2 Factors'!$E22","v":80},{"$f":"'Fuel CO2 Factors'!$E22","v":80},{"$f":"'Fuel CO2 Factors'!$E22","v":80},{"$f":"'Fuel CO2 Factors'!$E22","v":80},{"$f":"'Fuel CO2 Factors'!$E22","v":80},{"$f":"'Fuel CO2 Factors'!$E22","v":80},{"$f":"'Fuel CO2 Factors'!$E22","v":80},{"$f":"'Fuel CO2 Factors'!$E22","v":80},{"$f":"'Fuel CO2 Factors'!$E22","v":80},{"$f":"'Fuel CO2 Factors'!$E22","v":80},{"$f":"'Fuel CO2 Factors'!$E22","v":80},{"$f":"'Fuel CO2 Factors'!$E22","v":80},{"$f":"'Fuel CO2 Factors'!$E22","v":80},{"$f":"'Fuel CO2 Factors'!$E22","v":80},{"$f":"'Fuel CO2 Factors'!$E22","v":80},{"$f":"'Fuel CO2 Factors'!$E22","v":80},{"$f":"'Fuel CO2 Factors'!$E22","v":80},{"$f":"'Fuel CO2 Factors'!$E22","v":80},{"$f":"'Fuel CO2 Factors'!$E22","v":80},{"$f":"'Fuel CO2 Factors'!$E22","v":80},{"$f":"'Fuel CO2 Factors'!$E22","v":80},{"$f":"'Fuel CO2 Factors'!$E22","v":80},{"$f":"'Fuel CO2 Factors'!$E22","v":80},{"$f":"'Fuel CO2 Factors'!$E22","v":80},{"$f":"'Fuel CO2 Factors'!$E22","v":80},{"$f":"'Fuel CO2 Factors'!$E22","v":80},{"$f":"'Fuel CO2 Factors'!$E22","v":80},{"$f":"'Fuel CO2 Factors'!$E22","v":80},{"$f":"'Fuel CO2 Factors'!$E22","v":80}]
[null,"200a",null,"biomass in waste oil","[ % Cbio/TC]",null,0,0,0,0,0,0,0,0,0,0,0,0,0,0,0,0,0,0,0,0,0,0,0,0,0,0,0,0,0,0,0,0,0,0,0,0,0,0,0,0,0,0,0,0,0,0,0,0,0,0,0,0,0,0,0,0,0,0,0,0,0]
[null,"200b",null,"biomass in tyres","[ % Cbio/TC]",null,{"$f":"'Fuel CO2 Factors'!$F17","v":0.27},{"$f":"'Fuel CO2 Factors'!$F17","v":0.27},{"$f":"'Fuel CO2 Factors'!$F17","v":0.27},{"$f":"'Fuel CO2 Factors'!$F17","v":0.27},{"$f":"'Fuel CO2 Factors'!$F17","v":0.27},{"$f":"'Fuel CO2 Factors'!$F17","v":0.27},{"$f":"'Fuel CO2 Factors'!$F17","v":0.27},{"$f":"'Fuel CO2 Factors'!$F17","v":0.27},{"$f":"'Fuel CO2 Factors'!$F17","v":0.27},{"$f":"'Fuel CO2 Factors'!$F17","v":0.27},{"$f":"'Fuel CO2 Factors'!$F17","v":0.27},{"$f":"'Fuel CO2 Factors'!$F17","v":0.27},{"$f":"'Fuel CO2 Factors'!$F17","v":0.27},{"$f":"'Fuel CO2 Factors'!$F17","v":0.27},{"$f":"'Fuel CO2 Factors'!$F17","v":0.27},{"$f":"'Fuel CO2 Factors'!$F17","v":0.27},{"$f":"'Fuel CO2 Factors'!$F17","v":0.27},{"$f":"'Fuel CO2 Factors'!$F17","v":0.27},{"$f":"'Fuel CO2 Factors'!$F17","v":0.27},{"$f":"'Fuel CO2 Factors'!$F17","v":0.27},{"$f":"'Fuel CO2 Factors'!$F17","v":0.27},{"$f":"'Fuel CO2 Factors'!$F17","v":0.27},{"$f":"'Fuel CO2 Factors'!$F17","v":0.27},{"$f":"'Fuel CO2 Factors'!$F17","v":0.27},{"$f":"'Fuel CO2 Factors'!$F17","v":0.27},{"$f":"'Fuel CO2 Factors'!$F17","v":0.27},{"$f":"'Fuel CO2 Factors'!$F17","v":0.27},{"$f":"'Fuel CO2 Factors'!$F17","v":0.27},{"$f":"'Fuel CO2 Factors'!$F17","v":0.27},{"$f":"'Fuel CO2 Factors'!$F17","v":0.27},{"$f":"'Fuel CO2 Factors'!$F17","v":0.27},{"$f":"'Fuel CO2 Factors'!$F17","v":0.27},{"$f":"'Fuel CO2 Factors'!$F17","v":0.27},{"$f":"'Fuel CO2 Factors'!$F17","v":0.27},{"$f":"'Fuel CO2 Factors'!$F17","v":0.27},{"$f":"'Fuel CO2 Factors'!$F17","v":0.27},{"$f":"'Fuel CO2 Factors'!$F17","v":0.27},{"$f":"'Fuel CO2 Factors'!$F17","v":0.27},{"$f":"'Fuel CO2 Factors'!$F17","v":0.27},{"$f":"'Fuel CO2 Factors'!$F17","v":0.27},{"$f":"'Fuel CO2 Factors'!$F17","v":0.27},{"$f":"'Fuel CO2 Factors'!$F17","v":0.27},{"$f":"'Fuel CO2 Factors'!$F17","v":0.27},{"$f":"'Fuel CO2 Factors'!$F17","v":0.27},{"$f":"'Fuel CO2 Factors'!$F17","v":0.27},{"$f":"'Fuel CO2 Factors'!$F17","v":0.27},{"$f":"'Fuel CO2 Factors'!$F17","v":0.27},{"$f":"'Fuel CO2 Factors'!$F17","v":0.27},{"$f":"'Fuel CO2 Factors'!$F17","v":0.27},{"$f":"'Fuel CO2 Factors'!$F17","v":0.27},{"$f":"'Fuel CO2 Factors'!$F17","v":0.27},{"$f":"'Fuel CO2 Factors'!$F17","v":0.27},{"$f":"'Fuel CO2 Factors'!$F17","v":0.27},{"$f":"'Fuel CO2 Factors'!$F17","v":0.27},{"$f":"'Fuel CO2 Factors'!$F17","v":0.27},{"$f":"'Fuel CO2 Factors'!$F17","v":0.27},{"$f":"'Fuel CO2 Factors'!$F17","v":0.27},{"$f":"'Fuel CO2 Factors'!$F17","v":0.27},{"$f":"'Fuel CO2 Factors'!$F17","v":0.27},{"$f":"'Fuel CO2 Factors'!$F17","v":0.27},{"$f":"'Fuel CO2 Factors'!$F17","v":0.27}]
[null,"200c",null,"biomass in RDF including plastics","[ % Cbio/TC]",null,0,0,0,0,0,0,0,0,0,0,0,0,0,0,0,0,0,0,0,0,0,0,0,0,0,0,0,0,0,0,0,0,0,0,0,0,0,0,0,0,0,0,0,0,0,0,0,0,0,0,0,0,0,0,0,0,0,0,0,0,0]
[null,"200d",null,"biomass in solvents","[ % Cbio/TC]",null,0,0,0,0,0,0,0,0,0,0,0,0,0,0,0,0,0,0,0,0,0,0,0,0,0,0,0,0,0,0,0,0,0,0,0,0,0,0,0,0,0,0,0,0,0,0,0,0,0,0,0,0,0,0,0,0,0,0,0,0,0]
[null,"200e",null,"biomass in impregnated saw dust","[ % Cbio/TC]",null,0,0,0,0,0,0,0,0,0,0,0,0,0,0,0,0,0,0,0,0,0,0,0,0,0,0,0,0,0,0,0,0,0,0,0,0,0,0,0,0,0,0,0,0,0,0,0,0,0,0,0,0,0,0,0,0,0,0,0,0,0]
[null,"200f",null,"biomass in mixed industrial waste","[ % Cbio/TC]",null,0,0,0,0,0,0,0,0,0,0,0,0,0,0,0,0,0,0,0,0,0,0,0,0,0,0,0,0,0,0,0,0,0,0,0,0,0,0,0,0,0,0,0,0,0,0,0,0,0,0,0,0,0,0,0,0,0,0,0,0,0]
[null,"200g",null,"biomass in bio and mixed diesel","[ % Cbio/TC]",null,0,0,0,0,0,0,0,0,0,0,0,0,0,0,0,0,0,0,0,0,0,0,0,0,0,0,0,0,0,0,0,0,0,0,0,0,0,0,0,0,0,0,0,0,0,0,0,0,0,0,0,0,0,0,0,0,0,0,0,0,0]
[null,"200h",null,"biomass in other fossil based wastes and mixed fuels","[ % Cbio/TC]",null,0,0,0,0,0,0,0,0,0,0,0,0,0,0,0,0,0,0,0,0,0,0,0,0,0,0,0,0,0,0,0,0,0,0,0,0,0,0,0,0,0,0,0,0,0,0,0,0,0,0,0,0,0,0,0,0,0,0,0,0,0]
[null,{"$f":"B368+1","v":201},"Biomass fuels"]
[null,{"$f":"B377+1","v":202},null,"sewage sludge","[kg CO2/GJ]",null,{"$f":"'Fuel CO2 Factors'!$E24","v":110},{"$f":"'Fuel CO2 Factors'!$E24","v":110},{"$f":"'Fuel CO2 Factors'!$E24","v":110},{"$f":"'Fuel CO2 Factors'!$E24","v":110},{"$f":"'Fuel CO2 Factors'!$E24","v":110},{"$f":"'Fuel CO2 Factors'!$E24","v":110},{"$f":"'Fuel CO2 Factors'!$E24","v":110},{"$f":"'Fuel CO2 Factors'!$E24","v":110},{"$f":"'Fuel CO2 Factors'!$E24","v":110},{"$f":"'Fuel CO2 Factors'!$E24","v":110},{"$f":"'Fuel CO2 Factors'!$E24","v":110},{"$f":"'Fuel CO2 Factors'!$E24","v":110},{"$f":"'Fuel CO2 Factors'!$E24","v":110},{"$f":"'Fuel CO2 Factors'!$E24","v":110},{"$f":"'Fuel CO2 Factors'!$E24","v":110},{"$f":"'Fuel CO2 Factors'!$E24","v":110},{"$f":"'Fuel CO2 Factors'!$E24","v":110},{"$f":"'Fuel CO2 Factors'!$E24","v":110},{"$f":"'Fuel CO2 Factors'!$E24","v":110},{"$f":"'Fuel CO2 Factors'!$E24","v":110},{"$f":"'Fuel CO2 Factors'!$E24","v":110},{"$f":"'Fuel CO2 Factors'!$E24","v":110},{"$f":"'Fuel CO2 Factors'!$E24","v":110},{"$f":"'Fuel CO2 Factors'!$E24","v":110},{"$f":"'Fuel CO2 Factors'!$E24","v":110},{"$f":"'Fuel CO2 Factors'!$E24","v":110},{"$f":"'Fuel CO2 Factors'!$E24","v":110},{"$f":"'Fuel CO2 Factors'!$E24","v":110},{"$f":"'Fuel CO2 Factors'!$E24","v":110},{"$f":"'Fuel CO2 Factors'!$E24","v":110},{"$f":"'Fuel CO2 Factors'!$E24","v":110},{"$f":"'Fuel CO2 Factors'!$E24","v":110},{"$f":"'Fuel CO2 Factors'!$E24","v":110},{"$f":"'Fuel CO2 Factors'!$E24","v":110},{"$f":"'Fuel CO2 Factors'!$E24","v":110},{"$f":"'Fuel CO2 Factors'!$E24","v":110},{"$f":"'Fuel CO2 Factors'!$E24","v":110},{"$f":"'Fuel CO2 Factors'!$E24","v":110},{"$f":"'Fuel CO2 Factors'!$E24","v":110},{"$f":"'Fuel CO2 Factors'!$E24","v":110},{"$f":"'Fuel CO2 Factors'!$E24","v":110},{"$f":"'Fuel CO2 Factors'!$E24","v":110},{"$f":"'Fuel CO2 Factors'!$E24","v":110},{"$f":"'Fuel CO2 Factors'!$E24","v":110},{"$f":"'Fuel CO2 Factors'!$E24","v":110},{"$f":"'Fuel CO2 Factors'!$E24","v":110},{"$f":"'Fuel CO2 Factors'!$E24","v":110},{"$f":"'Fuel CO2 Factors'!$E24","v":110},{"$f":"'Fuel CO2 Factors'!$E24","v":110},{"$f":"'Fuel CO2 Factors'!$E24","v":110},{"$f":"'Fuel CO2 Factors'!$E24","v":110},{"$f":"'Fuel CO2 Factors'!$E24","v":110},{"$f":"'Fuel CO2 Factors'!$E24","v":110},{"$f":"'Fuel CO2 Factors'!$E24","v":110},{"$f":"'Fuel CO2 Factors'!$E24","v":110},{"$f":"'Fuel CO2 Factors'!$E24","v":110},{"$f":"'Fuel CO2 Factors'!$E24","v":110},{"$f":"'Fuel CO2 Factors'!$E24","v":110},{"$f":"'Fuel CO2 Factors'!$E24","v":110},{"$f":"'Fuel CO2 Factors'!$E24","v":110},{"$f":"'Fuel CO2 Factors'!$E24","v":110}]
[null,203,null,"wood, non impregnated saw dust","[kg CO2/GJ]",null,{"$f":"'Fuel CO2 Factors'!$E25","v":110},{"$f":"'Fuel CO2 Factors'!$E25","v":110},{"$f":"'Fuel CO2 Factors'!$E25","v":110},{"$f":"'Fuel CO2 Factors'!$E25","v":110},{"$f":"'Fuel CO2 Factors'!$E25","v":110},{"$f":"'Fuel CO2 Factors'!$E25","v":110},{"$f":"'Fuel CO2 Factors'!$E25","v":110},{"$f":"'Fuel CO2 Factors'!$E25","v":110},{"$f":"'Fuel CO2 Factors'!$E25","v":110},{"$f":"'Fuel CO2 Factors'!$E25","v":110},{"$f":"'Fuel CO2 Factors'!$E25","v":110},{"$f":"'Fuel CO2 Factors'!$E25","v":110},{"$f":"'Fuel CO2 Factors'!$E25","v":110},{"$f":"'Fuel CO2 Factors'!$E25","v":110},{"$f":"'Fuel CO2 Factors'!$E25","v":110},{"$f":"'Fuel CO2 Factors'!$E25","v":110},{"$f":"'Fuel CO2 Factors'!$E25","v":110},{"$f":"'Fuel CO2 Factors'!$E25","v":110},{"$f":"'Fuel CO2 Factors'!$E25","v":110},{"$f":"'Fuel CO2 Factors'!$E25","v":110},{"$f":"'Fuel CO2 Factors'!$E25","v":110},{"$f":"'Fuel CO2 Factors'!$E25","v":110},{"$f":"'Fuel CO2 Factors'!$E25","v":110},{"$f":"'Fuel CO2 Factors'!$E25","v":110},{"$f":"'Fuel CO2 Factors'!$E25","v":110},{"$f":"'Fuel CO2 Factors'!$E25","v":110},{"$f":"'Fuel CO2 Factors'!$E25","v":110},{"$f":"'Fuel CO2 Factors'!$E25","v":110},{"$f":"'Fuel CO2 Factors'!$E25","v":110},{"$f":"'Fuel CO2 Factors'!$E25","v":110},{"$f":"'Fuel CO2 Factors'!$E25","v":110},{"$f":"'Fuel CO2 Factors'!$E25","v":110},{"$f":"'Fuel CO2 Factors'!$E25","v":110},{"$f":"'Fuel CO2 Factors'!$E25","v":110},{"$f":"'Fuel CO2 Factors'!$E25","v":110},{"$f":"'Fuel CO2 Factors'!$E25","v":110},{"$f":"'Fuel CO2 Factors'!$E25","v":110},{"$f":"'Fuel CO2 Factors'!$E25","v":110},{"$f":"'Fuel CO2 Factors'!$E25","v":110},{"$f":"'Fuel CO2 Factors'!$E25","v":110},{"$f":"'Fuel CO2 Factors'!$E25","v":110},{"$f":"'Fuel CO2 Factors'!$E25","v":110},{"$f":"'Fuel CO2 Factors'!$E25","v":110},{"$f":"'Fuel CO2 Factors'!$E25","v":110},{"$f":"'Fuel CO2 Factors'!$E25","v":110},{"$f":"'Fuel CO2 Factors'!$E25","v":110},{"$f":"'Fuel CO2 Factors'!$E25","v":110},{"$f":"'Fuel CO2 Factors'!$E25","v":110},{"$f":"'Fuel CO2 Factors'!$E25","v":110},{"$f":"'Fuel CO2 Factors'!$E25","v":110},{"$f":"'Fuel CO2 Factors'!$E25","v":110},{"$f":"'Fuel CO2 Factors'!$E25","v":110},{"$f":"'Fuel CO2 Factors'!$E25","v":110},{"$f":"'Fuel CO2 Factors'!$E25","v":110},{"$f":"'Fuel CO2 Factors'!$E25","v":110},{"$f":"'Fuel CO2 Factors'!$E25","v":110},{"$f":"'Fuel CO2 Factors'!$E25","v":110},{"$f":"'Fuel CO2 Factors'!$E25","v":110},{"$f":"'Fuel CO2 Factors'!$E25","v":110},{"$f":"'Fuel CO2 Factors'!$E25","v":110},{"$f":"'Fuel CO2 Factors'!$E25","v":110}]
[null,204,null,"paper, carton","[kg CO2/GJ]",null,{"$f":"'Fuel CO2 Factors'!$E26","v":110},{"$f":"'Fuel CO2 Factors'!$E26","v":110},{"$f":"'Fuel CO2 Factors'!$E26","v":110},{"$f":"'Fuel CO2 Factors'!$E26","v":110},{"$f":"'Fuel CO2 Factors'!$E26","v":110},{"$f":"'Fuel CO2 Factors'!$E26","v":110},{"$f":"'Fuel CO2 Factors'!$E26","v":110},{"$f":"'Fuel CO2 Factors'!$E26","v":110},{"$f":"'Fuel CO2 Factors'!$E26","v":110},{"$f":"'Fuel CO2 Factors'!$E26","v":110},{"$f":"'Fuel CO2 Factors'!$E26","v":110},{"$f":"'Fuel CO2 Factors'!$E26","v":110},{"$f":"'Fuel CO2 Factors'!$E26","v":110},{"$f":"'Fuel CO2 Factors'!$E26","v":110},{"$f":"'Fuel CO2 Factors'!$E26","v":110},{"$f":"'Fuel CO2 Factors'!$E26","v":110},{"$f":"'Fuel CO2 Factors'!$E26","v":110},{"$f":"'Fuel CO2 Factors'!$E26","v":110},{"$f":"'Fuel CO2 Factors'!$E26","v":110},{"$f":"'Fuel CO2 Factors'!$E26","v":110},{"$f":"'Fuel CO2 Factors'!$E26","v":110},{"$f":"'Fuel CO2 Factors'!$E26","v":110},{"$f":"'Fuel CO2 Factors'!$E26","v":110},{"$f":"'Fuel CO2 Factors'!$E26","v":110},{"$f":"'Fuel CO2 Factors'!$E26","v":110},{"$f":"'Fuel CO2 Factors'!$E26","v":110},{"$f":"'Fuel CO2 Factors'!$E26","v":110},{"$f":"'Fuel CO2 Factors'!$E26","v":110},{"$f":"'Fuel CO2 Factors'!$E26","v":110},{"$f":"'Fuel CO2 Factors'!$E26","v":110},{"$f":"'Fuel CO2 Factors'!$E26","v":110},{"$f":"'Fuel CO2 Factors'!$E26","v":110},{"$f":"'Fuel CO2 Factors'!$E26","v":110},{"$f":"'Fuel CO2 Factors'!$E26","v":110},{"$f":"'Fuel CO2 Factors'!$E26","v":110},{"$f":"'Fuel CO2 Factors'!$E26","v":110},{"$f":"'Fuel CO2 Factors'!$E26","v":110},{"$f":"'Fuel CO2 Factors'!$E26","v":110},{"$f":"'Fuel CO2 Factors'!$E26","v":110},{"$f":"'Fuel CO2 Factors'!$E26","v":110},{"$f":"'Fuel CO2 Factors'!$E26","v":110},{"$f":"'Fuel CO2 Factors'!$E26","v":110},{"$f":"'Fuel CO2 Factors'!$E26","v":110},{"$f":"'Fuel CO2 Factors'!$E26","v":110},{"$f":"'Fuel CO2 Factors'!$E26","v":110},{"$f":"'Fuel CO2 Factors'!$E26","v":110},{"$f":"'Fuel CO2 Factors'!$E26","v":110},{"$f":"'Fuel CO2 Factors'!$E26","v":110},{"$f":"'Fuel CO2 Factors'!$E26","v":110},{"$f":"'Fuel CO2 Factors'!$E26","v":110},{"$f":"'Fuel CO2 Factors'!$E26","v":110},{"$f":"'Fuel CO2 Factors'!$E26","v":110},{"$f":"'Fuel CO2 Factors'!$E26","v":110},{"$f":"'Fuel CO2 Factors'!$E26","v":110},{"$f":"'Fuel CO2 Factors'!$E26","v":110},{"$f":"'Fuel CO2 Factors'!$E26","v":110},{"$f":"'Fuel CO2 Factors'!$E26","v":110},{"$f":"'Fuel CO2 Factors'!$E26","v":110},{"$f":"'Fuel CO2 Factors'!$E26","v":110},{"$f":"'Fuel CO2 Factors'!$E26","v":110},{"$f":"'Fuel CO2 Factors'!$E26","v":110}]
[null,205,null,"animal meal","[kg CO2/GJ]",null,{"$f":"'Fuel CO2 Factors'!$E27","v":89},{"$f":"'Fuel CO2 Factors'!$E27","v":89},{"$f":"'Fuel CO2 Factors'!$E27","v":89},{"$f":"'Fuel CO2 Factors'!$E27","v":89},{"$f":"'Fuel CO2 Factors'!$E27","v":89},{"$f":"'Fuel CO2 Factors'!$E27","v":89},{"$f":"'Fuel CO2 Factors'!$E27","v":89},{"$f":"'Fuel CO2 Factors'!$E27","v":89},{"$f":"'Fuel CO2 Factors'!$E27","v":89},{"$f":"'Fuel CO2 Factors'!$E27","v":89},{"$f":"'Fuel CO2 Factors'!$E27","v":89},{"$f":"'Fuel CO2 Factors'!$E27","v":89},{"$f":"'Fuel CO2 Factors'!$E27","v":89},{"$f":"'Fuel CO2 Factors'!$E27","v":89},{"$f":"'Fuel CO2 Factors'!$E27","v":89},{"$f":"'Fuel CO2 Factors'!$E27","v":89},{"$f":"'Fuel CO2 Factors'!$E27","v":89},{"$f":"'Fuel CO2 Factors'!$E27","v":89},{"$f":"'Fuel CO2 Factors'!$E27","v":89},{"$f":"'Fuel CO2 Factors'!$E27","v":89},{"$f":"'Fuel CO2 Factors'!$E27","v":89},{"$f":"'Fuel CO2 Factors'!$E27","v":89},{"$f":"'Fuel CO2 Factors'!$E27","v":89},{"$f":"'Fuel CO2 Factors'!$E27","v":89},{"$f":"'Fuel CO2 Factors'!$E27","v":89},{"$f":"'Fuel CO2 Factors'!$E27","v":89},{"$f":"'Fuel CO2 Factors'!$E27","v":89},{"$f":"'Fuel CO2 Factors'!$E27","v":89},{"$f":"'Fuel CO2 Factors'!$E27","v":89},{"$f":"'Fuel CO2 Factors'!$E27","v":89},{"$f":"'Fuel CO2 Factors'!$E27","v":89},{"$f":"'Fuel CO2 Factors'!$E27","v":89},{"$f":"'Fuel CO2 Factors'!$E27","v":89},{"$f":"'Fuel CO2 Factors'!$E27","v":89},{"$f":"'Fuel CO2 Factors'!$E27","v":89},{"$f":"'Fuel CO2 Factors'!$E27","v":89},{"$f":"'Fuel CO2 Factors'!$E27","v":89},{"$f":"'Fuel CO2 Factors'!$E27","v":89},{"$f":"'Fuel CO2 Factors'!$E27","v":89},{"$f":"'Fuel CO2 Factors'!$E27","v":89},{"$f":"'Fuel CO2 Factors'!$E27","v":89},{"$f":"'Fuel CO2 Factors'!$E27","v":89},{"$f":"'Fuel CO2 Factors'!$E27","v":89},{"$f":"'Fuel CO2 Factors'!$E27","v":89},{"$f":"'Fuel CO2 Factors'!$E27","v":89},{"$f":"'Fuel CO2 Factors'!$E27","v":89},{"$f":"'Fuel CO2 Factors'!$E27","v":89},{"$f":"'Fuel CO2 Factors'!$E27","v":89},{"$f":"'Fuel CO2 Factors'!$E27","v":89},{"$f":"'Fuel CO2 Factors'!$E27","v":89},{"$f":"'Fuel CO2 Factors'!$E27","v":89},{"$f":"'Fuel CO2 Factors'!$E27","v":89},{"$f":"'Fuel CO2 Factors'!$E27","v":89},{"$f":"'Fuel CO2 Factors'!$E27","v":89},{"$f":"'Fuel CO2 Factors'!$E27","v":89},{"$f":"'Fuel CO2 Factors'!$E27","v":89},{"$f":"'Fuel CO2 Factors'!$E27","v":89},{"$f":"'Fuel CO2 Factors'!$E27","v":89},{"$f":"'Fuel CO2 Factors'!$E27","v":89},{"$f":"'Fuel CO2 Factors'!$E27","v":89},{"$f":"'Fuel CO2 Factors'!$E27","v":89}]
[null,206,null,"animal bone meal","[kg CO2/GJ]",null,{"$f":"'Fuel CO2 Factors'!$E28","v":89},{"$f":"'Fuel CO2 Factors'!$E28","v":89},{"$f":"'Fuel CO2 Factors'!$E28","v":89},{"$f":"'Fuel CO2 Factors'!$E28","v":89},{"$f":"'Fuel CO2 Factors'!$E28","v":89},{"$f":"'Fuel CO2 Factors'!$E28","v":89},{"$f":"'Fuel CO2 Factors'!$E28","v":89},{"$f":"'Fuel CO2 Factors'!$E28","v":89},{"$f":"'Fuel CO2 Factors'!$E28","v":89},{"$f":"'Fuel CO2 Factors'!$E28","v":89},{"$f":"'Fuel CO2 Factors'!$E28","v":89},{"$f":"'Fuel CO2 Factors'!$E28","v":89},{"$f":"'Fuel CO2 Factors'!$E28","v":89},{"$f":"'Fuel CO2 Factors'!$E28","v":89},{"$f":"'Fuel CO2 Factors'!$E28","v":89},{"$f":"'Fuel CO2 Factors'!$E28","v":89},{"$f":"'Fuel CO2 Factors'!$E28","v":89},{"$f":"'Fuel CO2 Factors'!$E28","v":89},{"$f":"'Fuel CO2 Factors'!$E28","v":89},{"$f":"'Fuel CO2 Factors'!$E28","v":89},{"$f":"'Fuel CO2 Factors'!$E28","v":89},{"$f":"'Fuel CO2 Factors'!$E28","v":89},{"$f":"'Fuel CO2 Factors'!$E28","v":89},{"$f":"'Fuel CO2 Factors'!$E28","v":89},{"$f":"'Fuel CO2 Factors'!$E28","v":89},{"$f":"'Fuel CO2 Factors'!$E28","v":89},{"$f":"'Fuel CO2 Factors'!$E28","v":89},{"$f":"'Fuel CO2 Factors'!$E28","v":89},{"$f":"'Fuel CO2 Factors'!$E28","v":89},{"$f":"'Fuel CO2 Factors'!$E28","v":89},{"$f":"'Fuel CO2 Factors'!$E28","v":89},{"$f":"'Fuel CO2 Factors'!$E28","v":89},{"$f":"'Fuel CO2 Factors'!$E28","v":89},{"$f":"'Fuel CO2 Factors'!$E28","v":89},{"$f":"'Fuel CO2 Factors'!$E28","v":89},{"$f":"'Fuel CO2 Factors'!$E28","v":89},{"$f":"'Fuel CO2 Factors'!$E28","v":89},{"$f":"'Fuel CO2 Factors'!$E28","v":89},{"$f":"'Fuel CO2 Factors'!$E28","v":89},{"$f":"'Fuel CO2 Factors'!$E28","v":89},{"$f":"'Fuel CO2 Factors'!$E28","v":89},{"$f":"'Fuel CO2 Factors'!$E28","v":89},{"$f":"'Fuel CO2 Factors'!$E28","v":89},{"$f":"'Fuel CO2 Factors'!$E28","v":89},{"$f":"'Fuel CO2 Factors'!$E28","v":89},{"$f":"'Fuel CO2 Factors'!$E28","v":89},{"$f":"'Fuel CO2 Factors'!$E28","v":89},{"$f":"'Fuel CO2 Factors'!$E28","v":89},{"$f":"'Fuel CO2 Factors'!$E28","v":89},{"$f":"'Fuel CO2 Factors'!$E28","v":89},{"$f":"'Fuel CO2 Factors'!$E28","v":89},{"$f":"'Fuel CO2 Factors'!$E28","v":89},{"$f":"'Fuel CO2 Factors'!$E28","v":89},{"$f":"'Fuel CO2 Factors'!$E28","v":89},{"$f":"'Fuel CO2 Factors'!$E28","v":89},{"$f":"'Fuel CO2 Factors'!$E28","v":89},{"$f":"'Fuel CO2 Factors'!$E28","v":89},{"$f":"'Fuel CO2 Factors'!$E28","v":89},{"$f":"'Fuel CO2 Factors'!$E28","v":89},{"$f":"'Fuel CO2 Factors'!$E28","v":89},{"$f":"'Fuel CO2 Factors'!$E28","v":89}]
[null,207,null,"animal fat","[kg CO2/GJ]",null,{"$f":"'Fuel CO2 Factors'!$E29","v":89},{"$f":"'Fuel CO2 Factors'!$E29","v":89},{"$f":"'Fuel CO2 Factors'!$E29","v":89},{"$f":"'Fuel CO2 Factors'!$E29","v":89},{"$f":"'Fuel CO2 Factors'!$E29","v":89},{"$f":"'Fuel CO2 Factors'!$E29","v":89},{"$f":"'Fuel CO2 Factors'!$E29","v":89},{"$f":"'Fuel CO2 Factors'!$E29","v":89},{"$f":"'Fuel CO2 Factors'!$E29","v":89},{"$f":"'Fuel CO2 Factors'!$E29","v":89},{"$f":"'Fuel CO2 Factors'!$E29","v":89},{"$f":"'Fuel CO2 Factors'!$E29","v":89},{"$f":"'Fuel CO2 Factors'!$E29","v":89},{"$f":"'Fuel CO2 Factors'!$E29","v":89},{"$f":"'Fuel CO2 Factors'!$E29","v":89},{"$f":"'Fuel CO2 Factors'!$E29","v":89},{"$f":"'Fuel CO2 Factors'!$E29","v":89},{"$f":"'Fuel CO2 Factors'!$E29","v":89},{"$f":"'Fuel CO2 Factors'!$E29","v":89},{"$f":"'Fuel CO2 Factors'!$E29","v":89},{"$f":"'Fuel CO2 Factors'!$E29","v":89},{"$f":"'Fuel CO2 Factors'!$E29","v":89},{"$f":"'Fuel CO2 Factors'!$E29","v":89},{"$f":"'Fuel CO2 Factors'!$E29","v":89},{"$f":"'Fuel CO2 Factors'!$E29","v":89},{"$f":"'Fuel CO2 Factors'!$E29","v":89},{"$f":"'Fuel CO2 Factors'!$E29","v":89},{"$f":"'Fuel CO2 Factors'!$E29","v":89},{"$f":"'Fuel CO2 Factors'!$E29","v":89},{"$f":"'Fuel CO2 Factors'!$E29","v":89},{"$f":"'Fuel CO2 Factors'!$E29","v":89},{"$f":"'Fuel CO2 Factors'!$E29","v":89},{"$f":"'Fuel CO2 Factors'!$E29","v":89},{"$f":"'Fuel CO2 Factors'!$E29","v":89},{"$f":"'Fuel CO2 Factors'!$E29","v":89},{"$f":"'Fuel CO2 Factors'!$E29","v":89},{"$f":"'Fuel CO2 Factors'!$E29","v":89},{"$f":"'Fuel CO2 Factors'!$E29","v":89},{"$f":"'Fuel CO2 Factors'!$E29","v":89},{"$f":"'Fuel CO2 Factors'!$E29","v":89},{"$f":"'Fuel CO2 Factors'!$E29","v":89},{"$f":"'Fuel CO2 Factors'!$E29","v":89},{"$f":"'Fuel CO2 Factors'!$E29","v":89},{"$f":"'Fuel CO2 Factors'!$E29","v":89},{"$f":"'Fuel CO2 Factors'!$E29","v":89},{"$f":"'Fuel CO2 Factors'!$E29","v":89},{"$f":"'Fuel CO2 Factors'!$E29","v":89},{"$f":"'Fuel CO2 Factors'!$E29","v":89},{"$f":"'Fuel CO2 Factors'!$E29","v":89},{"$f":"'Fuel CO2 Factors'!$E29","v":89},{"$f":"'Fuel CO2 Factors'!$E29","v":89},{"$f":"'Fuel CO2 Factors'!$E29","v":89},{"$f":"'Fuel CO2 Factors'!$E29","v":89},{"$f":"'Fuel CO2 Factors'!$E29","v":89},{"$f":"'Fuel CO2 Factors'!$E29","v":89},{"$f":"'Fuel CO2 Factors'!$E29","v":89},{"$f":"'Fuel CO2 Factors'!$E29","v":89},{"$f":"'Fuel CO2 Factors'!$E29","v":89},{"$f":"'Fuel CO2 Factors'!$E29","v":89},{"$f":"'Fuel CO2 Factors'!$E29","v":89},{"$f":"'Fuel CO2 Factors'!$E29","v":89}]
[null,208,null,"agricultural, organic, diaper waste, charcoal","[kg CO2/GJ]",null,{"$f":"'Fuel CO2 Factors'!$E30","v":110},{"$f":"'Fuel CO2 Factors'!$E30","v":110},{"$f":"'Fuel CO2 Factors'!$E30","v":110},{"$f":"'Fuel CO2 Factors'!$E30","v":110},{"$f":"'Fuel CO2 Factors'!$E30","v":110},{"$f":"'Fuel CO2 Factors'!$E30","v":110},{"$f":"'Fuel CO2 Factors'!$E30","v":110},{"$f":"'Fuel CO2 Factors'!$E30","v":110},{"$f":"'Fuel CO2 Factors'!$E30","v":110},{"$f":"'Fuel CO2 Factors'!$E30","v":110},{"$f":"'Fuel CO2 Factors'!$E30","v":110},{"$f":"'Fuel CO2 Factors'!$E30","v":110},{"$f":"'Fuel CO2 Factors'!$E30","v":110},{"$f":"'Fuel CO2 Factors'!$E30","v":110},{"$f":"'Fuel CO2 Factors'!$E30","v":110},{"$f":"'Fuel CO2 Factors'!$E30","v":110},{"$f":"'Fuel CO2 Factors'!$E30","v":110},{"$f":"'Fuel CO2 Factors'!$E30","v":110},{"$f":"'Fuel CO2 Factors'!$E30","v":110},{"$f":"'Fuel CO2 Factors'!$E30","v":110},{"$f":"'Fuel CO2 Factors'!$E30","v":110},{"$f":"'Fuel CO2 Factors'!$E30","v":110},{"$f":"'Fuel CO2 Factors'!$E30","v":110},{"$f":"'Fuel CO2 Factors'!$E30","v":110},{"$f":"'Fuel CO2 Factors'!$E30","v":110},{"$f":"'Fuel CO2 Factors'!$E30","v":110},{"$f":"'Fuel CO2 Factors'!$E30","v":110},{"$f":"'Fuel CO2 Factors'!$E30","v":110},{"$f":"'Fuel CO2 Factors'!$E30","v":110},{"$f":"'Fuel CO2 Factors'!$E30","v":110},{"$f":"'Fuel CO2 Factors'!$E30","v":110},{"$f":"'Fuel CO2 Factors'!$E30","v":110},{"$f":"'Fuel CO2 Factors'!$E30","v":110},{"$f":"'Fuel CO2 Factors'!$E30","v":110},{"$f":"'Fuel CO2 Factors'!$E30","v":110},{"$f":"'Fuel CO2 Factors'!$E30","v":110},{"$f":"'Fuel CO2 Factors'!$E30","v":110},{"$f":"'Fuel CO2 Factors'!$E30","v":110},{"$f":"'Fuel CO2 Factors'!$E30","v":110},{"$f":"'Fuel CO2 Factors'!$E30","v":110},{"$f":"'Fuel CO2 Factors'!$E30","v":110},{"$f":"'Fuel CO2 Factors'!$E30","v":110},{"$f":"'Fuel CO2 Factors'!$E30","v":110},{"$f":"'Fuel CO2 Factors'!$E30","v":110},{"$f":"'Fuel CO2 Factors'!$E30","v":110},{"$f":"'Fuel CO2 Factors'!$E30","v":110},{"$f":"'Fuel CO2 Factors'!$E30","v":110},{"$f":"'Fuel CO2 Factors'!$E30","v":110},{"$f":"'Fuel CO2 Factors'!$E30","v":110},{"$f":"'Fuel CO2 Factors'!$E30","v":110},{"$f":"'Fuel CO2 Factors'!$E30","v":110},{"$f":"'Fuel CO2 Factors'!$E30","v":110},{"$f":"'Fuel CO2 Factors'!$E30","v":110},{"$f":"'Fuel CO2 Factors'!$E30","v":110},{"$f":"'Fuel CO2 Factors'!$E30","v":110},{"$f":"'Fuel CO2 Factors'!$E30","v":110},{"$f":"'Fuel CO2 Factors'!$E30","v":110},{"$f":"'Fuel CO2 Factors'!$E30","v":110},{"$f":"'Fuel CO2 Factors'!$E30","v":110},{"$f":"'Fuel CO2 Factors'!$E30","v":110},{"$f":"'Fuel CO2 Factors'!$E30","v":110}]
[null,209,null,"other biomass","[kg CO2/GJ]",null,{"$f":"'Fuel CO2 Factors'!$E31","v":110},{"$f":"'Fuel CO2 Factors'!$E31","v":110},{"$f":"'Fuel CO2 Factors'!$E31","v":110},{"$f":"'Fuel CO2 Factors'!$E31","v":110},{"$f":"'Fuel CO2 Factors'!$E31","v":110},{"$f":"'Fuel CO2 Factors'!$E31","v":110},{"$f":"'Fuel CO2 Factors'!$E31","v":110},{"$f":"'Fuel CO2 Factors'!$E31","v":110},{"$f":"'Fuel CO2 Factors'!$E31","v":110},{"$f":"'Fuel CO2 Factors'!$E31","v":110},{"$f":"'Fuel CO2 Factors'!$E31","v":110},{"$f":"'Fuel CO2 Factors'!$E31","v":110},{"$f":"'Fuel CO2 Factors'!$E31","v":110},{"$f":"'Fuel CO2 Factors'!$E31","v":110},{"$f":"'Fuel CO2 Factors'!$E31","v":110},{"$f":"'Fuel CO2 Factors'!$E31","v":110},{"$f":"'Fuel CO2 Factors'!$E31","v":110},{"$f":"'Fuel CO2 Factors'!$E31","v":110},{"$f":"'Fuel CO2 Factors'!$E31","v":110},{"$f":"'Fuel CO2 Factors'!$E31","v":110},{"$f":"'Fuel CO2 Factors'!$E31","v":110},{"$f":"'Fuel CO2 Factors'!$E31","v":110},{"$f":"'Fuel CO2 Factors'!$E31","v":110},{"$f":"'Fuel CO2 Factors'!$E31","v":110},{"$f":"'Fuel CO2 Factors'!$E31","v":110},{"$f":"'Fuel CO2 Factors'!$E31","v":110},{"$f":"'Fuel CO2 Factors'!$E31","v":110},{"$f":"'Fuel CO2 Factors'!$E31","v":110},{"$f":"'Fuel CO2 Factors'!$E31","v":110},{"$f":"'Fuel CO2 Factors'!$E31","v":110},{"$f":"'Fuel CO2 Factors'!$E31","v":110},{"$f":"'Fuel CO2 Factors'!$E31","v":110},{"$f":"'Fuel CO2 Factors'!$E31","v":110},{"$f":"'Fuel CO2 Factors'!$E31","v":110},{"$f":"'Fuel CO2 Factors'!$E31","v":110},{"$f":"'Fuel CO2 Factors'!$E31","v":110},{"$f":"'Fuel CO2 Factors'!$E31","v":110},{"$f":"'Fuel CO2 Factors'!$E31","v":110},{"$f":"'Fuel CO2 Factors'!$E31","v":110},{"$f":"'Fuel CO2 Factors'!$E31","v":110},{"$f":"'Fuel CO2 Factors'!$E31","v":110},{"$f":"'Fuel CO2 Factors'!$E31","v":110},{"$f":"'Fuel CO2 Factors'!$E31","v":110},{"$f":"'Fuel CO2 Factors'!$E31","v":110},{"$f":"'Fuel CO2 Factors'!$E31","v":110},{"$f":"'Fuel CO2 Factors'!$E31","v":110},{"$f":"'Fuel CO2 Factors'!$E31","v":110},{"$f":"'Fuel CO2 Factors'!$E31","v":110},{"$f":"'Fuel CO2 Factors'!$E31","v":110},{"$f":"'Fuel CO2 Factors'!$E31","v":110},{"$f":"'Fuel CO2 Factors'!$E31","v":110},{"$f":"'Fuel CO2 Factors'!$E31","v":110},{"$f":"'Fuel CO2 Factors'!$E31","v":110},{"$f":"'Fuel CO2 Factors'!$E31","v":110},{"$f":"'Fuel CO2 Factors'!$E31","v":110},{"$f":"'Fuel CO2 Factors'!$E31","v":110},{"$f":"'Fuel CO2 Factors'!$E31","v":110},{"$f":"'Fuel CO2 Factors'!$E31","v":110},{"$f":"'Fuel CO2 Factors'!$E31","v":110},{"$f":"'Fuel CO2 Factors'!$E31","v":110},{"$f":"'Fuel CO2 Factors'!$E31","v":110}]
[]
[null,"CO2 Emissions from Kiln Fuels",null,null,null,null,{"$f":"G$7","v":1990},1991,1992,1993,1994,1995,1996,1997,1998,1999,2000,2001,2002,2003,2004,2005,2006,2007,2008,2009,2010,2011,2012,2013,2014,2015,2016,2017,2018,2019,2020,2021,2022,2023,2024,2025,2026,2027,2028,2029,2030,2031,2032,2033,2034,2035,2036,2037,2038,2039,2040,2041,2042,2043,2044,2045,2046,2047,2048,2049,2050]
[null,211,"Conventional fossil fuels - total emissions",null,"[t CO2/yr]",null,{"$f":"IF(COUNTBLANK(G389:G395)=7,\"\",SUM(G389:G395))","v":0},{"$f":"IF(COUNTBLANK(H389:H395)=7,\"\",SUM(H389:H395))","v":0},0,0,0,0,0,0,0,0,0,0,0,0,0,0,0,0,0,0,0,0,0,0,0,0,{"$f":"IF(COUNTBLANK(AG389:AG395)=7,\"\",SUM(AG389:AG395))","v":0},0,0,0,0,0,0,0,0,0,{"$f":"IF(COUNTBLANK(AQ389:AQ395)=7,\"\",SUM(AQ389:AQ395))","v":0},0,0,0,0,0,0,0,0,0,0,0,0,0,0,0,0,0,0,0,0,0,0,0,0]
[null,{"$f":"B388+1","v":212},null,"coal + anthracite","[t CO2/yr]",null,{"$f":"IF(G309=\"\",\"\",G309*G349)","v":0},{"$f":"IF(H309=\"\",\"\",H309*H349)","v":0},0,0,0,0,0,0,0,0,0,0,0,0,0,0,0,0,0,0,0,0,0,0,0,0,{"$f":"IF(AG309=\"\",\"\",AG309*AG349)","v":0},0,0,0,0,{"$f":"IF(AL309=\"\",\"\",AL309*AL349)","v":0},0,0,0,0,{"$f":"IF(AQ309=\"\",\"\",AQ309*AQ349)","v":0},0,0,0,0,0,0,0,0,0,0,0,0,0,0,0,0,0,0,0,0,0,0,0,0]
[null,213,null,"petrol coke","[t CO2/yr]",null,0,{"$f":"IF(H310=\"\",\"\",H310*H350)","v":0},0,0,0,0,0,0,0,0,0,0,0,0,0,0,0,0,0,0,0,0,0,0,0,0,0,0,0,0,0,0,0,0,0,0,{"$f":"IF(AQ310=\"\",\"\",AQ310*AQ350)","v":0},0,0,0,0,0,0,0,0,0,0,0,0,0,0,0,0,0,0,0,0,0,0,0,0]
[null,214,null,"(ultra) heavy fuel","[t CO2/yr]",null,0,0,0,0,0,0,0,0,0,0,0,0,0,0,0,0,0,0,0,0,0,0,0,0,0,0,0,0,0,0,0,0,0,0,0,0,{"$f":"IF(AQ311=\"\",\"\",AQ311*AQ351)","v":0},0,0,0,0,0,0,0,0,0,0,0,0,0,0,0,0,0,0,0,0,0,0,0,0]
[null,215,null,"diesel oil","[t CO2/yr]",null,0,0,0,0,0,0,0,0,0,0,0,0,0,0,0,0,0,0,0,0,0,0,0,0,0,0,0,0,0,0,0,0,0,0,0,0,{"$f":"IF(AQ312=\"\",\"\",AQ312*AQ352)","v":0},0,0,0,0,0,0,0,0,0,0,0,0,0,0,0,0,0,0,0,0,0,0,0,0]
[null,216,null,"natural gas ","[t CO2/yr]",null,0,0,0,0,0,0,0,0,0,0,0,0,0,0,0,0,0,0,0,0,0,0,0,0,0,0,0,0,0,0,0,0,0,0,0,0,{"$f":"IF(AQ313=\"\",\"\",AQ313*AQ353)","v":0},0,0,0,0,0,0,0,0,0,0,0,0,0,0,0,0,0,0,0,0,0,0,0,0]
[null,217,null,"shale","[t CO2/yr]",null,0,0,0,0,0,0,0,0,0,0,0,0,0,0,0,0,0,0,0,0,0,0,0,0,0,0,0,0,0,0,0,0,0,0,0,0,{"$f":"IF(AQ314=\"\",\"\",AQ314*AQ354)","v":0},0,0,0,0,0,0,0,0,0,0,0,0,0,0,0,0,0,0,0,0,0,0,0,0]
[null,"217a",null,"lignite","[t CO2/yr]",null,0,0,0,0,0,0,0,0,0,0,0,0,0,0,0,0,0,0,0,0,0,0,0,0,0,0,0,0,0,0,0,0,0,0,0,0,{"$f":"IF(AQ315=\"\",\"\",AQ315*AQ355)","v":0},0,0,0,0,0,0,0,0,0,0,0,0,0,0,0,0,0,0,0,0,0,0,0,0]
[null,{"$f":"B394+1","v":218},"Alternative fossil and mixed fuels - total fossil emissions",null,"[t CO2/yr]",null,{"$f":"IF(COUNTBLANK(G397:G403)=7,\"\",SUM(G397:G403))","v":0},{"$f":"IF(COUNTBLANK(H397:H403)=7,\"\",SUM(H397:H403))","v":0},0,0,0,0,0,0,0,0,0,0,0,0,0,0,0,0,0,0,0,0,0,0,0,0,{"$f":"IF(COUNTBLANK(AG397:AG403)=7,\"\",SUM(AG397:AG403))","v":0},0,0,0,0,0,0,0,0,0,{"$f":"IF(COUNTBLANK(AQ397:AQ403)=7,\"\",SUM(AQ397:AQ403))","v":0},0,0,0,0,0,0,0,0,0,0,0,0,0,0,0,0,0,0,0,0,0,0,0,0]
[null,{"$f":"B396+1","v":219},null,"waste oil / fossil content","[t CO2/yr]",null,{"$f":"IF(G317=\"\",\"\",G317*G361)","v":0},0,0,0,0,0,0,0,0,0,0,0,0,0,0,0,{"$f":"IF(W317=\"\",\"\",W317*W361)","v":0},0,0,0,0,0,0,0,0,0,{"$f":"IF(AG317=\"\",\"\",AG317*AG361)","v":0},0,0,0,0,{"$f":"IF(AL317=\"\",\"\",AL317*AL361)","v":0},0,0,0,0,{"$f":"IF(AQ317=\"\",\"\",AQ317*AQ361)","v":0},0,0,0,0,0,0,0,0,0,0,0,0,0,0,0,0,0,0,0,0,0,0,0,0]
[null,{"$f":"B397+1","v":220},null,"waste tyres / fossil content","[t CO2/yr]",null,{"$f":"IF(G318=\"\",\"\",G318*G362)","v":0},0,0,0,0,0,0,0,0,0,0,0,0,0,0,0,0,0,0,0,0,0,0,0,0,0,0,0,0,0,0,0,0,0,0,0,{"$f":"IF(AQ318=\"\",\"\",AQ318*AQ362)","v":0},0,0,0,0,0,0,0,0,0,0,0,0,0,0,0,0,0,0,0,0,0,0,0,0]
[null,{"$f":"B398+1","v":221},null,"RDF including plastics / fossil content","[t CO2/yr]",null,{"$f":"IF(G319=\"\",\"\",G319*G363)","v":0},0,0,0,0,0,0,0,0,0,0,0,0,0,0,0,0,0,0,0,0,0,0,0,0,0,0,0,0,0,0,0,0,0,0,0,{"$f":"IF(AQ319=\"\",\"\",AQ319*AQ363)","v":0},0,0,0,0,0,0,0,0,0,0,0,0,0,0,0,0,0,0,0,0,0,0,0,0]
[null,{"$f":"B399+1","v":222},null,"solvents / fossil content","[t CO2/yr]",null,{"$f":"IF(G320=\"\",\"\",G320*G364)","v":0},0,0,0,0,0,0,0,0,0,0,0,0,0,0,0,0,0,0,0,0,0,0,0,0,0,0,0,0,0,0,0,0,0,0,0,{"$f":"IF(AQ320=\"\",\"\",AQ320*AQ364)","v":0},0,0,0,0,0,0,0,0,0,0,0,0,0,0,0,0,0,0,0,0,0,0,0,0]
[null,{"$f":"B400+1","v":223},null,"impregnated saw dust / fossil content","[t CO2/yr]",null,{"$f":"IF(G321=\"\",\"\",G321*G365)","v":0},0,0,0,0,0,0,0,0,0,0,0,0,0,0,0,0,0,0,0,0,0,0,0,0,0,0,0,0,0,0,0,0,0,0,0,{"$f":"IF(AQ321=\"\",\"\",AQ321*AQ365)","v":0},0,0,0,0,0,0,0,0,0,0,0,0,0,0,0,0,0,0,0,0,0,0,0,0]
[null,"223a",null,"mixed industrial waste / fossil content","[t CO2/yr]",null,{"$f":"IF(G322=\"\",\"\",G322*G366)","v":0},0,0,0,0,0,0,0,0,0,0,0,0,0,0,0,0,0,0,0,0,0,0,0,0,0,0,0,0,0,0,0,0,0,0,0,{"$f":"IF(AQ322=\"\",\"\",AQ322*AQ366)","v":0},0,0,0,0,0,0,0,0,0,0,0,0,0,0,0,0,0,0,0,0,0,0,0,0]
[null,224,null,"other fossil based wastes / fossil content","[t CO2/yr]",null,{"$f":"IF(G323=\"\",\"\",G323*G368)","v":0},{"$f":"IF(H323=\"\",\"\",H323*H368)","v":0},0,0,0,0,0,0,0,0,0,0,0,0,0,0,0,0,0,0,0,0,0,0,0,0,{"$f":"IF(AG323=\"\",\"\",AG323*AG368)","v":0},0,0,0,0,0,0,0,0,0,{"$f":"IF(AQ323=\"\",\"\",AQ323*AQ368)","v":0},0,0,0,0,0,0,0,0,0,0,0,0,0,0,0,0,0,0,0,0,0,0,0,0]
[null,{"$f":"B403+1","v":225},"Biomass fuels - total, incl. biomass cont. from alternative mixed fuels",null,"[t CO2/yr]",null,{"$f":"IF(COUNTBLANK(G405:G413)=9,\"\",SUM(G405:G413))","v":0},{"$f":"IF(COUNTBLANK(H405:H413)=9,\"\",SUM(H405:H413))","v":0},0,0,0,0,0,0,0,0,0,0,0,0,0,0,0,0,0,0,0,0,0,0,0,0,{"$f":"IF(COUNTBLANK(AG405:AG413)=9,\"\",SUM(AG405:AG413))","v":0},0,0,0,0,0,0,0,0,0,{"$f":"IF(COUNTBLANK(AQ405:AQ413)=9,\"\",SUM(AQ405:AQ413))","v":0},0,0,0,0,0,0,0,0,0,0,0,0,0,0,0,0,0,0,0,0,0,0,0,0]
[null,226,null,"sewage sludge","[t CO2/yr]",null,{"$f":"IF(G325=\"\",\"\",G325*G378)","v":0},0,0,0,0,0,0,0,0,0,0,0,0,0,0,0,{"$f":"IF(W325=\"\",\"\",W325*W378)","v":0},0,0,0,0,0,0,0,0,0,{"$f":"IF(AG325=\"\",\"\",AG325*AG378)","v":0},0,0,0,0,{"$f":"IF(AL325=\"\",\"\",AL325*AL378)","v":0},0,0,0,0,{"$f":"IF(AQ325=\"\",\"\",AQ325*AQ378)","v":0},0,0,0,0,0,0,0,0,0,0,0,0,0,0,0,0,0,0,0,0,0,0,0,0]
[null,227,null,"wood, non impregnated saw dust","[t CO2/yr]",null,{"$f":"IF(G326=\"\",\"\",G326*G379)","v":0},0,0,0,0,0,0,0,0,0,0,0,0,0,0,0,0,0,0,0,0,0,0,0,0,0,0,0,0,0,0,0,0,0,0,0,{"$f":"IF(AQ326=\"\",\"\",AQ326*AQ379)","v":0},0,0,0,0,0,0,0,0,0,0,0,0,0,0,0,0,0,0,0,0,0,0,0,0]
[null,228,null,"paper, carton","[t CO2/yr]",null,0,0,0,0,0,0,0,0,0,0,0,0,0,0,0,0,0,0,0,0,0,0,0,0,0,0,0,0,0,0,0,0,0,0,0,0,{"$f":"IF(AQ327=\"\",\"\",AQ327*AQ380)","v":0},0,0,0,0,0,0,0,0,0,0,0,0,0,0,0,0,0,0,0,0,0,0,0,0]
[null,229,null,"animal meal","[t CO2/yr]",null,0,0,0,0,0,0,0,0,0,0,0,0,0,0,0,0,0,0,0,0,0,0,0,0,0,0,0,0,0,0,0,0,0,0,0,0,{"$f":"IF(AQ328=\"\",\"\",AQ328*AQ381)","v":0},0,0,0,0,0,0,0,0,0,0,0,0,0,0,0,0,0,0,0,0,0,0,0,0]
[null,230,null,"animal bone meal","[t CO2/yr]",null,0,0,0,0,0,0,0,0,0,0,0,0,0,0,0,0,0,0,0,0,0,0,0,0,0,0,0,0,0,0,0,0,0,0,0,0,{"$f":"IF(AQ329=\"\",\"\",AQ329*AQ382)","v":0},0,0,0,0,0,0,0,0,0,0,0,0,0,0,0,0,0,0,0,0,0,0,0,0]
[null,231,null,"animal fat","[t CO2/yr]",null,0,0,0,0,0,0,0,0,0,0,0,0,0,0,0,0,0,0,0,0,0,0,0,0,0,0,0,0,0,0,0,0,0,0,0,0,{"$f":"IF(AQ330=\"\",\"\",AQ330*AQ383)","v":0},0,0,0,0,0,0,0,0,0,0,0,0,0,0,0,0,0,0,0,0,0,0,0,0]
[null,232,null,"agricultural, organic, diaper waste, charcoal","[t CO2/yr]",null,0,0,0,0,0,0,0,0,0,0,0,0,0,0,0,0,0,0,0,0,0,0,0,0,0,0,0,0,0,0,0,0,0,0,0,0,{"$f":"IF(AQ331=\"\",\"\",AQ331*AQ384)","v":0},0,0,0,0,0,0,0,0,0,0,0,0,0,0,0,0,0,0,0,0,0,0,0,0]
[null,233,null,"other biomass","[t CO2/yr]",null,0,0,0,0,0,0,0,0,0,0,0,0,0,0,0,0,0,0,0,0,0,0,0,0,0,0,0,0,0,0,0,0,0,0,0,0,{"$f":"IF(AQ332=\"\",\"\",AQ332*AQ385)","v":0},0,0,0,0,0,0,0,0,0,0,0,0,0,0,0,0,0,0,0,0,0,0,0,0]
[null,"233a",null,"biomass content from alternative fuels","[t CO2/yr]",null,{"$f":"(G239*G278*G$369*G361+G240*G279*G$370*G362+G241*G280*G$371*G363+G242*G281*G$372*G364+G243*G282*G$373*G365+G244*G283*G$374*G366+G245*G284*G$376*G368)/1000","v":0},{"$f":"(H239*H278*H$369*H361+H240*H279*H$370*H362+H241*H280*H$371*H363+H242*H281*H$372*H364+H243*H282*H$373*H365+H244*H283*H$374*H366+H245*H284*H$376*H368)/1000","v":0},0,0,0,0,0,0,0,0,0,0,0,0,0,0,0,0,0,0,0,0,0,0,0,0,{"$f":"(AG239*AG278*AG$369*AG361+AG240*AG279*AG$370*AG362+AG241*AG280*AG$371*AG363+AG242*AG281*AG$372*AG364+AG243*AG282*AG$373*AG365+AG244*AG283*AG$374*AG366+AG245*AG284*AG$376*AG368)/1000","v":0},0,0,0,0,0,0,0,0,0,{"$f":"(AQ239*AQ278*AQ$369*AQ361+AQ240*AQ279*AQ$370*AQ362+AQ241*AQ280*AQ$371*AQ363+AQ242*AQ281*AQ$372*AQ364+AQ243*AQ282*AQ$373*AQ365+AQ244*AQ283*AQ$374*AQ366+AQ245*AQ284*AQ$376*AQ368)/1000","v":0},0,0,0,0,0,0,0,0,0,0,0,0,0,0,0,0,0,0,0,0,0,0,0,0]
[null,"Drying of raw materials and fuels",null,null,null,null,{"$f":"G$7","v":1990},1991,1992,1993,1994,1995,1996,1997,1998,1999,2000,2001,2002,2003,2004,2005,2006,2007,2008,2009,2010,2011,2012,2013,2014,2015,2016,2017,2018,2019,2020,2021,2022,2023,2024,2025,2026,2027,2028,2029,2030,2031,2032,2033,2034,2035,2036,2037,2038,2039,2040,2041,2042,2043,2044,2045,2046,2047,2048,2049,2050]
[null,234,"Conventional fossil fuels - total emissions",null,"[t CO2/yr]",null,{"$f":"IF(COUNTBLANK(G416:G421)=6,\"\",SUM(G416:G421))","v":0},{"$f":"IF(COUNTBLANK(H416:H421)=6,\"\",SUM(H416:H421))","v":0},0,0,0,0,0,0,0,0,0,0,0,0,0,0,0,0,0,0,0,0,0,0,0,0,{"$f":"IF(COUNTBLANK(AG416:AG421)=6,\"\",SUM(AG416:AG421))","v":0},0,0,0,0,0,0,0,0,0,{"$f":"IF(COUNTBLANK(AQ416:AQ421)=6,\"\",SUM(AQ416:AQ421))","v":0},0,0,0,0,0,0,0,0,0,0,0,0,0,0,0,0,0,0,0,0,0,0,0,0]
[null,"234a",null,"coal + anthracite + lignite","[t CO2/yr]",null,{"$f":"IF(G336=\"\",\"\",G336*G349)","v":0},{"$f":"IF(H336=\"\",\"\",H336*H349)","v":0},0,0,0,0,0,0,0,0,0,0,0,0,0,0,0,0,0,0,0,0,0,0,0,0,{"$f":"IF(AG336=\"\",\"\",AG336*AG349)","v":0},0,0,0,0,{"$f":"IF(AL336=\"\",\"\",AL336*AL349)","v":0},0,0,0,0,{"$f":"IF(AQ336=\"\",\"\",AQ336*AQ349)","v":0},0,0,0,0,0,0,0,0,0,0,0,0,0,0,0,0,0,0,0,0,0,0,0,0]
[null,"234b",null,"petrol coke","[t CO2/yr]",null,0,{"$f":"IF(H337=\"\",\"\",H337*H350)","v":0},0,0,0,0,0,0,0,0,0,0,0,0,0,0,0,0,0,0,0,0,0,0,0,0,0,0,0,0,0,0,0,0,0,0,{"$f":"IF(AQ337=\"\",\"\",AQ337*AQ350)","v":0},0,0,0,0,0,0,0,0,0,0,0,0,0,0,0,0,0,0,0,0,0,0,0,0]
[null,"234c",null,"(ultra) heavy fuel","[t CO2/yr]",null,0,{"$f":"IF(H338=\"\",\"\",H338*H351)","v":0},0,0,0,0,0,0,0,0,0,0,0,0,0,0,0,0,0,0,0,0,0,0,0,0,0,0,0,0,0,0,0,0,0,0,{"$f":"IF(AQ338=\"\",\"\",AQ338*AQ351)","v":0},0,0,0,0,0,0,0,0,0,0,0,0,0,0,0,0,0,0,0,0,0,0,0,0]
[null,"234d",null,"diesel oil","[t CO2/yr]",null,0,{"$f":"IF(H339=\"\",\"\",H339*H352)","v":0},0,0,0,0,0,0,0,0,0,0,0,0,0,0,0,0,0,0,0,0,0,0,0,0,0,0,0,0,0,0,0,0,0,0,{"$f":"IF(AQ339=\"\",\"\",AQ339*AQ352)","v":0},0,0,0,0,0,0,0,0,0,0,0,0,0,0,0,0,0,0,0,0,0,0,0,0]
[null,"234e",null,"natural gas ","[t CO2/yr]",null,0,{"$f":"IF(H340=\"\",\"\",H340*H353)","v":0},0,0,0,0,0,0,0,0,0,0,0,0,0,0,0,0,0,0,0,0,0,0,0,0,0,0,0,0,0,0,0,0,0,0,{"$f":"IF(AQ340=\"\",\"\",AQ340*AQ353)","v":0},0,0,0,0,0,0,0,0,0,0,0,0,0,0,0,0,0,0,0,0,0,0,0,0]
[null,"234f",null,"shale","[t CO2/yr]",null,0,{"$f":"IF(H341=\"\",\"\",H341*H354)","v":0},0,0,0,0,0,0,0,0,0,0,0,0,0,0,0,0,0,0,0,0,0,0,0,0,0,0,0,0,0,0,0,0,0,0,{"$f":"IF(AQ341=\"\",\"\",AQ341*AQ354)","v":0},0,0,0,0,0,0,0,0,0,0,0,0,0,0,0,0,0,0,0,0,0,0,0,0]
[null,235,"Alternative fossil fuels - fossil total emissions",null,"[t CO2/yr]",null,{"$f":"G423","v":0},0,0,0,0,0,0,0,0,0,0,0,0,0,0,0,0,0,0,0,0,0,0,0,0,0,0,0,0,0,0,0,0,0,0,0,0,0,0,0,0,0,0,0,0,0,0,0,0,0,0,0,0,0,0,0,0,0,0,0,0]
[null,"235a",null,"other fossil based wastes / fossil content","[t CO2/yr]",null,{"$f":"IF(G343=\"\",\"\",G343*G368)","v":0},{"$f":"IF(H343=\"\",\"\",H343*H368)","v":0},0,0,0,0,0,0,0,0,0,0,0,0,0,0,0,0,0,0,0,0,0,0,0,0,{"$f":"IF(AG343=\"\",\"\",AG343*AG368)","v":0},0,0,0,0,0,0,0,0,0,{"$f":"IF(AQ343=\"\",\"\",AQ343*AQ368)","v":0},0,0,0,0,0,0,0,0,0,0,0,0,0,0,0,0,0,0,0,0,0,0,0,0]
[null,236,"Alternative biomass fuels - biomass total emissions",null,"[t CO2/yr]",null,{"$f":"G425","v":0},0,0,0,0,0,0,0,0,0,0,0,0,0,0,0,0,0,0,0,0,0,0,0,0,0,0,0,0,0,0,0,0,0,0,0,0,0,0,0,0,0,0,0,0,0,0,0,0,0,0,0,0,0,0,0,0,0,0,0,0]
[null,"236a",null,"other biomass (incl. biomass content of mixed fuels)","[t CO2/yr]",null,{"$f":"IF(G345=\"\",\"\",(G266*G305/1000*G385)+(G264*G303/1000*G368*G376))","v":0},{"$f":"IF(H345=\"\",\"\",(H266*H305/1000*H385)+(H264*H303/1000*H368*H376))","v":0},0,0,0,0,0,0,0,0,0,0,0,0,0,0,0,0,0,0,0,0,0,0,0,0,0,0,0,0,0,{"$f":"IF(AL345=\"\",\"\",(AL266*AL305/1000*AL385)+(AL264*AL303/1000*AL368*AL376))","v":0},{"$f":"IF(AM345=\"\",\"\",(AM266*AM305/1000*AM385)+(AM264*AM303/1000*AM368*AM376))","v":0},{"$f":"IF(AN345=\"\",\"\",(AN266*AN305/1000*AN385)+(AN264*AN303/1000*AN368*AN376))","v":0},{"$f":"IF(AO345=\"\",\"\",(AO266*AO305/1000*AO385)+(AO264*AO303/1000*AO368*AO376))","v":0},{"$f":"IF(AP345=\"\",\"\",(AP266*AP305/1000*AP385)+(AP264*AP303/1000*AP368*AP376))","v":0},{"$f":"IF(AQ345=\"\",\"\",(AQ266*AQ305/1000*AQ385)+(AQ264*AQ303/1000*AQ368*AQ376))","v":0},0,0,0,0,0,0,0,0,0,0,0,0,0,0,0,0,0,0,0,0,0,0,0,0]
[]
["NON-KILN FUELS - DETAILED INFORMATION"]
[]
[null,"Non-Kiln Fuel Consumption in tonnes per year",null,null,null,null,{"$f":"G$7","v":1990},1991,1992,1993,1994,1995,1996,1997,1998,1999,2000,2001,2002,2003,2004,2005,2006,2007,2008,2009,2010,2011,2012,2013,2014,2015,2016,2017,2018,2019,2020,2021,2022,2023,2024,2025,2026,2027,2028,2029,2030,2031,2032,2033,2034,2035,2036,2037,2038,2039,2040,2041,2042,2043,2044,2045,2046,2047,2048,2049,2050]
[null,301,"Equipment and On-Site Vehicles fossil fuels"]
[null,"301a",null,"diesel oil","[t/yr]",null,0,0,0,0,0,0,0,0,0,0,0,0,0,0,0,0,0,0,0,0,0,0,0,0,0,0,0,0,0,0,0,0,0,0,0,0,0,0,0,0,0,0,0,0,0,0,0,0,0,0,0,0,0,0,0,0,0,0,0,0,0]
[null,"301b",null,"gasoline","[t/yr]",null,0,0,0,0,0,0,0,0,0,0,0,0,0,0,0,0,0,0,0,0,0,0,0,0,0,0,0,0,0,0,0,0,0,0,0,0,0,0,0,0,0,0,0,0,0,0,0,0,0,0,0,0,0,0,0,0,0,0,0,0,0]
[null,"301ba",null,"other fossil fuels","[t/yr]",null,0,0,0,0,0,0,0,0,0,0,0,0,0,0,0,0,0,0,0,0,0,0,0,0,0,0,0,0,0,0,0,0,0,0,0,0,0,0,0,0,0,0,0,0,0,0,0,0,0,0,0,0,0,0,0,0,0,0,0,0,0]
[null,"301c","Equipment and On-Site Vehicles fuels (containing biomass)"]
[null,"301d",null,"bio and mixed diesel ","[t/yr]",null,0,0,0,0,0,0,0,0,0,0,0,0,0,0,0,0,0,0,0,0,0,0,0,0,0,0,0,0,0,0,0,0,0,0,0,0,0,0,0,0,0,0,0,0,0,0,0,0,0,0,0,0,0,0,0,0,0,0,0,0,0]
[null,302,"Room Heating and Cooling"]
[null,"302a",null,"diesel oil","[t/yr]",null,0,0,0,0,0,0,0,0,0,0,0,0,0,0,0,0,0,0,0,0,0,0,0,0,0,0,0,0,0,0,0,0,0,0,0,0,0,0,0,0,0,0,0,0,0,0,0,0,0,0,0,0,0,0,0,0,0,0,0,0,0]
[null,"302b",null,"natural gas","[1'000 Nm3/yr]",null,0,0,0,0,0,0,0,0,0,0,0,0,0,0,0,0,0,0,0,0,0,0,0,0,0,0,0,0,0,0,0,0,0,0,0,0,0,0,0,0,0,0,0,0,0,0,0,0,0,0,0,0,0,0,0,0,0,0,0,0,0]
[null,"302c",null,"other fossil fuels","[t/yr]",null,0,0,0,0,0,0,0,0,0,0,0,0,0,0,0,0,0,0,0,0,0,0,0,0,0,0,0,0,0,0,0,0,0,0,0,0,0,0,0,0,0,0,0,0,0,0,0,0,0,0,0,0,0,0,0,0,0,0,0,0,0]
[null,303,"Drying of mineral components"]
[null,"303k","     Conventional fossil fuels"]
[null,"303a",null,"coal + anthracite+ lignite","[t/yr]",null,0,0,0,0,0,0,0,0,0,0,0,0,0,0,0,0,0,0,0,0,0,0,0,0,0,0,0,0,0,0,0,0,0,0,0,0,0,0,0,0,0,0,0,0,0,0,0,0,0,0,0,0,0,0,0,0,0,0,0,0,0]
[null,"303b",null,"petrol coke","[t/yr]",null,0,0,0,0,0,0,0,0,0,0,0,0,0,0,0,0,0,0,0,0,0,0,0,0,0,0,0,0,0,0,0,0,0,0,0,0,0,0,0,0,0,0,0,0,0,0,0,0,0,0,0,0,0,0,0,0,0,0,0,0,0]
[null,"303c",null,"(ultra) heavy fuel","[t/yr]",null,0,0,0,0,0,0,0,0,0,0,0,0,0,0,0,0,0,0,0,0,0,0,0,0,0,0,0,0,0,0,0,0,0,0,0,0,0,0,0,0,0,0,0,0,0,0,0,0,0,0,0,0,0,0,0,0,0,0,0,0,0]
[null,"303d",null,"diesel oil","[t/yr]",null,0,0,0,0,0,0,0,0,0,0,0,0,0,0,0,0,0,0,0,0,0,0,0,0,0,0,0,0,0,0,0,0,0,0,0,0,0,0,0,0,0,0,0,0,0,0,0,0,0,0,0,0,0,0,0,0,0,0,0,0,0]
[null,"303e",null,"natural gas ","[1'000 Nm3/yr]",null,0,0,0,0,0,0,0,0,0,0,0,0,0,0,0,0,0,0,0,0,0,0,0,0,0,0,0,0,0,0,0,0,0,0,0,0,0,0,0,0,0,0,0,0,0,0,0,0,0,0,0,0,0,0,0,0,0,0,0,0,0]
[null,"303f",null,"shale","[t/yr]",null,0,0,0,0,0,0,0,0,0,0,0,0,0,0,0,0,0,0,0,0,0,0,0,0,0,0,0,0,0,0,0,0,0,0,0,0,0,0,0,0,0,0,0,0,0,0,0,0,0,0,0,0,0,0,0,0,0,0,0,0,0]
[null,"303g","     Alternative fossil and mixed fuels"]
[null,"303h",null,"other fossil based wastes and mixed fuels","[t/yr]",null,0,0,0,0,0,0,0,0,0,0,0,0,0,0,0,0,0,0,0,0,0,0,0,0,0,0,0,0,0,0,0,0,0,0,0,0,0,0,0,0,0,0,0,0,0,0,0,0,0,0,0,0,0,0,0,0,0,0,0,0,0]
[null,"303i","     Alternative biomass fuels"]
[null,"303j",null,"other biomass","[t/yr]",null,0,0,0,0,0,0,0,0,0,0,0,0,0,0,0,0,0,0,0,0,0,0,0,0,0,0,0,0,0,0,0,0,0,0,0,0,0,0,0,0,0,0,0,0,0,0,0,0,0,0,0,0,0,0,0,0,0,0,0,0,0]
[null,304,"On-site power generation"]
[null,"304aa","     Conventional fossil fuels"]
[null,"304a",null,"coal + anthracite + lignite","[t/yr]",null,0,0,0,0,0,0,0,0,0,0,0,0,0,0,0,0,0,0,0,0,0,0,0,0,0,0,0,0,0,0,0,0,0,0,0,0,0,0,0,0,0,0,0,0,0,0,0,0,0,0,0,0,0,0,0,0,0,0,0,0,0]
[null,"304b",null,"(ultra) heavy fuel","[t/yr]",null,0,0,0,0,0,0,0,0,0,0,0,0,0,0,0,0,0,0,0,0,0,0,0,0,0,0,0,0,0,0,0,0,0,0,0,0,0,0,0,0,0,0,0,0,0,0,0,0,0,0,0,0,0,0,0,0,0,0,0,0,0]
[null,"304c",null,"diesel oil","[t/yr]",null,0,0,0,0,0,0,0,0,0,0,0,0,0,0,0,0,0,0,0,0,0,0,0,0,0,0,0,0,0,0,0,0,0,0,0,0,0,0,0,0,0,0,0,0,0,0,0,0,0,0,0,0,0,0,0,0,0,0,0,0,0]
[null,"304d",null,"natural gas ","[1'000 Nm3/yr]",null,0,0,0,0,0,0,0,0,0,0,0,0,0,0,0,0,0,0,0,0,0,0,0,0,0,0,0,0,0,0,0,0,0,0,0,0,0,0,0,0,0,0,0,0,0,0,0,0,0,0,0,0,0,0,0,0,0,0,0,0,0]
[null,"304i",null,"petrol coke","[t/yr]",null,0,0,0,0,0,0,0,0,0,0,0,0,0,0,0,0,0,0,0,0,0,0,0,0,0,0,0,0,0,0,0,0,0,0,0,0,0,0,0,0,0,0,0,0,0,0,0,0,0,0,0,0,0,0,0,0,0,0,0,0,0]
[null,"304j",null,"other fossil fuels","[t/yr]",null,0,0,0,0,0,0,0,0,0,0,0,0,0,0,0,0,0,0,0,0,0,0,0,0,0,0,0,0,0,0,0,0,0,0,0,0,0,0,0,0,0,0,0,0,0,0,0,0,0,0,0,0,0,0,0,0,0,0,0,0,0]
[null,"304f","     Alternative fossil and mixed fuels"]
[null,"304g",null,"other fossil based wastes and mixed fuels","[t/yr]",null,0,0,0,0,0,0,0,0,0,0,0,0,0,0,0,0,0,0,0,0,0,0,0,0,0,0,0,0,0,0,0,0,0,0,0,0,0,0,0,0,0,0,0,0,0,0,0,0,0,0,0,0,0,0,0,0,0,0,0,0,0]
[null,"304h","     Alternative biomass fuels"]
[null,"304e",null,"other biomass","[t/yr]",null,0,0,0,0,0,0,0,0,0,0,0,0,0,0,0,0,0,0,0,0,0,0,0,0,0,0,0,0,0,0,0,0,0,0,0,0,0,0,0,0,0,0,0,0,0,0,0,0,0,0,0,0,0,0,0,0,0,0,0,0,0]
[]
[null,"Non-Kiln Fuel Lower Heating Values ",null,null,null,null,{"$f":"G$7","v":1990},1991,1992,1993,1994,1995,1996,1997,1998,1999,2000,2001,2002,2003,2004,2005,2006,2007,2008,2009,2010,2011,2012,2013,2014,2015,2016,2017,2018,2019,2020,2021,2022,2023,2024,2025,2026,2027,2028,2029,2030,2031,2032,2033,2034,2035,2036,2037,2038,2039,2040,2041,2042,2043,2044,2045,2046,2047,2048,2049,2050]
[null,311,"Equipment and On-Site Vehicles fossil fuels"]
[null,"311a",null,"diesel oil","[GJ/t]",null,{"$f":"G299","v":0},0,0,0,0,0,0,0,0,0,0,0,0,0,0,0,0,0,0,0,0,0,0,0,0,0,0,0,0,0,0,{"$f":"AL299","v":0},{"$f":"AM299","v":0},{"$f":"AN299","v":0},{"$f":"AO299","v":0},{"$f":"AP299","v":0},{"$f":"AQ299","v":0},0,0,0,0,0,0,0,0,0,0,0,0,0,0,0,0,0,0,0,0,0,0,0,0]
[null,"311b",null,"gasoline","[GJ/t]",null,0,0,0,0,0,0,0,0,0,0,0,0,0,0,0,0,0,0,0,0,0,0,0,0,0,0,0,0,0,0,0,0,0,0,0,0,0,0,0,0,0,0,0,0,0,0,0,0,0,0,0,0,0,0,0,0,0,0,0,0,0]
[null,"311ba",null,"other fossil fuels","[GJ/t]",null,0,0,0,0,0,0,0,0,0,0,0,0,0,0,0,0,0,0,0,0,0,0,0,0,0,0,0,0,0,0,0,0,0,0,0,0,0,0,0,0,0,0,0,0,0,0,0,0,0,0,0,0,0,0,0,0,0,0,0,0,0]
[null,"311c","Equipment and On-Site Vehicles fuels (containing biomass)"]
[null,"311d",null,"bio and mixed diesel ","[GJ/t]",null,0,0,0,0,0,0,0,0,0,0,0,0,0,0,0,0,0,0,0,0,0,0,0,0,0,0,0,0,0,0,0,0,0,0,0,0,0,0,0,0,0,0,0,0,0,0,0,0,0,0,0,0,0,0,0,0,0,0,0,0,0]
[null,312,"Room Heating and Cooling"]
[null,"312a",null,"diesel oil","[GJ/t]",null,{"$f":"G299","v":0},0,0,0,0,0,0,0,0,0,0,0,0,0,0,0,0,0,0,0,0,0,0,0,0,0,0,0,0,0,0,{"$f":"AL299","v":0},0,0,0,0,{"$f":"AQ299","v":0},0,0,0,0,0,0,0,0,0,0,0,0,0,0,0,0,0,0,0,0,0,0,0,0]
[null,"312b",null,"natural gas","[GJ/1'000 Nm3]",null,{"$f":"G300","v":0},0,0,0,0,0,0,0,0,0,0,0,0,0,0,0,0,0,0,0,0,0,0,0,0,0,0,0,0,0,0,0,0,0,0,0,{"$f":"AQ300","v":0},0,0,0,0,0,0,0,0,0,0,0,0,0,0,0,0,0,0,0,0,0,0,0,0]
[null,"312c",null,"other fossil fuels","[GJ/t]",null,0,0,0,0,0,0,0,0,0,0,0,0,0,0,0,0,0,0,0,0,0,0,0,0,0,0,0,0,0,0,0,0,0,0,0,0,1,2,3,4,5,6,7,8,9,10,11,12,13,14,15,16,17,18,19,20,21,22,23,24,25]
[null,313,"Drying of mineral components"]
[null,"313k","     Conventional fossil fuels"]
[null,"313a",null,"coal + anthracite + lignite","[GJ/t]",null,{"$f":"G270","v":0},0,0,0,0,0,0,0,0,0,0,0,0,0,0,0,0,0,0,0,0,0,0,0,0,0,0,0,0,0,0,{"$f":"AL270","v":0},0,0,0,0,{"$f":"AQ270","v":0},0,0,0,0,0,0,0,0,0,0,0,0,0,0,0,0,0,0,0,0,0,0,0,0]
[null,"313b",null,"petrol coke","[GJ/t]",null,{"$f":"G271","v":0},0,0,0,0,0,0,0,0,0,0,0,0,0,0,0,0,0,0,0,0,0,0,0,0,0,0,0,0,0,0,0,0,0,0,0,{"$f":"AQ271","v":0},0,0,0,0,0,0,0,0,0,0,0,0,0,0,0,0,0,0,0,0,0,0,0,0]
[null,"313c",null,"(ultra) heavy fuel","[GJ/t]",null,{"$f":"G272","v":0},0,0,0,0,0,0,0,0,0,0,0,0,0,0,0,0,0,0,0,0,0,0,0,0,0,0,0,0,0,0,0,0,0,0,0,{"$f":"AQ272","v":0},0,0,0,0,0,0,0,0,0,0,0,0,0,0,0,0,0,0,0,0,0,0,0,0]
[null,"313d",null,"diesel oil","[GJ/t]",null,{"$f":"G273","v":0},0,0,0,0,0,0,0,0,0,0,0,0,0,0,0,0,0,0,0,0,0,0,0,0,0,0,0,0,0,0,0,0,0,0,0,{"$f":"AQ273","v":0},0,0,0,0,0,0,0,0,0,0,0,0,0,0,0,0,0,0,0,0,0,0,0,0]
[null,"313e",null,"natural gas ","[GJ/1'000 Nm3]",null,{"$f":"G274","v":0},0,0,0,0,0,0,0,0,0,0,0,0,0,0,0,0,0,0,0,0,0,0,0,0,0,0,0,0,0,0,{"$f":"AL274","v":0},0,0,0,0,{"$f":"AQ274","v":0},0,0,0,0,0,0,0,0,0,0,0,0,0,0,0,0,0,0,0,0,0,0,0,0]
[null,"313f",null,"shale","[GJ/t]",null,{"$f":"G275","v":0},0,0,0,0,0,0,0,0,0,0,0,0,0,0,0,0,0,0,0,0,0,0,0,0,0,0,0,0,0,0,0,0,0,0,0,{"$f":"AQ275","v":0},0,0,0,0,0,0,0,0,0,0,0,0,0,0,0,0,0,0,0,0,0,0,0,0]
[null,"313g","     Alternative fossil and mixed fuels"]
[null,"313h",null,"other fossil based wastes and mixed fuels","[GJ/t]",null,0,0,0,0,0,0,0,0,0,0,0,0,0,0,0,0,0,0,0,0,0,0,0,0,0,0,0,0,0,0,0,0,0,0,0,0,0,0,0,0,0,0,0,0,0,0,0,0,0,0,0,0,0,0,0,0,0,0,0,0,0]
[null,"313i","     Alternative biomass fuels"]
[null,"313j",null,"other biomass","[GJ/t]",null,0,0,0,0,0,0,0,0,0,0,0,0,0,0,0,0,0,0,0,0,0,0,0,0,0,0,0,0,0,0,0,0,0,0,0,0,0,0,0,0,0,0,0,0,0,0,0,0,0,0,0,0,0,0,0,0,0,0,0,0,0]
[null,314,"On-site power generation"]
[null,"314aa","     Conventional fossil fuels"]
[null,"314a",null,"coal + anthracite + lignite","[GJ/t]",null,{"$f":"G270","v":0},0,0,0,0,0,0,0,0,0,0,0,0,0,0,0,0,0,0,0,0,0,0,0,0,0,0,0,0,0,0,{"$f":"AL270","v":0},{"$f":"AM270","v":0},{"$f":"AN270","v":0},{"$f":"AO270","v":0},{"$f":"AP270","v":0},{"$f":"AQ270","v":0},0,0,0,0,0,0,0,0,0,0,0,0,0,0,0,0,0,0,0,0,0,0,0,0]
[null,"314b",null,"(ultra) heavy fuel","[GJ/t]",null,{"$f":"G272","v":0},0,0,0,0,0,0,0,0,0,0,0,0,0,0,0,0,0,0,0,0,0,0,0,0,0,0,0,0,0,0,{"$f":"AL272","v":0},0,0,0,0,{"$f":"AQ272","v":0},0,0,0,0,0,0,0,0,0,0,0,0,0,0,0,0,0,0,0,0,0,0,0,0]
[null,"314c",null,"diesel oil","[GJ/t]",null,{"$f":"G273","v":0},0,0,0,0,0,0,0,0,0,0,0,0,0,0,0,0,0,0,0,0,0,0,0,0,0,0,0,0,0,0,0,0,0,0,0,{"$f":"AQ273","v":0},0,0,0,0,0,0,0,0,0,0,0,0,0,0,0,0,0,0,0,0,0,0,0,0]
[null,"314d",null,"natural gas ","[GJ/1'000 Nm3]",null,{"$f":"G274","v":0},0,0,0,0,0,0,0,0,0,0,0,0,0,0,0,0,0,0,0,0,0,0,0,0,0,0,0,0,0,0,0,0,0,0,0,{"$f":"AQ274","v":0},0,0,0,0,0,0,0,0,0,0,0,0,0,0,0,0,0,0,0,0,0,0,0,0]
[null,"314i",null,"petrol coke","[GJ/t]",null,{"$f":"G271","v":0},0,0,0,0,0,0,0,0,0,0,0,0,0,0,0,0,0,0,0,0,0,0,0,0,0,0,0,0,0,0,{"$f":"AL271","v":0},{"$f":"AM271","v":0},{"$f":"AN271","v":0},{"$f":"AO271","v":0},{"$f":"AP271","v":0},{"$f":"AQ271","v":0},0,0,0,0,0,0,0,0,0,0,0,0,0,0,0,0,0,0,0,0,0,0,0,0]
[null,"314j",null,"other fossil fuels","[GJ/t]",null,0,0,0,0,0,0,0,0,0,0,0,0,0,0,0,0,0,0,0,0,0,0,0,0,0,0,0,0,0,0,0,0,0,0,0,0,0,0,0,0,0,0,0,0,0,0,0,0,0,0,0,0,0,0,0,0,0,0,0,0,0]
[null,"314f","     Alternative fossil and mixed fuels"]
[null,"314g",null,"other fossil based wastes and mixed fuels","[GJ/t]",null,0,0,0,0,0,0,0,0,0,0,0,0,0,0,0,0,0,0,0,0,0,0,0,0,0,0,0,0,0,0,0,0,0,0,0,0,0,0,0,0,0,0,0,0,0,0,0,0,0,0,0,0,0,0,0,0,0,0,0,0,0]
[null,"314h","     Alternative biomass fuels"]
[null,"314e",null,"other biomass","[GJ/t]",null,0,0,0,0,0,0,0,0,0,0,0,0,0,0,0,0,0,0,0,0,0,0,0,0,0,0,0,0,0,0,0,0,0,0,0,0,0,0,0,0,0,0,0,0,0,0,0,0,0,0,0,0,0,0,0,0,0,0,0,0,0]
[]
[null,"Non-Kiln Fuel Consumption in terajoules (TJ) per year",null,null,null,null,{"$f":"G$7","v":1990},1991,1992,1993,1994,1995,1996,1997,1998,1999,2000,2001,2002,2003,2004,2005,2006,2007,2008,2009,2010,2011,2012,2013,2014,2015,2016,2017,2018,2019,2020,2021,2022,2023,2024,2025,2026,2027,2028,2029,2030,2031,2032,2033,2034,2035,2036,2037,2038,2039,2040,2041,2042,2043,2044,2045,2046,2047,2048,2049,2050]
[null,321,"Equipment and On-Site Vehicles fossil fuels",null,"[TJ/yr]",null,{"$f":"IF(COUNTBLANK(G503:G505)=3,\"\",SUM(G503:G505))","v":0},{"$f":"IF(COUNTBLANK(H503:H505)=3,\"\",SUM(H503:H505))","v":0},0,0,0,0,0,0,0,0,0,0,0,0,0,0,0,0,0,0,0,0,0,0,0,0,{"$f":"IF(COUNTBLANK(AG503:AG505)=3,\"\",SUM(AG503:AG505))","v":0},0,0,0,0,0,0,0,0,0,{"$f":"IF(COUNTBLANK(AQ503:AQ505)=3,\"\",SUM(AQ503:AQ505))","v":0},0,0,0,0,0,0,0,0,0,0,0,0,0,0,0,0,0,0,0,0,0,0,0,0]
[null,"321a",null,"diesel oil","[TJ/yr]",null,{"$f":"IF(G431=\"\",\"\",G431*G467/1000)","v":0},0,0,0,0,0,0,0,0,0,0,0,0,0,0,0,0,0,0,0,0,0,0,0,0,0,0,0,0,0,0,{"$f":"IF(AL431=\"\",\"\",AL431*AL467/1000)","v":0},0,0,0,0,{"$f":"IF(AQ431=\"\",\"\",AQ431*AQ467/1000)","v":0},0,0,0,0,0,0,0,0,0,0,0,0,0,0,0,0,0,0,0,0,0,0,0,0]
[null,"321b",null,"gasoline","[TJ/yr]",null,{"$f":"IF(G432=\"\",\"\",G432*G468/1000)","v":0},0,0,0,0,0,0,0,0,0,0,0,0,0,0,0,0,0,0,0,0,0,0,0,0,0,0,0,0,0,0,0,0,0,0,0,{"$f":"IF(AQ432=\"\",\"\",AQ432*AQ468/1000)","v":0},0,0,0,0,0,0,0,0,0,0,0,0,0,0,0,0,0,0,0,0,0,0,0,0]
[null,"321ba",null,"other fossil fuels","[TJ/yr]",null,{"$f":"IF(G433=\"\",\"\",G433*G469/1000)","v":0},0,0,0,0,0,0,0,0,0,0,0,0,0,0,0,0,0,0,0,0,0,0,0,0,0,0,0,0,0,0,0,0,0,0,0,{"$f":"IF(AQ433=\"\",\"\",AQ433*AQ469/1000)","v":0},0,0,0,0,0,0,0,0,0,0,0,0,0,0,0,0,0,0,0,0,0,0,0,0]
[null,"321c","Equipment and On-Site Vehicles fuels (containing biomass)",null,"[TJ/yr]",null,{"$f":"G507","v":0},0,0,0,0,0,0,0,0,0,0,0,0,0,0,0,0,0,0,0,0,0,0,0,0,0,0,0,0,0,0,0,0,0,0,0,0,0,0,0,0,0,0,0,0,0,0,0,0,0,0,0,0,0,0,0,0,0,0,0,0]
[null,"321d",null,"bio and mixed diesel ","[TJ/yr]",null,{"$f":"IF(G435=\"\",\"\",G435*G471/1000)","v":0},0,0,0,0,0,0,0,0,0,0,0,0,0,0,0,0,0,0,0,0,0,0,0,0,0,0,0,0,0,0,{"$f":"IF(AL435=\"\",\"\",AL435*AL471/1000)","v":0},{"$f":"IF(AM435=\"\",\"\",AM435*AM471/1000)","v":0},{"$f":"IF(AN435=\"\",\"\",AN435*AN471/1000)","v":0},{"$f":"IF(AO435=\"\",\"\",AO435*AO471/1000)","v":0},{"$f":"IF(AP435=\"\",\"\",AP435*AP471/1000)","v":0},{"$f":"IF(AQ435=\"\",\"\",AQ435*AQ471/1000)","v":0},0,0,0,0,0,0,0,0,0,0,0,0,0,0,0,0,0,0,0,0,0,0,0,0]
[null,322,"Room Heating and Cooling",null,"[TJ/yr]",null,{"$f":"IF(COUNTBLANK(G509:G511)=3,\"\",SUM(G509:G511))","v":0},{"$f":"IF(COUNTBLANK(H509:H511)=3,\"\",SUM(H509:H511))","v":0},0,0,0,0,0,0,0,0,0,0,0,0,0,0,0,0,0,0,0,0,0,0,0,0,{"$f":"IF(COUNTBLANK(AG509:AG511)=3,\"\",SUM(AG509:AG511))","v":0},0,0,0,0,0,0,0,0,0,{"$f":"IF(COUNTBLANK(AQ509:AQ511)=3,\"\",SUM(AQ509:AQ511))","v":0},0,0,0,0,0,0,0,0,0,0,0,0,0,0,0,0,0,0,0,0,0,0,0,0]
[null,"322a",null,"diesel oil","[TJ/yr]",null,{"$f":"IF(G437=\"\",\"\",G437*G473/1000)","v":0},0,0,0,0,0,0,0,0,0,0,0,0,0,0,0,0,0,0,0,0,0,0,0,0,0,0,0,0,0,0,{"$f":"IF(AL437=\"\",\"\",AL437*AL473/1000)","v":0},0,0,0,0,{"$f":"IF(AQ437=\"\",\"\",AQ437*AQ473/1000)","v":0},0,0,0,0,0,0,0,0,0,0,0,0,0,0,0,0,0,0,0,0,0,0,0,0]
[null,"322b",null,"natural gas","[TJ/yr]",null,{"$f":"IF(G438=\"\",\"\",G438*G474/1000)","v":0},0,0,0,0,0,0,0,0,0,0,0,0,0,0,0,0,0,0,0,0,0,0,0,0,0,0,0,0,0,0,0,0,0,0,0,{"$f":"IF(AQ438=\"\",\"\",AQ438*AQ474/1000)","v":0},0,0,0,0,0,0,0,0,0,0,0,0,0,0,0,0,0,0,0,0,0,0,0,0]
[null,"322c",null,"other fossil fuels","[TJ/yr]",null,{"$f":"IF(G439=\"\",\"\",G439*G475/1000)","v":0},0,0,0,0,0,0,0,0,0,0,0,0,0,0,0,0,0,0,0,0,0,0,0,0,0,0,0,0,0,0,0,0,0,0,0,{"$f":"IF(AQ439=\"\",\"\",AQ439*AQ475/1000)","v":0},0,0,0,0,0,0,0,0,0,0,0,0,0,0,0,0,0,0,0,0,0,0,0,0]
[null,323,"Drying of mineral components"]
[null,"323k","     Conventional fossil fuels",null,"[TJ/yr]",null,{"$f":"IF(COUNTBLANK(G514:G519)=6,\"\",SUM(G514:G519))","v":0},{"$f":"IF(COUNTBLANK(H514:H519)=6,\"\",SUM(H514:H519))","v":0},0,0,0,0,0,0,0,0,0,0,0,0,0,0,0,0,0,0,0,0,0,0,0,0,{"$f":"IF(COUNTBLANK(AG514:AG519)=6,\"\",SUM(AG514:AG519))","v":0},0,0,0,0,0,0,0,0,0,{"$f":"IF(COUNTBLANK(AQ514:AQ519)=6,\"\",SUM(AQ514:AQ519))","v":0},0,0,0,0,0,0,0,0,0,0,0,0,0,0,0,0,0,0,0,0,0,0,0,0]
[null,"323a",null,"coal + anthracite + lignite","[TJ/yr]",null,{"$f":"IF(G442=\"\",\"\",G442*G478/1000)","v":0},0,0,0,0,0,0,0,0,0,0,0,0,0,0,0,0,0,0,0,0,0,0,0,0,0,0,0,0,0,0,{"$f":"IF(AL442=\"\",\"\",AL442*AL478/1000)","v":0},0,0,0,0,{"$f":"IF(AQ442=\"\",\"\",AQ442*AQ478/1000)","v":0},0,0,0,0,0,0,0,0,0,0,0,0,0,0,0,0,0,0,0,0,0,0,0,0]
[null,"323b",null,"petrol coke","[TJ/yr]",null,{"$f":"IF(G443=\"\",\"\",G443*G479/1000)","v":0},0,0,0,0,0,0,0,0,0,0,0,0,0,0,0,0,0,0,0,0,0,0,0,0,0,0,0,0,0,0,0,0,0,0,0,{"$f":"IF(AQ443=\"\",\"\",AQ443*AQ479/1000)","v":0},0,0,0,0,0,0,0,0,0,0,0,0,0,0,0,0,0,0,0,0,0,0,0,0]
[null,"323c",null,"(ultra) heavy fuel","[TJ/yr]",null,{"$f":"IF(G444=\"\",\"\",G444*G480/1000)","v":0},0,0,0,0,0,0,0,0,0,0,0,0,0,0,0,0,0,0,0,0,0,0,0,0,0,0,0,0,0,0,0,0,0,0,0,{"$f":"IF(AQ444=\"\",\"\",AQ444*AQ480/1000)","v":0},0,0,0,0,0,0,0,0,0,0,0,0,0,0,0,0,0,0,0,0,0,0,0,0]
[null,"323d",null,"diesel oil","[TJ/yr]",null,{"$f":"IF(G445=\"\",\"\",G445*G481/1000)","v":0},0,0,0,0,0,0,0,0,0,0,0,0,0,0,0,0,0,0,0,0,0,0,0,0,0,0,0,0,0,0,0,0,0,0,0,{"$f":"IF(AQ445=\"\",\"\",AQ445*AQ481/1000)","v":0},0,0,0,0,0,0,0,0,0,0,0,0,0,0,0,0,0,0,0,0,0,0,0,0]
[null,"323e",null,"natural gas ","[TJ/yr]",null,{"$f":"IF(G446=\"\",\"\",G446*G482/1000)","v":0},0,0,0,0,0,0,0,0,0,0,0,0,0,0,0,0,0,0,0,0,0,0,0,0,0,0,0,0,0,0,0,0,0,0,0,{"$f":"IF(AQ446=\"\",\"\",AQ446*AQ482/1000)","v":0},0,0,0,0,0,0,0,0,0,0,0,0,0,0,0,0,0,0,0,0,0,0,0,0]
[null,"323f",null,"shale","[TJ/yr]",null,{"$f":"IF(G447=\"\",\"\",G447*G483/1000)","v":0},0,0,0,0,0,0,0,0,0,0,0,0,0,0,0,0,0,0,0,0,0,0,0,0,0,0,0,0,0,0,0,0,0,0,0,{"$f":"IF(AQ447=\"\",\"\",AQ447*AQ483/1000)","v":0},0,0,0,0,0,0,0,0,0,0,0,0,0,0,0,0,0,0,0,0,0,0,0,0]
[null,"323g","     Alternative fossil and mixed fuels",null,"[TJ/yr]",null,{"$f":"G521","v":0},0,0,0,0,0,0,0,0,0,0,0,0,0,0,0,0,0,0,0,0,0,0,0,0,0,0,0,0,0,0,0,0,0,0,0,0,0,0,0,0,0,0,0,0,0,0,0,0,0,0,0,0,0,0,0,0,0,0,0,0]
[null,"323h",null,"other fossil based wastes and mixed fuels","[TJ/yr]",null,{"$f":"IF(G449=\"\",\"\",G449*G485/1000)","v":0},0,0,0,0,0,0,0,0,0,0,0,0,0,0,0,0,0,0,0,0,0,0,0,0,0,0,0,0,0,0,{"$f":"IF(AL449=\"\",\"\",AL449*AL485/1000)","v":0},{"$f":"IF(AM449=\"\",\"\",AM449*AM485/1000)","v":0},{"$f":"IF(AN449=\"\",\"\",AN449*AN485/1000)","v":0},{"$f":"IF(AO449=\"\",\"\",AO449*AO485/1000)","v":0},{"$f":"IF(AP449=\"\",\"\",AP449*AP485/1000)","v":0},{"$f":"IF(AQ449=\"\",\"\",AQ449*AQ485/1000)","v":0},0,0,0,0,0,0,0,0,0,0,0,0,0,0,0,0,0,0,0,0,0,0,0,0]
[null,"323i","     Alternative biomass fuels",null,"[TJ/yr]",null,{"$f":"G523","v":0},0,0,0,0,0,0,0,0,0,0,0,0,0,0,0,0,0,0,0,0,0,0,0,0,0,0,0,0,0,0,0,0,0,0,0,0,0,0,0,0,0,0,0,0,0,0,0,0,0,0,0,0,0,0,0,0,0,0,0,0]
[null,"323j",null,"other biomass","[TJ/yr]",null,{"$f":"IF(G451=\"\",\"\",G451*G487/1000)","v":0},0,0,0,0,0,0,0,0,0,0,0,0,0,0,0,0,0,0,0,0,0,0,0,0,0,0,0,0,0,0,{"$f":"IF(AL451=\"\",\"\",AL451*AL487/1000)","v":0},{"$f":"IF(AM451=\"\",\"\",AM451*AM487/1000)","v":0},{"$f":"IF(AN451=\"\",\"\",AN451*AN487/1000)","v":0},{"$f":"IF(AO451=\"\",\"\",AO451*AO487/1000)","v":0},{"$f":"IF(AP451=\"\",\"\",AP451*AP487/1000)","v":0},{"$f":"IF(AQ451=\"\",\"\",AQ451*AQ487/1000)","v":0},0,0,0,0,0,0,0,0,0,0,0,0,0,0,0,0,0,0,0,0,0,0,0,0]
[null,324,"On-site power generation"]
[null,"324aa","     Conventional fossil fuels",null,"[TJ/yr]",null,{"$f":"IF(COUNTBLANK(G526:G531)=6,\"\",SUM(G526:G531))","v":0},{"$f":"IF(COUNTBLANK(H526:H531)=6,\"\",SUM(H526:H531))","v":0},0,0,0,0,0,0,0,0,0,0,0,0,0,0,0,0,0,0,0,0,0,0,0,0,{"$f":"IF(COUNTBLANK(AG526:AG531)=6,\"\",SUM(AG526:AG531))","v":0},0,0,0,0,0,0,0,0,0,{"$f":"IF(COUNTBLANK(AQ526:AQ531)=6,\"\",SUM(AQ526:AQ531))","v":0},0,0,0,0,0,0,0,0,0,0,0,0,0,0,0,0,0,0,0,0,0,0,0,0]
[null,"324a",null,"coal + anthracite + lignite","[TJ/yr]",null,{"$f":"IF(G454=\"\",\"\",G454*G490/1000)","v":0},0,0,0,0,0,0,0,0,0,0,0,0,0,0,0,0,0,0,0,0,0,0,0,0,0,0,0,0,0,0,{"$f":"IF(AL454=\"\",\"\",AL454*AL490/1000)","v":0},0,0,0,0,{"$f":"IF(AQ454=\"\",\"\",AQ454*AQ490/1000)","v":0},0,0,0,0,0,0,0,0,0,0,0,0,0,0,0,0,0,0,0,0,0,0,0,0]
[null,"324b",null,"(ultra) heavy fuel","[TJ/yr]",null,{"$f":"IF(G455=\"\",\"\",G455*G491/1000)","v":0},0,0,0,0,0,0,0,0,0,0,0,0,0,0,0,0,0,0,0,0,0,0,0,0,0,0,0,0,0,0,0,0,0,0,0,{"$f":"IF(AQ455=\"\",\"\",AQ455*AQ491/1000)","v":0},0,0,0,0,0,0,0,0,0,0,0,0,0,0,0,0,0,0,0,0,0,0,0,0]
[null,"324c",null,"diesel oil","[TJ/yr]",null,{"$f":"IF(G456=\"\",\"\",G456*G492/1000)","v":0},0,0,0,0,0,0,0,0,0,0,0,0,0,0,0,0,0,0,0,0,0,0,0,0,0,0,0,0,0,0,0,0,0,0,0,{"$f":"IF(AQ456=\"\",\"\",AQ456*AQ492/1000)","v":0},0,0,0,0,0,0,0,0,0,0,0,0,0,0,0,0,0,0,0,0,0,0,0,0]
[null,"324d",null,"natural gas ","[TJ/yr]",null,{"$f":"IF(G457=\"\",\"\",G457*G493/1000)","v":0},0,0,0,0,0,0,0,0,0,0,0,0,0,0,0,0,0,0,0,0,0,0,0,0,0,0,0,0,0,0,0,0,0,0,0,{"$f":"IF(AQ457=\"\",\"\",AQ457*AQ493/1000)","v":0},0,0,0,0,0,0,0,0,0,0,0,0,0,0,0,0,0,0,0,0,0,0,0,0]
[null,"324i",null,"petrol coke","[TJ/yr]",null,{"$f":"IF(G458=\"\",\"\",G458*G494/1000)","v":0},0,0,0,0,0,0,0,0,0,0,0,0,0,0,0,0,0,0,0,0,0,0,0,0,0,0,0,0,0,0,0,0,0,0,0,{"$f":"IF(AQ458=\"\",\"\",AQ458*AQ494/1000)","v":0},0,0,0,0,0,0,0,0,0,0,0,0,0,0,0,0,0,0,0,0,0,0,0,0]
[null,"324j",null,"other fossil fuels","[TJ/yr]",null,{"$f":"IF(G459=\"\",\"\",G459*G495/1000)","v":0},0,0,0,0,0,0,0,0,0,0,0,0,0,0,0,0,0,0,0,0,0,0,0,0,0,0,0,0,0,0,0,0,0,0,0,{"$f":"IF(AQ459=\"\",\"\",AQ459*AQ495/1000)","v":0},0,0,0,0,0,0,0,0,0,0,0,0,0,0,0,0,0,0,0,0,0,0,0,0]
[null,"324f","     Alternative fossil and mixed fuels",null,"[TJ/yr]",null,{"$f":"G533","v":0},0,0,0,0,0,0,0,0,0,0,0,0,0,0,0,0,0,0,0,0,0,0,0,0,0,0,0,0,0,0,0,0,0,0,0,0,0,0,0,0,0,0,0,0,0,0,0,0,0,0,0,0,0,0,0,0,0,0,0,0]
[null,"324g",null,"other fossil based wastes and mixed fuels","[TJ/yr]",null,{"$f":"IF(G461=\"\",\"\",G461*G497/1000)","v":0},0,0,0,0,0,0,0,0,0,0,0,0,0,0,0,0,0,0,0,0,0,0,0,0,0,0,0,0,0,0,{"$f":"IF(AL461=\"\",\"\",AL461*AL497/1000)","v":0},{"$f":"IF(AM461=\"\",\"\",AM461*AM497/1000)","v":0},{"$f":"IF(AN461=\"\",\"\",AN461*AN497/1000)","v":0},{"$f":"IF(AO461=\"\",\"\",AO461*AO497/1000)","v":0},{"$f":"IF(AP461=\"\",\"\",AP461*AP497/1000)","v":0},{"$f":"IF(AQ461=\"\",\"\",AQ461*AQ497/1000)","v":0},0,0,0,0,0,0,0,0,0,0,0,0,0,0,0,0,0,0,0,0,0,0,0,0]
[null,"324h","     Alternative biomass fuels",null,"[TJ/yr]",null,{"$f":"G535","v":0},0,0,0,0,0,0,0,0,0,0,0,0,0,0,0,0,0,0,0,0,0,0,0,0,0,0,0,0,0,0,0,0,0,0,0,0,0,0,0,0,0,0,0,0,0,0,0,0,0,0,0,0,0,0,0,0,0,0,0,0]
[null,"324e",null,"other biomass","[TJ/yr]",null,{"$f":"IF(G463=\"\",\"\",G463*G499/1000)","v":0},0,0,0,0,0,0,0,0,0,0,0,0,0,0,0,0,0,0,0,0,0,0,0,0,0,0,0,0,0,0,{"$f":"IF(AL463=\"\",\"\",AL463*AL499/1000)","v":0},{"$f":"IF(AM463=\"\",\"\",AM463*AM499/1000)","v":0},{"$f":"IF(AN463=\"\",\"\",AN463*AN499/1000)","v":0},{"$f":"IF(AO463=\"\",\"\",AO463*AO499/1000)","v":0},{"$f":"IF(AP463=\"\",\"\",AP463*AP499/1000)","v":0},{"$f":"IF(AQ463=\"\",\"\",AQ463*AQ499/1000)","v":0},0,0,0,0,0,0,0,0,0,0,0,0,0,0,0,0,0,0,0,0,0,0,0,0]
[]
[null,"CO2 Emissions from Non-Kiln fuels",null,null,null,null,{"$f":"G$7","v":1990},1991,1992,1993,1994,1995,1996,1997,1998,1999,2000,2001,2002,2003,2004,2005,2006,2007,2008,2009,2010,2011,2012,2013,2014,2015,2016,2017,2018,2019,2020,2021,2022,2023,2024,2025,2026,2027,2028,2029,2030,2031,2032,2033,2034,2035,2036,2037,2038,2039,2040,2041,2042,2043,2044,2045,2046,2047,2048,2049,2050]
[null,331,"Equipment and On-Site Vehicles",null,"[t CO2/yr]",null,{"$f":"IF(COUNTBLANK(G539:G541)=3,\"\",SUM(G539:G541))","v":0},{"$f":"IF(COUNTBLANK(H539:H541)=3,\"\",SUM(H539:H541))","v":0},0,0,0,0,0,0,0,0,0,0,0,0,0,0,0,0,0,0,0,0,0,0,0,0,{"$f":"IF(COUNTBLANK(AG539:AG541)=3,\"\",SUM(AG539:AG541))","v":0},0,0,0,0,0,0,0,0,0,{"$f":"IF(COUNTBLANK(AQ539:AQ541)=3,\"\",SUM(AQ539:AQ541))","v":0},0,0,0,0,0,0,0,0,0,0,0,0,0,0,0,0,0,0,0,0,0,0,0,0]
[null,"331a",null,"diesel oil (incl. fossil CO2 of mixed diesel)","[t CO2/yr]",null,{"$f":"IF(OR(G503=\"\",G506=\"\"),\"\",G503*G$352+G507*G367*(1-G375))","v":0},0,0,0,0,0,0,0,0,0,0,0,0,0,0,0,0,0,0,0,0,0,0,0,0,0,0,0,0,0,0,{"$f":"IF(OR(AL503=\"\",AL506=\"\"),\"\",AL503*AL$352+AL507*AL367*(1-AL375))","v":0},{"$f":"IF(OR(AM503=\"\",AM506=\"\"),\"\",AM503*AM$352+AM507*AM367*(1-AM375))","v":0},{"$f":"IF(OR(AN503=\"\",AN506=\"\"),\"\",AN503*AN$352+AN507*AN367*(1-AN375))","v":0},{"$f":"IF(OR(AO503=\"\",AO506=\"\"),\"\",AO503*AO$352+AO507*AO367*(1-AO375))","v":0},{"$f":"IF(OR(AP503=\"\",AP506=\"\"),\"\",AP503*AP$352+AP507*AP367*(1-AP375))","v":0},{"$f":"IF(OR(AQ503=\"\",AQ506=\"\"),\"\",AQ503*AQ$352+AQ507*AQ367*(1-AQ375))","v":0},0,0,0,0,0,0,0,0,0,0,0,0,0,0,0,0,0,0,0,0,0,0,0,0]
[null,"331b",null,"gasoline","[t CO2/yr]",null,{"$f":"IF(G504=\"\",\"\",G504*G356)","v":0},0,0,0,0,0,0,0,0,0,0,0,0,0,0,0,0,0,0,0,0,0,0,0,0,0,0,0,0,0,0,{"$f":"IF(AL504=\"\",\"\",AL504*AL356)","v":0},{"$f":"IF(AM504=\"\",\"\",AM504*AM356)","v":0},{"$f":"IF(AN504=\"\",\"\",AN504*AN356)","v":0},{"$f":"IF(AO504=\"\",\"\",AO504*AO356)","v":0},{"$f":"IF(AP504=\"\",\"\",AP504*AP356)","v":0},{"$f":"IF(AQ504=\"\",\"\",AQ504*AQ356)","v":0},0,0,0,0,0,0,0,0,0,0,0,0,0,0,0,0,0,0,0,0,0,0,0,0]
[null,"331ba",null,"other fossil fuels","[t CO2/yr]",null,{"$f":"IF(G505=\"\",\"\",G505*G$357)","v":0},{"$f":"IF(H505=\"\",\"\",H505*H$357)","v":0},0,0,0,0,0,0,0,0,0,0,0,0,0,0,0,0,0,0,0,0,0,0,0,0,{"$f":"IF(AG505=\"\",\"\",AG505*AG$357)","v":0},0,0,0,0,0,0,0,0,0,{"$f":"IF(AQ505=\"\",\"\",AQ505*AQ$357)","v":0},0,0,0,0,0,0,0,0,0,0,0,0,0,0,0,0,0,0,0,0,0,0,0,0]
[null,"331c","Equipment and On-Site Vehicles biomass fuels",null,"[t CO2/yr]",null,{"$f":"G543","v":0},0,0,0,0,0,0,0,0,0,0,0,0,0,0,0,0,0,0,0,0,0,0,0,0,0,0,0,0,0,0,0,0,0,0,0,0,0,0,0,0,0,0,0,0,0,0,0,0,0,0,0,0,0,0,0,0,0,0,0,0]
[null,"331d",null,"bio diesel (biogenic CO2 of bio or mixed diesel)","[t CO2/yr]",null,{"$f":"IF(G507=\"\",\"\",G507*G367*G375)","v":0},0,0,0,0,0,0,0,0,0,0,0,0,0,0,0,0,0,0,0,0,0,0,0,0,0,0,0,0,0,0,{"$f":"IF(AL507=\"\",\"\",AL507*AL367*AL375)","v":0},{"$f":"IF(AM507=\"\",\"\",AM507*AM367*AM375)","v":0},{"$f":"IF(AN507=\"\",\"\",AN507*AN367*AN375)","v":0},{"$f":"IF(AO507=\"\",\"\",AO507*AO367*AO375)","v":0},{"$f":"IF(AP507=\"\",\"\",AP507*AP367*AP375)","v":0},{"$f":"IF(AQ507=\"\",\"\",AQ507*AQ367*AQ375)","v":0},0,0,0,0,0,0,0,0,0,0,0,0,0,0,0,0,0,0,0,0,0,0,0,0]
[null,332,"Room Heating and Cooling",null,"[t CO2/yr]",null,{"$f":"IF(COUNTBLANK(G545:G547)=3,\"\",SUM(G545:G547))","v":0},{"$f":"IF(COUNTBLANK(H545:H547)=3,\"\",SUM(H545:H547))","v":0},0,0,0,0,0,0,0,0,0,0,0,0,0,0,0,0,0,0,0,0,0,0,0,0,{"$f":"IF(COUNTBLANK(AG545:AG547)=3,\"\",SUM(AG545:AG547))","v":0},0,0,0,0,0,0,0,0,0,{"$f":"IF(COUNTBLANK(AQ545:AQ547)=3,\"\",SUM(AQ545:AQ547))","v":0},0,0,0,0,0,0,0,0,0,0,0,0,0,0,0,0,0,0,0,0,0,0,0,0]
[null,"332a",null,"diesel oil","[t CO2/yr]",null,{"$f":"IF(G509=\"\",\"\",G509*G$352)","v":0},{"$f":"IF(H509=\"\",\"\",H509*H$352)","v":0},0,0,0,0,0,0,0,0,0,0,0,0,0,0,0,0,0,0,0,0,0,0,0,0,{"$f":"IF(AG509=\"\",\"\",AG509*AG$352)","v":0},0,0,0,0,0,0,0,0,0,{"$f":"IF(AQ509=\"\",\"\",AQ509*AQ$352)","v":0},0,0,0,0,0,0,0,0,0,0,0,0,0,0,0,0,0,0,0,0,0,0,0,0]
[null,"332b",null,"natural gas","[t CO2/yr]",null,{"$f":"IF(G510=\"\",\"\",G510*G$353)","v":0},{"$f":"IF(H510=\"\",\"\",H510*H$353)","v":0},0,0,0,0,0,0,0,0,0,0,0,0,0,0,0,0,0,0,0,0,0,0,0,0,{"$f":"IF(AG510=\"\",\"\",AG510*AG$353)","v":0},0,0,0,0,0,0,0,0,0,{"$f":"IF(AQ510=\"\",\"\",AQ510*AQ$353)","v":0},0,0,0,0,0,0,0,0,0,0,0,0,0,0,0,0,0,0,0,0,0,0,0,0]
[null,"332c",null,"other fossil fuels","[t CO2/yr]",null,{"$f":"IF(G511=\"\",\"\",G511*G$358)","v":0},{"$f":"IF(H511=\"\",\"\",H511*H$358)","v":0},0,0,0,0,0,0,0,0,0,0,0,0,0,0,0,0,0,0,0,0,0,0,0,0,{"$f":"IF(AG511=\"\",\"\",AG511*AG$358)","v":0},0,0,0,0,0,0,0,0,0,{"$f":"IF(AQ511=\"\",\"\",AQ511*AQ$358)","v":0},0,0,0,0,0,0,0,0,0,0,0,0,0,0,0,0,0,0,0,0,0,0,0,0]
[null,333,"Drying of mineral components"]
[null,"333k","     Conventional fossil fuels",null,"[t CO2/yr]",null,{"$f":"IF(COUNTBLANK(G550:G555)=6,\"\",SUM(G550:G555))","v":0},{"$f":"IF(COUNTBLANK(H550:H555)=6,\"\",SUM(H550:H555))","v":0},0,0,0,0,0,0,0,0,0,0,0,0,0,0,0,0,0,0,0,0,0,0,0,0,{"$f":"IF(COUNTBLANK(AG550:AG555)=6,\"\",SUM(AG550:AG555))","v":0},0,0,0,0,0,0,0,0,0,{"$f":"IF(COUNTBLANK(AQ550:AQ555)=6,\"\",SUM(AQ550:AQ555))","v":0},0,0,0,0,0,0,0,0,0,0,0,0,0,0,0,0,0,0,0,0,0,0,0,0]
[null,"333a",null,"coal + anthracite + lignite","[t CO2/yr]",null,{"$f":"IF(G514=\"\",\"\",G514*G$349)","v":0},{"$f":"IF(H514=\"\",\"\",H514*H$349)","v":0},0,0,0,0,0,0,0,0,0,0,0,0,0,0,0,0,0,0,0,0,0,0,0,0,{"$f":"IF(AG514=\"\",\"\",AG514*AG$349)","v":0},0,0,0,0,0,0,0,0,0,{"$f":"IF(AQ514=\"\",\"\",AQ514*AQ$349)","v":0},0,0,0,0,0,0,0,0,0,0,0,0,0,0,0,0,0,0,0,0,0,0,0,0]
[null,"333b",null,"petrol coke","[t CO2/yr]",null,{"$f":"IF(G515=\"\",\"\",G515*G$350)","v":0},{"$f":"IF(H515=\"\",\"\",H515*H$350)","v":0},0,0,0,0,0,0,0,0,0,0,0,0,0,0,0,0,0,0,0,0,0,0,0,0,{"$f":"IF(AG515=\"\",\"\",AG515*AG$350)","v":0},0,0,0,0,0,0,0,0,0,{"$f":"IF(AQ515=\"\",\"\",AQ515*AQ$350)","v":0},0,0,0,0,0,0,0,0,0,0,0,0,0,0,0,0,0,0,0,0,0,0,0,0]
[null,"333c",null,"(ultra) heavy fuel","[t CO2/yr]",null,{"$f":"IF(G516=\"\",\"\",G516*G$351)","v":0},{"$f":"IF(H516=\"\",\"\",H516*H$351)","v":0},0,0,0,0,0,0,0,0,0,0,0,0,0,0,0,0,0,0,0,0,0,0,0,0,{"$f":"IF(AG516=\"\",\"\",AG516*AG$351)","v":0},0,0,0,0,0,0,0,0,0,{"$f":"IF(AQ516=\"\",\"\",AQ516*AQ$351)","v":0},0,0,0,0,0,0,0,0,0,0,0,0,0,0,0,0,0,0,0,0,0,0,0,0]
[null,"333d",null,"diesel oil","[t CO2/yr]",null,{"$f":"IF(G517=\"\",\"\",G517*G$352)","v":0},{"$f":"IF(H517=\"\",\"\",H517*H$352)","v":0},0,0,0,0,0,0,0,0,0,0,0,0,0,0,0,0,0,0,0,0,0,0,0,0,{"$f":"IF(AG517=\"\",\"\",AG517*AG$352)","v":0},0,0,0,0,0,0,0,0,0,{"$f":"IF(AQ517=\"\",\"\",AQ517*AQ$352)","v":0},0,0,0,0,0,0,0,0,0,0,0,0,0,0,0,0,0,0,0,0,0,0,0,0]
[null,"333e",null,"natural gas ","[t CO2/yr]",null,{"$f":"IF(G518=\"\",\"\",G518*G$353)","v":0},{"$f":"IF(H518=\"\",\"\",H518*H$353)","v":0},0,0,0,0,0,0,0,0,0,0,0,0,0,0,0,0,0,0,0,0,0,0,0,0,{"$f":"IF(AG518=\"\",\"\",AG518*AG$353)","v":0},0,0,0,0,0,0,0,0,0,{"$f":"IF(AQ518=\"\",\"\",AQ518*AQ$353)","v":0},0,0,0,0,0,0,0,0,0,0,0,0,0,0,0,0,0,0,0,0,0,0,0,0]
[null,"333f",null,"shale","[t CO2/yr]",null,{"$f":"IF(G519=\"\",\"\",G519*G$354)","v":0},{"$f":"IF(H519=\"\",\"\",H519*H$354)","v":0},0,0,0,0,0,0,0,0,0,0,0,0,0,0,0,0,0,0,0,0,0,0,0,0,{"$f":"IF(AG519=\"\",\"\",AG519*AG$354)","v":0},0,0,0,0,0,0,0,0,0,{"$f":"IF(AQ519=\"\",\"\",AQ519*AQ$354)","v":0},0,0,0,0,0,0,0,0,0,0,0,0,0,0,0,0,0,0,0,0,0,0,0,0]
[null,"333g","     Alternative fossil fuels - fossil total emissions",null,"[t CO2/yr]",null,{"$f":"G557","v":0},0,0,0,0,0,0,0,0,0,0,0,0,0,0,0,0,0,0,0,0,0,0,0,0,0,0,0,0,0,0,0,0,0,0,0,0,0,0,0,0,0,0,0,0,0,0,0,0,0,0,0,0,0,0,0,0,0,0,0,0]
[null,"333h",null,"other fossil based wastes / fossil content","[t CO2/yr]",null,{"$f":"IF(G521=\"\",\"\",G521*G$368*(1-G376))","v":0},0,0,0,0,0,0,0,0,0,0,0,0,0,0,0,0,0,0,0,0,0,0,0,0,0,0,0,0,0,0,{"$f":"IF(AL521=\"\",\"\",AL521*AL$368*(1-AL376))","v":0},{"$f":"IF(AM521=\"\",\"\",AM521*AM$368*(1-AM376))","v":0},{"$f":"IF(AN521=\"\",\"\",AN521*AN$368*(1-AN376))","v":0},{"$f":"IF(AO521=\"\",\"\",AO521*AO$368*(1-AO376))","v":0},{"$f":"IF(AP521=\"\",\"\",AP521*AP$368*(1-AP376))","v":0},{"$f":"IF(AQ521=\"\",\"\",AQ521*AQ$368*(1-AQ376))","v":0},0,0,0,0,0,0,0,0,0,0,0,0,0,0,0,0,0,0,0,0,0,0,0,0]
[null,"333i","     Alternative biomass fuels - biomass total emissions",null,"[t CO2/yr]",null,{"$f":"G559","v":0},0,0,0,0,0,0,0,0,0,0,0,0,0,0,0,0,0,0,0,0,0,0,0,0,0,0,0,0,0,0,0,0,0,0,0,0,0,0,0,0,0,0,0,0,0,0,0,0,0,0,0,0,0,0,0,0,0,0,0,0]
[null,"333j",null,"other biomass (incl. biomass content of mixed fuels)","[t CO2/yr]",null,{"$f":"IF(G523=\"\",\"\",(G523*G385)+(G521*G368*G376))","v":0},0,0,0,0,0,0,0,0,0,0,0,0,0,0,0,0,0,0,0,0,0,0,0,0,0,0,0,0,0,0,{"$f":"IF(AL523=\"\",\"\",(AL523*AL385)+(AL521*AL368*AL376))","v":0},{"$f":"IF(AM523=\"\",\"\",(AM523*AM385)+(AM521*AM368*AM376))","v":0},{"$f":"IF(AN523=\"\",\"\",(AN523*AN385)+(AN521*AN368*AN376))","v":0},{"$f":"IF(AO523=\"\",\"\",(AO523*AO385)+(AO521*AO368*AO376))","v":0},{"$f":"IF(AP523=\"\",\"\",(AP523*AP385)+(AP521*AP368*AP376))","v":0},{"$f":"IF(AQ523=\"\",\"\",(AQ523*AQ385)+(AQ521*AQ368*AQ376))","v":0},0,0,0,0,0,0,0,0,0,0,0,0,0,0,0,0,0,0,0,0,0,0,0,0]
[null,334,"On-site power generation"]
[null,"334aa","     Conventional fossil fuels",null,"[t CO2/yr]",null,{"$f":"IF(COUNTBLANK(G562:G567)=6,\"\",SUM(G562:G567))","v":0},{"$f":"IF(COUNTBLANK(H562:H567)=6,\"\",SUM(H562:H567))","v":0},0,0,0,0,0,0,0,0,0,0,0,0,0,0,0,0,0,0,0,0,0,0,0,0,{"$f":"IF(COUNTBLANK(AG562:AG567)=6,\"\",SUM(AG562:AG567))","v":0},0,0,0,0,0,0,0,0,0,{"$f":"IF(COUNTBLANK(AQ562:AQ567)=6,\"\",SUM(AQ562:AQ567))","v":0},0,0,0,0,0,0,0,0,0,0,0,0,0,0,0,0,0,0,0,0,0,0,0,0]
[null,"334a",null,"coal + anthracite + lignite","[t CO2/yr]",null,{"$f":"IF(G526=\"\",\"\",G526*G$349)","v":0},{"$f":"IF(H526=\"\",\"\",H526*H$349)","v":0},0,0,0,0,0,0,0,0,0,0,0,0,0,0,0,0,0,0,0,0,0,0,0,0,{"$f":"IF(AG526=\"\",\"\",AG526*AG$349)","v":0},0,0,0,0,0,0,0,0,0,{"$f":"IF(AQ526=\"\",\"\",AQ526*AQ$349)","v":0},0,0,0,0,0,0,0,0,0,0,0,0,0,0,0,0,0,0,0,0,0,0,0,0]
[null,"334b",null,"(ultra) heavy fuel","[t CO2/yr]",null,{"$f":"IF(G527=\"\",\"\",G527*G$351)","v":0},{"$f":"IF(H527=\"\",\"\",H527*H$351)","v":0},0,0,0,0,0,0,0,0,0,0,0,0,0,0,0,0,0,0,0,0,0,0,0,0,{"$f":"IF(AG527=\"\",\"\",AG527*AG$351)","v":0},0,0,0,0,0,0,0,0,0,{"$f":"IF(AQ527=\"\",\"\",AQ527*AQ$351)","v":0},0,0,0,0,0,0,0,0,0,0,0,0,0,0,0,0,0,0,0,0,0,0,0,0]
[null,"334c",null,"diesel oil","[t CO2/yr]",null,{"$f":"IF(G528=\"\",\"\",G528*G$352)","v":0},{"$f":"IF(H528=\"\",\"\",H528*H$352)","v":0},0,0,0,0,0,0,0,0,0,0,0,0,0,0,0,0,0,0,0,0,0,0,0,0,{"$f":"IF(AG528=\"\",\"\",AG528*AG$352)","v":0},0,0,0,0,0,0,0,0,0,{"$f":"IF(AQ528=\"\",\"\",AQ528*AQ$352)","v":0},0,0,0,0,0,0,0,0,0,0,0,0,0,0,0,0,0,0,0,0,0,0,0,0]
[null,"334d",null,"natural gas ","[t CO2/yr]",null,{"$f":"IF(G529=\"\",\"\",G529*G$353)","v":0},{"$f":"IF(H529=\"\",\"\",H529*H$353)","v":0},0,0,0,0,0,0,0,0,0,0,0,0,0,0,0,0,0,0,0,0,0,0,0,0,{"$f":"IF(AG529=\"\",\"\",AG529*AG$353)","v":0},0,0,0,0,0,0,0,0,0,{"$f":"IF(AQ529=\"\",\"\",AQ529*AQ$353)","v":0},0,0,0,0,0,0,0,0,0,0,0,0,0,0,0,0,0,0,0,0,0,0,0,0]
[null,"334i",null,"petrol coke","[t CO2/yr]",null,{"$f":"IF(G530=\"\",\"\",G530*G$350)","v":0},{"$f":"IF(H530=\"\",\"\",H530*H$350)","v":0},0,0,0,0,0,0,0,0,0,0,0,0,0,0,0,0,0,0,0,0,0,0,0,0,{"$f":"IF(AG530=\"\",\"\",AG530*AG$350)","v":0},0,0,0,0,0,0,0,0,0,{"$f":"IF(AQ530=\"\",\"\",AQ530*AQ$350)","v":0},0,0,0,0,0,0,0,0,0,0,0,0,0,0,0,0,0,0,0,0,0,0,0,0]
[null,"334j",null,"other fossil fuels","[t CO2/yr]",null,{"$f":"IF(G531=\"\",\"\",G531*G$359)","v":0},{"$f":"IF(H531=\"\",\"\",H531*H$359)","v":0},0,0,0,0,0,0,0,0,0,0,0,0,0,0,0,0,0,0,0,0,0,0,0,0,{"$f":"IF(AG531=\"\",\"\",AG531*AG$359)","v":0},0,0,0,0,0,0,0,0,0,{"$f":"IF(AQ531=\"\",\"\",AQ531*AQ$359)","v":0},0,0,0,0,0,0,0,0,0,0,0,0,0,0,0,0,0,0,0,0,0,0,0,0]
[null,"334f","     Alternative fossil fuels - fossil total emissions",null,"[t CO2/yr]",null,{"$f":"G569","v":0},0,0,0,0,0,0,0,0,0,0,0,0,0,0,0,0,0,0,0,0,0,0,0,0,0,0,0,0,0,0,0,0,0,0,0,0,0,0,0,0,0,0,0,0,0,0,0,0,0,0,0,0,0,0,0,0,0,0,0,0]
[null,"334g",null,"other fossil based wastes / fossil content","[t CO2/yr]",null,{"$f":"IF(G533=\"\",\"\",G533*G$368*(1-G376))","v":0},0,0,0,0,0,0,0,0,0,0,0,0,0,0,0,0,0,0,0,0,0,0,0,0,0,0,0,0,0,0,{"$f":"IF(AL533=\"\",\"\",AL533*AL$368*(1-AL376))","v":0},{"$f":"IF(AM533=\"\",\"\",AM533*AM$368*(1-AM376))","v":0},{"$f":"IF(AN533=\"\",\"\",AN533*AN$368*(1-AN376))","v":0},{"$f":"IF(AO533=\"\",\"\",AO533*AO$368*(1-AO376))","v":0},{"$f":"IF(AP533=\"\",\"\",AP533*AP$368*(1-AP376))","v":0},{"$f":"IF(AQ533=\"\",\"\",AQ533*AQ$368*(1-AQ376))","v":0},0,0,0,0,0,0,0,0,0,0,0,0,0,0,0,0,0,0,0,0,0,0,0,0]
[null,"334h","     Alternative biomass fuels - biomass total emissions",null,"[t CO2/yr]",null,{"$f":"G571","v":0},0,0,0,0,0,0,0,0,0,0,0,0,0,0,0,0,0,0,0,0,0,0,0,0,0,0,0,0,0,0,0,0,0,0,0,0,0,0,0,0,0,0,0,0,0,0,0,0,0,0,0,0,0,0,0,0,0,0,0,0]
[null,"334e",null,"other biomass (incl. biomass content of mixed fuels)","[t CO2/yr]",null,{"$f":"IF(G535=\"\",\"\",(G535*G$385)+(G533*G368*G376))","v":0},0,0,0,0,0,0,0,0,0,0,0,0,0,0,0,0,0,0,0,0,0,0,0,0,0,0,0,0,0,0,{"$f":"IF(AL535=\"\",\"\",(AL535*AL$385)+(AL533*AL368*AL376))","v":0},{"$f":"IF(AM535=\"\",\"\",(AM535*AM$385)+(AM533*AM368*AM376))","v":0},{"$f":"IF(AN535=\"\",\"\",(AN535*AN$385)+(AN533*AN368*AN376))","v":0},{"$f":"IF(AO535=\"\",\"\",(AO535*AO$385)+(AO533*AO368*AO376))","v":0},{"$f":"IF(AP535=\"\",\"\",(AP535*AP$385)+(AP533*AP368*AP376))","v":0},{"$f":"IF(AQ535=\"\",\"\",(AQ535*AQ$385)+(AQ533*AQ368*AQ376))","v":0},0,0,0,0,0,0,0,0,0,0,0,0,0,0,0,0,0,0,0,0,0,0,0,0]

{"sheet":"Company","index":3,"n_rows":619,"n_cols":67,"rows_kept":619,"cut":false,"hidden":false,"merged":[[0,0,0,3],[0,4,0,15]]}
["GCCA (Global Cement and Concret Association)\nCement CO2 and Energy Protocol, Version 3.1, CO2 Emissions and Energy Inventory. \nDeveloped by the WBCSD Cement Sustainability Initiative (CSI) and European Cement Research Academy (ECRA)."]
[]
[null,"Date of latest update",null,null,{"$f":"'Read Me'!B4","v":"2013-12-09"},null,"  Instruction: Complete all white input cells.   \"SUM\" = Enter consolidated value of all plants. See guidance document section 7.2 for consolidation rules.    \"ENTER\" = Enter single value for whole company."]
[]
["INFORMATION"]
[]
[null,"General Plant Information",null,null,null,null,1990,{"$f":"G7+1","v":1991},1992,1993,1994,1995,1996,1997,1998,1999,2000,2001,2002,2003,2004,2005,2006,2007,2008,2009,2010,2011,2012,2013,2014,2015,{"$f":"AF7+1","v":2016},2017,2018,2019,2020,2021,2022,2023,2024,2025,{"$f":"AP7+1","v":2026},{"$f":"AQ7+1","v":2027},{"$f":"AR7+1","v":2028},{"$f":"AS7+1","v":2029},{"$f":"AT7+1","v":2030},{"$f":"AU7+1","v":2031},{"$f":"AV7+1","v":2032},{"$f":"AW7+1","v":2033},{"$f":"AX7+1","v":2034},{"$f":"AY7+1","v":2035},{"$f":"AZ7+1","v":2036},{"$f":"BA7+1","v":2037},{"$f":"BB7+1","v":2038},{"$f":"BC7+1","v":2039},{"$f":"BD7+1","v":2040},{"$f":"BE7+1","v":2041},{"$f":"BF7+1","v":2042},{"$f":"BG7+1","v":2043},{"$f":"BH7+1","v":2044},{"$f":"BI7+1","v":2045},{"$f":"BJ7+1","v":2046},{"$f":"BK7+1","v":2047},{"$f":"BL7+1","v":2048},{"$f":"BM7+1","v":2049},{"$f":"BN7+1","v":2050}]
[null,1,"Plant"]
[null,2,"Company"]
[null,3,"Country"]
[null,4,"Continent"]
[null,5,"\"Kyoto\" Region (Annex 1 or non-Annex 1)"]
[null,6,"Kiln types"]
[null,"6a","Nominal clinker capacity",null,"[t/d]"]
[null,"6b","Plant type"]
[null,7,"Shares owned by Company",null,"[%]"]
[null,"7aa","Third party verification"]
[null,"7ab","Used Cement CO2 and Energy Protocol version ",null,null,null,"V3.1","V3.1","V3.1","V3.1","V3.1","V3.1","V3.1","V3.1","V3.1","V3.1","V3.1","V3.1","V3.1","V3.1","V3.1","V3.1","V3.1","V3.1","V3.1","V3.1","V3.1","V3.1","V3.1","V3.1","V3.1","V3.1","V3.1","V3.1","V3.1","V3.1","V3.1","V3.1","V3.1","V3.1","V3.1","V3.1","V3.1","V3.1","V3.1","V3.1","V3.1","V3.1","V3.1","V3.1","V3.1","V3.1","V3.1","V3.1","V3.1","V3.1","V3.1","V3.1","V3.1","V3.1","V3.1","V3.1","V3.1","V3.1","V3.1","V3.1","V3.1"]
[null,"7ad","Short notes or user comment (max. 250 characters)",null,null,null,"Recalculation with protocol V3 (GNR data until 2010 according to V2)",null,null,null,null,null,null,null,null,null,"Recalculation with protocol V3 (GNR data until 2010 according to V2)",null,null,null,null,"Recalculation with protocol V3 (GNR data until 2010 according to V2)","Recalculation with protocol V3 (GNR data until 2010 according to V2)","Recalculation with protocol V3 (GNR data until 2010 according to V2)","Recalculation with protocol V3 (GNR data until 2010 according to V2)","Recalculation with protocol V3 (GNR data until 2010 according to V2)","Recalculation with protocol V3 (GNR data until 2010 according to V2)"]
[]
[null,"Inventory Boundaries: Coverage of Main Process Steps",null,null,null,null,{"$f":"G$7","v":1990},1991,1992,1993,1994,1995,1996,1997,1998,1999,2000,2001,2002,2003,2004,2005,2006,2007,2008,2009,2010,2011,2012,2013,2014,2015,2016,2017,2018,2019,2020,2021,2022,2023,2024,2025,2026,2027,2028,2029,2030,2031,2032,2033,2034,2035,2036,2037,2038,2039,2040,2041,2042,2043,2044,2045,2046,2047,2048,2049,2050]
[null,"7a","Raw material supply (quarrying, mining, crushing)",null,"[yes, no or n.a.]"]
[null,"7b","Preparation of raw materials, fuels and additives",null,"[yes, no or n.a.]"]
[null,"7c","Kiln operation (pyro-processing)",null,"[yes, no or n.a.]"]
[null,"7d","Cement grinding, blending",null,"[yes, no or n.a.]"]
[null,"7e","On-site (internal) transport",null,"[yes, no or n.a.]"]
[null,"7f","Off-site transport with company-owned fleets",null,"[yes, no or n.a.]"]
[null,"7g","On-site power generation",null,"[yes, no or n.a.]"]
[null,"7h","Room heating and cooling",null,"[yes, no or n.a.]"]
[null,"7i","(add other processes as appropriate)",null,"[yes, no or n.a.]"]
[null,"7j","use of internal cement transfer for blending",null,"[yes, no or n.a.]"]
[null,"7k"]
[]
[]
[]
[]
[]
[null,"Clinker and Cement Production",null,null,null,null,{"$f":"G$7","v":1990},1991,1992,1993,1994,1995,1996,1997,1998,1999,2000,2001,2002,2003,2004,2005,2006,2007,2008,2009,2010,2011,2012,2013,2014,2015,2016,2017,2018,2019,2020,2021,2022,2023,2024,2025,2026,2027,2028,2029,2030,2031,2032,2033,2034,2035,2036,2037,2038,2039,2040,2041,2042,2043,2044,2045,2046,2047,2048,2049,2050]
[null,null,"Clinker:"]
[null,{"$f":"B16+1","v":8},"Clinker production",null,"[t/yr]",null,"SUM","SUM","SUM","SUM","SUM","SUM","SUM","SUM","SUM","SUM","SUM","SUM","SUM","SUM","SUM","SUM","SUM","SUM","SUM","SUM","SUM","SUM","SUM","SUM","SUM","SUM","SUM","SUM","SUM","SUM","SUM","SUM","SUM","SUM","SUM","SUM","SUM","SUM","SUM","SUM","SUM","SUM","SUM","SUM","SUM","SUM","SUM","SUM","SUM","SUM","SUM","SUM","SUM","SUM","SUM","SUM","SUM","SUM","SUM","SUM","SUM"]
[null,{"$f":"B40+1","v":9},"Clinker bought from other companies and from cross-border transfer",null,"[t/yr]",null,"SUM","SUM","SUM","SUM","SUM","SUM","SUM","SUM","SUM","SUM","SUM","SUM","SUM","SUM","SUM","SUM","SUM","SUM","SUM","SUM","SUM","SUM","SUM","SUM","SUM","SUM","SUM","SUM","SUM","SUM","SUM","SUM","SUM","SUM","SUM","SUM","SUM","SUM","SUM","SUM","SUM","SUM","SUM","SUM","SUM","SUM","SUM","SUM","SUM","SUM","SUM","SUM","SUM","SUM","SUM","SUM","SUM","SUM","SUM","SUM","SUM"]
[null,{"$f":"B41+1","v":10},"Clinker sold to other companies and from cross-border transfer",null,"[t/yr]",null,"SUM","SUM","SUM","SUM","SUM","SUM","SUM","SUM","SUM","SUM","SUM","SUM","SUM","SUM","SUM","SUM","SUM","SUM","SUM","SUM","SUM","SUM","SUM","SUM","SUM","SUM","SUM","SUM","SUM","SUM","SUM","SUM","SUM","SUM","SUM","SUM","SUM","SUM","SUM","SUM","SUM","SUM","SUM","SUM","SUM","SUM","SUM","SUM","SUM","SUM","SUM","SUM","SUM","SUM","SUM","SUM","SUM","SUM","SUM","SUM","SUM"]
[null,"10a","Change in clinker stocks (+ = increase; - = reduction)",null,"[t/yr]",null,"SUM","SUM","SUM","SUM","SUM","SUM","SUM","SUM","SUM","SUM","SUM","SUM","SUM","SUM","SUM","SUM","SUM","SUM","SUM","SUM","SUM","SUM","SUM","SUM","SUM","SUM","SUM","SUM","SUM","SUM","SUM","SUM","SUM","SUM","SUM","SUM","SUM","SUM","SUM","SUM","SUM","SUM","SUM","SUM","SUM","SUM","SUM","SUM","SUM","SUM","SUM","SUM","SUM","SUM","SUM","SUM","SUM","SUM","SUM","SUM","SUM"]
[null,"10b","Internal clinker transfer (+ = clinker received; - = clinker sent)",null,"[t/yr]",null,"SUM","SUM","SUM","SUM","SUM","SUM","SUM","SUM","SUM","SUM","SUM","SUM","SUM","SUM","SUM","SUM","SUM","SUM","SUM","SUM","SUM","SUM","SUM","SUM","SUM","SUM","SUM","SUM","SUM","SUM","SUM","SUM","SUM","SUM","SUM","SUM","SUM","SUM","SUM","SUM","SUM","SUM","SUM","SUM","SUM","SUM","SUM","SUM","SUM","SUM","SUM","SUM","SUM","SUM","SUM","SUM","SUM","SUM","SUM","SUM","SUM"]
[null,"10c","Clinker from internal transfer of processed cement (+ = cement received; - = cement sent)",null,"[t/yr]",null,"SUM","SUM","SUM","SUM","SUM","SUM","SUM","SUM","SUM","SUM","SUM","SUM","SUM","SUM","SUM","SUM","SUM","SUM","SUM","SUM","SUM","SUM","SUM","SUM","SUM","SUM","SUM","SUM","SUM","SUM","SUM","SUM","SUM","SUM","SUM","SUM","SUM","SUM","SUM","SUM","SUM","SUM","SUM","SUM","SUM","SUM","SUM","SUM","SUM","SUM","SUM","SUM","SUM","SUM","SUM","SUM","SUM","SUM","SUM","SUM","SUM"]
[null,{"$f":"B42+1","v":11},"Total clinker consumed",null,"[t/yr]",null,{"$f":"IF(OR(COUNTBLANK(G40:G45)=6,G40=\"SUM\"),\"\",G40+G41-G42-G43+G44+G45)","v":""},{"$f":"IF(OR(COUNTBLANK(H40:H45)=6,H40=\"SUM\"),\"\",H40+H41-H42-H43+H44+H45)","v":""},"","","","","","","","","","","","","","","","","","","","","","","","","","","","","",{"$f":"IF(OR(COUNTBLANK(AL40:AL45)=6,AL40=\"SUM\"),\"\",AL40+AL41-AL42-AL43+AL44+AL45)","v":""},{"$f":"IF(OR(COUNTBLANK(AM40:AM45)=6,AM40=\"SUM\"),\"\",AM40+AM41-AM42-AM43+AM44+AM45)","v":""},{"$f":"IF(OR(COUNTBLANK(AN40:AN45)=6,AN40=\"SUM\"),\"\",AN40+AN41-AN42-AN43+AN44+AN45)","v":""},{"$f":"IF(OR(COUNTBLANK(AO40:AO45)=6,AO40=\"SUM\"),\"\",AO40+AO41-AO42-AO43+AO44+AO45)","v":""},{"$f":"IF(OR(COUNTBLANK(AP40:AP45)=6,AP40=\"SUM\"),\"\",AP40+AP41-AP42-AP43+AP44+AP45)","v":""},{"$f":"IF(OR(COUNTBLANK(AQ40:AQ45)=6,AQ40=\"SUM\"),\"\",AQ40+AQ41-AQ42-AQ43+AQ44+AQ45)","v":""},"","","","","","","","","","","","","","","","","","","","","","","",""]
[]
[null,null,"Mineral components (MIC) used to produce Portland and blended cements:"]
[null,{"$f":"B46+1","v":12},"Gypsum",null,"[t/yr, dry weight]",null,"SUM","SUM","SUM","SUM","SUM","SUM","SUM","SUM","SUM","SUM","SUM","SUM","SUM","SUM","SUM","SUM","SUM","SUM","SUM","SUM","SUM","SUM","SUM","SUM","SUM","SUM","SUM","SUM","SUM","SUM","SUM","SUM","SUM","SUM","SUM","SUM","SUM","SUM","SUM","SUM","SUM","SUM","SUM","SUM","SUM","SUM","SUM","SUM","SUM","SUM","SUM","SUM","SUM","SUM","SUM","SUM","SUM","SUM","SUM","SUM","SUM"]
[null,{"$f":"B49+1","v":13},"Limestone",null,"[t/yr, dry weight]",null,"SUM","SUM","SUM","SUM","SUM","SUM","SUM","SUM","SUM","SUM","SUM","SUM","SUM","SUM","SUM","SUM","SUM","SUM","SUM","SUM","SUM","SUM","SUM","SUM","SUM","SUM","SUM","SUM","SUM","SUM","SUM","SUM","SUM","SUM","SUM","SUM","SUM","SUM","SUM","SUM","SUM","SUM","SUM","SUM","SUM","SUM","SUM","SUM","SUM","SUM","SUM","SUM","SUM","SUM","SUM","SUM","SUM","SUM","SUM","SUM","SUM"]
[null,{"$f":"B50+1","v":14},"Slag",null,"[t/yr, dry weight]",null,"SUM","SUM","SUM","SUM","SUM","SUM","SUM","SUM","SUM","SUM","SUM","SUM","SUM","SUM","SUM","SUM","SUM","SUM","SUM","SUM","SUM","SUM","SUM","SUM","SUM","SUM","SUM","SUM","SUM","SUM","SUM","SUM","SUM","SUM","SUM","SUM","SUM","SUM","SUM","SUM","SUM","SUM","SUM","SUM","SUM","SUM","SUM","SUM","SUM","SUM","SUM","SUM","SUM","SUM","SUM","SUM","SUM","SUM","SUM","SUM","SUM"]
[null,{"$f":"B51+1","v":15},"Fly ash (for blending)",null,"[t/yr, dry weight]",null,"SUM","SUM","SUM","SUM","SUM","SUM","SUM","SUM","SUM","SUM","SUM","SUM","SUM","SUM","SUM","SUM","SUM","SUM","SUM","SUM","SUM","SUM","SUM","SUM","SUM","SUM","SUM","SUM","SUM","SUM","SUM","SUM","SUM","SUM","SUM","SUM","SUM","SUM","SUM","SUM","SUM","SUM","SUM","SUM","SUM","SUM","SUM","SUM","SUM","SUM","SUM","SUM","SUM","SUM","SUM","SUM","SUM","SUM","SUM","SUM","SUM"]
[null,{"$f":"B52+1","v":16},"Puzzolana",null,"[t/yr, dry weight]",null,"SUM","SUM","SUM","SUM","SUM","SUM","SUM","SUM","SUM","SUM","SUM","SUM","SUM","SUM","SUM","SUM","SUM","SUM","SUM","SUM","SUM","SUM","SUM","SUM","SUM","SUM","SUM","SUM","SUM","SUM","SUM","SUM","SUM","SUM","SUM","SUM","SUM","SUM","SUM","SUM","SUM","SUM","SUM","SUM","SUM","SUM","SUM","SUM","SUM","SUM","SUM","SUM","SUM","SUM","SUM","SUM","SUM","SUM","SUM","SUM","SUM"]
[null,{"$f":"B53+1","v":17},"Others (e.g., CKD added to cement mill)",null,"[t/yr, dry weight]",null,"SUM","SUM","SUM","SUM","SUM","SUM","SUM","SUM","SUM","SUM","SUM","SUM","SUM","SUM","SUM","SUM","SUM","SUM","SUM","SUM","SUM","SUM","SUM","SUM","SUM","SUM","SUM","SUM","SUM","SUM","SUM","SUM","SUM","SUM","SUM","SUM","SUM","SUM","SUM","SUM","SUM","SUM","SUM","SUM","SUM","SUM","SUM","SUM","SUM","SUM","SUM","SUM","SUM","SUM","SUM","SUM","SUM","SUM","SUM","SUM","SUM"]
[null,"17a","MIC from internal transfer of processed cement (+ = cement received; - = cement sent)",null,"[t/yr, dry weight]",null,"SUM","SUM","SUM","SUM","SUM","SUM","SUM","SUM","SUM","SUM","SUM","SUM","SUM","SUM","SUM","SUM","SUM","SUM","SUM","SUM","SUM","SUM","SUM","SUM","SUM","SUM","SUM","SUM","SUM","SUM","SUM","SUM","SUM","SUM","SUM","SUM","SUM","SUM","SUM","SUM","SUM","SUM","SUM","SUM","SUM","SUM","SUM","SUM","SUM","SUM","SUM","SUM","SUM","SUM","SUM","SUM","SUM","SUM","SUM","SUM","SUM"]
[null,{"$f":"B54+1","v":18},"Total MIC consumed for Portland and blended cements (dry weight)",null,"[t/yr, dry weight]",null,{"$f":"IF(OR(COUNTBLANK(G49:G55)=7,G49=\"SUM\"),\"\",SUM(G49:G55))","v":""},{"$f":"IF(OR(COUNTBLANK(H49:H55)=7,H49=\"SUM\"),\"\",SUM(H49:H55))","v":""},"","","","","","","","","","","","","","","","","","","","","","","","",{"$f":"IF(OR(COUNTBLANK(AG49:AG55)=7,AG49=\"SUM\"),\"\",SUM(AG49:AG55))","v":""},"","","","","","","","","",{"$f":"IF(OR(COUNTBLANK(AQ49:AQ55)=7,AQ49=\"SUM\"),\"\",SUM(AQ49:AQ55))","v":""},"","","","","","","","","","","","","","","","","","","","","","","",""]
[]
[null,null,"Processed mineral components (MIC) sold externally or transferred internally (dry weight):"]
[null,"19a","Processed slag sold externally",null,"[t/yr, dry weight]",null,"SUM","SUM","SUM","SUM","SUM","SUM","SUM","SUM","SUM","SUM","SUM","SUM","SUM","SUM","SUM","SUM","SUM","SUM","SUM","SUM","SUM","SUM","SUM","SUM","SUM","SUM","SUM","SUM","SUM","SUM","SUM","SUM","SUM","SUM","SUM","SUM","SUM","SUM","SUM","SUM","SUM","SUM","SUM","SUM","SUM","SUM","SUM","SUM","SUM","SUM","SUM","SUM","SUM","SUM","SUM","SUM","SUM","SUM","SUM","SUM","SUM"]
[null,"19b","Processed fly ash and other puzzolana sold externally",null,"[t/yr, dry weight]",null,"SUM","SUM","SUM","SUM","SUM","SUM","SUM","SUM","SUM","SUM","SUM","SUM","SUM","SUM","SUM","SUM","SUM","SUM","SUM","SUM","SUM","SUM","SUM","SUM","SUM","SUM","SUM","SUM","SUM","SUM","SUM","SUM","SUM","SUM","SUM","SUM","SUM","SUM","SUM","SUM","SUM","SUM","SUM","SUM","SUM","SUM","SUM","SUM","SUM","SUM","SUM","SUM","SUM","SUM","SUM","SUM","SUM","SUM","SUM","SUM","SUM"]
[null,"19c","Total internal processed MIC transfer (+ = received; - = sent)",null,"[t/yr, dry weight]",null,"SUM","SUM","SUM","SUM","SUM","SUM","SUM","SUM","SUM","SUM","SUM","SUM","SUM","SUM","SUM","SUM","SUM","SUM","SUM","SUM","SUM","SUM","SUM","SUM","SUM","SUM","SUM","SUM","SUM","SUM","SUM","SUM","SUM","SUM","SUM","SUM","SUM","SUM","SUM","SUM","SUM","SUM","SUM","SUM","SUM","SUM","SUM","SUM","SUM","SUM","SUM","SUM","SUM","SUM","SUM","SUM","SUM","SUM","SUM","SUM","SUM"]
[null,19,"Total processed MIC's used as clinker or cement substitute sold externally",null,"[t/yr, dry weight]",null,{"$f":"IF(OR(COUNTBLANK(G59:G61)=3,G59=\"SUM\"),\"\",SUM(G59:G61))","v":""},{"$f":"IF(OR(COUNTBLANK(H59:H61)=3,H59=\"SUM\"),\"\",SUM(H59:H61))","v":""},"","","","","","","","","","","","","","","","","","","","","","","","",{"$f":"IF(OR(COUNTBLANK(AG59:AG61)=3,AG59=\"SUM\"),\"\",SUM(AG59:AG61))","v":""},"","","","","","","","","",{"$f":"IF(OR(COUNTBLANK(AQ59:AQ61)=3,AQ59=\"SUM\"),\"\",SUM(AQ59:AQ61))","v":""},"","","","","","","","","","","","","","","","","","","","","","","",""]
[]
[null,null,"Production totals:"]
[null,{"$f":"B62+1","v":20},"Total Portland and Blended cements ",null,"[t/yr]",null,{"$f":"IF(AND(G46=\"\",G56=\"\"),\"\",G46+G56)","v":""},{"$f":"IF(AND(H46=\"\",H56=\"\"),\"\",H46+H56)","v":""},"","","","","","","","","","","","","","","","","","","","","","","","",{"$f":"IF(AND(AG46=\"\",AG56=\"\"),\"\",AG46+AG56)","v":""},"","","","","","","","","",{"$f":"IF(AND(AQ46=\"\",AQ56=\"\"),\"\",AQ46+AQ56)","v":""},"","","","","","","","","","","","","","","","","","","","","","","",""]
[null,{"$f":"B65+1","v":21},"Total cements + substitutes: Portland, Blended, Slag, etc.",null,"[t/yr]",null,{"$f":"IF(AND(G46=\"\",G56=\"\",G62=\"\"),\"\",G46+G56+G62)","v":""},"","","","","","","","","","","","","","","","","","","","","","","","","","","","","","",{"$f":"IF(AND(AL46=\"\",AL56=\"\",AL62=\"\"),\"\",AL46+AL56+AL62)","v":""},{"$f":"IF(AND(AM46=\"\",AM56=\"\",AM62=\"\"),\"\",AM46+AM56+AM62)","v":""},{"$f":"IF(AND(AN46=\"\",AN56=\"\",AN62=\"\"),\"\",AN46+AN56+AN62)","v":""},{"$f":"IF(AND(AO46=\"\",AO56=\"\",AO62=\"\"),\"\",AO46+AO56+AO62)","v":""},{"$f":"IF(AND(AP46=\"\",AP56=\"\",AP62=\"\"),\"\",AP46+AP56+AP62)","v":""},{"$f":"IF(AND(AQ46=\"\",AQ56=\"\",AQ62=\"\"),\"\",AQ46+AQ56+AQ62)","v":""},"","","","","","","","","","","","","","","","","","","","","","","",""]
[null,"21a","Total cementitious products",null,"[t/yr]",null,{"$f":"IF(AND(G40=\"\",G56=\"\",G62=\"\"),\"\",G40+G56+G62)","v":{"$error":"#VALUE!"}},{"$error":"#VALUE!"},{"$error":"#VALUE!"},{"$error":"#VALUE!"},{"$error":"#VALUE!"},{"$error":"#VALUE!"},{"$error":"#VALUE!"},{"$error":"#VALUE!"},{"$error":"#VALUE!"},{"$error":"#VALUE!"},{"$error":"#VALUE!"},{"$error":"#VALUE!"},{"$error":"#VALUE!"},{"$error":"#VALUE!"},{"$error":"#VALUE!"},{"$error":"#VALUE!"},{"$error":"#VALUE!"},{"$error":"#VALUE!"},{"$error":"#VALUE!"},{"$error":"#VALUE!"},{"$error":"#VALUE!"},{"$error":"#VALUE!"},{"$error":"#VALUE!"},{"$error":"#VALUE!"},{"$error":"#VALUE!"},{"$error":"#VALUE!"},{"$error":"#VALUE!"},{"$error":"#VALUE!"},{"$error":"#VALUE!"},{"$error":"#VALUE!"},{"$error":"#VALUE!"},{"$f":"IF(AND(AL40=\"\",AL56=\"\",AL62=\"\"),\"\",AL40+AL56+AL62)","v":{"$error":"#VALUE!"}},{"$f":"IF(AND(AM40=\"\",AM56=\"\",AM62=\"\"),\"\",AM40+AM56+AM62)","v":{"$error":"#VALUE!"}},{"$f":"IF(AND(AN40=\"\",AN56=\"\",AN62=\"\"),\"\",AN40+AN56+AN62)","v":{"$error":"#VALUE!"}},{"$f":"IF(AND(AO40=\"\",AO56=\"\",AO62=\"\"),\"\",AO40+AO56+AO62)","v":{"$error":"#VALUE!"}},{"$f":"IF(AND(AP40=\"\",AP56=\"\",AP62=\"\"),\"\",AP40+AP56+AP62)","v":{"$error":"#VALUE!"}},{"$f":"IF(AND(AQ40=\"\",AQ56=\"\",AQ62=\"\"),\"\",AQ40+AQ56+AQ62)","v":{"$error":"#VALUE!"}},{"$error":"#VALUE!"},{"$error":"#VALUE!"},{"$error":"#VALUE!"},{"$error":"#VALUE!"},{"$error":"#VALUE!"},{"$error":"#VALUE!"},{"$error":"#VALUE!"},{"$error":"#VALUE!"},{"$error":"#VALUE!"},{"$error":"#VALUE!"},{"$error":"#VALUE!"},{"$error":"#VALUE!"},{"$error":"#VALUE!"},{"$error":"#VALUE!"},{"$error":"#VALUE!"},{"$error":"#VALUE!"},{"$error":"#VALUE!"},{"$error":"#VALUE!"},{"$error":"#VALUE!"},{"$error":"#VALUE!"},{"$error":"#VALUE!"},{"$error":"#VALUE!"},{"$error":"#VALUE!"},{"$error":"#VALUE!"}]
[null,"21b","Total cement equivalent",null,"[t/yr]",null,{"$f":"IF(OR(G40=\"\",G40=0,G209=\"n. appl.\"),\"n. appl.\",G40/G209)","v":"n. appl."},{"$f":"IF(OR(H40=\"\",H40=0,H209=\"n. appl.\"),\"n. appl.\",H40/H209)","v":"n. appl."},"n. appl.","n. appl.","n. appl.","n. appl.","n. appl.","n. appl.","n. appl.","n. appl.","n. appl.","n. appl.","n. appl.","n. appl.","n. appl.","n. appl.","n. appl.","n. appl.","n. appl.","n. appl.","n. appl.","n. appl.","n. appl.","n. appl.","n. appl.","n. appl.","n. appl.","n. appl.","n. appl.","n. appl.","n. appl.","n. appl.","n. appl.","n. appl.","n. appl.","n. appl.",{"$f":"IF(OR(AQ40=\"\",AQ40=0,AQ209=\"n. appl.\"),\"n. appl.\",AQ40/AQ209)","v":"n. appl."},"n. appl.","n. appl.","n. appl.","n. appl.","n. appl.","n. appl.","n. appl.","n. appl.","n. appl.","n. appl.","n. appl.","n. appl.","n. appl.","n. appl.","n. appl.","n. appl.","n. appl.","n. appl.","n. appl.","n. appl.","n. appl.","n. appl.","n. appl.","n. appl."]
[]
[null,"Dust Production (dry weight)",null,null,null,null,{"$f":"G$7","v":1990},1991,1992,1993,1994,1995,1996,1997,1998,1999,2000,2001,2002,2003,2004,2005,2006,2007,2008,2009,2010,2011,2012,2013,2014,2015,2016,2017,2018,2019,2020,2021,2022,2023,2024,2025,2026,2027,2028,2029,2030,2031,2032,2033,2034,2035,2036,2037,2038,2039,2040,2041,2042,2043,2044,2045,2046,2047,2048,2049,2050]
[null,22,"Bypass dust leaving kiln system",null,"[t/yr, dry weight]",null,"SUM","SUM","SUM","SUM","SUM","SUM","SUM","SUM","SUM","SUM","SUM","SUM","SUM","SUM","SUM","SUM","SUM","SUM","SUM","SUM","SUM","SUM","SUM","SUM","SUM","SUM","SUM","SUM","SUM","SUM","SUM","SUM","SUM","SUM","SUM","SUM","SUM","SUM","SUM","SUM","SUM","SUM","SUM","SUM","SUM","SUM","SUM","SUM","SUM","SUM","SUM","SUM","SUM","SUM","SUM","SUM","SUM","SUM","SUM","SUM","SUM"]
[null,{"$f":"B71+1","v":23},"CKD leaving the kiln system",null,"[t/yr, dry weight]",null,"SUM","SUM","SUM","SUM","SUM","SUM","SUM","SUM","SUM","SUM","SUM","SUM","SUM","SUM","SUM","SUM","SUM","SUM","SUM","SUM","SUM","SUM","SUM","SUM","SUM","SUM","SUM","SUM","SUM","SUM","SUM","SUM","SUM","SUM","SUM","SUM","SUM","SUM","SUM","SUM","SUM","SUM","SUM","SUM","SUM","SUM","SUM","SUM","SUM","SUM","SUM","SUM","SUM","SUM","SUM","SUM","SUM","SUM","SUM","SUM","SUM"]
[null,{"$f":"B72+1","v":24}," CKD calcination rate d",null,"[%]",null,{"$f":"IF(OR(G72=\"\",G142=\"\"),\"\",IF(G72=0,\"not appl.\",G142/G72/(G136/1000/(1+G136/1000)*(1+G142/G72))))","v":{"$error":"#VALUE!"}},{"$error":"#VALUE!"},{"$error":"#VALUE!"},{"$error":"#VALUE!"},{"$error":"#VALUE!"},{"$error":"#VALUE!"},{"$error":"#VALUE!"},{"$error":"#VALUE!"},{"$error":"#VALUE!"},{"$error":"#VALUE!"},{"$error":"#VALUE!"},{"$error":"#VALUE!"},{"$error":"#VALUE!"},{"$error":"#VALUE!"},{"$error":"#VALUE!"},{"$error":"#VALUE!"},{"$error":"#VALUE!"},{"$error":"#VALUE!"},{"$error":"#VALUE!"},{"$error":"#VALUE!"},{"$error":"#VALUE!"},{"$error":"#VALUE!"},{"$error":"#VALUE!"},{"$error":"#VALUE!"},{"$error":"#VALUE!"},{"$error":"#VALUE!"},{"$f":"IF(OR(AG72=\"\",AG142=\"\"),\"\",IF(AG72=0,\"not appl.\",AG142/AG72/(AG136/1000/(1+AG136/1000)*(1+AG142/AG72))))","v":{"$error":"#VALUE!"}},{"$error":"#VALUE!"},{"$error":"#VALUE!"},{"$error":"#VALUE!"},{"$error":"#VALUE!"},{"$error":"#VALUE!"},{"$error":"#VALUE!"},{"$error":"#VALUE!"},{"$error":"#VALUE!"},{"$error":"#VALUE!"},{"$f":"IF(OR(AQ72=\"\",AQ142=\"\"),\"\",IF(AQ72=0,\"not appl.\",AQ142/AQ72/(AQ136/1000/(1+AQ136/1000)*(1+AQ142/AQ72))))","v":{"$error":"#VALUE!"}},{"$error":"#VALUE!"},{"$error":"#VALUE!"},{"$error":"#VALUE!"},{"$error":"#VALUE!"},{"$error":"#VALUE!"},{"$error":"#VALUE!"},{"$error":"#VALUE!"},{"$error":"#VALUE!"},{"$error":"#VALUE!"},{"$error":"#VALUE!"},{"$error":"#VALUE!"},{"$error":"#VALUE!"},{"$error":"#VALUE!"},{"$error":"#VALUE!"},{"$error":"#VALUE!"},{"$error":"#VALUE!"},{"$error":"#VALUE!"},{"$error":"#VALUE!"},{"$error":"#VALUE!"},{"$error":"#VALUE!"},{"$error":"#VALUE!"},{"$error":"#VALUE!"},{"$error":"#VALUE!"},{"$error":"#VALUE!"}]
[]
[null,"Kiln Fuel Consumption incl. raw material and fuel drying",null,null,null,null,{"$f":"G$7","v":1990},1991,1992,1993,1994,1995,1996,1997,1998,1999,2000,2001,2002,2003,2004,2005,2006,2007,2008,2009,2010,2011,2012,2013,2014,2015,2016,2017,2018,2019,2020,2021,2022,2023,2024,2025,2026,2027,2028,2029,2030,2031,2032,2033,2034,2035,2036,2037,2038,2039,2040,2041,2042,2043,2044,2045,2046,2047,2048,2049,2050]
[null,25,"Total heat consumption of kilns",null,"[TJ/yr]",null,{"$f":"IF(COUNTBLANK(G78:G80)=3,\"\",SUM(G78:G80))","v":""},{"$f":"IF(COUNTBLANK(H78:H80)=3,\"\",SUM(H78:H80))","v":""},"","","","","","","","","","","","","","","","","","","","","","","","","","","","","",{"$f":"IF(COUNTBLANK(AL78:AL80)=3,\"\",SUM(AL78:AL80))","v":""},{"$f":"IF(COUNTBLANK(AM78:AM80)=3,\"\",SUM(AM78:AM80))","v":""},{"$f":"IF(COUNTBLANK(AN78:AN80)=3,\"\",SUM(AN78:AN80))","v":""},{"$f":"IF(COUNTBLANK(AO78:AO80)=3,\"\",SUM(AO78:AO80))","v":""},{"$f":"IF(COUNTBLANK(AP78:AP80)=3,\"\",SUM(AP78:AP80))","v":""},{"$f":"IF(COUNTBLANK(AQ78:AQ80)=3,\"\",SUM(AQ78:AQ80))","v":""},"","","","","","","","","","","","","","","","","","","","","","","",""]
[null,"25a","Total heat consumption of kilns excluding drying of fuels and raw materials",null,"[TJ/yr]",null,{"$f":"IF(OR(G76=\"\",G335=\"\",G342=\"\",G344=\"\"),\"\",G76-G335-G342-G344)","v":""},"","","","","","","","","","","","","","","","","","","","","","","","","","","","","","",{"$f":"IF(OR(AL76=\"\",AL335=\"\",AL342=\"\",AL344=\"\"),\"\",AL76-AL335-AL342-AL344)","v":""},{"$f":"IF(OR(AM76=\"\",AM335=\"\",AM342=\"\",AM344=\"\"),\"\",AM76-AM335-AM342-AM344)","v":""},{"$f":"IF(OR(AN76=\"\",AN335=\"\",AN342=\"\",AN344=\"\"),\"\",AN76-AN335-AN342-AN344)","v":""},{"$f":"IF(OR(AO76=\"\",AO335=\"\",AO342=\"\",AO344=\"\"),\"\",AO76-AO335-AO342-AO344)","v":""},{"$f":"IF(OR(AP76=\"\",AP335=\"\",AP342=\"\",AP344=\"\"),\"\",AP76-AP335-AP342-AP344)","v":""},{"$f":"IF(OR(AQ76=\"\",AQ335=\"\",AQ342=\"\",AQ344=\"\"),\"\",AQ76-AQ335-AQ342-AQ344)","v":""},"","","","","","","","","","","","","","","","","","","","","","","",""]
[null,{"$f":"B76+1","v":26},"Conventional fossil fuels",null,"[TJ/yr]",null,{"$f":"IF(OR(G308=\"\",G335=\"\"),\"\",G308+G335)","v":""},{"$f":"IF(OR(H308=\"\",H335=\"\"),\"\",H308+H335)","v":""},"","","","","","","","","","","","","","","","","","","","","","","","",{"$f":"IF(OR(AG308=\"\",AG335=\"\"),\"\",AG308+AG335)","v":""},"","","","","","","","","",{"$f":"IF(OR(AQ308=\"\",AQ335=\"\"),\"\",AQ308+AQ335)","v":""},"","","","","","","","","","","","","","","","","","","","","","","",""]
[null,{"$f":"B78+1","v":27},"Alternative fuels, fossil content; excluding biomass fraction of mixed fuels",null,"[TJ/yr]",null,{"$f":"IF(OR(G316=\"\",G342=\"\"),\"\",G316+G342)","v":""},{"$f":"IF(OR(H316=\"\",H342=\"\"),\"\",H316+H342)","v":""},"","","","","","","","","","","","","","","","","","","","","","","","",{"$f":"IF(OR(AG316=\"\",AG342=\"\"),\"\",AG316+AG342)","v":""},"","","","","","","","","",{"$f":"IF(OR(AQ316=\"\",AQ342=\"\"),\"\",AQ316+AQ342)","v":""},"","","","","","","","","","","","","","","","","","","","","","","",""]
[null,{"$f":"B79+1","v":28},"Biomass fuels, incl. biomass content of alternative fuels",null,"[TJ/yr]",null,{"$f":"IF(OR(G324=\"\",G344=\"\"),\"\",G324+G344)","v":""},{"$f":"IF(OR(H324=\"\",H344=\"\"),\"\",H324+H344)","v":""},"","","","","","","","","","","","","","","","","","","","","","","","",{"$f":"IF(OR(AG324=\"\",AG344=\"\"),\"\",AG324+AG344)","v":""},"","","","","","","","","",{"$f":"IF(OR(AQ324=\"\",AQ344=\"\"),\"\",AQ324+AQ344)","v":""},"","","","","","","","","","","","","","","","","","","","","","","",""]
[]
[null,"Non-Kiln Fuel Consumption",null,null,null,null,{"$f":"G$7","v":1990},1991,1992,1993,1994,1995,1996,1997,1998,1999,2000,2001,2002,2003,2004,2005,2006,2007,2008,2009,2010,2011,2012,2013,2014,2015,2016,2017,2018,2019,2020,2021,2022,2023,2024,2025,2026,2027,2028,2029,2030,2031,2032,2033,2034,2035,2036,2037,2038,2039,2040,2041,2042,2043,2044,2045,2046,2047,2048,2049,2050]
[null,30,"Equipment and on-site vehicles",null,"[TJ/yr]",null,{"$f":"G502+G506","v":{"$error":"#VALUE!"}},{"$f":"H502+H506","v":{"$error":"#VALUE!"}},{"$error":"#VALUE!"},{"$error":"#VALUE!"},{"$error":"#VALUE!"},{"$error":"#VALUE!"},{"$error":"#VALUE!"},{"$error":"#VALUE!"},{"$error":"#VALUE!"},{"$error":"#VALUE!"},{"$error":"#VALUE!"},{"$error":"#VALUE!"},{"$error":"#VALUE!"},{"$error":"#VALUE!"},{"$error":"#VALUE!"},{"$error":"#VALUE!"},{"$error":"#VALUE!"},{"$error":"#VALUE!"},{"$error":"#VALUE!"},{"$error":"#VALUE!"},{"$error":"#VALUE!"},{"$error":"#VALUE!"},{"$error":"#VALUE!"},{"$error":"#VALUE!"},{"$error":"#VALUE!"},{"$error":"#VALUE!"},{"$error":"#VALUE!"},{"$error":"#VALUE!"},{"$error":"#VALUE!"},{"$error":"#VALUE!"},{"$error":"#VALUE!"},{"$f":"AL502+AL506","v":{"$error":"#VALUE!"}},{"$f":"AM502+AM506","v":{"$error":"#VALUE!"}},{"$f":"AN502+AN506","v":{"$error":"#VALUE!"}},{"$f":"AO502+AO506","v":{"$error":"#VALUE!"}},{"$f":"AP502+AP506","v":{"$error":"#VALUE!"}},{"$f":"AQ502+AQ506","v":{"$error":"#VALUE!"}},{"$error":"#VALUE!"},{"$error":"#VALUE!"},{"$error":"#VALUE!"},{"$error":"#VALUE!"},{"$error":"#VALUE!"},{"$error":"#VALUE!"},{"$error":"#VALUE!"},{"$error":"#VALUE!"},{"$error":"#VALUE!"},{"$error":"#VALUE!"},{"$error":"#VALUE!"},{"$error":"#VALUE!"},{"$error":"#VALUE!"},{"$error":"#VALUE!"},{"$error":"#VALUE!"},{"$error":"#VALUE!"},{"$error":"#VALUE!"},{"$error":"#VALUE!"},{"$error":"#VALUE!"},{"$error":"#VALUE!"},{"$error":"#VALUE!"},{"$error":"#VALUE!"},{"$error":"#VALUE!"},{"$error":"#VALUE!"}]
[null,"31a","Room heating and cooling",null,"[TJ/yr]",null,{"$f":"G508","v":""},{"$f":"H508","v":""},"","","","","","","","","","","","","","","","","","","","","","","","",{"$f":"AG508","v":""},"","","","","","","","","",{"$f":"AQ508","v":""},"","","","","","","","","","","","","","","","","","","","","","","",""]
[null,"31b","Drying of mineral components",null,"[TJ/yr]",null,{"$f":"IF(OR(G513=\"\",G520=\"\",G522=\"\"),\"\",G513+G520+G522)","v":""},{"$f":"IF(OR(H513=\"\",H520=\"\",H522=\"\"),\"\",H513+H520+H522)","v":""},"","","","","","","","","","","","","","","","","","","","","","","","",{"$f":"IF(OR(AG513=\"\",AG520=\"\",AG522=\"\"),\"\",AG513+AG520+AG522)","v":""},"","","","","","","","","",{"$f":"IF(OR(AQ513=\"\",AQ520=\"\",AQ522=\"\"),\"\",AQ513+AQ520+AQ522)","v":""},"","","","","","","","","","","","","","","","","","","","","","","",""]
[null,"31c","On-site power generation",null,"[TJ/yr]",null,{"$f":"IF(OR(G525=\"\",G532=\"\",G534=\"\"),\"\",G525+G532+G534)","v":""},{"$f":"IF(OR(H525=\"\",H532=\"\",H534=\"\"),\"\",H525+H532+H534)","v":""},"","","","","","","","","","","","","","","","","","","","","","","","",{"$f":"IF(OR(AG525=\"\",AG532=\"\",AG534=\"\"),\"\",AG525+AG532+AG534)","v":""},"","","","","","","","","",{"$f":"IF(OR(AQ525=\"\",AQ532=\"\",AQ534=\"\"),\"\",AQ525+AQ532+AQ534)","v":""},"","","","","","","","","","","","","","","","","","","","","","","",""]
[null,32,"Total non-kiln fuel consumption",null,"[TJ/yr]",null,{"$f":"IF(COUNTBLANK(G83:G86)=4,\"\",SUM(G83:G86))","v":{"$error":"#VALUE!"}},{"$error":"#VALUE!"},{"$error":"#VALUE!"},{"$error":"#VALUE!"},{"$error":"#VALUE!"},{"$error":"#VALUE!"},{"$error":"#VALUE!"},{"$error":"#VALUE!"},{"$error":"#VALUE!"},{"$error":"#VALUE!"},{"$error":"#VALUE!"},{"$error":"#VALUE!"},{"$error":"#VALUE!"},{"$error":"#VALUE!"},{"$error":"#VALUE!"},{"$error":"#VALUE!"},{"$error":"#VALUE!"},{"$error":"#VALUE!"},{"$error":"#VALUE!"},{"$error":"#VALUE!"},{"$error":"#VALUE!"},{"$error":"#VALUE!"},{"$error":"#VALUE!"},{"$error":"#VALUE!"},{"$error":"#VALUE!"},{"$error":"#VALUE!"},{"$f":"IF(COUNTBLANK(AG83:AG86)=4,\"\",SUM(AG83:AG86))","v":{"$error":"#VALUE!"}},{"$error":"#VALUE!"},{"$error":"#VALUE!"},{"$error":"#VALUE!"},{"$error":"#VALUE!"},{"$error":"#VALUE!"},{"$error":"#VALUE!"},{"$error":"#VALUE!"},{"$error":"#VALUE!"},{"$error":"#VALUE!"},{"$f":"IF(COUNTBLANK(AQ83:AQ86)=4,\"\",SUM(AQ83:AQ86))","v":{"$error":"#VALUE!"}},{"$error":"#VALUE!"},{"$error":"#VALUE!"},{"$error":"#VALUE!"},{"$error":"#VALUE!"},{"$error":"#VALUE!"},{"$error":"#VALUE!"},{"$error":"#VALUE!"},{"$error":"#VALUE!"},{"$error":"#VALUE!"},{"$error":"#VALUE!"},{"$error":"#VALUE!"},{"$error":"#VALUE!"},{"$error":"#VALUE!"},{"$error":"#VALUE!"},{"$error":"#VALUE!"},{"$error":"#VALUE!"},{"$error":"#VALUE!"},{"$error":"#VALUE!"},{"$error":"#VALUE!"},{"$error":"#VALUE!"},{"$error":"#VALUE!"},{"$error":"#VALUE!"},{"$error":"#VALUE!"},{"$error":"#VALUE!"}]
[]
[null,"Power Balance",null,null,null,null,{"$f":"G$7","v":1990},1991,1992,1993,1994,1995,1996,1997,1998,1999,2000,2001,2002,2003,2004,2005,2006,2007,2008,2009,2010,2011,2012,2013,2014,2015,2016,2017,2018,2019,2020,2021,2022,2023,2024,2025,2026,2027,2028,2029,2030,2031,2032,2033,2034,2035,2036,2037,2038,2039,2040,2041,2042,2043,2044,2045,2046,2047,2048,2049,2050]
[null,"33a","Total power production from separate on-site power generation",null,"[MWh/yr]",null,"SUM","SUM","SUM","SUM","SUM","SUM","SUM","SUM","SUM","SUM","SUM","SUM","SUM","SUM","SUM","SUM","SUM","SUM","SUM","SUM","SUM","SUM","SUM","SUM","SUM","SUM","SUM","SUM","SUM","SUM","SUM","SUM","SUM","SUM","SUM","SUM","SUM","SUM","SUM","SUM","SUM","SUM","SUM","SUM","SUM","SUM","SUM","SUM","SUM","SUM","SUM","SUM","SUM","SUM","SUM","SUM","SUM","SUM","SUM","SUM","SUM"]
[null,"33aa","       Power delivered to cement plant",null,"[MWh/yr]",null,"SUM","SUM","SUM","SUM","SUM","SUM","SUM","SUM","SUM","SUM","SUM","SUM","SUM","SUM","SUM","SUM","SUM","SUM","SUM","SUM","SUM","SUM","SUM","SUM","SUM","SUM","SUM","SUM","SUM","SUM","SUM","SUM","SUM","SUM","SUM","SUM","SUM","SUM","SUM","SUM","SUM","SUM","SUM","SUM","SUM","SUM","SUM","SUM","SUM","SUM","SUM","SUM","SUM","SUM","SUM","SUM","SUM","SUM","SUM","SUM","SUM"]
[null,"33ab","       Power delivered externally",null,"[MWh/yr]",null,"SUM","SUM","SUM","SUM","SUM","SUM","SUM","SUM","SUM","SUM","SUM","SUM","SUM","SUM","SUM","SUM","SUM","SUM","SUM","SUM","SUM","SUM","SUM","SUM","SUM","SUM","SUM","SUM","SUM","SUM","SUM","SUM","SUM","SUM","SUM","SUM","SUM","SUM","SUM","SUM","SUM","SUM","SUM","SUM","SUM","SUM","SUM","SUM","SUM","SUM","SUM","SUM","SUM","SUM","SUM","SUM","SUM","SUM","SUM","SUM","SUM"]
[null,"33ac","       Power consumed by on-site power generation equipment",null,"[MWh/yr]",null,{"$f":"IF(OR(G90=\"\",G91=\"\",G92=\"\"),\"\",G90-G91-G92)","v":{"$error":"#VALUE!"}},{"$f":"IF(OR(H90=\"\",H91=\"\",H92=\"\"),\"\",H90-H91-H92)","v":{"$error":"#VALUE!"}},{"$error":"#VALUE!"},{"$error":"#VALUE!"},{"$error":"#VALUE!"},{"$error":"#VALUE!"},{"$error":"#VALUE!"},{"$error":"#VALUE!"},{"$error":"#VALUE!"},{"$error":"#VALUE!"},{"$error":"#VALUE!"},{"$error":"#VALUE!"},{"$error":"#VALUE!"},{"$error":"#VALUE!"},{"$error":"#VALUE!"},{"$error":"#VALUE!"},{"$error":"#VALUE!"},{"$error":"#VALUE!"},{"$error":"#VALUE!"},{"$error":"#VALUE!"},{"$error":"#VALUE!"},{"$error":"#VALUE!"},{"$error":"#VALUE!"},{"$error":"#VALUE!"},{"$error":"#VALUE!"},{"$error":"#VALUE!"},{"$f":"IF(OR(AG90=\"\",AG91=\"\",AG92=\"\"),\"\",AG90-AG91-AG92)","v":{"$error":"#VALUE!"}},{"$error":"#VALUE!"},{"$error":"#VALUE!"},{"$error":"#VALUE!"},{"$error":"#VALUE!"},{"$error":"#VALUE!"},{"$error":"#VALUE!"},{"$error":"#VALUE!"},{"$error":"#VALUE!"},{"$error":"#VALUE!"},{"$f":"IF(OR(AQ90=\"\",AQ91=\"\",AQ92=\"\"),\"\",AQ90-AQ91-AQ92)","v":{"$error":"#VALUE!"}},{"$error":"#VALUE!"},{"$error":"#VALUE!"},{"$error":"#VALUE!"},{"$error":"#VALUE!"},{"$error":"#VALUE!"},{"$error":"#VALUE!"},{"$error":"#VALUE!"},{"$error":"#VALUE!"},{"$error":"#VALUE!"},{"$error":"#VALUE!"},{"$error":"#VALUE!"},{"$error":"#VALUE!"},{"$error":"#VALUE!"},{"$error":"#VALUE!"},{"$error":"#VALUE!"},{"$error":"#VALUE!"},{"$error":"#VALUE!"},{"$error":"#VALUE!"},{"$error":"#VALUE!"},{"$error":"#VALUE!"},{"$error":"#VALUE!"},{"$error":"#VALUE!"},{"$error":"#VALUE!"},{"$error":"#VALUE!"}]
[null,"33ad","       CO2 per power unit produced by separate on-site power generation",null,"[kg CO2/MWh]",null,{"$f":"IF(G90=0,\"\",G155/G90*1000)","v":{"$error":"#VALUE!"}},{"$f":"IF(H90=0,\"\",H155/H90*1000)","v":{"$error":"#VALUE!"}},{"$error":"#VALUE!"},{"$error":"#VALUE!"},{"$error":"#VALUE!"},{"$error":"#VALUE!"},{"$error":"#VALUE!"},{"$error":"#VALUE!"},{"$error":"#VALUE!"},{"$error":"#VALUE!"},{"$error":"#VALUE!"},{"$error":"#VALUE!"},{"$error":"#VALUE!"},{"$error":"#VALUE!"},{"$error":"#VALUE!"},{"$error":"#VALUE!"},{"$error":"#VALUE!"},{"$error":"#VALUE!"},{"$error":"#VALUE!"},{"$error":"#VALUE!"},{"$error":"#VALUE!"},{"$error":"#VALUE!"},{"$error":"#VALUE!"},{"$error":"#VALUE!"},{"$error":"#VALUE!"},{"$error":"#VALUE!"},{"$f":"IF(AG90=0,\"\",AG155/AG90*1000)","v":{"$error":"#VALUE!"}},{"$error":"#VALUE!"},{"$error":"#VALUE!"},{"$error":"#VALUE!"},{"$error":"#VALUE!"},{"$error":"#VALUE!"},{"$error":"#VALUE!"},{"$error":"#VALUE!"},{"$error":"#VALUE!"},{"$error":"#VALUE!"},{"$f":"IF(AQ90=0,\"\",AQ155/AQ90*1000)","v":{"$error":"#VALUE!"}},{"$error":"#VALUE!"},{"$error":"#VALUE!"},{"$error":"#VALUE!"},{"$error":"#VALUE!"},{"$error":"#VALUE!"},{"$error":"#VALUE!"},{"$error":"#VALUE!"},{"$error":"#VALUE!"},{"$error":"#VALUE!"},{"$error":"#VALUE!"},{"$error":"#VALUE!"},{"$error":"#VALUE!"},{"$error":"#VALUE!"},{"$error":"#VALUE!"},{"$error":"#VALUE!"},{"$error":"#VALUE!"},{"$error":"#VALUE!"},{"$error":"#VALUE!"},{"$error":"#VALUE!"},{"$error":"#VALUE!"},{"$error":"#VALUE!"},{"$error":"#VALUE!"},{"$error":"#VALUE!"},{"$error":"#VALUE!"}]
[null,"33b","Total power production from waste heat recovery",null,"[MWh/yr]",null,"SUM","SUM","SUM","SUM","SUM","SUM","SUM","SUM","SUM","SUM","SUM","SUM","SUM","SUM","SUM","SUM","SUM","SUM","SUM","SUM","SUM","SUM","SUM","SUM","SUM","SUM","SUM","SUM","SUM","SUM","SUM","SUM","SUM","SUM","SUM","SUM","SUM","SUM","SUM","SUM","SUM","SUM","SUM","SUM","SUM","SUM","SUM","SUM","SUM","SUM","SUM","SUM","SUM","SUM","SUM","SUM","SUM","SUM","SUM","SUM","SUM"]
[null,"33ba","       Power delivered to cement plant",null,"[MWh/yr]",null,"SUM","SUM","SUM","SUM","SUM","SUM","SUM","SUM","SUM","SUM","SUM","SUM","SUM","SUM","SUM","SUM","SUM","SUM","SUM","SUM","SUM","SUM","SUM","SUM","SUM","SUM","SUM","SUM","SUM","SUM","SUM","SUM","SUM","SUM","SUM","SUM","SUM","SUM","SUM","SUM","SUM","SUM","SUM","SUM","SUM","SUM","SUM","SUM","SUM","SUM","SUM","SUM","SUM","SUM","SUM","SUM","SUM","SUM","SUM","SUM","SUM"]
[null,"33bb","       Power delivered externally",null,"[MWh/yr]",null,"SUM","SUM","SUM","SUM","SUM","SUM","SUM","SUM","SUM","SUM","SUM","SUM","SUM","SUM","SUM","SUM","SUM","SUM","SUM","SUM","SUM","SUM","SUM","SUM","SUM","SUM","SUM","SUM","SUM","SUM","SUM","SUM","SUM","SUM","SUM","SUM","SUM","SUM","SUM","SUM","SUM","SUM","SUM","SUM","SUM","SUM","SUM","SUM","SUM","SUM","SUM","SUM","SUM","SUM","SUM","SUM","SUM","SUM","SUM","SUM","SUM"]
[null,"33bc","       Power consumed by waste heat recovery equipment",null,"[MWh/yr]",null,{"$f":"IF(OR(G95=\"\",G96=\"\",G97=\"\"),\"\",G95-G96-G97)","v":{"$error":"#VALUE!"}},{"$f":"IF(OR(H95=\"\",H96=\"\",H97=\"\"),\"\",H95-H96-H97)","v":{"$error":"#VALUE!"}},{"$error":"#VALUE!"},{"$error":"#VALUE!"},{"$error":"#VALUE!"},{"$error":"#VALUE!"},{"$error":"#VALUE!"},{"$error":"#VALUE!"},{"$error":"#VALUE!"},{"$error":"#VALUE!"},{"$error":"#VALUE!"},{"$error":"#VALUE!"},{"$error":"#VALUE!"},{"$error":"#VALUE!"},{"$error":"#VALUE!"},{"$error":"#VALUE!"},{"$error":"#VALUE!"},{"$error":"#VALUE!"},{"$error":"#VALUE!"},{"$error":"#VALUE!"},{"$error":"#VALUE!"},{"$error":"#VALUE!"},{"$error":"#VALUE!"},{"$error":"#VALUE!"},{"$error":"#VALUE!"},{"$error":"#VALUE!"},{"$f":"IF(OR(AG95=\"\",AG96=\"\",AG97=\"\"),\"\",AG95-AG96-AG97)","v":{"$error":"#VALUE!"}},{"$error":"#VALUE!"},{"$error":"#VALUE!"},{"$error":"#VALUE!"},{"$error":"#VALUE!"},{"$error":"#VALUE!"},{"$error":"#VALUE!"},{"$error":"#VALUE!"},{"$error":"#VALUE!"},{"$error":"#VALUE!"},{"$f":"IF(OR(AQ95=\"\",AQ96=\"\",AQ97=\"\"),\"\",AQ95-AQ96-AQ97)","v":{"$error":"#VALUE!"}},{"$error":"#VALUE!"},{"$error":"#VALUE!"},{"$error":"#VALUE!"},{"$error":"#VALUE!"},{"$error":"#VALUE!"},{"$error":"#VALUE!"},{"$error":"#VALUE!"},{"$error":"#VALUE!"},{"$error":"#VALUE!"},{"$error":"#VALUE!"},{"$error":"#VALUE!"},{"$error":"#VALUE!"},{"$error":"#VALUE!"},{"$error":"#VALUE!"},{"$error":"#VALUE!"},{"$error":"#VALUE!"},{"$error":"#VALUE!"},{"$error":"#VALUE!"},{"$error":"#VALUE!"},{"$error":"#VALUE!"},{"$error":"#VALUE!"},{"$error":"#VALUE!"},{"$error":"#VALUE!"},{"$error":"#VALUE!"}]
[null,"33c","Total external power consumption for cement manufacturing",null,"[MWh/yr]",null,{"$f":"IF(COUNTBLANK(G100:G102)=3,\"\",SUM(G100:G102))","v":0},{"$f":"IF(COUNTBLANK(H100:H102)=3,\"\",SUM(H100:H102))","v":0},0,0,0,0,0,0,0,0,0,0,0,0,0,0,0,0,0,0,0,0,0,0,0,0,{"$f":"IF(COUNTBLANK(AG100:AG102)=3,\"\",SUM(AG100:AG102))","v":0},0,0,0,0,0,0,0,0,0,{"$f":"IF(COUNTBLANK(AQ100:AQ102)=3,\"\",SUM(AQ100:AQ102))","v":0},0,0,0,0,0,0,0,0,0,0,0,0,0,0,0,0,0,0,0,0,0,0,0,0]
[null,"33ca","      External power delivered to cement plant",null,"[MWh/yr]",null,"SUM","SUM","SUM","SUM","SUM","SUM","SUM","SUM","SUM","SUM","SUM","SUM","SUM","SUM","SUM","SUM","SUM","SUM","SUM","SUM","SUM","SUM","SUM","SUM","SUM","SUM","SUM","SUM","SUM","SUM","SUM","SUM","SUM","SUM","SUM","SUM","SUM","SUM","SUM","SUM","SUM","SUM","SUM","SUM","SUM","SUM","SUM","SUM","SUM","SUM","SUM","SUM","SUM","SUM","SUM","SUM","SUM","SUM","SUM","SUM","SUM"]
[null,"33cb","      Cement-related external power delivered to on-site power generation plant",null,"[MWh/yr]",null,"SUM","SUM","SUM","SUM","SUM","SUM","SUM","SUM","SUM","SUM","SUM","SUM","SUM","SUM","SUM","SUM","SUM","SUM","SUM","SUM","SUM","SUM","SUM","SUM","SUM","SUM","SUM","SUM","SUM","SUM","SUM","SUM","SUM","SUM","SUM","SUM","SUM","SUM","SUM","SUM","SUM","SUM","SUM","SUM","SUM","SUM","SUM","SUM","SUM","SUM","SUM","SUM","SUM","SUM","SUM","SUM","SUM","SUM","SUM","SUM","SUM"]
[null,"33cc","      Cement-related external power delivered to waste heat recovery plant",null,"[MWh/yr]",null,"SUM","SUM","SUM","SUM","SUM","SUM","SUM","SUM","SUM","SUM","SUM","SUM","SUM","SUM","SUM","SUM","SUM","SUM","SUM","SUM","SUM","SUM","SUM","SUM","SUM","SUM","SUM","SUM","SUM","SUM","SUM","SUM","SUM","SUM","SUM","SUM","SUM","SUM","SUM","SUM","SUM","SUM","SUM","SUM","SUM","SUM","SUM","SUM","SUM","SUM","SUM","SUM","SUM","SUM","SUM","SUM","SUM","SUM","SUM","SUM","SUM"]
[null,"33d","      CO2 per power unit produced externally",null,"[kg CO2/MWh]",null,{"$f":"IF(AND(G99=\"\",G162=\"\"),\"\",IF(G99=0,\"not appl.\",G162/G99*1000))","v":"not appl."},{"$f":"IF(AND(H99=\"\",H162=\"\"),\"\",IF(H99=0,\"not appl.\",H162/H99*1000))","v":"not appl."},"not appl.","not appl.","not appl.","not appl.","not appl.","not appl.","not appl.","not appl.","not appl.","not appl.","not appl.","not appl.","not appl.","not appl.","not appl.","not appl.","not appl.","not appl.","not appl.","not appl.","not appl.","not appl.","not appl.","not appl.",{"$f":"IF(AND(AG99=\"\",AG162=\"\"),\"\",IF(AG99=0,\"not appl.\",AG162/AG99*1000))","v":"not appl."},"not appl.","not appl.","not appl.","not appl.","not appl.","not appl.","not appl.","not appl.","not appl.",{"$f":"IF(AND(AQ99=\"\",AQ162=\"\"),\"\",IF(AQ99=0,\"not appl.\",AQ162/AQ99*1000))","v":"not appl."},"not appl.","not appl.","not appl.","not appl.","not appl.","not appl.","not appl.","not appl.","not appl.","not appl.","not appl.","not appl.","not appl.","not appl.","not appl.","not appl.","not appl.","not appl.","not appl.","not appl.","not appl.","not appl.","not appl.","not appl."]
[null,"33e","Power consumption up to and including clinker production",null,"[MWh/yr]",null,"SUM","SUM","SUM","SUM","SUM","SUM","SUM","SUM","SUM","SUM","SUM","SUM","SUM","SUM","SUM","SUM","SUM","SUM","SUM","SUM","SUM","SUM","SUM","SUM","SUM","SUM","SUM","SUM","SUM","SUM","SUM","SUM","SUM","SUM","SUM","SUM","SUM","SUM","SUM","SUM","SUM","SUM","SUM","SUM","SUM","SUM","SUM","SUM","SUM","SUM","SUM","SUM","SUM","SUM","SUM","SUM","SUM","SUM","SUM","SUM","SUM"]
[null,33,"Total cement plant power consumption",null,"[MWh/yr]",null,{"$f":"IF(OR(G91=\"\",G96=\"\",G100=\"\"),\"\",G91+G96+G100)","v":{"$error":"#VALUE!"}},{"$f":"IF(OR(H91=\"\",H96=\"\",H100=\"\"),\"\",H91+H96+H100)","v":{"$error":"#VALUE!"}},{"$error":"#VALUE!"},{"$error":"#VALUE!"},{"$error":"#VALUE!"},{"$error":"#VALUE!"},{"$error":"#VALUE!"},{"$error":"#VALUE!"},{"$error":"#VALUE!"},{"$error":"#VALUE!"},{"$error":"#VALUE!"},{"$error":"#VALUE!"},{"$error":"#VALUE!"},{"$error":"#VALUE!"},{"$error":"#VALUE!"},{"$error":"#VALUE!"},{"$error":"#VALUE!"},{"$error":"#VALUE!"},{"$error":"#VALUE!"},{"$error":"#VALUE!"},{"$error":"#VALUE!"},{"$error":"#VALUE!"},{"$error":"#VALUE!"},{"$error":"#VALUE!"},{"$error":"#VALUE!"},{"$error":"#VALUE!"},{"$f":"IF(OR(AG91=\"\",AG96=\"\",AG100=\"\"),\"\",AG91+AG96+AG100)","v":{"$error":"#VALUE!"}},{"$error":"#VALUE!"},{"$error":"#VALUE!"},{"$error":"#VALUE!"},{"$error":"#VALUE!"},{"$error":"#VALUE!"},{"$error":"#VALUE!"},{"$error":"#VALUE!"},{"$error":"#VALUE!"},{"$error":"#VALUE!"},{"$f":"IF(OR(AQ91=\"\",AQ96=\"\",AQ100=\"\"),\"\",AQ91+AQ96+AQ100)","v":{"$error":"#VALUE!"}},{"$error":"#VALUE!"},{"$error":"#VALUE!"},{"$error":"#VALUE!"},{"$error":"#VALUE!"},{"$error":"#VALUE!"},{"$error":"#VALUE!"},{"$error":"#VALUE!"},{"$error":"#VALUE!"},{"$error":"#VALUE!"},{"$error":"#VALUE!"},{"$error":"#VALUE!"},{"$error":"#VALUE!"},{"$error":"#VALUE!"},{"$error":"#VALUE!"},{"$error":"#VALUE!"},{"$error":"#VALUE!"},{"$error":"#VALUE!"},{"$error":"#VALUE!"},{"$error":"#VALUE!"},{"$error":"#VALUE!"},{"$error":"#VALUE!"},{"$error":"#VALUE!"},{"$error":"#VALUE!"},{"$error":"#VALUE!"}]
[]
[null,"Waste Heat Use",null,null,null,null,{"$f":"G$7","v":1990},1991,1992,1993,1994,1995,1996,1997,1998,1999,2000,2001,2002,2003,2004,2005,2006,2007,2008,2009,2010,2011,2012,2013,2014,2015,2016,2017,2018,2019,2020,2021,2022,2023,2024,2025,2026,2027,2028,2029,2030,2031,2032,2033,2034,2035,2036,2037,2038,2039,2040,2041,2042,2043,2044,2045,2046,2047,2048,2049,2050]
[null,34,"Waste heat supplied to external consumers",null,"[GJ/yr]",null,"SUM","SUM","SUM","SUM","SUM","SUM","SUM","SUM","SUM","SUM","SUM","SUM","SUM","SUM","SUM","SUM","SUM","SUM","SUM","SUM","SUM","SUM","SUM","SUM","SUM","SUM","SUM","SUM","SUM","SUM","SUM","SUM","SUM","SUM","SUM","SUM","SUM","SUM","SUM","SUM","SUM","SUM","SUM","SUM","SUM","SUM","SUM","SUM","SUM","SUM","SUM","SUM","SUM","SUM","SUM","SUM","SUM","SUM","SUM","SUM","SUM"]
[null,"34a","Waste heat used internally (incl. power generation)",null,"[GJ/yr]",null,"SUM","SUM","SUM","SUM","SUM","SUM","SUM","SUM","SUM","SUM","SUM","SUM","SUM","SUM","SUM","SUM","SUM","SUM","SUM","SUM","SUM","SUM","SUM","SUM","SUM","SUM","SUM","SUM","SUM","SUM","SUM","SUM","SUM","SUM","SUM","SUM","SUM","SUM","SUM","SUM","SUM","SUM","SUM","SUM","SUM","SUM","SUM","SUM","SUM","SUM","SUM","SUM","SUM","SUM","SUM","SUM","SUM","SUM","SUM","SUM","SUM"]
[]
["CO2 EMISSIONS "]
[]
[]
[]
[]
[]
[]
[]
[]
[]
[]
[]
[]
[]
[]
[]
[]
[]
[]
[]
[]
[]
[]
["Direct CO2 Emissions"]
[null,"CO2 from Raw Materials",null,null,null,null,{"$f":"G$7","v":1990},1991,1992,1993,1994,1995,1996,1997,1998,1999,2000,2001,2002,2003,2004,2005,2006,2007,2008,2009,2010,2011,2012,2013,2014,2015,2016,2017,2018,2019,2020,2021,2022,2023,2024,2025,2026,2027,2028,2029,2030,2031,2032,2033,2034,2035,2036,2037,2038,2039,2040,2041,2042,2043,2044,2045,2046,2047,2048,2049,2050]
[null,"35a","Calcination emission factor, corrected for CaO- and MgO imports",null,"[kg CO2/t cli]",null,{"$f":"IF(OR(G140=\"\",G40=\"\"),\"\",IF(G40=0,\"not appl.\",G140/G40*1000))","v":{"$error":"#VALUE!"}},{"$error":"#VALUE!"},{"$error":"#VALUE!"},{"$error":"#VALUE!"},{"$error":"#VALUE!"},{"$error":"#VALUE!"},{"$error":"#VALUE!"},{"$error":"#VALUE!"},{"$error":"#VALUE!"},{"$error":"#VALUE!"},{"$error":"#VALUE!"},{"$error":"#VALUE!"},{"$error":"#VALUE!"},{"$error":"#VALUE!"},{"$error":"#VALUE!"},{"$error":"#VALUE!"},{"$error":"#VALUE!"},{"$error":"#VALUE!"},{"$error":"#VALUE!"},{"$error":"#VALUE!"},{"$error":"#VALUE!"},{"$error":"#VALUE!"},{"$error":"#VALUE!"},{"$error":"#VALUE!"},{"$error":"#VALUE!"},{"$error":"#VALUE!"},{"$error":"#VALUE!"},{"$error":"#VALUE!"},{"$error":"#VALUE!"},{"$error":"#VALUE!"},{"$error":"#VALUE!"},{"$f":"IF(OR(AL140=\"\",AL40=\"\"),\"\",IF(AL40=0,\"not appl.\",AL140/AL40*1000))","v":{"$error":"#VALUE!"}},{"$f":"IF(OR(AM140=\"\",AM40=\"\"),\"\",IF(AM40=0,\"not appl.\",AM140/AM40*1000))","v":{"$error":"#VALUE!"}},{"$f":"IF(OR(AN140=\"\",AN40=\"\"),\"\",IF(AN40=0,\"not appl.\",AN140/AN40*1000))","v":{"$error":"#VALUE!"}},{"$f":"IF(OR(AO140=\"\",AO40=\"\"),\"\",IF(AO40=0,\"not appl.\",AO140/AO40*1000))","v":{"$error":"#VALUE!"}},{"$f":"IF(OR(AP140=\"\",AP40=\"\"),\"\",IF(AP40=0,\"not appl.\",AP140/AP40*1000))","v":{"$error":"#VALUE!"}},{"$f":"IF(OR(AQ140=\"\",AQ40=\"\"),\"\",IF(AQ40=0,\"not appl.\",AQ140/AQ40*1000))","v":{"$error":"#VALUE!"}},{"$error":"#VALUE!"},{"$error":"#VALUE!"},{"$error":"#VALUE!"},{"$error":"#VALUE!"},{"$error":"#VALUE!"},{"$error":"#VALUE!"},{"$error":"#VALUE!"},{"$error":"#VALUE!"},{"$error":"#VALUE!"},{"$error":"#VALUE!"},{"$error":"#VALUE!"},{"$error":"#VALUE!"},{"$error":"#VALUE!"},{"$error":"#VALUE!"},{"$error":"#VALUE!"},{"$error":"#VALUE!"},{"$error":"#VALUE!"},{"$error":"#VALUE!"},{"$error":"#VALUE!"},{"$error":"#VALUE!"},{"$error":"#VALUE!"},{"$error":"#VALUE!"},{"$error":"#VALUE!"},{"$error":"#VALUE!"}]
[null,"35b","Organic carbon content of raw meal (average)",null,"[%, dry weight]",null,{"$f":"IF(OR(G139=\"\",G143=\"\"),\"\",IF(G139=0,\"not appl.\",G143/3.664/G139))","v":{"$error":"#VALUE!"}},{"$f":"IF(OR(H139=\"\",H143=\"\"),\"\",IF(H139=0,\"not appl.\",H143/3.664/H139))","v":{"$error":"#VALUE!"}},{"$error":"#VALUE!"},{"$error":"#VALUE!"},{"$error":"#VALUE!"},{"$error":"#VALUE!"},{"$error":"#VALUE!"},{"$error":"#VALUE!"},{"$error":"#VALUE!"},{"$error":"#VALUE!"},{"$error":"#VALUE!"},{"$error":"#VALUE!"},{"$error":"#VALUE!"},{"$error":"#VALUE!"},{"$error":"#VALUE!"},{"$error":"#VALUE!"},{"$error":"#VALUE!"},{"$error":"#VALUE!"},{"$error":"#VALUE!"},{"$error":"#VALUE!"},{"$error":"#VALUE!"},{"$error":"#VALUE!"},{"$error":"#VALUE!"},{"$error":"#VALUE!"},{"$error":"#VALUE!"},{"$error":"#VALUE!"},{"$f":"IF(OR(AG139=\"\",AG143=\"\"),\"\",IF(AG139=0,\"not appl.\",AG143/3.664/AG139))","v":{"$error":"#VALUE!"}},{"$error":"#VALUE!"},{"$error":"#VALUE!"},{"$error":"#VALUE!"},{"$error":"#VALUE!"},{"$error":"#VALUE!"},{"$error":"#VALUE!"},{"$error":"#VALUE!"},{"$error":"#VALUE!"},{"$error":"#VALUE!"},{"$f":"IF(OR(AQ139=\"\",AQ143=\"\"),\"\",IF(AQ139=0,\"not appl.\",AQ143/3.664/AQ139))","v":{"$error":"#VALUE!"}},{"$error":"#VALUE!"},{"$error":"#VALUE!"},{"$error":"#VALUE!"},{"$error":"#VALUE!"},{"$error":"#VALUE!"},{"$error":"#VALUE!"},{"$error":"#VALUE!"},{"$error":"#VALUE!"},{"$error":"#VALUE!"},{"$error":"#VALUE!"},{"$error":"#VALUE!"},{"$error":"#VALUE!"},{"$error":"#VALUE!"},{"$error":"#VALUE!"},{"$error":"#VALUE!"},{"$error":"#VALUE!"},{"$error":"#VALUE!"},{"$error":"#VALUE!"},{"$error":"#VALUE!"},{"$error":"#VALUE!"},{"$error":"#VALUE!"},{"$error":"#VALUE!"},{"$error":"#VALUE!"},{"$error":"#VALUE!"}]
[null,"35c","Raw meal : clinker ratio",null,"[--, dry weight]",null,{"$f":"IF(G40=\"\",\"\",IF(G40=0,\"not appl.\",G139/G40))","v":{"$error":"#VALUE!"}},{"$error":"#VALUE!"},{"$error":"#VALUE!"},{"$error":"#VALUE!"},{"$error":"#VALUE!"},{"$error":"#VALUE!"},{"$error":"#VALUE!"},{"$error":"#VALUE!"},{"$error":"#VALUE!"},{"$error":"#VALUE!"},{"$error":"#VALUE!"},{"$error":"#VALUE!"},{"$error":"#VALUE!"},{"$error":"#VALUE!"},{"$error":"#VALUE!"},{"$error":"#VALUE!"},{"$error":"#VALUE!"},{"$error":"#VALUE!"},{"$error":"#VALUE!"},{"$error":"#VALUE!"},{"$error":"#VALUE!"},{"$error":"#VALUE!"},{"$error":"#VALUE!"},{"$error":"#VALUE!"},{"$error":"#VALUE!"},{"$error":"#VALUE!"},{"$error":"#VALUE!"},{"$error":"#VALUE!"},{"$error":"#VALUE!"},{"$error":"#VALUE!"},{"$error":"#VALUE!"},{"$f":"IF(AL40=\"\",\"\",IF(AL40=0,\"not appl.\",AL139/AL40))","v":{"$error":"#VALUE!"}},{"$f":"IF(AM40=\"\",\"\",IF(AM40=0,\"not appl.\",AM139/AM40))","v":{"$error":"#VALUE!"}},{"$f":"IF(AN40=\"\",\"\",IF(AN40=0,\"not appl.\",AN139/AN40))","v":{"$error":"#VALUE!"}},{"$f":"IF(AO40=\"\",\"\",IF(AO40=0,\"not appl.\",AO139/AO40))","v":{"$error":"#VALUE!"}},{"$f":"IF(AP40=\"\",\"\",IF(AP40=0,\"not appl.\",AP139/AP40))","v":{"$error":"#VALUE!"}},{"$f":"IF(AQ40=\"\",\"\",IF(AQ40=0,\"not appl.\",AQ139/AQ40))","v":{"$error":"#VALUE!"}},{"$error":"#VALUE!"},{"$error":"#VALUE!"},{"$error":"#VALUE!"},{"$error":"#VALUE!"},{"$error":"#VALUE!"},{"$error":"#VALUE!"},{"$error":"#VALUE!"},{"$error":"#VALUE!"},{"$error":"#VALUE!"},{"$error":"#VALUE!"},{"$error":"#VALUE!"},{"$error":"#VALUE!"},{"$error":"#VALUE!"},{"$error":"#VALUE!"},{"$error":"#VALUE!"},{"$error":"#VALUE!"},{"$error":"#VALUE!"},{"$error":"#VALUE!"},{"$error":"#VALUE!"},{"$error":"#VALUE!"},{"$error":"#VALUE!"},{"$error":"#VALUE!"},{"$error":"#VALUE!"},{"$error":"#VALUE!"}]
[null,"35d","Raw meal consumption",null,"[t/yr, dry weight]",null,"SUM","SUM","SUM","SUM","SUM","SUM","SUM","SUM","SUM","SUM","SUM","SUM","SUM","SUM","SUM","SUM","SUM","SUM","SUM","SUM","SUM","SUM","SUM","SUM","SUM","SUM","SUM","SUM","SUM","SUM","SUM","SUM","SUM","SUM","SUM","SUM","SUM","SUM","SUM","SUM","SUM","SUM","SUM","SUM","SUM","SUM","SUM","SUM","SUM","SUM","SUM","SUM","SUM","SUM","SUM","SUM","SUM","SUM","SUM","SUM","SUM"]
[null,36,"CO2 from calcination of raw materials consumed for clinker production",null,"[t CO2/yr]",null,"SUM","SUM","SUM","SUM","SUM","SUM","SUM","SUM","SUM","SUM","SUM","SUM","SUM","SUM","SUM","SUM","SUM","SUM","SUM","SUM","SUM","SUM","SUM","SUM","SUM","SUM","SUM","SUM","SUM","SUM","SUM","SUM","SUM","SUM","SUM","SUM","SUM","SUM","SUM","SUM","SUM","SUM","SUM","SUM","SUM","SUM","SUM","SUM","SUM","SUM","SUM","SUM","SUM","SUM","SUM","SUM","SUM","SUM","SUM","SUM","SUM"]
[null,{"$f":"B140+1","v":37},"CO2 from calcination of bypass dust leaving the kiln system",null,"[t CO2/yr]",null,"SUM","SUM","SUM","SUM","SUM","SUM","SUM","SUM","SUM","SUM","SUM","SUM","SUM","SUM","SUM","SUM","SUM","SUM","SUM","SUM","SUM","SUM","SUM","SUM","SUM","SUM","SUM","SUM","SUM","SUM","SUM","SUM","SUM","SUM","SUM","SUM","SUM","SUM","SUM","SUM","SUM","SUM","SUM","SUM","SUM","SUM","SUM","SUM","SUM","SUM","SUM","SUM","SUM","SUM","SUM","SUM","SUM","SUM","SUM","SUM","SUM"]
[null,"38a","CO2 from calcination of CKD leaving the kiln system",null,"[t CO2/yr]",null,"SUM","SUM","SUM","SUM","SUM","SUM","SUM","SUM","SUM","SUM","SUM","SUM","SUM","SUM","SUM","SUM","SUM","SUM","SUM","SUM","SUM","SUM","SUM","SUM","SUM","SUM","SUM","SUM","SUM","SUM","SUM","SUM","SUM","SUM","SUM","SUM","SUM","SUM","SUM","SUM","SUM","SUM","SUM","SUM","SUM","SUM","SUM","SUM","SUM","SUM","SUM","SUM","SUM","SUM","SUM","SUM","SUM","SUM","SUM","SUM","SUM"]
[null,"38b","CO2 from organic carbon content of raw meal",null,"[t CO2/yr]",null,"SUM","SUM","SUM","SUM","SUM","SUM","SUM","SUM","SUM","SUM","SUM","SUM","SUM","SUM","SUM","SUM","SUM","SUM","SUM","SUM","SUM","SUM","SUM","SUM","SUM","SUM","SUM","SUM","SUM","SUM","SUM","SUM","SUM","SUM","SUM","SUM","SUM","SUM","SUM","SUM","SUM","SUM","SUM","SUM","SUM","SUM","SUM","SUM","SUM","SUM","SUM","SUM","SUM","SUM","SUM","SUM","SUM","SUM","SUM","SUM","SUM"]
[null,39,"Total CO2 from raw materials",null,"[t CO2/yr]",null,"SUM","SUM","SUM","SUM","SUM","SUM","SUM","SUM","SUM","SUM","SUM","SUM","SUM","SUM","SUM","SUM","SUM","SUM","SUM","SUM","SUM","SUM","SUM","SUM","SUM","SUM","SUM","SUM","SUM","SUM","SUM","SUM","SUM","SUM","SUM","SUM","SUM","SUM","SUM","SUM","SUM","SUM","SUM","SUM","SUM","SUM","SUM","SUM","SUM","SUM","SUM","SUM","SUM","SUM","SUM","SUM","SUM","SUM","SUM","SUM","SUM"]
[]
[null,"CO2 from Kiln Fuels (incl. drying of fuels and raw materials)",null,null,null,null,{"$f":"G$7","v":1990},1991,1992,1993,1994,1995,1996,1997,1998,1999,2000,2001,2002,2003,2004,2005,2006,2007,2008,2009,2010,2011,2012,2013,2014,2015,2016,2017,2018,2019,2020,2021,2022,2023,2024,2025,2026,2027,2028,2029,2030,2031,2032,2033,2034,2035,2036,2037,2038,2039,2040,2041,2042,2043,2044,2045,2046,2047,2048,2049,2050]
[null,{"$f":"B144+1","v":40},"CO2 from conventional fossil fuels",null,"[t CO2/yr]",null,{"$f":"IF(OR(G388=\"\",G415=\"\"),\"\",G388+G415)","v":""},{"$f":"IF(OR(H388=\"\",H415=\"\"),\"\",H388+H415)","v":""},"","","","","","","","","","","","","","","","","","","","","","","","",{"$f":"IF(OR(AG388=\"\",AG415=\"\"),\"\",AG388+AG415)","v":""},"","","","","","","","","",{"$f":"IF(OR(AQ388=\"\",AQ415=\"\"),\"\",AQ388+AQ415)","v":""},"","","","","","","","","","","","","","","","","","","","","","","",""]
[null,{"$f":"B147+1","v":41},"CO2 from alternative fossil fuels",null,"[t CO2/yr]",null,{"$f":"IF(OR(G396=\"\",G422=\"\"),\"\",G396+G422)","v":""},{"$f":"IF(OR(H396=\"\",H422=\"\"),\"\",H396+H422)","v":""},"","","","","","","","","","","","","","","","","","","","","","","","",{"$f":"IF(OR(AG396=\"\",AG422=\"\"),\"\",AG396+AG422)","v":""},"","","","","","","","","",{"$f":"IF(OR(AQ396=\"\",AQ422=\"\"),\"\",AQ396+AQ422)","v":""},"","","","","","","","","","","","","","","","","","","","","","","",""]
[null,43,"Total CO2 from fossil-based kiln fuels",null,"[t CO2/yr]",null,{"$f":"IF(COUNTBLANK(G147:G148)=2,\"\",SUM(G147:G148))","v":""},"","","","","","","","","","","","","","","","","","","","","","","","","",{"$f":"IF(COUNTBLANK(AG147:AG148)=2,\"\",SUM(AG147:AG148))","v":""},"","","","","","","","","",{"$f":"IF(COUNTBLANK(AQ147:AQ148)=2,\"\",SUM(AQ147:AQ148))","v":""},"","","","","","","","","","","","","","","","","","","","","","","",""]
[]
[null,"CO2 from Non-Kiln Fuels",null,null,null,null,{"$f":"G$7","v":1990},1991,1992,1993,1994,1995,1996,1997,1998,1999,2000,2001,2002,2003,2004,2005,2006,2007,2008,2009,2010,2011,2012,2013,2014,2015,2016,2017,2018,2019,2020,2021,2022,2023,2024,2025,2026,2027,2028,2029,2030,2031,2032,2033,2034,2035,2036,2037,2038,2039,2040,2041,2042,2043,2044,2045,2046,2047,2048,2049,2050]
[null,44,"CO2 from equipment and on-site vehicles (fossil fuels)",null,"[t CO2/yr]",null,{"$f":"G538","v":""},{"$f":"H538","v":""},"","","","","","","","","","","","","","","","","","","","","","","","",{"$f":"AG538","v":""},"","","","","","","","","",{"$f":"AQ538","v":""},"","","","","","","","","","","","","","","","","","","","","","","",""]
[null,"45a","CO2 from room heating and cooling (fossil fuels)",null,"[t CO2/yr]",null,{"$f":"G544","v":""},{"$f":"H544","v":""},"","","","","","","","","","","","","","","","","","","","","","","","",{"$f":"AG544","v":""},"","","","","","","","","",{"$f":"AQ544","v":""},"","","","","","","","","","","","","","","","","","","","","","","",""]
[null,"45b","CO2 from drying of mineral components (fossil fuels)",null,"[t CO2/yr]",null,{"$f":"IF(OR(G549=\"\",G556=\"\"),\"\",G549+G556)","v":""},{"$f":"IF(OR(H549=\"\",H556=\"\"),\"\",H549+H556)","v":""},"","","","","","","","","","","","","","","","","","","","","","","","",{"$f":"IF(OR(AG549=\"\",AG556=\"\"),\"\",AG549+AG556)","v":""},"","","","","","","","","",{"$f":"IF(OR(AQ549=\"\",AQ556=\"\"),\"\",AQ549+AQ556)","v":""},"","","","","","","","","","","","","","","","","","","","","","","",""]
[null,"45c","CO2 from seperate on-site power generation (fossil fuels)",null,"[t CO2/yr]",null,{"$f":"IF(OR(G561=\"\",G568=\"\"),\"\",G561+G568)","v":""},{"$f":"IF(OR(H561=\"\",H568=\"\"),\"\",H561+H568)","v":""},"","","","","","","","","","","","","","","","","","","","","","","","",{"$f":"IF(OR(AG561=\"\",AG568=\"\"),\"\",AG561+AG568)","v":""},"","","","","","","","","",{"$f":"IF(OR(AQ561=\"\",AQ568=\"\"),\"\",AQ561+AQ568)","v":""},"","","","","","","","","","","","","","","","","","","","","","","",""]
[null,46,"Total CO2 from non-kiln fossil fuels",null,"[t CO2/yr]",null,{"$f":"IF(COUNTBLANK(G152:G155)=4,\"\",SUM(G152:G155))","v":""},"","","","","","","","","","","","","","","","","","","","","","","","","",{"$f":"IF(COUNTBLANK(AG152:AG155)=4,\"\",SUM(AG152:AG155))","v":""},"","","","","","","","","",{"$f":"IF(COUNTBLANK(AQ152:AQ155)=4,\"\",SUM(AQ152:AQ155))","v":""},"","","","","","","","","","","","","","","","","","","","","","","",""]
[]
[null,"Total Direct CO2 Emissions ",null,null,null,null,{"$f":"G$7","v":1990},1991,1992,1993,1994,1995,1996,1997,1998,1999,2000,2001,2002,2003,2004,2005,2006,2007,2008,2009,2010,2011,2012,2013,2014,2015,2016,2017,2018,2019,2020,2021,2022,2023,2024,2025,2026,2027,2028,2029,2030,2031,2032,2033,2034,2035,2036,2037,2038,2039,2040,2041,2042,2043,2044,2045,2046,2047,2048,2049,2050]
[null,48,"Total direct CO2: all fossil CO2 sources",null,"[t CO2/yr]",null,{"$f":"IF(OR(G144=\"\",G149=\"\",G156=\"\"),\"\",G144+G149+G156)","v":""},{"$f":"IF(OR(H144=\"\",H149=\"\",H156=\"\"),\"\",H144+H149+H156)","v":""},"","","","","","","","","","","","","","","","","","","","","","","","",{"$f":"IF(OR(AG144=\"\",AG149=\"\",AG156=\"\"),\"\",AG144+AG149+AG156)","v":""},"","","","","","","","","",{"$f":"IF(OR(AQ144=\"\",AQ149=\"\",AQ156=\"\"),\"\",AQ144+AQ149+AQ156)","v":""},"","","","","","","","","","","","","","","","","","","","","","","",""]
[]
["Indirect CO2 Emissions (Main Sources)",null,null,null,null,null,{"$f":"G$7","v":1990},1991,1992,1993,1994,1995,1996,1997,1998,1999,2000,2001,2002,2003,2004,2005,2006,2007,2008,2009,2010,2011,2012,2013,2014,2015,2016,2017,2018,2019,2020,2021,2022,2023,2024,2025,2026,2027,2028,2029,2030,2031,2032,2033,2034,2035,2036,2037,2038,2039,2040,2041,2042,2043,2044,2045,2046,2047,2048,2049,2050]
[null,"49a","CO2 from external power generation",null,"[t CO2/yr]",null,"SUM","SUM","SUM","SUM","SUM","SUM","SUM","SUM","SUM","SUM","SUM","SUM","SUM","SUM","SUM","SUM","SUM","SUM","SUM","SUM","SUM","SUM","SUM","SUM","SUM","SUM","SUM","SUM","SUM","SUM","SUM","SUM","SUM","SUM","SUM","SUM","SUM","SUM","SUM","SUM","SUM","SUM","SUM","SUM","SUM","SUM","SUM","SUM","SUM","SUM","SUM","SUM","SUM","SUM","SUM","SUM","SUM","SUM","SUM","SUM","SUM"]
[null,"49b","Emission factor for inbound clinker",null,"[kg CO2/t cli]",null,{"$f":"IF(AND(G164=\"\",G41=\"\",G42=\"\"),\"\",IF(G41-G42=0,\"not appl.\",G164/(G41-G42)*1000))","v":{"$error":"#VALUE!"}},{"$f":"IF(AND(H164=\"\",H41=\"\",H42=\"\"),\"\",IF(H41-H42=0,\"not appl.\",H164/(H41-H42)*1000))","v":{"$error":"#VALUE!"}},{"$error":"#VALUE!"},{"$error":"#VALUE!"},{"$error":"#VALUE!"},{"$error":"#VALUE!"},{"$error":"#VALUE!"},{"$error":"#VALUE!"},{"$error":"#VALUE!"},{"$error":"#VALUE!"},{"$error":"#VALUE!"},{"$error":"#VALUE!"},{"$error":"#VALUE!"},{"$error":"#VALUE!"},{"$error":"#VALUE!"},{"$error":"#VALUE!"},{"$error":"#VALUE!"},{"$error":"#VALUE!"},{"$error":"#VALUE!"},{"$error":"#VALUE!"},{"$error":"#VALUE!"},{"$error":"#VALUE!"},{"$error":"#VALUE!"},{"$error":"#VALUE!"},{"$error":"#VALUE!"},{"$error":"#VALUE!"},{"$error":"#VALUE!"},{"$error":"#VALUE!"},{"$error":"#VALUE!"},{"$error":"#VALUE!"},{"$error":"#VALUE!"},{"$f":"IF(AND(AL164=\"\",AL41=\"\",AL42=\"\"),\"\",IF(AL41-AL42=0,\"not appl.\",AL164/(AL41-AL42)*1000))","v":{"$error":"#VALUE!"}},{"$f":"IF(AND(AM164=\"\",AM41=\"\",AM42=\"\"),\"\",IF(AM41-AM42=0,\"not appl.\",AM164/(AM41-AM42)*1000))","v":{"$error":"#VALUE!"}},{"$f":"IF(AND(AN164=\"\",AN41=\"\",AN42=\"\"),\"\",IF(AN41-AN42=0,\"not appl.\",AN164/(AN41-AN42)*1000))","v":{"$error":"#VALUE!"}},{"$f":"IF(AND(AO164=\"\",AO41=\"\",AO42=\"\"),\"\",IF(AO41-AO42=0,\"not appl.\",AO164/(AO41-AO42)*1000))","v":{"$error":"#VALUE!"}},{"$f":"IF(AND(AP164=\"\",AP41=\"\",AP42=\"\"),\"\",IF(AP41-AP42=0,\"not appl.\",AP164/(AP41-AP42)*1000))","v":{"$error":"#VALUE!"}},{"$f":"IF(AND(AQ164=\"\",AQ41=\"\",AQ42=\"\"),\"\",IF(AQ41-AQ42=0,\"not appl.\",AQ164/(AQ41-AQ42)*1000))","v":{"$error":"#VALUE!"}},{"$error":"#VALUE!"},{"$error":"#VALUE!"},{"$error":"#VALUE!"},{"$error":"#VALUE!"},{"$error":"#VALUE!"},{"$error":"#VALUE!"},{"$error":"#VALUE!"},{"$error":"#VALUE!"},{"$error":"#VALUE!"},{"$error":"#VALUE!"},{"$error":"#VALUE!"},{"$error":"#VALUE!"},{"$error":"#VALUE!"},{"$error":"#VALUE!"},{"$error":"#VALUE!"},{"$error":"#VALUE!"},{"$error":"#VALUE!"},{"$error":"#VALUE!"},{"$error":"#VALUE!"},{"$error":"#VALUE!"},{"$error":"#VALUE!"},{"$error":"#VALUE!"},{"$error":"#VALUE!"},{"$error":"#VALUE!"}]
[null,"49c","CO2 from net inbound (+) / outbound (-) clinker",null,"[t CO2/yr]",null,"SUM","SUM","SUM","SUM","SUM","SUM","SUM","SUM","SUM","SUM","SUM","SUM","SUM","SUM","SUM","SUM","SUM","SUM","SUM","SUM","SUM","SUM","SUM","SUM","SUM","SUM","SUM","SUM","SUM","SUM","SUM","SUM","SUM","SUM","SUM","SUM","SUM","SUM","SUM","SUM","SUM","SUM","SUM","SUM","SUM","SUM","SUM","SUM","SUM","SUM","SUM","SUM","SUM","SUM","SUM","SUM","SUM","SUM","SUM","SUM","SUM"]
[null,"49d","Total indirect CO2 (main sources)",null,"[t CO2/yr]",null,{"$f":"IF(AND(G162=\"\",G164=\"\"),\"\",G162+G164)","v":{"$error":"#VALUE!"}},{"$error":"#VALUE!"},{"$error":"#VALUE!"},{"$error":"#VALUE!"},{"$error":"#VALUE!"},{"$error":"#VALUE!"},{"$error":"#VALUE!"},{"$error":"#VALUE!"},{"$error":"#VALUE!"},{"$error":"#VALUE!"},{"$error":"#VALUE!"},{"$error":"#VALUE!"},{"$error":"#VALUE!"},{"$error":"#VALUE!"},{"$error":"#VALUE!"},{"$error":"#VALUE!"},{"$error":"#VALUE!"},{"$error":"#VALUE!"},{"$error":"#VALUE!"},{"$error":"#VALUE!"},{"$error":"#VALUE!"},{"$error":"#VALUE!"},{"$error":"#VALUE!"},{"$error":"#VALUE!"},{"$error":"#VALUE!"},{"$error":"#VALUE!"},{"$f":"IF(AND(AG162=\"\",AG164=\"\"),\"\",AG162+AG164)","v":{"$error":"#VALUE!"}},{"$error":"#VALUE!"},{"$error":"#VALUE!"},{"$error":"#VALUE!"},{"$error":"#VALUE!"},{"$error":"#VALUE!"},{"$error":"#VALUE!"},{"$error":"#VALUE!"},{"$error":"#VALUE!"},{"$error":"#VALUE!"},{"$f":"IF(AND(AQ162=\"\",AQ164=\"\"),\"\",AQ162+AQ164)","v":{"$error":"#VALUE!"}},{"$error":"#VALUE!"},{"$error":"#VALUE!"},{"$error":"#VALUE!"},{"$error":"#VALUE!"},{"$error":"#VALUE!"},{"$error":"#VALUE!"},{"$error":"#VALUE!"},{"$error":"#VALUE!"},{"$error":"#VALUE!"},{"$error":"#VALUE!"},{"$error":"#VALUE!"},{"$error":"#VALUE!"},{"$error":"#VALUE!"},{"$error":"#VALUE!"},{"$error":"#VALUE!"},{"$error":"#VALUE!"},{"$error":"#VALUE!"},{"$error":"#VALUE!"},{"$error":"#VALUE!"},{"$error":"#VALUE!"},{"$error":"#VALUE!"},{"$error":"#VALUE!"},{"$error":"#VALUE!"},{"$error":"#VALUE!"}]
[]
["Direct CO2 from Biomass (Memo Item)",null,null,null,null,null,{"$f":"G$7","v":1990},1991,1992,1993,1994,1995,1996,1997,1998,1999,2000,2001,2002,2003,2004,2005,2006,2007,2008,2009,2010,2011,2012,2013,2014,2015,2016,2017,2018,2019,2020,2021,2022,2023,2024,2025,2026,2027,2028,2029,2030,2031,2032,2033,2034,2035,2036,2037,2038,2039,2040,2041,2042,2043,2044,2045,2046,2047,2048,2049,2050]
[null,50,"CO2 from combustion of biomass (kiln and non-kiln fuels, incl. biomass content of mixed fuels)",null,"[t CO2/yr]",null,{"$f":"IF(OR(G404=\"\",G559=\"\",G571=\"\"),\"\",G404+G424+G558+G570)","v":""},"","","","","","","","","","","","","","","","","","","","","","","","","","","","","","",{"$f":"IF(OR(AL404=\"\",AL559=\"\",AL571=\"\"),\"\",AL404+AL424+AL558+AL570)","v":""},{"$f":"IF(OR(AM404=\"\",AM559=\"\",AM571=\"\"),\"\",AM404+AM424+AM558+AM570)","v":""},{"$f":"IF(OR(AN404=\"\",AN559=\"\",AN571=\"\"),\"\",AN404+AN424+AN558+AN570)","v":""},{"$f":"IF(OR(AO404=\"\",AO559=\"\",AO571=\"\"),\"\",AO404+AO424+AO558+AO570)","v":""},{"$f":"IF(OR(AP404=\"\",AP559=\"\",AP571=\"\"),\"\",AP404+AP424+AP558+AP570)","v":""},{"$f":"IF(OR(AQ404=\"\",AQ559=\"\",AQ571=\"\"),\"\",AQ404+AQ424+AQ558+AQ570)","v":""},"","","","","","","","","","","","","","","","","","","","","","","",""]
[]
["PERFORMANCE INDICATORS"]
[]
[null,"Absolute Direct CO2 Emissions",null,null,null,null,{"$f":"G$7","v":1990},1991,1992,1993,1994,1995,1996,1997,1998,1999,2000,2001,2002,2003,2004,2005,2006,2007,2008,2009,2010,2011,2012,2013,2014,2015,2016,2017,2018,2019,2020,2021,{"$f":"AM$7","v":2022},2023,2024,2025,2026,2027,2028,2029,2030,2031,2032,2033,2034,2035,2036,{"$f":"BB$7","v":2037},2038,2039,2040,2041,2042,2043,2044,2045,2046,2047,2048,2049,2050]
[null,59,"Absolute gross CO2 including CO2 from on-site power generation",null,"[t CO2/yr]",null,{"$f":"IF(OR(G144=\"\",G149=\"\",G156=\"\"),\"\",G144+G149+G156)","v":""},{"$f":"IF(OR(H144=\"\",H149=\"\",H156=\"\"),\"\",H144+H149+H156)","v":""},"","","","","","","","","","","","","","","","","","","","","","","","","","","","","",{"$f":"IF(OR(AL144=\"\",AL149=\"\",AL156=\"\"),\"\",AL144+AL149+AL156)","v":""},{"$f":"IF(OR(AM144=\"\",AM149=\"\",AM156=\"\"),\"\",AM144+AM149+AM156)","v":""},{"$f":"IF(OR(AN144=\"\",AN149=\"\",AN156=\"\"),\"\",AN144+AN149+AN156)","v":""},{"$f":"IF(OR(AO144=\"\",AO149=\"\",AO156=\"\"),\"\",AO144+AO149+AO156)","v":""},{"$f":"IF(OR(AP144=\"\",AP149=\"\",AP156=\"\"),\"\",AP144+AP149+AP156)","v":""},{"$f":"IF(OR(AQ144=\"\",AQ149=\"\",AQ156=\"\"),\"\",AQ144+AQ149+AQ156)","v":""},"","","","","","","","","","","","","","","","","","","","","","","",""]
[null,"Gross CO2 Emissions (=direct fossil CO2 excluding CO2 from on-site power generation)",null,null,null,null,1990,1991,1992,1993,1994,1995,1996,1997,1998,1999,2000,2001,2002,2003,2004,2005,2006,2007,2008,2009,2010,2011,2012,2013,2014,2015,2016,2017,2018,2019,2020,2021,2022,2023,2024,2025,2026,2027,2028,2029,2030,2031,2032,2033,2034,2035,2036,2037,2038,2039,2040,2041,2042,2043,2044,2045,2046,2047,2048,2049,2050]
[null,"59c","Absolute gross CO2",null,"[t CO2/yr]",null,{"$f":"IF(OR(G173=\"\",G155=\"\"),\"\",G173-G155)","v":""},{"$f":"IF(OR(H173=\"\",H155=\"\"),\"\",H173-H155)","v":""},"","","","","","","","","","","","","","","","","","","","","","","","","","","","","",{"$f":"IF(OR(AL173=\"\",AL155=\"\"),\"\",AL173-AL155)","v":""},{"$f":"IF(OR(AM173=\"\",AM155=\"\"),\"\",AM173-AM155)","v":""},{"$f":"IF(OR(AN173=\"\",AN155=\"\"),\"\",AN173-AN155)","v":""},{"$f":"IF(OR(AO173=\"\",AO155=\"\"),\"\",AO173-AO155)","v":""},{"$f":"IF(OR(AP173=\"\",AP155=\"\"),\"\",AP173-AP155)","v":""},{"$f":"IF(OR(AQ173=\"\",AQ155=\"\"),\"\",AQ173-AQ155)","v":""},"","","","","","","","","","","","","","","","","","","","","","","",""]
[null,"59a",null,"calcination component","[t CO2/yr]",null,{"$f":"G144","v":"SUM"},{"$f":"H144","v":"SUM"},"SUM","SUM","SUM","SUM","SUM","SUM","SUM","SUM","SUM","SUM","SUM","SUM","SUM","SUM","SUM","SUM","SUM","SUM","SUM","SUM","SUM","SUM","SUM","SUM","SUM","SUM","SUM","SUM","SUM",{"$f":"AL144","v":"SUM"},{"$f":"AM144","v":"SUM"},{"$f":"AN144","v":"SUM"},{"$f":"AO144","v":"SUM"},{"$f":"AP144","v":"SUM"},{"$f":"AQ144","v":"SUM"},"SUM","SUM","SUM","SUM","SUM","SUM","SUM","SUM","SUM","SUM","SUM","SUM","SUM","SUM","SUM","SUM","SUM","SUM","SUM","SUM","SUM","SUM","SUM","SUM"]
[null,"59b",null,"fuel component","[t CO2/yr]",null,{"$f":"IF(OR(G149=\"\",G152=\"\",G153=\"\",G154=\"\"),\"\",G149+G152+G153+G154)","v":""},{"$f":"IF(OR(H149=\"\",H152=\"\",H153=\"\",H154=\"\"),\"\",H149+H152+H153+H154)","v":""},"","","","","","","","","","","","","","","","","","","","","","","","","","","","","",{"$f":"IF(OR(AL149=\"\",AL152=\"\",AL153=\"\",AL154=\"\"),\"\",AL149+AL152+AL153+AL154)","v":""},{"$f":"IF(OR(AM149=\"\",AM152=\"\",AM153=\"\",AM154=\"\"),\"\",AM149+AM152+AM153+AM154)","v":""},{"$f":"IF(OR(AN149=\"\",AN152=\"\",AN153=\"\",AN154=\"\"),\"\",AN149+AN152+AN153+AN154)","v":""},{"$f":"IF(OR(AO149=\"\",AO152=\"\",AO153=\"\",AO154=\"\"),\"\",AO149+AO152+AO153+AO154)","v":""},{"$f":"IF(OR(AP149=\"\",AP152=\"\",AP153=\"\",AP154=\"\"),\"\",AP149+AP152+AP153+AP154)","v":""},{"$f":"IF(OR(AQ149=\"\",AQ152=\"\",AQ153=\"\",AQ154=\"\"),\"\",AQ149+AQ152+AQ153+AQ154)","v":""},"","","","","","","","","","","","","","","","","","","","","","","",""]
[null,"Net CO2 Emissions (= gross CO2 minus alternative fossil fuels CO2; excluding CO2 from on-site power generation)",null,null,null,null,{"$f":"G$7","v":1990},1991,1992,1993,1994,1995,1996,1997,1998,1999,2000,2001,2002,2003,2004,2005,2006,2007,2008,2009,2010,2011,2012,2013,2014,2015,2016,2017,2018,2019,2020,2021,2022,2023,2024,2025,2026,2027,2028,2029,2030,2031,2032,2033,2034,2035,2036,2037,2038,2039,2040,2041,2042,2043,2044,2045,2046,2047,2048,2049,2050]
[null,71,"Absolute net CO2",null,"[t CO2/yr]",null,{"$f":"IF(OR(G173=\"\",G148=\"\"),\"\",G175-G148)","v":""},{"$f":"IF(OR(H173=\"\",H148=\"\"),\"\",H175-H148)","v":""},"","","","","","","","","","","","","","","","","","","","","","","","","","","","","",{"$f":"IF(OR(AL173=\"\",AL148=\"\"),\"\",AL175-AL148)","v":""},{"$f":"IF(OR(AM173=\"\",AM148=\"\"),\"\",AM175-AM148)","v":""},{"$f":"IF(OR(AN173=\"\",AN148=\"\"),\"\",AN175-AN148)","v":""},{"$f":"IF(OR(AO173=\"\",AO148=\"\"),\"\",AO175-AO148)","v":""},{"$f":"IF(OR(AP173=\"\",AP148=\"\"),\"\",AP175-AP148)","v":""},{"$f":"IF(OR(AQ173=\"\",AQ148=\"\"),\"\",AQ175-AQ148)","v":""},"","","","","","","","","","","","","","","","","","","","","","","",""]
[null,"Biomass CO2 Emissions (Memo Item)",null,null,null,null,{"$f":"G$7","v":1990},1991,1992,1993,1994,1995,1996,1997,1998,1999,2000,2001,2002,2003,2004,2005,2006,2007,2008,2009,2010,2011,2012,2013,2014,2015,2016,2017,2018,2019,2020,2021,2022,2023,2024,2025,2026,2027,2028,2029,2030,2031,2032,2033,2034,2035,2036,2037,2038,2039,2040,2041,2042,2043,2044,2045,2046,2047,2048,2049,2050]
[null,"83a","Absolute CO2 from biomass sources (including biomass content of mixed fuels)",null,"[t CO2/yr]",null,{"$f":"G168","v":""},{"$f":"H168","v":""},"","","","","","","","","","","","","","","","","","","","","","","","","","","","","",{"$f":"AL168","v":""},{"$f":"AM168","v":""},{"$f":"AN168","v":""},{"$f":"AO168","v":""},{"$f":"AP168","v":""},{"$f":"AQ168","v":""},"","","","","","","","","","","","","","","","","","","","","","","",""]
[]
[null,"Specific Gross and Net CO2 Emissions per Clinker Produced",null,null,null,null,{"$f":"G$7","v":1990},1991,1992,1993,1994,1995,1996,1997,1998,1999,2000,2001,2002,2003,2004,2005,2006,2007,2008,2009,2010,2011,2012,2013,2014,2015,2016,2017,2018,2019,2020,2021,2022,2023,2024,2025,2026,2027,2028,2029,2030,2031,2032,2033,2034,2035,2036,2037,2038,2039,2040,2041,2042,2043,2044,2045,2046,2047,2048,2049,2050]
[null,60,"Specific gross CO2 ","per tonne of clinker produced","[kg CO2/t cli]",null,{"$f":"IF(G$40=\"\",\"\",IF(G$40=0,\"n. appl.\",G175/G$40*1000))","v":{"$error":"#VALUE!"}},{"$f":"IF(H$40=\"\",\"\",IF(H$40=0,\"n. appl.\",H175/H$40*1000))","v":{"$error":"#VALUE!"}},{"$error":"#VALUE!"},{"$error":"#VALUE!"},{"$error":"#VALUE!"},{"$error":"#VALUE!"},{"$error":"#VALUE!"},{"$error":"#VALUE!"},{"$error":"#VALUE!"},{"$error":"#VALUE!"},{"$error":"#VALUE!"},{"$error":"#VALUE!"},{"$error":"#VALUE!"},{"$error":"#VALUE!"},{"$error":"#VALUE!"},{"$error":"#VALUE!"},{"$error":"#VALUE!"},{"$error":"#VALUE!"},{"$error":"#VALUE!"},{"$error":"#VALUE!"},{"$error":"#VALUE!"},{"$error":"#VALUE!"},{"$error":"#VALUE!"},{"$error":"#VALUE!"},{"$error":"#VALUE!"},{"$error":"#VALUE!"},{"$error":"#VALUE!"},{"$error":"#VALUE!"},{"$error":"#VALUE!"},{"$error":"#VALUE!"},{"$error":"#VALUE!"},{"$f":"IF(AL$40=\"\",\"\",IF(AL$40=0,\"n. appl.\",AL175/AL$40*1000))","v":{"$error":"#VALUE!"}},{"$error":"#VALUE!"},{"$error":"#VALUE!"},{"$error":"#VALUE!"},{"$error":"#VALUE!"},{"$f":"IF(AQ$40=\"\",\"\",IF(AQ$40=0,\"n. appl.\",AQ175/AQ$40*1000))","v":{"$error":"#VALUE!"}},{"$error":"#VALUE!"},{"$error":"#VALUE!"},{"$error":"#VALUE!"},{"$error":"#VALUE!"},{"$error":"#VALUE!"},{"$error":"#VALUE!"},{"$error":"#VALUE!"},{"$error":"#VALUE!"},{"$error":"#VALUE!"},{"$error":"#VALUE!"},{"$error":"#VALUE!"},{"$error":"#VALUE!"},{"$error":"#VALUE!"},{"$error":"#VALUE!"},{"$error":"#VALUE!"},{"$error":"#VALUE!"},{"$error":"#VALUE!"},{"$error":"#VALUE!"},{"$error":"#VALUE!"},{"$error":"#VALUE!"},{"$error":"#VALUE!"},{"$error":"#VALUE!"},{"$error":"#VALUE!"},{"$error":"#VALUE!"}]
[null,"60a",null,"calcination component","[kg CO2/t cli]",null,{"$f":"IF(G$40=\"\",\"\",IF(G$40=0,\"n. appl.\",G176/G$40*1000))","v":{"$error":"#VALUE!"}},{"$f":"IF(H$40=\"\",\"\",IF(H$40=0,\"n. appl.\",H176/H$40*1000))","v":{"$error":"#VALUE!"}},{"$error":"#VALUE!"},{"$error":"#VALUE!"},{"$error":"#VALUE!"},{"$error":"#VALUE!"},{"$error":"#VALUE!"},{"$error":"#VALUE!"},{"$error":"#VALUE!"},{"$error":"#VALUE!"},{"$error":"#VALUE!"},{"$error":"#VALUE!"},{"$error":"#VALUE!"},{"$error":"#VALUE!"},{"$error":"#VALUE!"},{"$error":"#VALUE!"},{"$error":"#VALUE!"},{"$error":"#VALUE!"},{"$error":"#VALUE!"},{"$error":"#VALUE!"},{"$error":"#VALUE!"},{"$error":"#VALUE!"},{"$error":"#VALUE!"},{"$error":"#VALUE!"},{"$error":"#VALUE!"},{"$error":"#VALUE!"},{"$error":"#VALUE!"},{"$error":"#VALUE!"},{"$error":"#VALUE!"},{"$error":"#VALUE!"},{"$error":"#VALUE!"},{"$error":"#VALUE!"},{"$error":"#VALUE!"},{"$error":"#VALUE!"},{"$error":"#VALUE!"},{"$error":"#VALUE!"},{"$f":"IF(AQ$40=\"\",\"\",IF(AQ$40=0,\"n. appl.\",AQ176/AQ$40*1000))","v":{"$error":"#VALUE!"}},{"$error":"#VALUE!"},{"$error":"#VALUE!"},{"$error":"#VALUE!"},{"$error":"#VALUE!"},{"$error":"#VALUE!"},{"$error":"#VALUE!"},{"$error":"#VALUE!"},{"$error":"#VALUE!"},{"$error":"#VALUE!"},{"$error":"#VALUE!"},{"$error":"#VALUE!"},{"$error":"#VALUE!"},{"$error":"#VALUE!"},{"$error":"#VALUE!"},{"$error":"#VALUE!"},{"$error":"#VALUE!"},{"$error":"#VALUE!"},{"$error":"#VALUE!"},{"$error":"#VALUE!"},{"$error":"#VALUE!"},{"$error":"#VALUE!"},{"$error":"#VALUE!"},{"$error":"#VALUE!"},{"$error":"#VALUE!"}]
[null,"60b",null,"fuel component","[kg CO2/t cli]",null,{"$f":"IF(G$40=\"\",\"\",IF(G$40=0,\"n. appl.\",G177/G$40*1000))","v":{"$error":"#VALUE!"}},{"$f":"IF(H$40=\"\",\"\",IF(H$40=0,\"n. appl.\",H177/H$40*1000))","v":{"$error":"#VALUE!"}},{"$error":"#VALUE!"},{"$error":"#VALUE!"},{"$error":"#VALUE!"},{"$error":"#VALUE!"},{"$error":"#VALUE!"},{"$error":"#VALUE!"},{"$error":"#VALUE!"},{"$error":"#VALUE!"},{"$error":"#VALUE!"},{"$error":"#VALUE!"},{"$error":"#VALUE!"},{"$error":"#VALUE!"},{"$error":"#VALUE!"},{"$error":"#VALUE!"},{"$error":"#VALUE!"},{"$error":"#VALUE!"},{"$error":"#VALUE!"},{"$error":"#VALUE!"},{"$error":"#VALUE!"},{"$error":"#VALUE!"},{"$error":"#VALUE!"},{"$error":"#VALUE!"},{"$error":"#VALUE!"},{"$error":"#VALUE!"},{"$error":"#VALUE!"},{"$error":"#VALUE!"},{"$error":"#VALUE!"},{"$error":"#VALUE!"},{"$error":"#VALUE!"},{"$error":"#VALUE!"},{"$error":"#VALUE!"},{"$error":"#VALUE!"},{"$error":"#VALUE!"},{"$error":"#VALUE!"},{"$f":"IF(AQ$40=\"\",\"\",IF(AQ$40=0,\"n. appl.\",AQ177/AQ$40*1000))","v":{"$error":"#VALUE!"}},{"$error":"#VALUE!"},{"$error":"#VALUE!"},{"$error":"#VALUE!"},{"$error":"#VALUE!"},{"$error":"#VALUE!"},{"$error":"#VALUE!"},{"$error":"#VALUE!"},{"$error":"#VALUE!"},{"$error":"#VALUE!"},{"$error":"#VALUE!"},{"$error":"#VALUE!"},{"$error":"#VALUE!"},{"$error":"#VALUE!"},{"$error":"#VALUE!"},{"$error":"#VALUE!"},{"$error":"#VALUE!"},{"$error":"#VALUE!"},{"$error":"#VALUE!"},{"$error":"#VALUE!"},{"$error":"#VALUE!"},{"$error":"#VALUE!"},{"$error":"#VALUE!"},{"$error":"#VALUE!"},{"$error":"#VALUE!"}]
[null,73,"Specific net CO2 ","per tonne of clinker produced","[kg CO2/t cli]",null,{"$f":"IF(G$40=\"\",\"\",IF(G$40=0,\"n. appl.\",G179/G$40*1000))","v":{"$error":"#VALUE!"}},{"$f":"IF(H$40=\"\",\"\",IF(H$40=0,\"n. appl.\",H179/H$40*1000))","v":{"$error":"#VALUE!"}},{"$error":"#VALUE!"},{"$error":"#VALUE!"},{"$error":"#VALUE!"},{"$error":"#VALUE!"},{"$error":"#VALUE!"},{"$error":"#VALUE!"},{"$error":"#VALUE!"},{"$error":"#VALUE!"},{"$error":"#VALUE!"},{"$error":"#VALUE!"},{"$error":"#VALUE!"},{"$error":"#VALUE!"},{"$error":"#VALUE!"},{"$error":"#VALUE!"},{"$error":"#VALUE!"},{"$error":"#VALUE!"},{"$error":"#VALUE!"},{"$error":"#VALUE!"},{"$error":"#VALUE!"},{"$error":"#VALUE!"},{"$error":"#VALUE!"},{"$error":"#VALUE!"},{"$error":"#VALUE!"},{"$error":"#VALUE!"},{"$error":"#VALUE!"},{"$error":"#VALUE!"},{"$error":"#VALUE!"},{"$error":"#VALUE!"},{"$error":"#VALUE!"},{"$f":"IF(AL$40=\"\",\"\",IF(AL$40=0,\"n. appl.\",AL179/AL$40*1000))","v":{"$error":"#VALUE!"}},{"$f":"IF(AM$40=\"\",\"\",IF(AM$40=0,\"n. appl.\",AM179/AM$40*1000))","v":{"$error":"#VALUE!"}},{"$f":"IF(AN$40=\"\",\"\",IF(AN$40=0,\"n. appl.\",AN179/AN$40*1000))","v":{"$error":"#VALUE!"}},{"$f":"IF(AO$40=\"\",\"\",IF(AO$40=0,\"n. appl.\",AO179/AO$40*1000))","v":{"$error":"#VALUE!"}},{"$f":"IF(AP$40=\"\",\"\",IF(AP$40=0,\"n. appl.\",AP179/AP$40*1000))","v":{"$error":"#VALUE!"}},{"$f":"IF(AQ$40=\"\",\"\",IF(AQ$40=0,\"n. appl.\",AQ179/AQ$40*1000))","v":{"$error":"#VALUE!"}},{"$error":"#VALUE!"},{"$error":"#VALUE!"},{"$error":"#VALUE!"},{"$error":"#VALUE!"},{"$error":"#VALUE!"},{"$error":"#VALUE!"},{"$error":"#VALUE!"},{"$error":"#VALUE!"},{"$error":"#VALUE!"},{"$error":"#VALUE!"},{"$error":"#VALUE!"},{"$error":"#VALUE!"},{"$error":"#VALUE!"},{"$error":"#VALUE!"},{"$error":"#VALUE!"},{"$error":"#VALUE!"},{"$error":"#VALUE!"},{"$error":"#VALUE!"},{"$error":"#VALUE!"},{"$error":"#VALUE!"},{"$error":"#VALUE!"},{"$error":"#VALUE!"},{"$error":"#VALUE!"},{"$error":"#VALUE!"}]
[]
[null,"Specific Gross and Net CO2 Emissions per Cement (equivalent)",null,null,null,null,{"$f":"G$7","v":1990},1991,1992,1993,1994,1995,1996,1997,1998,1999,2000,2001,2002,2003,2004,2005,2006,2007,2008,2009,2010,2011,2012,2013,2014,2015,2016,2017,2018,2019,2020,2021,2022,2023,2024,2025,2026,2027,2028,2029,2030,2031,2032,2033,2034,2035,2036,2037,2038,2039,2040,2041,2042,2043,2044,2045,2046,2047,2048,2049,2050]
[null,63,"Specific gross CO2","per tonne of cement (eq.)","[kg CO2/t cem eq.]",null,{"$f":"IF(OR(G175=\"\",G68=\"n.appl.\"),\"n.appl.\",G175/G68*1000)","v":"n.appl."},{"$f":"IF(OR(H175=\"\",H68=\"n.appl.\"),\"n.appl.\",H175/H68*1000)","v":"n.appl."},{"$f":"IF(OR(I175=\"\",I68=\"n.appl.\"),\"n.appl.\",I175/I68*1000)","v":"n.appl."},"n.appl.","n.appl.","n.appl.","n.appl.","n.appl.","n.appl.","n.appl.","n.appl.","n.appl.","n.appl.","n.appl.","n.appl.","n.appl.","n.appl.","n.appl.","n.appl.","n.appl.","n.appl.","n.appl.","n.appl.","n.appl.","n.appl.","n.appl.","n.appl.","n.appl.","n.appl.","n.appl.","n.appl.","n.appl.","n.appl.","n.appl.","n.appl.","n.appl.",{"$f":"IF(OR(AQ175=\"\",AQ68=\"n.appl.\"),\"n.appl.\",AQ175/AQ68*1000)","v":"n.appl."},"n.appl.","n.appl.","n.appl.","n.appl.","n.appl.","n.appl.","n.appl.","n.appl.","n.appl.","n.appl.","n.appl.","n.appl.","n.appl.","n.appl.","n.appl.","n.appl.","n.appl.","n.appl.","n.appl.","n.appl.","n.appl.","n.appl.","n.appl.","n.appl."]
[null,"63a",null,"calcination component","[kg CO2/t cem eq.]",null,{"$f":"IF(G$40=\"\",\"\",IF(OR(G$40=0,G46=0),\"n. appl.\",G176/G$68*1000))","v":{"$error":"#VALUE!"}},{"$f":"IF(H$40=\"\",\"\",IF(OR(H$40=0,H46=0),\"n. appl.\",H176/H$68*1000))","v":{"$error":"#VALUE!"}},{"$error":"#VALUE!"},{"$error":"#VALUE!"},{"$error":"#VALUE!"},{"$error":"#VALUE!"},{"$error":"#VALUE!"},{"$error":"#VALUE!"},{"$error":"#VALUE!"},{"$error":"#VALUE!"},{"$error":"#VALUE!"},{"$error":"#VALUE!"},{"$error":"#VALUE!"},{"$error":"#VALUE!"},{"$error":"#VALUE!"},{"$error":"#VALUE!"},{"$error":"#VALUE!"},{"$error":"#VALUE!"},{"$error":"#VALUE!"},{"$error":"#VALUE!"},{"$error":"#VALUE!"},{"$error":"#VALUE!"},{"$error":"#VALUE!"},{"$error":"#VALUE!"},{"$error":"#VALUE!"},{"$error":"#VALUE!"},{"$error":"#VALUE!"},{"$error":"#VALUE!"},{"$error":"#VALUE!"},{"$error":"#VALUE!"},{"$error":"#VALUE!"},{"$error":"#VALUE!"},{"$error":"#VALUE!"},{"$error":"#VALUE!"},{"$error":"#VALUE!"},{"$error":"#VALUE!"},{"$f":"IF(AQ$40=\"\",\"\",IF(OR(AQ$40=0,AQ46=0),\"n. appl.\",AQ176/AQ$68*1000))","v":{"$error":"#VALUE!"}},{"$error":"#VALUE!"},{"$error":"#VALUE!"},{"$error":"#VALUE!"},{"$error":"#VALUE!"},{"$error":"#VALUE!"},{"$error":"#VALUE!"},{"$error":"#VALUE!"},{"$error":"#VALUE!"},{"$error":"#VALUE!"},{"$error":"#VALUE!"},{"$error":"#VALUE!"},{"$error":"#VALUE!"},{"$error":"#VALUE!"},{"$error":"#VALUE!"},{"$error":"#VALUE!"},{"$error":"#VALUE!"},{"$error":"#VALUE!"},{"$error":"#VALUE!"},{"$error":"#VALUE!"},{"$error":"#VALUE!"},{"$error":"#VALUE!"},{"$error":"#VALUE!"},{"$error":"#VALUE!"},{"$error":"#VALUE!"}]
[null,"63b",null,"fuel component","[kg CO2/t cem eq.]",null,{"$f":"IF(G$40=\"\",\"\",IF(OR(G$40=0,G46=0),\"n. appl.\",G177/G$68*1000))","v":{"$error":"#VALUE!"}},{"$f":"IF(H$40=\"\",\"\",IF(OR(H$40=0,H46=0),\"n. appl.\",H177/H$68*1000))","v":{"$error":"#VALUE!"}},{"$error":"#VALUE!"},{"$error":"#VALUE!"},{"$error":"#VALUE!"},{"$error":"#VALUE!"},{"$error":"#VALUE!"},{"$error":"#VALUE!"},{"$error":"#VALUE!"},{"$error":"#VALUE!"},{"$error":"#VALUE!"},{"$error":"#VALUE!"},{"$error":"#VALUE!"},{"$error":"#VALUE!"},{"$error":"#VALUE!"},{"$error":"#VALUE!"},{"$error":"#VALUE!"},{"$error":"#VALUE!"},{"$error":"#VALUE!"},{"$error":"#VALUE!"},{"$error":"#VALUE!"},{"$error":"#VALUE!"},{"$error":"#VALUE!"},{"$error":"#VALUE!"},{"$error":"#VALUE!"},{"$error":"#VALUE!"},{"$error":"#VALUE!"},{"$error":"#VALUE!"},{"$error":"#VALUE!"},{"$error":"#VALUE!"},{"$error":"#VALUE!"},{"$error":"#VALUE!"},{"$error":"#VALUE!"},{"$error":"#VALUE!"},{"$error":"#VALUE!"},{"$error":"#VALUE!"},{"$f":"IF(AQ$40=\"\",\"\",IF(OR(AQ$40=0,AQ46=0),\"n. appl.\",AQ177/AQ$68*1000))","v":{"$error":"#VALUE!"}},{"$error":"#VALUE!"},{"$error":"#VALUE!"},{"$error":"#VALUE!"},{"$error":"#VALUE!"},{"$error":"#VALUE!"},{"$error":"#VALUE!"},{"$error":"#VALUE!"},{"$error":"#VALUE!"},{"$error":"#VALUE!"},{"$error":"#VALUE!"},{"$error":"#VALUE!"},{"$error":"#VALUE!"},{"$error":"#VALUE!"},{"$error":"#VALUE!"},{"$error":"#VALUE!"},{"$error":"#VALUE!"},{"$error":"#VALUE!"},{"$error":"#VALUE!"},{"$error":"#VALUE!"},{"$error":"#VALUE!"},{"$error":"#VALUE!"},{"$error":"#VALUE!"},{"$error":"#VALUE!"},{"$error":"#VALUE!"}]
[null,{"$f":"B199+1","v":75},"Specific net CO2 ","per tonne of cement (eq.)","[kg CO2/t cem eq.]",null,{"$f":"IF(OR(G$68=\"n.appl.\",G$68=0),\"n. appl.\",G179/G$68*1000)","v":{"$error":"#VALUE!"}},{"$f":"IF(OR(H$68=\"n.appl.\",H$68=0),\"n. appl.\",H179/H$68*1000)","v":{"$error":"#VALUE!"}},{"$f":"IF(OR(I$68=\"n.appl.\",I$68=0),\"n. appl.\",I179/I$68*1000)","v":{"$error":"#VALUE!"}},{"$error":"#VALUE!"},{"$error":"#VALUE!"},{"$error":"#VALUE!"},{"$error":"#VALUE!"},{"$error":"#VALUE!"},{"$error":"#VALUE!"},{"$error":"#VALUE!"},{"$error":"#VALUE!"},{"$error":"#VALUE!"},{"$error":"#VALUE!"},{"$error":"#VALUE!"},{"$error":"#VALUE!"},{"$error":"#VALUE!"},{"$error":"#VALUE!"},{"$error":"#VALUE!"},{"$error":"#VALUE!"},{"$error":"#VALUE!"},{"$error":"#VALUE!"},{"$error":"#VALUE!"},{"$error":"#VALUE!"},{"$error":"#VALUE!"},{"$error":"#VALUE!"},{"$error":"#VALUE!"},{"$error":"#VALUE!"},{"$error":"#VALUE!"},{"$error":"#VALUE!"},{"$error":"#VALUE!"},{"$error":"#VALUE!"},{"$error":"#VALUE!"},{"$error":"#VALUE!"},{"$error":"#VALUE!"},{"$error":"#VALUE!"},{"$error":"#VALUE!"},{"$f":"IF(OR(AQ$68=\"n.appl.\",AQ$68=0),\"n. appl.\",AQ179/AQ$68*1000)","v":{"$error":"#VALUE!"}},{"$error":"#VALUE!"},{"$error":"#VALUE!"},{"$error":"#VALUE!"},{"$error":"#VALUE!"},{"$error":"#VALUE!"},{"$error":"#VALUE!"},{"$error":"#VALUE!"},{"$error":"#VALUE!"},{"$error":"#VALUE!"},{"$error":"#VALUE!"},{"$error":"#VALUE!"},{"$error":"#VALUE!"},{"$error":"#VALUE!"},{"$error":"#VALUE!"},{"$error":"#VALUE!"},{"$error":"#VALUE!"},{"$error":"#VALUE!"},{"$error":"#VALUE!"},{"$error":"#VALUE!"},{"$error":"#VALUE!"},{"$error":"#VALUE!"},{"$error":"#VALUE!"},{"$error":"#VALUE!"},{"$error":"#VALUE!"}]
[]
[null,"Specific Gross and Net CO2 Emissions per Cementitious Product",null,null,null,null,{"$f":"G$7","v":1990},1991,1992,1993,1994,1995,1996,1997,1998,1999,2000,2001,2002,2003,2004,2005,2006,2007,2008,2009,2010,2011,2012,2013,2014,2015,2016,2017,2018,2019,2020,2021,2022,2023,2024,2025,2026,2027,2028,2029,2030,2031,2032,2033,2034,2035,2036,2037,2038,2039,2040,2041,2042,2043,2044,2045,2046,2047,2048,2049,2050]
[null,62,"Specific gross CO2 ","per tonne of cementitious product","[kg CO2/t cem prod]",null,{"$f":"IF(G$67=\"\",\"\",IF(G$67=0,\"n. appl.\",G175/G$67*1000))","v":{"$error":"#VALUE!"}},{"$f":"IF(H$67=\"\",\"\",IF(H$67=0,\"n. appl.\",H175/H$67*1000))","v":{"$error":"#VALUE!"}},{"$error":"#VALUE!"},{"$error":"#VALUE!"},{"$error":"#VALUE!"},{"$error":"#VALUE!"},{"$error":"#VALUE!"},{"$error":"#VALUE!"},{"$error":"#VALUE!"},{"$error":"#VALUE!"},{"$error":"#VALUE!"},{"$error":"#VALUE!"},{"$error":"#VALUE!"},{"$error":"#VALUE!"},{"$error":"#VALUE!"},{"$error":"#VALUE!"},{"$error":"#VALUE!"},{"$error":"#VALUE!"},{"$error":"#VALUE!"},{"$error":"#VALUE!"},{"$error":"#VALUE!"},{"$error":"#VALUE!"},{"$error":"#VALUE!"},{"$error":"#VALUE!"},{"$error":"#VALUE!"},{"$error":"#VALUE!"},{"$error":"#VALUE!"},{"$error":"#VALUE!"},{"$error":"#VALUE!"},{"$error":"#VALUE!"},{"$error":"#VALUE!"},{"$f":"IF(AL$67=\"\",\"\",IF(AL$67=0,\"n. appl.\",AL175/AL$67*1000))","v":{"$error":"#VALUE!"}},{"$error":"#VALUE!"},{"$error":"#VALUE!"},{"$error":"#VALUE!"},{"$error":"#VALUE!"},{"$f":"IF(AQ$67=\"\",\"\",IF(AQ$67=0,\"n. appl.\",AQ175/AQ$67*1000))","v":{"$error":"#VALUE!"}},{"$error":"#VALUE!"},{"$error":"#VALUE!"},{"$error":"#VALUE!"},{"$error":"#VALUE!"},{"$error":"#VALUE!"},{"$error":"#VALUE!"},{"$error":"#VALUE!"},{"$error":"#VALUE!"},{"$error":"#VALUE!"},{"$error":"#VALUE!"},{"$error":"#VALUE!"},{"$error":"#VALUE!"},{"$error":"#VALUE!"},{"$error":"#VALUE!"},{"$error":"#VALUE!"},{"$error":"#VALUE!"},{"$error":"#VALUE!"},{"$error":"#VALUE!"},{"$error":"#VALUE!"},{"$error":"#VALUE!"},{"$error":"#VALUE!"},{"$error":"#VALUE!"},{"$error":"#VALUE!"},{"$error":"#VALUE!"}]
[null,"62a",null,"calcination component","[kg CO2/t cem prod]",null,{"$f":"IF(G$67=\"\",\"\",IF(G$67=0,\"n. appl.\",G176/G$67*1000))","v":{"$error":"#VALUE!"}},{"$f":"IF(H$67=\"\",\"\",IF(H$67=0,\"n. appl.\",H176/H$67*1000))","v":{"$error":"#VALUE!"}},{"$error":"#VALUE!"},{"$error":"#VALUE!"},{"$error":"#VALUE!"},{"$error":"#VALUE!"},{"$error":"#VALUE!"},{"$error":"#VALUE!"},{"$error":"#VALUE!"},{"$error":"#VALUE!"},{"$error":"#VALUE!"},{"$error":"#VALUE!"},{"$error":"#VALUE!"},{"$error":"#VALUE!"},{"$error":"#VALUE!"},{"$error":"#VALUE!"},{"$error":"#VALUE!"},{"$error":"#VALUE!"},{"$error":"#VALUE!"},{"$error":"#VALUE!"},{"$error":"#VALUE!"},{"$error":"#VALUE!"},{"$error":"#VALUE!"},{"$error":"#VALUE!"},{"$error":"#VALUE!"},{"$error":"#VALUE!"},{"$error":"#VALUE!"},{"$error":"#VALUE!"},{"$error":"#VALUE!"},{"$error":"#VALUE!"},{"$error":"#VALUE!"},{"$error":"#VALUE!"},{"$error":"#VALUE!"},{"$error":"#VALUE!"},{"$error":"#VALUE!"},{"$error":"#VALUE!"},{"$f":"IF(AQ$67=\"\",\"\",IF(AQ$67=0,\"n. appl.\",AQ176/AQ$67*1000))","v":{"$error":"#VALUE!"}},{"$error":"#VALUE!"},{"$error":"#VALUE!"},{"$error":"#VALUE!"},{"$error":"#VALUE!"},{"$error":"#VALUE!"},{"$error":"#VALUE!"},{"$error":"#VALUE!"},{"$error":"#VALUE!"},{"$error":"#VALUE!"},{"$error":"#VALUE!"},{"$error":"#VALUE!"},{"$error":"#VALUE!"},{"$error":"#VALUE!"},{"$error":"#VALUE!"},{"$error":"#VALUE!"},{"$error":"#VALUE!"},{"$error":"#VALUE!"},{"$error":"#VALUE!"},{"$error":"#VALUE!"},{"$error":"#VALUE!"},{"$error":"#VALUE!"},{"$error":"#VALUE!"},{"$error":"#VALUE!"},{"$error":"#VALUE!"}]
[null,"62b",null,"fuel component","[kg CO2/t cem prod]",null,{"$f":"IF(G$67=\"\",\"\",IF(G$67=0,\"n. appl.\",G177/G$67*1000))","v":{"$error":"#VALUE!"}},{"$f":"IF(H$67=\"\",\"\",IF(H$67=0,\"n. appl.\",H177/H$67*1000))","v":{"$error":"#VALUE!"}},{"$error":"#VALUE!"},{"$error":"#VALUE!"},{"$error":"#VALUE!"},{"$error":"#VALUE!"},{"$error":"#VALUE!"},{"$error":"#VALUE!"},{"$error":"#VALUE!"},{"$error":"#VALUE!"},{"$error":"#VALUE!"},{"$error":"#VALUE!"},{"$error":"#VALUE!"},{"$error":"#VALUE!"},{"$error":"#VALUE!"},{"$error":"#VALUE!"},{"$error":"#VALUE!"},{"$error":"#VALUE!"},{"$error":"#VALUE!"},{"$error":"#VALUE!"},{"$error":"#VALUE!"},{"$error":"#VALUE!"},{"$error":"#VALUE!"},{"$error":"#VALUE!"},{"$error":"#VALUE!"},{"$error":"#VALUE!"},{"$error":"#VALUE!"},{"$error":"#VALUE!"},{"$error":"#VALUE!"},{"$error":"#VALUE!"},{"$error":"#VALUE!"},{"$error":"#VALUE!"},{"$error":"#VALUE!"},{"$error":"#VALUE!"},{"$error":"#VALUE!"},{"$error":"#VALUE!"},{"$f":"IF(AQ$67=\"\",\"\",IF(AQ$67=0,\"n. appl.\",AQ177/AQ$67*1000))","v":{"$error":"#VALUE!"}},{"$error":"#VALUE!"},{"$error":"#VALUE!"},{"$error":"#VALUE!"},{"$error":"#VALUE!"},{"$error":"#VALUE!"},{"$error":"#VALUE!"},{"$error":"#VALUE!"},{"$error":"#VALUE!"},{"$error":"#VALUE!"},{"$error":"#VALUE!"},{"$error":"#VALUE!"},{"$error":"#VALUE!"},{"$error":"#VALUE!"},{"$error":"#VALUE!"},{"$error":"#VALUE!"},{"$error":"#VALUE!"},{"$error":"#VALUE!"},{"$error":"#VALUE!"},{"$error":"#VALUE!"},{"$error":"#VALUE!"},{"$error":"#VALUE!"},{"$error":"#VALUE!"},{"$error":"#VALUE!"},{"$error":"#VALUE!"}]
[null,{"$f":"B187+1","v":74},"Specific net CO2 ","per tonne of cementitious product","[kg CO2/t cem prod]",null,{"$f":"IF(G$67=\"\",\"\",IF(G$67=0,\"n. appl.\",G179/G$67*1000))","v":{"$error":"#VALUE!"}},{"$f":"IF(H$67=\"\",\"\",IF(H$67=0,\"n. appl.\",H179/H$67*1000))","v":{"$error":"#VALUE!"}},{"$error":"#VALUE!"},{"$error":"#VALUE!"},{"$error":"#VALUE!"},{"$error":"#VALUE!"},{"$error":"#VALUE!"},{"$error":"#VALUE!"},{"$error":"#VALUE!"},{"$error":"#VALUE!"},{"$error":"#VALUE!"},{"$error":"#VALUE!"},{"$error":"#VALUE!"},{"$error":"#VALUE!"},{"$error":"#VALUE!"},{"$error":"#VALUE!"},{"$error":"#VALUE!"},{"$error":"#VALUE!"},{"$error":"#VALUE!"},{"$error":"#VALUE!"},{"$error":"#VALUE!"},{"$error":"#VALUE!"},{"$error":"#VALUE!"},{"$error":"#VALUE!"},{"$error":"#VALUE!"},{"$error":"#VALUE!"},{"$error":"#VALUE!"},{"$error":"#VALUE!"},{"$error":"#VALUE!"},{"$error":"#VALUE!"},{"$error":"#VALUE!"},{"$f":"IF(AL$67=\"\",\"\",IF(AL$67=0,\"n. appl.\",AL179/AL$67*1000))","v":{"$error":"#VALUE!"}},{"$f":"IF(AM$67=\"\",\"\",IF(AM$67=0,\"n. appl.\",AM179/AM$67*1000))","v":{"$error":"#VALUE!"}},{"$f":"IF(AN$67=\"\",\"\",IF(AN$67=0,\"n. appl.\",AN179/AN$67*1000))","v":{"$error":"#VALUE!"}},{"$f":"IF(AO$67=\"\",\"\",IF(AO$67=0,\"n. appl.\",AO179/AO$67*1000))","v":{"$error":"#VALUE!"}},{"$f":"IF(AP$67=\"\",\"\",IF(AP$67=0,\"n. appl.\",AP179/AP$67*1000))","v":{"$error":"#VALUE!"}},{"$f":"IF(AQ$67=\"\",\"\",IF(AQ$67=0,\"n. appl.\",AQ179/AQ$67*1000))","v":{"$error":"#VALUE!"}},{"$error":"#VALUE!"},{"$error":"#VALUE!"},{"$error":"#VALUE!"},{"$error":"#VALUE!"},{"$error":"#VALUE!"},{"$error":"#VALUE!"},{"$error":"#VALUE!"},{"$error":"#VALUE!"},{"$error":"#VALUE!"},{"$error":"#VALUE!"},{"$error":"#VALUE!"},{"$error":"#VALUE!"},{"$error":"#VALUE!"},{"$error":"#VALUE!"},{"$error":"#VALUE!"},{"$error":"#VALUE!"},{"$error":"#VALUE!"},{"$error":"#VALUE!"},{"$error":"#VALUE!"},{"$error":"#VALUE!"},{"$error":"#VALUE!"},{"$error":"#VALUE!"},{"$error":"#VALUE!"},{"$error":"#VALUE!"}]
[null,77,"Improvement rate  -  net CO2 per tonne of cementitious product",null,"[% relative to base yr]",null,{"$f":"IF(G199=\"\",\"\",IF(OR($G199=\"n. appl.\",$G199=0),\"n. appl.\",(G199-$G199)/$G199))","v":{"$error":"#VALUE!"}},{"$error":"#VALUE!"},{"$error":"#VALUE!"},{"$error":"#VALUE!"},{"$error":"#VALUE!"},{"$error":"#VALUE!"},{"$error":"#VALUE!"},{"$error":"#VALUE!"},{"$error":"#VALUE!"},{"$error":"#VALUE!"},{"$error":"#VALUE!"},{"$error":"#VALUE!"},{"$error":"#VALUE!"},{"$error":"#VALUE!"},{"$error":"#VALUE!"},{"$error":"#VALUE!"},{"$error":"#VALUE!"},{"$error":"#VALUE!"},{"$error":"#VALUE!"},{"$error":"#VALUE!"},{"$error":"#VALUE!"},{"$error":"#VALUE!"},{"$error":"#VALUE!"},{"$error":"#VALUE!"},{"$error":"#VALUE!"},{"$error":"#VALUE!"},{"$f":"IF(AG199=\"\",\"\",IF(OR($G199=\"n. appl.\",$G199=0),\"n. appl.\",(AG199-$G199)/$G199))","v":{"$error":"#VALUE!"}},{"$error":"#VALUE!"},{"$error":"#VALUE!"},{"$error":"#VALUE!"},{"$error":"#VALUE!"},{"$error":"#VALUE!"},{"$error":"#VALUE!"},{"$error":"#VALUE!"},{"$error":"#VALUE!"},{"$error":"#VALUE!"},{"$f":"IF(AQ199=\"\",\"\",IF(OR($G199=\"n. appl.\",$G199=0),\"n. appl.\",(AQ199-$G199)/$G199))","v":{"$error":"#VALUE!"}},{"$error":"#VALUE!"},{"$error":"#VALUE!"},{"$error":"#VALUE!"},{"$error":"#VALUE!"},{"$error":"#VALUE!"},{"$error":"#VALUE!"},{"$error":"#VALUE!"},{"$error":"#VALUE!"},{"$error":"#VALUE!"},{"$error":"#VALUE!"},{"$error":"#VALUE!"},{"$error":"#VALUE!"},{"$error":"#VALUE!"},{"$error":"#VALUE!"},{"$error":"#VALUE!"},{"$error":"#VALUE!"},{"$error":"#VALUE!"},{"$error":"#VALUE!"},{"$error":"#VALUE!"},{"$error":"#VALUE!"},{"$error":"#VALUE!"},{"$error":"#VALUE!"},{"$error":"#VALUE!"},{"$error":"#VALUE!"}]
[]
[null,"Specific Indirect CO2 Emission",null,null,null,null,{"$f":"G$7","v":1990},1991,1992,1993,1994,1995,1996,1997,1998,1999,2000,2001,2002,2003,2004,2005,2006,2007,2008,2009,2010,2011,2012,2013,2014,2015,2016,2017,2018,2019,2020,2021,2022,2023,2024,2025,2026,2027,2028,2029,2030,2031,2032,2033,2034,2035,2036,2037,2038,2039,2040,2041,2042,2043,2044,2045,2046,2047,2048,2049,2050]
[null,"82c","Specific indirect CO2 from external power generation per tonne of cement (eq.)",null,"[kg CO2/t cem eq.]",null,{"$f":"IF(OR(G$68=\"n.appl.\",G$68=0),\"n. appl.\",G162/G$68*1000)","v":{"$error":"#VALUE!"}},{"$f":"IF(OR(H$68=\"n.appl.\",H$68=0),\"n. appl.\",H162/H$68*1000)","v":{"$error":"#VALUE!"}},{"$f":"IF(OR(I$68=\"n.appl.\",I$68=0),\"n. appl.\",I162/I$68*1000)","v":{"$error":"#VALUE!"}},{"$error":"#VALUE!"},{"$error":"#VALUE!"},{"$error":"#VALUE!"},{"$error":"#VALUE!"},{"$error":"#VALUE!"},{"$error":"#VALUE!"},{"$error":"#VALUE!"},{"$error":"#VALUE!"},{"$error":"#VALUE!"},{"$error":"#VALUE!"},{"$error":"#VALUE!"},{"$error":"#VALUE!"},{"$error":"#VALUE!"},{"$error":"#VALUE!"},{"$error":"#VALUE!"},{"$error":"#VALUE!"},{"$error":"#VALUE!"},{"$error":"#VALUE!"},{"$error":"#VALUE!"},{"$error":"#VALUE!"},{"$error":"#VALUE!"},{"$error":"#VALUE!"},{"$error":"#VALUE!"},{"$error":"#VALUE!"},{"$error":"#VALUE!"},{"$error":"#VALUE!"},{"$error":"#VALUE!"},{"$error":"#VALUE!"},{"$error":"#VALUE!"},{"$error":"#VALUE!"},{"$error":"#VALUE!"},{"$error":"#VALUE!"},{"$error":"#VALUE!"},{"$f":"IF(OR(AQ$68=\"n.appl.\",AQ$68=0),\"n. appl.\",AQ162/AQ$68*1000)","v":{"$error":"#VALUE!"}},{"$error":"#VALUE!"},{"$error":"#VALUE!"},{"$error":"#VALUE!"},{"$error":"#VALUE!"},{"$error":"#VALUE!"},{"$error":"#VALUE!"},{"$error":"#VALUE!"},{"$error":"#VALUE!"},{"$error":"#VALUE!"},{"$error":"#VALUE!"},{"$error":"#VALUE!"},{"$error":"#VALUE!"},{"$error":"#VALUE!"},{"$error":"#VALUE!"},{"$error":"#VALUE!"},{"$error":"#VALUE!"},{"$error":"#VALUE!"},{"$error":"#VALUE!"},{"$error":"#VALUE!"},{"$error":"#VALUE!"},{"$error":"#VALUE!"},{"$error":"#VALUE!"},{"$error":"#VALUE!"},{"$error":"#VALUE!"}]
[null,"82a","Specific indirect CO2 from external power generation per tonne of cementitious product",null,"[kg CO2/t cem prod]",null,{"$f":"IF(G$67=\"\",\"\",IF(G$67=0,\"n. appl.\",G162/G$67*1000))","v":{"$error":"#VALUE!"}},{"$f":"IF(H$67=\"\",\"\",IF(H$67=0,\"n. appl.\",H162/H$67*1000))","v":{"$error":"#VALUE!"}},{"$error":"#VALUE!"},{"$error":"#VALUE!"},{"$error":"#VALUE!"},{"$error":"#VALUE!"},{"$error":"#VALUE!"},{"$error":"#VALUE!"},{"$error":"#VALUE!"},{"$error":"#VALUE!"},{"$error":"#VALUE!"},{"$error":"#VALUE!"},{"$error":"#VALUE!"},{"$error":"#VALUE!"},{"$error":"#VALUE!"},{"$error":"#VALUE!"},{"$error":"#VALUE!"},{"$error":"#VALUE!"},{"$error":"#VALUE!"},{"$error":"#VALUE!"},{"$error":"#VALUE!"},{"$error":"#VALUE!"},{"$error":"#VALUE!"},{"$error":"#VALUE!"},{"$error":"#VALUE!"},{"$error":"#VALUE!"},{"$error":"#VALUE!"},{"$error":"#VALUE!"},{"$error":"#VALUE!"},{"$error":"#VALUE!"},{"$error":"#VALUE!"},{"$f":"IF(AL$67=\"\",\"\",IF(AL$67=0,\"n. appl.\",AL162/AL$67*1000))","v":{"$error":"#VALUE!"}},{"$f":"IF(AM$67=\"\",\"\",IF(AM$67=0,\"n. appl.\",AM162/AM$67*1000))","v":{"$error":"#VALUE!"}},{"$f":"IF(AN$67=\"\",\"\",IF(AN$67=0,\"n. appl.\",AN162/AN$67*1000))","v":{"$error":"#VALUE!"}},{"$f":"IF(AO$67=\"\",\"\",IF(AO$67=0,\"n. appl.\",AO162/AO$67*1000))","v":{"$error":"#VALUE!"}},{"$f":"IF(AP$67=\"\",\"\",IF(AP$67=0,\"n. appl.\",AP162/AP$67*1000))","v":{"$error":"#VALUE!"}},{"$f":"IF(AQ$67=\"\",\"\",IF(AQ$67=0,\"n. appl.\",AQ162/AQ$67*1000))","v":{"$error":"#VALUE!"}},{"$error":"#VALUE!"},{"$error":"#VALUE!"},{"$error":"#VALUE!"},{"$error":"#VALUE!"},{"$error":"#VALUE!"},{"$error":"#VALUE!"},{"$error":"#VALUE!"},{"$error":"#VALUE!"},{"$error":"#VALUE!"},{"$error":"#VALUE!"},{"$error":"#VALUE!"},{"$error":"#VALUE!"},{"$error":"#VALUE!"},{"$error":"#VALUE!"},{"$error":"#VALUE!"},{"$error":"#VALUE!"},{"$error":"#VALUE!"},{"$error":"#VALUE!"},{"$error":"#VALUE!"},{"$error":"#VALUE!"},{"$error":"#VALUE!"},{"$error":"#VALUE!"},{"$error":"#VALUE!"},{"$error":"#VALUE!"}]
[null,"82b","Specific indirect CO2 from net clinker imports (+) / exports (-) per tonne of cementitious product",null,"[kg CO2/t cem prod]",null,{"$f":"IF(G$67=\"\",\"\",IF(G$67=0,\"n. appl.\",G164/G$67*1000))","v":{"$error":"#VALUE!"}},{"$f":"IF(H$67=\"\",\"\",IF(H$67=0,\"n. appl.\",H164/H$67*1000))","v":{"$error":"#VALUE!"}},{"$error":"#VALUE!"},{"$error":"#VALUE!"},{"$error":"#VALUE!"},{"$error":"#VALUE!"},{"$error":"#VALUE!"},{"$error":"#VALUE!"},{"$error":"#VALUE!"},{"$error":"#VALUE!"},{"$error":"#VALUE!"},{"$error":"#VALUE!"},{"$error":"#VALUE!"},{"$error":"#VALUE!"},{"$error":"#VALUE!"},{"$error":"#VALUE!"},{"$error":"#VALUE!"},{"$error":"#VALUE!"},{"$error":"#VALUE!"},{"$error":"#VALUE!"},{"$error":"#VALUE!"},{"$error":"#VALUE!"},{"$error":"#VALUE!"},{"$error":"#VALUE!"},{"$error":"#VALUE!"},{"$error":"#VALUE!"},{"$error":"#VALUE!"},{"$error":"#VALUE!"},{"$error":"#VALUE!"},{"$error":"#VALUE!"},{"$error":"#VALUE!"},{"$f":"IF(AL$67=\"\",\"\",IF(AL$67=0,\"n. appl.\",AL164/AL$67*1000))","v":{"$error":"#VALUE!"}},{"$f":"IF(AM$67=\"\",\"\",IF(AM$67=0,\"n. appl.\",AM164/AM$67*1000))","v":{"$error":"#VALUE!"}},{"$f":"IF(AN$67=\"\",\"\",IF(AN$67=0,\"n. appl.\",AN164/AN$67*1000))","v":{"$error":"#VALUE!"}},{"$f":"IF(AO$67=\"\",\"\",IF(AO$67=0,\"n. appl.\",AO164/AO$67*1000))","v":{"$error":"#VALUE!"}},{"$f":"IF(AP$67=\"\",\"\",IF(AP$67=0,\"n. appl.\",AP164/AP$67*1000))","v":{"$error":"#VALUE!"}},{"$f":"IF(AQ$67=\"\",\"\",IF(AQ$67=0,\"n. appl.\",AQ164/AQ$67*1000))","v":{"$error":"#VALUE!"}},{"$error":"#VALUE!"},{"$error":"#VALUE!"},{"$error":"#VALUE!"},{"$error":"#VALUE!"},{"$error":"#VALUE!"},{"$error":"#VALUE!"},{"$error":"#VALUE!"},{"$error":"#VALUE!"},{"$error":"#VALUE!"},{"$error":"#VALUE!"},{"$error":"#VALUE!"},{"$error":"#VALUE!"},{"$error":"#VALUE!"},{"$error":"#VALUE!"},{"$error":"#VALUE!"},{"$error":"#VALUE!"},{"$error":"#VALUE!"},{"$error":"#VALUE!"},{"$error":"#VALUE!"},{"$error":"#VALUE!"},{"$error":"#VALUE!"},{"$error":"#VALUE!"},{"$error":"#VALUE!"},{"$error":"#VALUE!"}]
[]
[null,"General Performance Indicators",null,null,null,null,{"$f":"G$7","v":1990},1991,1992,1993,1994,1995,1996,1997,1998,1999,2000,2001,2002,2003,2004,2005,2006,2007,2008,2009,2010,2011,2012,2013,2014,2015,2016,2017,2018,2019,2020,2021,2022,2023,2024,2025,2026,2027,2028,2029,2030,2031,2032,2033,2034,2035,2036,2037,2038,2039,2040,2041,2042,2043,2044,2045,2046,2047,2048,2049,2050]
[null,91,"Net outbound clinker per net clinker consumption",null,"[%]",null,{"$f":"IF(G46=\"\",\"\",IF(G46=0,\"n. appl.\",(G42-G41-G44-G45)/G46))","v":""},{"$f":"IF(H46=\"\",\"\",IF(H46=0,\"n. appl.\",(H42-H41-H44-H45)/H46))","v":""},"","","","","","","","","","","","","","","","","","","","","","","","",{"$f":"IF(AG46=\"\",\"\",IF(AG46=0,\"n. appl.\",(AG42-AG41-AG44-AG45)/AG46))","v":""},"","","","","","","","","",{"$f":"IF(AQ46=\"\",\"\",IF(AQ46=0,\"n. appl.\",(AQ42-AQ41-AQ44-AQ45)/AQ46))","v":""},"","","","","","","","","","","","","","","","","","","","","","","",""]
[null,"92a","Clinker/cement (eq.) factor*",null,"[%]",null,{"$f":"IF(OR(G46=\"\",G65=\"\",G46=0,G65=0),\"n. appl.\",G46/G65)","v":"n. appl."},{"$f":"IF(OR(H46=\"\",H65=\"\",H46=0,H65=0),\"n. appl.\",H46/H65)","v":"n. appl."},"n. appl.","n. appl.","n. appl.","n. appl.","n. appl.","n. appl.","n. appl.","n. appl.","n. appl.","n. appl.","n. appl.","n. appl.","n. appl.","n. appl.","n. appl.","n. appl.","n. appl.","n. appl.","n. appl.","n. appl.","n. appl.","n. appl.","n. appl.","n. appl.","n. appl.","n. appl.","n. appl.","n. appl.","n. appl.","n. appl.","n. appl.","n. appl.","n. appl.","n. appl.",{"$f":"IF(OR(AQ46=\"\",AQ65=\"\",AQ46=0,AQ65=0),\"n. appl.\",AQ46/AQ65)","v":"n. appl."},"n. appl.","n. appl.","n. appl.","n. appl.","n. appl.","n. appl.","n. appl.","n. appl.","n. appl.","n. appl.","n. appl.","n. appl.","n. appl.","n. appl.","n. appl.","n. appl.","n. appl.","n. appl.","n. appl.","n. appl.","n. appl.","n. appl.","n. appl.","n. appl."]
[null,{"$f":"B208+1","v":92},"Clinker/cementitious factor*",null,"[%]",null,{"$f":"IF(G66=\"\",\"\",IF(G66=0,\"n. appl.\",G46/G66))","v":""},"","","","","","","","","","","","","","","","","","","","","","","","","","","","","","",{"$f":"IF(AL66=\"\",\"\",IF(AL66=0,\"n. appl.\",AL46/AL66))","v":""},{"$f":"IF(AM66=\"\",\"\",IF(AM66=0,\"n. appl.\",AM46/AM66))","v":""},{"$f":"IF(AN66=\"\",\"\",IF(AN66=0,\"n. appl.\",AN46/AN66))","v":""},{"$f":"IF(AO66=\"\",\"\",IF(AO66=0,\"n. appl.\",AO46/AO66))","v":""},{"$f":"IF(AP66=\"\",\"\",IF(AP66=0,\"n. appl.\",AP46/AP66))","v":""},{"$f":"IF(AQ66=\"\",\"\",IF(AQ66=0,\"n. appl.\",AQ46/AQ66))","v":""},"","","","","","","","","","","","","","","","","","","","","","","",""]
[]
[null,{"$f":"B210+1","v":93},"Specific heat consumption of clinker production",null,"[MJ/t cli]",null,{"$f":"IF(G40=\"\",\"\",IF(G40=0,\"n. appl.\",G76*10^6/G40))","v":{"$error":"#VALUE!"}},{"$error":"#VALUE!"},{"$error":"#VALUE!"},{"$error":"#VALUE!"},{"$error":"#VALUE!"},{"$error":"#VALUE!"},{"$error":"#VALUE!"},{"$error":"#VALUE!"},{"$error":"#VALUE!"},{"$error":"#VALUE!"},{"$error":"#VALUE!"},{"$error":"#VALUE!"},{"$error":"#VALUE!"},{"$error":"#VALUE!"},{"$error":"#VALUE!"},{"$error":"#VALUE!"},{"$error":"#VALUE!"},{"$error":"#VALUE!"},{"$error":"#VALUE!"},{"$error":"#VALUE!"},{"$error":"#VALUE!"},{"$error":"#VALUE!"},{"$error":"#VALUE!"},{"$error":"#VALUE!"},{"$error":"#VALUE!"},{"$error":"#VALUE!"},{"$error":"#VALUE!"},{"$error":"#VALUE!"},{"$error":"#VALUE!"},{"$error":"#VALUE!"},{"$error":"#VALUE!"},{"$f":"IF(AL40=\"\",\"\",IF(AL40=0,\"n. appl.\",AL76*10^6/AL40))","v":{"$error":"#VALUE!"}},{"$f":"IF(AM40=\"\",\"\",IF(AM40=0,\"n. appl.\",AM76*10^6/AM40))","v":{"$error":"#VALUE!"}},{"$f":"IF(AN40=\"\",\"\",IF(AN40=0,\"n. appl.\",AN76*10^6/AN40))","v":{"$error":"#VALUE!"}},{"$f":"IF(AO40=\"\",\"\",IF(AO40=0,\"n. appl.\",AO76*10^6/AO40))","v":{"$error":"#VALUE!"}},{"$f":"IF(AP40=\"\",\"\",IF(AP40=0,\"n. appl.\",AP76*10^6/AP40))","v":{"$error":"#VALUE!"}},{"$f":"IF(AQ40=\"\",\"\",IF(AQ40=0,\"n. appl.\",AQ76*10^6/AQ40))","v":{"$error":"#VALUE!"}},{"$error":"#VALUE!"},{"$error":"#VALUE!"},{"$error":"#VALUE!"},{"$error":"#VALUE!"},{"$error":"#VALUE!"},{"$error":"#VALUE!"},{"$error":"#VALUE!"},{"$error":"#VALUE!"},{"$error":"#VALUE!"},{"$error":"#VALUE!"},{"$error":"#VALUE!"},{"$error":"#VALUE!"},{"$error":"#VALUE!"},{"$error":"#VALUE!"},{"$error":"#VALUE!"},{"$error":"#VALUE!"},{"$error":"#VALUE!"},{"$error":"#VALUE!"},{"$error":"#VALUE!"},{"$error":"#VALUE!"},{"$error":"#VALUE!"},{"$error":"#VALUE!"},{"$error":"#VALUE!"},{"$error":"#VALUE!"}]
[null,{"$f":"B212+1","v":94},"Conventional fossil fuel rate (kiln fuels)",null,"[%]",null,{"$f":"IF(G$76=\"\",\"\",IF(G$76=0,\"n. appl.\",G78/G$76))","v":""},{"$f":"IF(H$76=\"\",\"\",IF(H$76=0,\"n. appl.\",H78/H$76))","v":""},"","","","","","","","","","","","","","","","","","","","","","","","",{"$f":"IF(AG$76=\"\",\"\",IF(AG$76=0,\"n. appl.\",AG78/AG$76))","v":""},"","","","",{"$f":"IF(AL$76=\"\",\"\",IF(AL$76=0,\"n. appl.\",AL78/AL$76))","v":""},"","","","",{"$f":"IF(AQ$76=\"\",\"\",IF(AQ$76=0,\"n. appl.\",AQ78/AQ$76))","v":""},"","","","","","","","","","","","","","","","","","","","","","","",""]
[null,{"$f":"B213+1","v":95},"Alternative fossil fuel rate (kiln fuels)",null,"[%]",null,{"$f":"IF(G$76=\"\",\"\",IF(G$76=0,\"n. appl.\",G79/G$76))","v":""},{"$f":"IF(H$76=\"\",\"\",IF(H$76=0,\"n. appl.\",H79/H$76))","v":""},"","","","","","","","","","","","","","","","","","","","","","","","","","","","","","","","","","",{"$f":"IF(AQ$76=\"\",\"\",IF(AQ$76=0,\"n. appl.\",AQ79/AQ$76))","v":""},"","","","","","","","","","","","","","","","","","","","","","","",""]
[null,{"$f":"B214+1","v":96},"Biomass fuel rate (kiln fuels)",null,"[%]",null,{"$f":"IF(G$76=\"\",\"\",IF(G$76=0,\"n. appl.\",G80/G$76))","v":""},{"$f":"IF(H$76=\"\",\"\",IF(H$76=0,\"n. appl.\",H80/H$76))","v":""},"","","","","","","","","","","","","","","","","","","","","","","","","","","","","","","","","","",{"$f":"IF(AQ$76=\"\",\"\",IF(AQ$76=0,\"n. appl.\",AQ80/AQ$76))","v":""},"","","","","","","","","","","","","","","","","","","","","","","",""]
[null,"96a","CO2 emission factor for kiln fuel mix ",null,"[kg CO2/GJ]",null,{"$f":"IF(G149=\"\",\"\",IF(G149=0,\"n.appl.\",G149/G76))","v":""},{"$f":"IF(H149=\"\",\"\",IF(H149=0,\"n.appl.\",H149/H76))","v":""},"","","","","","","","","","","","","","","","","","","","","","","","","","","","","",{"$f":"IF(AL149=\"\",\"\",IF(AL149=0,\"n.appl.\",AL149/AL76))","v":""},{"$f":"IF(AM149=\"\",\"\",IF(AM149=0,\"n.appl.\",AM149/AM76))","v":""},{"$f":"IF(AN149=\"\",\"\",IF(AN149=0,\"n.appl.\",AN149/AN76))","v":""},{"$f":"IF(AO149=\"\",\"\",IF(AO149=0,\"n.appl.\",AO149/AO76))","v":""},{"$f":"IF(AP149=\"\",\"\",IF(AP149=0,\"n.appl.\",AP149/AP76))","v":""},{"$f":"IF(AQ149=\"\",\"\",IF(AQ149=0,\"n.appl.\",AQ149/AQ76))","v":""},"","","","","","","","","","","","","","","","","","","","","","","",""]
[null,"96b","Total conventional fossil fuel rate at plant level ",null,"[%]",null,{"$f":"IF(AND(G$76=0,G$502=0,G$506=0,G$508=0,G$513=0,G$520=0,G$522=0,G$525=0,G$532=0,G$534=0),\"n. appl.\",(G78+G502+(G506*(1-G375))+G508+G513+G525)/(G$76+G$502+G$506+G$508+G$513+G$520+G$522+G$525+G$532+G$534))","v":{"$error":"#VALUE!"}},{"$error":"#VALUE!"},{"$error":"#VALUE!"},{"$error":"#VALUE!"},{"$error":"#VALUE!"},{"$error":"#VALUE!"},{"$error":"#VALUE!"},{"$error":"#VALUE!"},{"$error":"#VALUE!"},{"$error":"#VALUE!"},{"$error":"#VALUE!"},{"$error":"#VALUE!"},{"$error":"#VALUE!"},{"$error":"#VALUE!"},{"$error":"#VALUE!"},{"$error":"#VALUE!"},{"$error":"#VALUE!"},{"$error":"#VALUE!"},{"$error":"#VALUE!"},{"$error":"#VALUE!"},{"$error":"#VALUE!"},{"$error":"#VALUE!"},{"$error":"#VALUE!"},{"$error":"#VALUE!"},{"$error":"#VALUE!"},{"$error":"#VALUE!"},{"$error":"#VALUE!"},{"$error":"#VALUE!"},{"$error":"#VALUE!"},{"$error":"#VALUE!"},{"$error":"#VALUE!"},{"$f":"IF(AND(AL$76=0,AL$502=0,AL$506=0,AL$508=0,AL$513=0,AL$520=0,AL$522=0,AL$525=0,AL$532=0,AL$534=0),\"n. appl.\",(AL78+AL502+(AL506*(1-AL375))+AL508+AL513+AL525)/(AL$76+AL$502+AL$506+AL$508+AL$513+AL$520+AL$522+AL$525+AL$532+AL$534))","v":{"$error":"#VALUE!"}},{"$f":"IF(AND(AM$76=0,AM$502=0,AM$506=0,AM$508=0,AM$513=0,AM$520=0,AM$522=0,AM$525=0,AM$532=0,AM$534=0),\"n. appl.\",(AM78+AM502+(AM506*(1-AM375))+AM508+AM513+AM525)/(AM$76+AM$502+AM$506+AM$508+AM$513+AM$520+AM$522+AM$525+AM$532+AM$534))","v":{"$error":"#VALUE!"}},{"$f":"IF(AND(AN$76=0,AN$502=0,AN$506=0,AN$508=0,AN$513=0,AN$520=0,AN$522=0,AN$525=0,AN$532=0,AN$534=0),\"n. appl.\",(AN78+AN502+(AN506*(1-AN375))+AN508+AN513+AN525)/(AN$76+AN$502+AN$506+AN$508+AN$513+AN$520+AN$522+AN$525+AN$532+AN$534))","v":{"$error":"#VALUE!"}},{"$f":"IF(AND(AO$76=0,AO$502=0,AO$506=0,AO$508=0,AO$513=0,AO$520=0,AO$522=0,AO$525=0,AO$532=0,AO$534=0),\"n. appl.\",(AO78+AO502+(AO506*(1-AO375))+AO508+AO513+AO525)/(AO$76+AO$502+AO$506+AO$508+AO$513+AO$520+AO$522+AO$525+AO$532+AO$534))","v":{"$error":"#VALUE!"}},{"$f":"IF(AND(AP$76=0,AP$502=0,AP$506=0,AP$508=0,AP$513=0,AP$520=0,AP$522=0,AP$525=0,AP$532=0,AP$534=0),\"n. appl.\",(AP78+AP502+(AP506*(1-AP375))+AP508+AP513+AP525)/(AP$76+AP$502+AP$506+AP$508+AP$513+AP$520+AP$522+AP$525+AP$532+AP$534))","v":{"$error":"#VALUE!"}},{"$f":"IF(AND(AQ$76=0,AQ$502=0,AQ$506=0,AQ$508=0,AQ$513=0,AQ$520=0,AQ$522=0,AQ$525=0,AQ$532=0,AQ$534=0),\"n. appl.\",(AQ78+AQ502+(AQ506*(1-AQ375))+AQ508+AQ513+AQ525)/(AQ$76+AQ$502+AQ$506+AQ$508+AQ$513+AQ$520+AQ$522+AQ$525+AQ$532+AQ$534))","v":{"$error":"#VALUE!"}},{"$error":"#VALUE!"},{"$error":"#VALUE!"},{"$error":"#VALUE!"},{"$error":"#VALUE!"},{"$error":"#VALUE!"},{"$error":"#VALUE!"},{"$error":"#VALUE!"},{"$error":"#VALUE!"},{"$error":"#VALUE!"},{"$error":"#VALUE!"},{"$error":"#VALUE!"},{"$error":"#VALUE!"},{"$error":"#VALUE!"},{"$error":"#VALUE!"},{"$error":"#VALUE!"},{"$error":"#VALUE!"},{"$error":"#VALUE!"},{"$error":"#VALUE!"},{"$error":"#VALUE!"},{"$error":"#VALUE!"},{"$error":"#VALUE!"},{"$error":"#VALUE!"},{"$error":"#VALUE!"},{"$error":"#VALUE!"}]
[null,"96c","Total alternative fossil fuel rate at plant level ",null,"[%]",null,{"$f":"IF(AND(G$76=0,G$502=0,G$506=0,G$508=0,G$513=0,G$520=0,G$522=0,G$525=0,G$532=0,G$534=0),\"n. appl.\",(G79+G520+G532)/(G$76+G$502+G$506+G$508+G$513+G$520+G$522+G$525+G$532+G$534))","v":{"$error":"#VALUE!"}},{"$error":"#VALUE!"},{"$error":"#VALUE!"},{"$error":"#VALUE!"},{"$error":"#VALUE!"},{"$error":"#VALUE!"},{"$error":"#VALUE!"},{"$error":"#VALUE!"},{"$error":"#VALUE!"},{"$error":"#VALUE!"},{"$error":"#VALUE!"},{"$error":"#VALUE!"},{"$error":"#VALUE!"},{"$error":"#VALUE!"},{"$error":"#VALUE!"},{"$error":"#VALUE!"},{"$error":"#VALUE!"},{"$error":"#VALUE!"},{"$error":"#VALUE!"},{"$error":"#VALUE!"},{"$error":"#VALUE!"},{"$error":"#VALUE!"},{"$error":"#VALUE!"},{"$error":"#VALUE!"},{"$error":"#VALUE!"},{"$error":"#VALUE!"},{"$error":"#VALUE!"},{"$error":"#VALUE!"},{"$error":"#VALUE!"},{"$error":"#VALUE!"},{"$error":"#VALUE!"},{"$f":"IF(AND(AL$76=0,AL$502=0,AL$506=0,AL$508=0,AL$513=0,AL$520=0,AL$522=0,AL$525=0,AL$532=0,AL$534=0),\"n. appl.\",(AL79+AL520+AL532)/(AL$76+AL$502+AL$506+AL$508+AL$513+AL$520+AL$522+AL$525+AL$532+AL$534))","v":{"$error":"#VALUE!"}},{"$f":"IF(AND(AM$76=0,AM$502=0,AM$506=0,AM$508=0,AM$513=0,AM$520=0,AM$522=0,AM$525=0,AM$532=0,AM$534=0),\"n. appl.\",(AM79+AM520+AM532)/(AM$76+AM$502+AM$506+AM$508+AM$513+AM$520+AM$522+AM$525+AM$532+AM$534))","v":{"$error":"#VALUE!"}},{"$f":"IF(AND(AN$76=0,AN$502=0,AN$506=0,AN$508=0,AN$513=0,AN$520=0,AN$522=0,AN$525=0,AN$532=0,AN$534=0),\"n. appl.\",(AN79+AN520+AN532)/(AN$76+AN$502+AN$506+AN$508+AN$513+AN$520+AN$522+AN$525+AN$532+AN$534))","v":{"$error":"#VALUE!"}},{"$f":"IF(AND(AO$76=0,AO$502=0,AO$506=0,AO$508=0,AO$513=0,AO$520=0,AO$522=0,AO$525=0,AO$532=0,AO$534=0),\"n. appl.\",(AO79+AO520+AO532)/(AO$76+AO$502+AO$506+AO$508+AO$513+AO$520+AO$522+AO$525+AO$532+AO$534))","v":{"$error":"#VALUE!"}},{"$f":"IF(AND(AP$76=0,AP$502=0,AP$506=0,AP$508=0,AP$513=0,AP$520=0,AP$522=0,AP$525=0,AP$532=0,AP$534=0),\"n. appl.\",(AP79+AP520+AP532)/(AP$76+AP$502+AP$506+AP$508+AP$513+AP$520+AP$522+AP$525+AP$532+AP$534))","v":{"$error":"#VALUE!"}},{"$f":"IF(AND(AQ$76=0,AQ$502=0,AQ$506=0,AQ$508=0,AQ$513=0,AQ$520=0,AQ$522=0,AQ$525=0,AQ$532=0,AQ$534=0),\"n. appl.\",(AQ79+AQ520+AQ532)/(AQ$76+AQ$502+AQ$506+AQ$508+AQ$513+AQ$520+AQ$522+AQ$525+AQ$532+AQ$534))","v":{"$error":"#VALUE!"}},{"$error":"#VALUE!"},{"$error":"#VALUE!"},{"$error":"#VALUE!"},{"$error":"#VALUE!"},{"$error":"#VALUE!"},{"$error":"#VALUE!"},{"$error":"#VALUE!"},{"$error":"#VALUE!"},{"$error":"#VALUE!"},{"$error":"#VALUE!"},{"$error":"#VALUE!"},{"$error":"#VALUE!"},{"$error":"#VALUE!"},{"$error":"#VALUE!"},{"$error":"#VALUE!"},{"$error":"#VALUE!"},{"$error":"#VALUE!"},{"$error":"#VALUE!"},{"$error":"#VALUE!"},{"$error":"#VALUE!"},{"$error":"#VALUE!"},{"$error":"#VALUE!"},{"$error":"#VALUE!"},{"$error":"#VALUE!"}]
[null,"96d","Total biomass fuel rate at plant level ",null,"[%]",null,{"$f":"IF(AND(G$76=0,G$502=0,G$506=0,G$508=0,G$513=0,G$520=0,G$522=0,G$525=0,G$532=0,G$534=0),\"n. appl.\",(G80+(G506*G375)+G522+G534)/(G$76+G$502+G$506+G$508+G$513+G$520+G$522+G$525+G$532+G$534))","v":{"$error":"#VALUE!"}},{"$error":"#VALUE!"},{"$error":"#VALUE!"},{"$error":"#VALUE!"},{"$error":"#VALUE!"},{"$error":"#VALUE!"},{"$error":"#VALUE!"},{"$error":"#VALUE!"},{"$error":"#VALUE!"},{"$error":"#VALUE!"},{"$error":"#VALUE!"},{"$error":"#VALUE!"},{"$error":"#VALUE!"},{"$error":"#VALUE!"},{"$error":"#VALUE!"},{"$error":"#VALUE!"},{"$error":"#VALUE!"},{"$error":"#VALUE!"},{"$error":"#VALUE!"},{"$error":"#VALUE!"},{"$error":"#VALUE!"},{"$error":"#VALUE!"},{"$error":"#VALUE!"},{"$error":"#VALUE!"},{"$error":"#VALUE!"},{"$error":"#VALUE!"},{"$error":"#VALUE!"},{"$error":"#VALUE!"},{"$error":"#VALUE!"},{"$error":"#VALUE!"},{"$error":"#VALUE!"},{"$f":"IF(AND(AL$76=0,AL$502=0,AL$506=0,AL$508=0,AL$513=0,AL$520=0,AL$522=0,AL$525=0,AL$532=0,AL$534=0),\"n. appl.\",(AL80+(AL506*AL375)+AL522+AL534)/(AL$76+AL$502+AL$506+AL$508+AL$513+AL$520+AL$522+AL$525+AL$532+AL$534))","v":{"$error":"#VALUE!"}},{"$f":"IF(AND(AM$76=0,AM$502=0,AM$506=0,AM$508=0,AM$513=0,AM$520=0,AM$522=0,AM$525=0,AM$532=0,AM$534=0),\"n. appl.\",(AM80+(AM506*AM375)+AM522+AM534)/(AM$76+AM$502+AM$506+AM$508+AM$513+AM$520+AM$522+AM$525+AM$532+AM$534))","v":{"$error":"#VALUE!"}},{"$f":"IF(AND(AN$76=0,AN$502=0,AN$506=0,AN$508=0,AN$513=0,AN$520=0,AN$522=0,AN$525=0,AN$532=0,AN$534=0),\"n. appl.\",(AN80+(AN506*AN375)+AN522+AN534)/(AN$76+AN$502+AN$506+AN$508+AN$513+AN$520+AN$522+AN$525+AN$532+AN$534))","v":{"$error":"#VALUE!"}},{"$f":"IF(AND(AO$76=0,AO$502=0,AO$506=0,AO$508=0,AO$513=0,AO$520=0,AO$522=0,AO$525=0,AO$532=0,AO$534=0),\"n. appl.\",(AO80+(AO506*AO375)+AO522+AO534)/(AO$76+AO$502+AO$506+AO$508+AO$513+AO$520+AO$522+AO$525+AO$532+AO$534))","v":{"$error":"#VALUE!"}},{"$f":"IF(AND(AP$76=0,AP$502=0,AP$506=0,AP$508=0,AP$513=0,AP$520=0,AP$522=0,AP$525=0,AP$532=0,AP$534=0),\"n. appl.\",(AP80+(AP506*AP375)+AP522+AP534)/(AP$76+AP$502+AP$506+AP$508+AP$513+AP$520+AP$522+AP$525+AP$532+AP$534))","v":{"$error":"#VALUE!"}},{"$f":"IF(AND(AQ$76=0,AQ$502=0,AQ$506=0,AQ$508=0,AQ$513=0,AQ$520=0,AQ$522=0,AQ$525=0,AQ$532=0,AQ$534=0),\"n. appl.\",(AQ80+(AQ506*AQ375)+AQ522+AQ534)/(AQ$76+AQ$502+AQ$506+AQ$508+AQ$513+AQ$520+AQ$522+AQ$525+AQ$532+AQ$534))","v":{"$error":"#VALUE!"}},{"$error":"#VALUE!"},{"$error":"#VALUE!"},{"$error":"#VALUE!"},{"$error":"#VALUE!"},{"$error":"#VALUE!"},{"$error":"#VALUE!"},{"$error":"#VALUE!"},{"$error":"#VALUE!"},{"$error":"#VALUE!"},{"$error":"#VALUE!"},{"$error":"#VALUE!"},{"$error":"#VALUE!"},{"$error":"#VALUE!"},{"$error":"#VALUE!"},{"$error":"#VALUE!"},{"$error":"#VALUE!"},{"$error":"#VALUE!"},{"$error":"#VALUE!"},{"$error":"#VALUE!"},{"$error":"#VALUE!"},{"$error":"#VALUE!"},{"$error":"#VALUE!"},{"$error":"#VALUE!"},{"$error":"#VALUE!"}]
[]
[null,{"$f":"B215+1","v":97},"Specific total power consumption*",null,"[kWh/t cem prod]",null,{"$f":"IF(G66=\"\",\"\",IF(G66=0,\"n. appl.\",G105/G66*1000))","v":""},{"$f":"IF(H66=\"\",\"\",IF(H66=0,\"n. appl.\",H105/H66*1000))","v":""},"","","","","","","","","","","","","","","","","","","","","","","","",{"$f":"IF(AG66=\"\",\"\",IF(AG66=0,\"n. appl.\",AG105/AG66*1000))","v":""},"","","","","","","","","",{"$f":"IF(AQ66=\"\",\"\",IF(AQ66=0,\"n. appl.\",AQ105/AQ66*1000))","v":""},"","","","","","","","","","","","","","","","","","","","","","","",""]
[null,98,"Specific power consumption of clinker production",null,"[kWh/t cli]",null,{"$f":"IF(G40=\"\",\"\",IF(G40=0,\"n. appl.\",G104/G40*1000))","v":{"$error":"#VALUE!"}},{"$error":"#VALUE!"},{"$error":"#VALUE!"},{"$error":"#VALUE!"},{"$error":"#VALUE!"},{"$error":"#VALUE!"},{"$error":"#VALUE!"},{"$error":"#VALUE!"},{"$error":"#VALUE!"},{"$error":"#VALUE!"},{"$error":"#VALUE!"},{"$error":"#VALUE!"},{"$error":"#VALUE!"},{"$error":"#VALUE!"},{"$error":"#VALUE!"},{"$error":"#VALUE!"},{"$error":"#VALUE!"},{"$error":"#VALUE!"},{"$error":"#VALUE!"},{"$error":"#VALUE!"},{"$error":"#VALUE!"},{"$error":"#VALUE!"},{"$error":"#VALUE!"},{"$error":"#VALUE!"},{"$error":"#VALUE!"},{"$error":"#VALUE!"},{"$error":"#VALUE!"},{"$error":"#VALUE!"},{"$error":"#VALUE!"},{"$error":"#VALUE!"},{"$error":"#VALUE!"},{"$f":"IF(AL40=\"\",\"\",IF(AL40=0,\"n. appl.\",AL104/AL40*1000))","v":{"$error":"#VALUE!"}},{"$f":"IF(AM40=\"\",\"\",IF(AM40=0,\"n. appl.\",AM104/AM40*1000))","v":{"$error":"#VALUE!"}},{"$f":"IF(AN40=\"\",\"\",IF(AN40=0,\"n. appl.\",AN104/AN40*1000))","v":{"$error":"#VALUE!"}},{"$f":"IF(AO40=\"\",\"\",IF(AO40=0,\"n. appl.\",AO104/AO40*1000))","v":{"$error":"#VALUE!"}},{"$f":"IF(AP40=\"\",\"\",IF(AP40=0,\"n. appl.\",AP104/AP40*1000))","v":{"$error":"#VALUE!"}},{"$f":"IF(AQ40=\"\",\"\",IF(AQ40=0,\"n. appl.\",AQ104/AQ40*1000))","v":{"$error":"#VALUE!"}},{"$error":"#VALUE!"},{"$error":"#VALUE!"},{"$error":"#VALUE!"},{"$error":"#VALUE!"},{"$error":"#VALUE!"},{"$error":"#VALUE!"},{"$error":"#VALUE!"},{"$error":"#VALUE!"},{"$error":"#VALUE!"},{"$error":"#VALUE!"},{"$error":"#VALUE!"},{"$error":"#VALUE!"},{"$error":"#VALUE!"},{"$error":"#VALUE!"},{"$error":"#VALUE!"},{"$error":"#VALUE!"},{"$error":"#VALUE!"},{"$error":"#VALUE!"},{"$error":"#VALUE!"},{"$error":"#VALUE!"},{"$error":"#VALUE!"},{"$error":"#VALUE!"},{"$error":"#VALUE!"},{"$error":"#VALUE!"}]
[null,"98c","Specific power consumption of cement production*",null,"[kWh/t cem prod]",null,{"$f":"IF(OR(G66=\"\",G66=0),\"n. appl.\",IF(G222<>\"n. appl.\",(G222*G210)+(G105-G104)*1000/G66,(G105-G104)*1000/G66))","v":"n. appl."},{"$f":"IF(OR(H66=\"\",H66=0),\"n. appl.\",IF(H222<>\"n. appl.\",(H222*H210)+(H105-H104)*1000/H66,(H105-H104)*1000/H66))","v":"n. appl."},"n. appl.","n. appl.","n. appl.","n. appl.","n. appl.","n. appl.","n. appl.","n. appl.","n. appl.","n. appl.","n. appl.","n. appl.","n. appl.","n. appl.","n. appl.","n. appl.","n. appl.","n. appl.","n. appl.","n. appl.","n. appl.","n. appl.","n. appl.","n. appl.","n. appl.","n. appl.","n. appl.","n. appl.","n. appl.","n. appl.","n. appl.","n. appl.","n. appl.","n. appl.",{"$f":"IF(OR(AQ66=\"\",AQ66=0),\"n. appl.\",IF(AQ222<>\"n. appl.\",(AQ222*AQ210)+(AQ105-AQ104)*1000/AQ66,(AQ105-AQ104)*1000/AQ66))","v":"n. appl."},"n. appl.","n. appl.","n. appl.","n. appl.","n. appl.","n. appl.","n. appl.","n. appl.","n. appl.","n. appl.","n. appl.","n. appl.","n. appl.","n. appl.","n. appl.","n. appl.","n. appl.","n. appl.","n. appl.","n. appl.","n. appl.","n. appl.","n. appl.","n. appl."]
[null,"98a","National energy conversion factor",null,"[MJ/kWh]"]
[null,"98b","Total energy intensity of clinker production (fuel and power)",null,"[MJ/t cli]",null,{"$f":"IF(G224<>\"\",G222*G224+G212,\"\")","v":""},"","","","","","","","","","","","","","","","","","","","","","","","","",{"$f":"IF(AG224<>\"\",AG222*AG224+AG212,\"\")","v":""},"","","","","","","","","",{"$f":"IF(AQ224<>\"\",AQ222*AQ224+AQ212,\"\")","v":""},"","","","","","","","","","","","","","","","","","","","","","","",""]
[]
["KILN FUELS - DETAILED INFORMATION"]
[]
[null,"Kiln Fuel Consumption in tonnes per year",null,null,null,null,{"$f":"G$7","v":1990},1991,1992,1993,1994,1995,1996,1997,1998,1999,2000,2001,2002,2003,2004,2005,2006,2007,2008,2009,2010,2011,2012,2013,2014,2015,2016,2017,2018,2019,2020,2021,2022,2023,2024,2025,2026,2027,2028,2029,2030,2031,2032,2033,2034,2035,2036,2037,2038,2039,2040,2041,2042,2043,2044,2045,2046,2047,2048,2049,2050]
[null,101,"Conventional fossil fuels (excl. drying of raw materials and fuels)"]
[null,{"$f":"B230+1","v":102},null,"coal + anthracite","[t/yr]",null,"SUM","SUM","SUM","SUM","SUM","SUM","SUM","SUM","SUM","SUM","SUM","SUM","SUM","SUM","SUM","SUM","SUM","SUM","SUM","SUM","SUM","SUM","SUM","SUM","SUM","SUM","SUM","SUM","SUM","SUM","SUM","SUM","SUM","SUM","SUM","SUM","SUM","SUM","SUM","SUM","SUM","SUM","SUM","SUM","SUM","SUM","SUM","SUM","SUM","SUM","SUM","SUM","SUM","SUM","SUM","SUM","SUM","SUM","SUM","SUM","SUM"]
[null,103,null,"petrol coke","[t/yr]",null,"SUM","SUM","SUM","SUM","SUM","SUM","SUM","SUM","SUM","SUM","SUM","SUM","SUM","SUM","SUM","SUM","SUM","SUM","SUM","SUM","SUM","SUM","SUM","SUM","SUM","SUM","SUM","SUM","SUM","SUM","SUM","SUM","SUM","SUM","SUM","SUM","SUM","SUM","SUM","SUM","SUM","SUM","SUM","SUM","SUM","SUM","SUM","SUM","SUM","SUM","SUM","SUM","SUM","SUM","SUM","SUM","SUM","SUM","SUM","SUM","SUM"]
[null,104,null,"(ultra) heavy fuel","[t/yr]",null,"SUM","SUM","SUM","SUM","SUM","SUM","SUM","SUM","SUM","SUM","SUM","SUM","SUM","SUM","SUM","SUM","SUM","SUM","SUM","SUM","SUM","SUM","SUM","SUM","SUM","SUM","SUM","SUM","SUM","SUM","SUM","SUM","SUM","SUM","SUM","SUM","SUM","SUM","SUM","SUM","SUM","SUM","SUM","SUM","SUM","SUM","SUM","SUM","SUM","SUM","SUM","SUM","SUM","SUM","SUM","SUM","SUM","SUM","SUM","SUM","SUM"]
[null,105,null,"diesel oil","[t/yr]",null,"SUM","SUM","SUM","SUM","SUM","SUM","SUM","SUM","SUM","SUM","SUM","SUM","SUM","SUM","SUM","SUM","SUM","SUM","SUM","SUM","SUM","SUM","SUM","SUM","SUM","SUM","SUM","SUM","SUM","SUM","SUM","SUM","SUM","SUM","SUM","SUM","SUM","SUM","SUM","SUM","SUM","SUM","SUM","SUM","SUM","SUM","SUM","SUM","SUM","SUM","SUM","SUM","SUM","SUM","SUM","SUM","SUM","SUM","SUM","SUM","SUM"]
[null,106,null,"natural gas ","[1'000 Nm3/yr]",null,"SUM","SUM","SUM","SUM","SUM","SUM","SUM","SUM","SUM","SUM","SUM","SUM","SUM","SUM","SUM","SUM","SUM","SUM","SUM","SUM","SUM","SUM","SUM","SUM","SUM","SUM","SUM","SUM","SUM","SUM","SUM","SUM","SUM","SUM","SUM","SUM","SUM","SUM","SUM","SUM","SUM","SUM","SUM","SUM","SUM","SUM","SUM","SUM","SUM","SUM","SUM","SUM","SUM","SUM","SUM","SUM","SUM","SUM","SUM","SUM","SUM"]
[null,107,null,"shale","[t/yr]",null,"SUM","SUM","SUM","SUM","SUM","SUM","SUM","SUM","SUM","SUM","SUM","SUM","SUM","SUM","SUM","SUM","SUM","SUM","SUM","SUM","SUM","SUM","SUM","SUM","SUM","SUM","SUM","SUM","SUM","SUM","SUM","SUM","SUM","SUM","SUM","SUM","SUM","SUM","SUM","SUM","SUM","SUM","SUM","SUM","SUM","SUM","SUM","SUM","SUM","SUM","SUM","SUM","SUM","SUM","SUM","SUM","SUM","SUM","SUM","SUM","SUM"]
[null,"107a",null,"lignite","[t/yr]",null,"SUM","SUM","SUM","SUM","SUM","SUM","SUM","SUM","SUM","SUM","SUM","SUM","SUM","SUM","SUM","SUM","SUM","SUM","SUM","SUM","SUM","SUM","SUM","SUM","SUM","SUM","SUM","SUM","SUM","SUM","SUM","SUM","SUM","SUM","SUM","SUM","SUM","SUM","SUM","SUM","SUM","SUM","SUM","SUM","SUM","SUM","SUM","SUM","SUM","SUM","SUM","SUM","SUM","SUM","SUM","SUM","SUM","SUM","SUM","SUM","SUM"]
[null,{"$f":"B236+1","v":108},"Alternative fossil and mixed fuels (excl. drying of raw materials and fuels)"]
[null,{"$f":"B238+1","v":109},null,"waste oil","[t/yr]",null,"SUM","SUM","SUM","SUM","SUM","SUM","SUM","SUM","SUM","SUM","SUM","SUM","SUM","SUM","SUM","SUM","SUM","SUM","SUM","SUM","SUM","SUM","SUM","SUM","SUM","SUM","SUM","SUM","SUM","SUM","SUM","SUM","SUM","SUM","SUM","SUM","SUM","SUM","SUM","SUM","SUM","SUM","SUM","SUM","SUM","SUM","SUM","SUM","SUM","SUM","SUM","SUM","SUM","SUM","SUM","SUM","SUM","SUM","SUM","SUM","SUM"]
[null,{"$f":"B239+1","v":110},null,"tyres ","[t/yr]",null,"SUM","SUM","SUM","SUM","SUM","SUM","SUM","SUM","SUM","SUM","SUM","SUM","SUM","SUM","SUM","SUM","SUM","SUM","SUM","SUM","SUM","SUM","SUM","SUM","SUM","SUM","SUM","SUM","SUM","SUM","SUM","SUM","SUM","SUM","SUM","SUM","SUM","SUM","SUM","SUM","SUM","SUM","SUM","SUM","SUM","SUM","SUM","SUM","SUM","SUM","SUM","SUM","SUM","SUM","SUM","SUM","SUM","SUM","SUM","SUM","SUM"]
[null,{"$f":"B240+1","v":111},null,"RDF including plastics","[t/yr]",null,"SUM","SUM","SUM","SUM","SUM","SUM","SUM","SUM","SUM","SUM","SUM","SUM","SUM","SUM","SUM","SUM","SUM","SUM","SUM","SUM","SUM","SUM","SUM","SUM","SUM","SUM","SUM","SUM","SUM","SUM","SUM","SUM","SUM","SUM","SUM","SUM","SUM","SUM","SUM","SUM","SUM","SUM","SUM","SUM","SUM","SUM","SUM","SUM","SUM","SUM","SUM","SUM","SUM","SUM","SUM","SUM","SUM","SUM","SUM","SUM","SUM"]
[null,{"$f":"B241+1","v":112},null,"solvents","[t/yr]",null,"SUM","SUM","SUM","SUM","SUM","SUM","SUM","SUM","SUM","SUM","SUM","SUM","SUM","SUM","SUM","SUM","SUM","SUM","SUM","SUM","SUM","SUM","SUM","SUM","SUM","SUM","SUM","SUM","SUM","SUM","SUM","SUM","SUM","SUM","SUM","SUM","SUM","SUM","SUM","SUM","SUM","SUM","SUM","SUM","SUM","SUM","SUM","SUM","SUM","SUM","SUM","SUM","SUM","SUM","SUM","SUM","SUM","SUM","SUM","SUM","SUM"]
[null,{"$f":"B242+1","v":113},null,"impregnated saw dust","[t/yr]",null,"SUM","SUM","SUM","SUM","SUM","SUM","SUM","SUM","SUM","SUM","SUM","SUM","SUM","SUM","SUM","SUM","SUM","SUM","SUM","SUM","SUM","SUM","SUM","SUM","SUM","SUM","SUM","SUM","SUM","SUM","SUM","SUM","SUM","SUM","SUM","SUM","SUM","SUM","SUM","SUM","SUM","SUM","SUM","SUM","SUM","SUM","SUM","SUM","SUM","SUM","SUM","SUM","SUM","SUM","SUM","SUM","SUM","SUM","SUM","SUM","SUM"]
[null,"113a",null,"mixed industrial waste","[t/yr]",null,"SUM","SUM","SUM","SUM","SUM","SUM","SUM","SUM","SUM","SUM","SUM","SUM","SUM","SUM","SUM","SUM","SUM","SUM","SUM","SUM","SUM","SUM","SUM","SUM","SUM","SUM","SUM","SUM","SUM","SUM","SUM","SUM","SUM","SUM","SUM","SUM","SUM","SUM","SUM","SUM","SUM","SUM","SUM","SUM","SUM","SUM","SUM","SUM","SUM","SUM","SUM","SUM","SUM","SUM","SUM","SUM","SUM","SUM","SUM","SUM","SUM"]
[null,114,null,"other fossil based wastes and mixed fuels","[t/yr]",null,"SUM","SUM","SUM","SUM","SUM","SUM","SUM","SUM","SUM","SUM","SUM","SUM","SUM","SUM","SUM","SUM","SUM","SUM","SUM","SUM","SUM","SUM","SUM","SUM","SUM","SUM","SUM","SUM","SUM","SUM","SUM","SUM","SUM","SUM","SUM","SUM","SUM","SUM","SUM","SUM","SUM","SUM","SUM","SUM","SUM","SUM","SUM","SUM","SUM","SUM","SUM","SUM","SUM","SUM","SUM","SUM","SUM","SUM","SUM","SUM","SUM"]
[null,{"$f":"B245+1","v":115},"Biomass fuels (excl. drying of raw materials and fuels)"]
[null,116,null,"dried sewage sludge","[t/yr]",null,"SUM","SUM","SUM","SUM","SUM","SUM","SUM","SUM","SUM","SUM","SUM","SUM","SUM","SUM","SUM","SUM","SUM","SUM","SUM","SUM","SUM","SUM","SUM","SUM","SUM","SUM","SUM","SUM","SUM","SUM","SUM","SUM","SUM","SUM","SUM","SUM","SUM","SUM","SUM","SUM","SUM","SUM","SUM","SUM","SUM","SUM","SUM","SUM","SUM","SUM","SUM","SUM","SUM","SUM","SUM","SUM","SUM","SUM","SUM","SUM","SUM"]
[null,117,null,"wood, non impregnated saw dust","[t/yr]",null,"SUM","SUM","SUM","SUM","SUM","SUM","SUM","SUM","SUM","SUM","SUM","SUM","SUM","SUM","SUM","SUM","SUM","SUM","SUM","SUM","SUM","SUM","SUM","SUM","SUM","SUM","SUM","SUM","SUM","SUM","SUM","SUM","SUM","SUM","SUM","SUM","SUM","SUM","SUM","SUM","SUM","SUM","SUM","SUM","SUM","SUM","SUM","SUM","SUM","SUM","SUM","SUM","SUM","SUM","SUM","SUM","SUM","SUM","SUM","SUM","SUM"]
[null,118,null,"paper, carton","[t/yr]",null,"SUM","SUM","SUM","SUM","SUM","SUM","SUM","SUM","SUM","SUM","SUM","SUM","SUM","SUM","SUM","SUM","SUM","SUM","SUM","SUM","SUM","SUM","SUM","SUM","SUM","SUM","SUM","SUM","SUM","SUM","SUM","SUM","SUM","SUM","SUM","SUM","SUM","SUM","SUM","SUM","SUM","SUM","SUM","SUM","SUM","SUM","SUM","SUM","SUM","SUM","SUM","SUM","SUM","SUM","SUM","SUM","SUM","SUM","SUM","SUM","SUM"]
[null,119,null,"animal meal","[t/yr]",null,"SUM","SUM","SUM","SUM","SUM","SUM","SUM","SUM","SUM","SUM","SUM","SUM","SUM","SUM","SUM","SUM","SUM","SUM","SUM","SUM","SUM","SUM","SUM","SUM","SUM","SUM","SUM","SUM","SUM","SUM","SUM","SUM","SUM","SUM","SUM","SUM","SUM","SUM","SUM","SUM","SUM","SUM","SUM","SUM","SUM","SUM","SUM","SUM","SUM","SUM","SUM","SUM","SUM","SUM","SUM","SUM","SUM","SUM","SUM","SUM","SUM"]
[null,120,null,"animal bone meal","[t/yr]",null,"SUM","SUM","SUM","SUM","SUM","SUM","SUM","SUM","SUM","SUM","SUM","SUM","SUM","SUM","SUM","SUM","SUM","SUM","SUM","SUM","SUM","SUM","SUM","SUM","SUM","SUM","SUM","SUM","SUM","SUM","SUM","SUM","SUM","SUM","SUM","SUM","SUM","SUM","SUM","SUM","SUM","SUM","SUM","SUM","SUM","SUM","SUM","SUM","SUM","SUM","SUM","SUM","SUM","SUM","SUM","SUM","SUM","SUM","SUM","SUM","SUM"]
[null,121,null,"animal fat","[t/yr]",null,"SUM","SUM","SUM","SUM","SUM","SUM","SUM","SUM","SUM","SUM","SUM","SUM","SUM","SUM","SUM","SUM","SUM","SUM","SUM","SUM","SUM","SUM","SUM","SUM","SUM","SUM","SUM","SUM","SUM","SUM","SUM","SUM","SUM","SUM","SUM","SUM","SUM","SUM","SUM","SUM","SUM","SUM","SUM","SUM","SUM","SUM","SUM","SUM","SUM","SUM","SUM","SUM","SUM","SUM","SUM","SUM","SUM","SUM","SUM","SUM","SUM"]
[null,122,null,"agricultural, organic, diaper waste, charcoal","[t/yr]",null,"SUM","SUM","SUM","SUM","SUM","SUM","SUM","SUM","SUM","SUM","SUM","SUM","SUM","SUM","SUM","SUM","SUM","SUM","SUM","SUM","SUM","SUM","SUM","SUM","SUM","SUM","SUM","SUM","SUM","SUM","SUM","SUM","SUM","SUM","SUM","SUM","SUM","SUM","SUM","SUM","SUM","SUM","SUM","SUM","SUM","SUM","SUM","SUM","SUM","SUM","SUM","SUM","SUM","SUM","SUM","SUM","SUM","SUM","SUM","SUM","SUM"]
[null,123,null,"other biomass","[t/yr]",null,"SUM","SUM","SUM","SUM","SUM","SUM","SUM","SUM","SUM","SUM","SUM","SUM","SUM","SUM","SUM","SUM","SUM","SUM","SUM","SUM","SUM","SUM","SUM","SUM","SUM","SUM","SUM","SUM","SUM","SUM","SUM","SUM","SUM","SUM","SUM","SUM","SUM","SUM","SUM","SUM","SUM","SUM","SUM","SUM","SUM","SUM","SUM","SUM","SUM","SUM","SUM","SUM","SUM","SUM","SUM","SUM","SUM","SUM","SUM","SUM","SUM"]
[null,"Drying of raw materials and fuels",null,null,null,null,{"$f":"G$7","v":1990},1991,1992,1993,1994,1995,1996,1997,1998,1999,2000,2001,2002,2003,2004,2005,2006,2007,2008,2009,2010,2011,2012,2013,2014,2015,2016,2017,2018,2019,2020,2021,2022,2023,2024,2025,2026,2027,2028,2029,2030,2031,2032,2033,2034,2035,2036,2037,2038,2039,2040,2041,2042,2043,2044,2045,2046,2047,2048,2049,2050]
[null,124,"Conventional fossil fuels"]
[null,"124a",null,"coal + anthracite + lignite","[t/yr]",null,"SUM","SUM","SUM","SUM","SUM","SUM","SUM","SUM","SUM","SUM","SUM","SUM","SUM","SUM","SUM","SUM","SUM","SUM","SUM","SUM","SUM","SUM","SUM","SUM","SUM","SUM","SUM","SUM","SUM","SUM","SUM","SUM","SUM","SUM","SUM","SUM","SUM","SUM","SUM","SUM","SUM","SUM","SUM","SUM","SUM","SUM","SUM","SUM","SUM","SUM","SUM","SUM","SUM","SUM","SUM","SUM","SUM","SUM","SUM","SUM","SUM"]
[null,"124b",null,"petrol coke","[t/yr]",null,"SUM","SUM","SUM","SUM","SUM","SUM","SUM","SUM","SUM","SUM","SUM","SUM","SUM","SUM","SUM","SUM","SUM","SUM","SUM","SUM","SUM","SUM","SUM","SUM","SUM","SUM","SUM","SUM","SUM","SUM","SUM","SUM","SUM","SUM","SUM","SUM","SUM","SUM","SUM","SUM","SUM","SUM","SUM","SUM","SUM","SUM","SUM","SUM","SUM","SUM","SUM","SUM","SUM","SUM","SUM","SUM","SUM","SUM","SUM","SUM","SUM"]
[null,"124c",null,"(ultra) heavy fuel","[t/yr]",null,"SUM","SUM","SUM","SUM","SUM","SUM","SUM","SUM","SUM","SUM","SUM","SUM","SUM","SUM","SUM","SUM","SUM","SUM","SUM","SUM","SUM","SUM","SUM","SUM","SUM","SUM","SUM","SUM","SUM","SUM","SUM","SUM","SUM","SUM","SUM","SUM","SUM","SUM","SUM","SUM","SUM","SUM","SUM","SUM","SUM","SUM","SUM","SUM","SUM","SUM","SUM","SUM","SUM","SUM","SUM","SUM","SUM","SUM","SUM","SUM","SUM"]
[null,"124d",null,"diesel oil","[t/yr]",null,"SUM","SUM","SUM","SUM","SUM","SUM","SUM","SUM","SUM","SUM","SUM","SUM","SUM","SUM","SUM","SUM","SUM","SUM","SUM","SUM","SUM","SUM","SUM","SUM","SUM","SUM","SUM","SUM","SUM","SUM","SUM","SUM","SUM","SUM","SUM","SUM","SUM","SUM","SUM","SUM","SUM","SUM","SUM","SUM","SUM","SUM","SUM","SUM","SUM","SUM","SUM","SUM","SUM","SUM","SUM","SUM","SUM","SUM","SUM","SUM","SUM"]
[null,"124e",null,"natural gas ","[1'000 Nm3/yr]",null,"SUM","SUM","SUM","SUM","SUM","SUM","SUM","SUM","SUM","SUM","SUM","SUM","SUM","SUM","SUM","SUM","SUM","SUM","SUM","SUM","SUM","SUM","SUM","SUM","SUM","SUM","SUM","SUM","SUM","SUM","SUM","SUM","SUM","SUM","SUM","SUM","SUM","SUM","SUM","SUM","SUM","SUM","SUM","SUM","SUM","SUM","SUM","SUM","SUM","SUM","SUM","SUM","SUM","SUM","SUM","SUM","SUM","SUM","SUM","SUM","SUM"]
[null,"124f",null,"shale","[t/yr]",null,"SUM","SUM","SUM","SUM","SUM","SUM","SUM","SUM","SUM","SUM","SUM","SUM","SUM","SUM","SUM","SUM","SUM","SUM","SUM","SUM","SUM","SUM","SUM","SUM","SUM","SUM","SUM","SUM","SUM","SUM","SUM","SUM","SUM","SUM","SUM","SUM","SUM","SUM","SUM","SUM","SUM","SUM","SUM","SUM","SUM","SUM","SUM","SUM","SUM","SUM","SUM","SUM","SUM","SUM","SUM","SUM","SUM","SUM","SUM","SUM","SUM"]
[null,125,"Alternative fossil and mixed fuels"]
[null,"125a",null,"other fossil based wastes and mixed fuels","[t/yr]",null,"SUM","SUM","SUM","SUM","SUM","SUM","SUM","SUM","SUM","SUM","SUM","SUM","SUM","SUM","SUM","SUM","SUM","SUM","SUM","SUM","SUM","SUM","SUM","SUM","SUM","SUM","SUM","SUM","SUM","SUM","SUM","SUM","SUM","SUM","SUM","SUM","SUM","SUM","SUM","SUM","SUM","SUM","SUM","SUM","SUM","SUM","SUM","SUM","SUM","SUM","SUM","SUM","SUM","SUM","SUM","SUM","SUM","SUM","SUM","SUM","SUM"]
[null,126,"Alternative biomass fuels"]
[null,"126a",null,"other biomass","[t/yr]",null,"SUM","SUM","SUM","SUM","SUM","SUM","SUM","SUM","SUM","SUM","SUM","SUM","SUM","SUM","SUM","SUM","SUM","SUM","SUM","SUM","SUM","SUM","SUM","SUM","SUM","SUM","SUM","SUM","SUM","SUM","SUM","SUM","SUM","SUM","SUM","SUM","SUM","SUM","SUM","SUM","SUM","SUM","SUM","SUM","SUM","SUM","SUM","SUM","SUM","SUM","SUM","SUM","SUM","SUM","SUM","SUM","SUM","SUM","SUM","SUM","SUM"]
[]
[null,"Fuel Lower Heating Values",null,null,null,null,{"$f":"G$7","v":1990},1991,1992,1993,1994,1995,1996,1997,1998,1999,2000,2001,2002,2003,2004,2005,2006,2007,2008,2009,2010,2011,2012,2013,2014,2015,2016,2017,2018,2019,2020,2021,2022,2023,2024,2025,2026,2027,2028,2029,2030,2031,2032,2033,2034,2035,2036,2037,2038,2039,2040,2041,2042,2043,2044,2045,2046,2047,2048,2049,2050]
[null,131,"Conventional fossil fuels"]
[null,{"$f":"B269+1","v":132},null,"coal + anthracite","[GJ/t]",null,{"$f":"IF(AND(G231=\"\",G309=\"\"),\"\",IF(G231=0,\"not appl.\",G309*1000/G231))","v":{"$error":"#VALUE!"}},{"$error":"#VALUE!"},{"$error":"#VALUE!"},{"$error":"#VALUE!"},{"$error":"#VALUE!"},{"$error":"#VALUE!"},{"$error":"#VALUE!"},{"$error":"#VALUE!"},{"$error":"#VALUE!"},{"$error":"#VALUE!"},{"$error":"#VALUE!"},{"$error":"#VALUE!"},{"$error":"#VALUE!"},{"$error":"#VALUE!"},{"$error":"#VALUE!"},{"$error":"#VALUE!"},{"$f":"IF(AND(W231=\"\",W309=\"\"),\"\",IF(W231=0,\"not appl.\",W309*1000/W231))","v":{"$error":"#VALUE!"}},{"$error":"#VALUE!"},{"$error":"#VALUE!"},{"$error":"#VALUE!"},{"$error":"#VALUE!"},{"$error":"#VALUE!"},{"$error":"#VALUE!"},{"$error":"#VALUE!"},{"$error":"#VALUE!"},{"$error":"#VALUE!"},{"$f":"IF(AND(AG231=\"\",AG309=\"\"),\"\",IF(AG231=0,\"not appl.\",AG309*1000/AG231))","v":{"$error":"#VALUE!"}},{"$error":"#VALUE!"},{"$error":"#VALUE!"},{"$error":"#VALUE!"},{"$error":"#VALUE!"},{"$f":"IF(AND(AL231=\"\",AL309=\"\"),\"\",IF(AL231=0,\"not appl.\",AL309*1000/AL231))","v":{"$error":"#VALUE!"}},{"$error":"#VALUE!"},{"$error":"#VALUE!"},{"$error":"#VALUE!"},{"$error":"#VALUE!"},{"$f":"IF(AND(AQ231=\"\",AQ309=\"\"),\"\",IF(AQ231=0,\"not appl.\",AQ309*1000/AQ231))","v":{"$error":"#VALUE!"}},{"$error":"#VALUE!"},{"$error":"#VALUE!"},{"$error":"#VALUE!"},{"$error":"#VALUE!"},{"$error":"#VALUE!"},{"$error":"#VALUE!"},{"$error":"#VALUE!"},{"$error":"#VALUE!"},{"$error":"#VALUE!"},{"$error":"#VALUE!"},{"$error":"#VALUE!"},{"$error":"#VALUE!"},{"$error":"#VALUE!"},{"$error":"#VALUE!"},{"$error":"#VALUE!"},{"$error":"#VALUE!"},{"$error":"#VALUE!"},{"$error":"#VALUE!"},{"$error":"#VALUE!"},{"$error":"#VALUE!"},{"$error":"#VALUE!"},{"$error":"#VALUE!"},{"$error":"#VALUE!"},{"$error":"#VALUE!"}]
[null,133,null,"petrol coke","[GJ/t]",null,{"$f":"IF(AND(G232=\"\",G310=\"\"),\"\",IF(G232=0,\"not appl.\",G310*1000/G232))","v":{"$error":"#VALUE!"}},{"$error":"#VALUE!"},{"$error":"#VALUE!"},{"$error":"#VALUE!"},{"$error":"#VALUE!"},{"$error":"#VALUE!"},{"$error":"#VALUE!"},{"$error":"#VALUE!"},{"$error":"#VALUE!"},{"$error":"#VALUE!"},{"$error":"#VALUE!"},{"$error":"#VALUE!"},{"$error":"#VALUE!"},{"$error":"#VALUE!"},{"$error":"#VALUE!"},{"$error":"#VALUE!"},{"$error":"#VALUE!"},{"$error":"#VALUE!"},{"$error":"#VALUE!"},{"$error":"#VALUE!"},{"$error":"#VALUE!"},{"$error":"#VALUE!"},{"$error":"#VALUE!"},{"$error":"#VALUE!"},{"$error":"#VALUE!"},{"$error":"#VALUE!"},{"$error":"#VALUE!"},{"$error":"#VALUE!"},{"$error":"#VALUE!"},{"$error":"#VALUE!"},{"$error":"#VALUE!"},{"$error":"#VALUE!"},{"$error":"#VALUE!"},{"$error":"#VALUE!"},{"$error":"#VALUE!"},{"$error":"#VALUE!"},{"$f":"IF(AND(AQ232=\"\",AQ310=\"\"),\"\",IF(AQ232=0,\"not appl.\",AQ310*1000/AQ232))","v":{"$error":"#VALUE!"}},{"$error":"#VALUE!"},{"$error":"#VALUE!"},{"$error":"#VALUE!"},{"$error":"#VALUE!"},{"$error":"#VALUE!"},{"$error":"#VALUE!"},{"$error":"#VALUE!"},{"$error":"#VALUE!"},{"$error":"#VALUE!"},{"$error":"#VALUE!"},{"$error":"#VALUE!"},{"$error":"#VALUE!"},{"$error":"#VALUE!"},{"$error":"#VALUE!"},{"$error":"#VALUE!"},{"$error":"#VALUE!"},{"$error":"#VALUE!"},{"$error":"#VALUE!"},{"$error":"#VALUE!"},{"$error":"#VALUE!"},{"$error":"#VALUE!"},{"$error":"#VALUE!"},{"$error":"#VALUE!"},{"$error":"#VALUE!"}]
[null,134,null,"(ultra) heavy fuel","[GJ/t]",null,{"$error":"#VALUE!"},{"$error":"#VALUE!"},{"$error":"#VALUE!"},{"$error":"#VALUE!"},{"$error":"#VALUE!"},{"$error":"#VALUE!"},{"$error":"#VALUE!"},{"$error":"#VALUE!"},{"$error":"#VALUE!"},{"$error":"#VALUE!"},{"$error":"#VALUE!"},{"$error":"#VALUE!"},{"$error":"#VALUE!"},{"$error":"#VALUE!"},{"$error":"#VALUE!"},{"$error":"#VALUE!"},{"$error":"#VALUE!"},{"$error":"#VALUE!"},{"$error":"#VALUE!"},{"$error":"#VALUE!"},{"$error":"#VALUE!"},{"$error":"#VALUE!"},{"$error":"#VALUE!"},{"$error":"#VALUE!"},{"$error":"#VALUE!"},{"$error":"#VALUE!"},{"$error":"#VALUE!"},{"$error":"#VALUE!"},{"$error":"#VALUE!"},{"$error":"#VALUE!"},{"$error":"#VALUE!"},{"$error":"#VALUE!"},{"$error":"#VALUE!"},{"$error":"#VALUE!"},{"$error":"#VALUE!"},{"$error":"#VALUE!"},{"$f":"IF(AND(AQ233=\"\",AQ311=\"\"),\"\",IF(AQ233=0,\"not appl.\",AQ311*1000/AQ233))","v":{"$error":"#VALUE!"}},{"$error":"#VALUE!"},{"$error":"#VALUE!"},{"$error":"#VALUE!"},{"$error":"#VALUE!"},{"$error":"#VALUE!"},{"$error":"#VALUE!"},{"$error":"#VALUE!"},{"$error":"#VALUE!"},{"$error":"#VALUE!"},{"$error":"#VALUE!"},{"$error":"#VALUE!"},{"$error":"#VALUE!"},{"$error":"#VALUE!"},{"$error":"#VALUE!"},{"$error":"#VALUE!"},{"$error":"#VALUE!"},{"$error":"#VALUE!"},{"$error":"#VALUE!"},{"$error":"#VALUE!"},{"$error":"#VALUE!"},{"$error":"#VALUE!"},{"$error":"#VALUE!"},{"$error":"#VALUE!"},{"$error":"#VALUE!"}]
[null,135,null,"diesel oil","[GJ/t]",null,{"$error":"#VALUE!"},{"$error":"#VALUE!"},{"$error":"#VALUE!"},{"$error":"#VALUE!"},{"$error":"#VALUE!"},{"$error":"#VALUE!"},{"$error":"#VALUE!"},{"$error":"#VALUE!"},{"$error":"#VALUE!"},{"$error":"#VALUE!"},{"$error":"#VALUE!"},{"$error":"#VALUE!"},{"$error":"#VALUE!"},{"$error":"#VALUE!"},{"$error":"#VALUE!"},{"$error":"#VALUE!"},{"$error":"#VALUE!"},{"$error":"#VALUE!"},{"$error":"#VALUE!"},{"$error":"#VALUE!"},{"$error":"#VALUE!"},{"$error":"#VALUE!"},{"$error":"#VALUE!"},{"$error":"#VALUE!"},{"$error":"#VALUE!"},{"$error":"#VALUE!"},{"$error":"#VALUE!"},{"$error":"#VALUE!"},{"$error":"#VALUE!"},{"$error":"#VALUE!"},{"$error":"#VALUE!"},{"$error":"#VALUE!"},{"$error":"#VALUE!"},{"$error":"#VALUE!"},{"$error":"#VALUE!"},{"$error":"#VALUE!"},{"$f":"IF(AND(AQ234=\"\",AQ312=\"\"),\"\",IF(AQ234=0,\"not appl.\",AQ312*1000/AQ234))","v":{"$error":"#VALUE!"}},{"$error":"#VALUE!"},{"$error":"#VALUE!"},{"$error":"#VALUE!"},{"$error":"#VALUE!"},{"$error":"#VALUE!"},{"$error":"#VALUE!"},{"$error":"#VALUE!"},{"$error":"#VALUE!"},{"$error":"#VALUE!"},{"$error":"#VALUE!"},{"$error":"#VALUE!"},{"$error":"#VALUE!"},{"$error":"#VALUE!"},{"$error":"#VALUE!"},{"$error":"#VALUE!"},{"$error":"#VALUE!"},{"$error":"#VALUE!"},{"$error":"#VALUE!"},{"$error":"#VALUE!"},{"$error":"#VALUE!"},{"$error":"#VALUE!"},{"$error":"#VALUE!"},{"$error":"#VALUE!"},{"$error":"#VALUE!"}]
[null,136,null,"natural gas ","[GJ/1'000 Nm3]",null,{"$error":"#VALUE!"},{"$error":"#VALUE!"},{"$error":"#VALUE!"},{"$error":"#VALUE!"},{"$error":"#VALUE!"},{"$error":"#VALUE!"},{"$error":"#VALUE!"},{"$error":"#VALUE!"},{"$error":"#VALUE!"},{"$error":"#VALUE!"},{"$error":"#VALUE!"},{"$error":"#VALUE!"},{"$error":"#VALUE!"},{"$error":"#VALUE!"},{"$error":"#VALUE!"},{"$error":"#VALUE!"},{"$error":"#VALUE!"},{"$error":"#VALUE!"},{"$error":"#VALUE!"},{"$error":"#VALUE!"},{"$error":"#VALUE!"},{"$error":"#VALUE!"},{"$error":"#VALUE!"},{"$error":"#VALUE!"},{"$error":"#VALUE!"},{"$error":"#VALUE!"},{"$error":"#VALUE!"},{"$error":"#VALUE!"},{"$error":"#VALUE!"},{"$error":"#VALUE!"},{"$error":"#VALUE!"},{"$error":"#VALUE!"},{"$error":"#VALUE!"},{"$error":"#VALUE!"},{"$error":"#VALUE!"},{"$error":"#VALUE!"},{"$f":"IF(AND(AQ235=\"\",AQ313=\"\"),\"\",IF(AQ235=0,\"not appl.\",AQ313*1000/AQ235))","v":{"$error":"#VALUE!"}},{"$error":"#VALUE!"},{"$error":"#VALUE!"},{"$error":"#VALUE!"},{"$error":"#VALUE!"},{"$error":"#VALUE!"},{"$error":"#VALUE!"},{"$error":"#VALUE!"},{"$error":"#VALUE!"},{"$error":"#VALUE!"},{"$error":"#VALUE!"},{"$error":"#VALUE!"},{"$error":"#VALUE!"},{"$error":"#VALUE!"},{"$error":"#VALUE!"},{"$error":"#VALUE!"},{"$error":"#VALUE!"},{"$error":"#VALUE!"},{"$error":"#VALUE!"},{"$error":"#VALUE!"},{"$error":"#VALUE!"},{"$error":"#VALUE!"},{"$error":"#VALUE!"},{"$error":"#VALUE!"},{"$error":"#VALUE!"}]
[null,137,null,"shale","[GJ/t]",null,{"$error":"#VALUE!"},{"$error":"#VALUE!"},{"$error":"#VALUE!"},{"$error":"#VALUE!"},{"$error":"#VALUE!"},{"$error":"#VALUE!"},{"$error":"#VALUE!"},{"$error":"#VALUE!"},{"$error":"#VALUE!"},{"$error":"#VALUE!"},{"$error":"#VALUE!"},{"$error":"#VALUE!"},{"$error":"#VALUE!"},{"$error":"#VALUE!"},{"$error":"#VALUE!"},{"$error":"#VALUE!"},{"$error":"#VALUE!"},{"$error":"#VALUE!"},{"$error":"#VALUE!"},{"$error":"#VALUE!"},{"$error":"#VALUE!"},{"$error":"#VALUE!"},{"$error":"#VALUE!"},{"$error":"#VALUE!"},{"$error":"#VALUE!"},{"$error":"#VALUE!"},{"$error":"#VALUE!"},{"$error":"#VALUE!"},{"$error":"#VALUE!"},{"$error":"#VALUE!"},{"$error":"#VALUE!"},{"$error":"#VALUE!"},{"$error":"#VALUE!"},{"$error":"#VALUE!"},{"$error":"#VALUE!"},{"$error":"#VALUE!"},{"$f":"IF(AND(AQ236=\"\",AQ314=\"\"),\"\",IF(AQ236=0,\"not appl.\",AQ314*1000/AQ236))","v":{"$error":"#VALUE!"}},{"$error":"#VALUE!"},{"$error":"#VALUE!"},{"$error":"#VALUE!"},{"$error":"#VALUE!"},{"$error":"#VALUE!"},{"$error":"#VALUE!"},{"$error":"#VALUE!"},{"$error":"#VALUE!"},{"$error":"#VALUE!"},{"$error":"#VALUE!"},{"$error":"#VALUE!"},{"$error":"#VALUE!"},{"$error":"#VALUE!"},{"$error":"#VALUE!"},{"$error":"#VALUE!"},{"$error":"#VALUE!"},{"$error":"#VALUE!"},{"$error":"#VALUE!"},{"$error":"#VALUE!"},{"$error":"#VALUE!"},{"$error":"#VALUE!"},{"$error":"#VALUE!"},{"$error":"#VALUE!"},{"$error":"#VALUE!"}]
[null,"137a",null,"lignite","[GJ/t]",null,{"$error":"#VALUE!"},{"$error":"#VALUE!"},{"$error":"#VALUE!"},{"$error":"#VALUE!"},{"$error":"#VALUE!"},{"$error":"#VALUE!"},{"$error":"#VALUE!"},{"$error":"#VALUE!"},{"$error":"#VALUE!"},{"$error":"#VALUE!"},{"$error":"#VALUE!"},{"$error":"#VALUE!"},{"$error":"#VALUE!"},{"$error":"#VALUE!"},{"$error":"#VALUE!"},{"$error":"#VALUE!"},{"$error":"#VALUE!"},{"$error":"#VALUE!"},{"$error":"#VALUE!"},{"$error":"#VALUE!"},{"$error":"#VALUE!"},{"$error":"#VALUE!"},{"$error":"#VALUE!"},{"$error":"#VALUE!"},{"$error":"#VALUE!"},{"$error":"#VALUE!"},{"$error":"#VALUE!"},{"$error":"#VALUE!"},{"$error":"#VALUE!"},{"$error":"#VALUE!"},{"$error":"#VALUE!"},{"$error":"#VALUE!"},{"$error":"#VALUE!"},{"$error":"#VALUE!"},{"$error":"#VALUE!"},{"$error":"#VALUE!"},{"$f":"IF(AND(AQ237=\"\",AQ315=\"\"),\"\",IF(AQ237=0,\"not appl.\",AQ315*1000/AQ237))","v":{"$error":"#VALUE!"}},{"$error":"#VALUE!"},{"$error":"#VALUE!"},{"$error":"#VALUE!"},{"$error":"#VALUE!"},{"$error":"#VALUE!"},{"$error":"#VALUE!"},{"$error":"#VALUE!"},{"$error":"#VALUE!"},{"$error":"#VALUE!"},{"$error":"#VALUE!"},{"$error":"#VALUE!"},{"$error":"#VALUE!"},{"$error":"#VALUE!"},{"$error":"#VALUE!"},{"$error":"#VALUE!"},{"$error":"#VALUE!"},{"$error":"#VALUE!"},{"$error":"#VALUE!"},{"$error":"#VALUE!"},{"$error":"#VALUE!"},{"$error":"#VALUE!"},{"$error":"#VALUE!"},{"$error":"#VALUE!"},{"$error":"#VALUE!"}]
[null,{"$f":"B275+1","v":138},"Alternative fossil and mixed fuels"]
[null,{"$f":"B277+1","v":139},null,"waste oil","[GJ/t]"]
[null,{"$f":"B278+1","v":140},null,"tyres","[GJ/t]"]
[null,{"$f":"B279+1","v":141},null,"RDF including plastics","[GJ/t]"]
[null,{"$f":"B280+1","v":142},null,"solvents","[GJ/t]"]
[null,{"$f":"B281+1","v":143},null,"impregnated saw dust","[GJ/t]"]
[null,"143a",null,"mixed industrial waste","[GJ/t]"]
[null,144,null,"other fossil based wastes and mixed fuels","[GJ/t]"]
[null,{"$f":"B284+1","v":145},"Biomass fuels"]
[null,146,null,"sewage sludge","[GJ/t]",null,{"$f":"IF(AND(G247=\"\",G325=\"\"),\"\",IF(G247=0,\"not appl.\",G325*1000/G247))","v":{"$error":"#VALUE!"}},{"$error":"#VALUE!"},{"$error":"#VALUE!"},{"$error":"#VALUE!"},{"$error":"#VALUE!"},{"$error":"#VALUE!"},{"$error":"#VALUE!"},{"$error":"#VALUE!"},{"$error":"#VALUE!"},{"$error":"#VALUE!"},{"$error":"#VALUE!"},{"$error":"#VALUE!"},{"$error":"#VALUE!"},{"$error":"#VALUE!"},{"$error":"#VALUE!"},{"$error":"#VALUE!"},{"$f":"IF(AND(W247=\"\",W325=\"\"),\"\",IF(W247=0,\"not appl.\",W325*1000/W247))","v":{"$error":"#VALUE!"}},{"$error":"#VALUE!"},{"$error":"#VALUE!"},{"$error":"#VALUE!"},{"$error":"#VALUE!"},{"$error":"#VALUE!"},{"$error":"#VALUE!"},{"$error":"#VALUE!"},{"$error":"#VALUE!"},{"$error":"#VALUE!"},{"$f":"IF(AND(AG247=\"\",AG325=\"\"),\"\",IF(AG247=0,\"not appl.\",AG325*1000/AG247))","v":{"$error":"#VALUE!"}},{"$error":"#VALUE!"},{"$error":"#VALUE!"},{"$error":"#VALUE!"},{"$error":"#VALUE!"},{"$f":"IF(AND(AL247=\"\",AL325=\"\"),\"\",IF(AL247=0,\"not appl.\",AL325*1000/AL247))","v":{"$error":"#VALUE!"}},{"$error":"#VALUE!"},{"$error":"#VALUE!"},{"$error":"#VALUE!"},{"$error":"#VALUE!"},{"$f":"IF(AND(AQ247=\"\",AQ325=\"\"),\"\",IF(AQ247=0,\"not appl.\",AQ325*1000/AQ247))","v":{"$error":"#VALUE!"}},{"$error":"#VALUE!"},{"$error":"#VALUE!"},{"$error":"#VALUE!"},{"$error":"#VALUE!"},{"$error":"#VALUE!"},{"$error":"#VALUE!"},{"$error":"#VALUE!"},{"$error":"#VALUE!"},{"$error":"#VALUE!"},{"$error":"#VALUE!"},{"$error":"#VALUE!"},{"$error":"#VALUE!"},{"$error":"#VALUE!"},{"$error":"#VALUE!"},{"$error":"#VALUE!"},{"$error":"#VALUE!"},{"$error":"#VALUE!"},{"$error":"#VALUE!"},{"$error":"#VALUE!"},{"$error":"#VALUE!"},{"$error":"#VALUE!"},{"$error":"#VALUE!"},{"$error":"#VALUE!"},{"$error":"#VALUE!"}]
[null,147,null,"wood, non impregnated saw dust","[GJ/t]",null,{"$f":"IF(AND(G248=\"\",G326=\"\"),\"\",IF(G248=0,\"not appl.\",G326*1000/G248))","v":{"$error":"#VALUE!"}},{"$error":"#VALUE!"},{"$error":"#VALUE!"},{"$error":"#VALUE!"},{"$error":"#VALUE!"},{"$error":"#VALUE!"},{"$error":"#VALUE!"},{"$error":"#VALUE!"},{"$error":"#VALUE!"},{"$error":"#VALUE!"},{"$error":"#VALUE!"},{"$error":"#VALUE!"},{"$error":"#VALUE!"},{"$error":"#VALUE!"},{"$error":"#VALUE!"},{"$error":"#VALUE!"},{"$error":"#VALUE!"},{"$error":"#VALUE!"},{"$error":"#VALUE!"},{"$error":"#VALUE!"},{"$error":"#VALUE!"},{"$error":"#VALUE!"},{"$error":"#VALUE!"},{"$error":"#VALUE!"},{"$error":"#VALUE!"},{"$error":"#VALUE!"},{"$error":"#VALUE!"},{"$error":"#VALUE!"},{"$error":"#VALUE!"},{"$error":"#VALUE!"},{"$error":"#VALUE!"},{"$error":"#VALUE!"},{"$error":"#VALUE!"},{"$error":"#VALUE!"},{"$error":"#VALUE!"},{"$error":"#VALUE!"},{"$f":"IF(AND(AQ248=\"\",AQ326=\"\"),\"\",IF(AQ248=0,\"not appl.\",AQ326*1000/AQ248))","v":{"$error":"#VALUE!"}},{"$error":"#VALUE!"},{"$error":"#VALUE!"},{"$error":"#VALUE!"},{"$error":"#VALUE!"},{"$error":"#VALUE!"},{"$error":"#VALUE!"},{"$error":"#VALUE!"},{"$error":"#VALUE!"},{"$error":"#VALUE!"},{"$error":"#VALUE!"},{"$error":"#VALUE!"},{"$error":"#VALUE!"},{"$error":"#VALUE!"},{"$error":"#VALUE!"},{"$error":"#VALUE!"},{"$error":"#VALUE!"},{"$error":"#VALUE!"},{"$error":"#VALUE!"},{"$error":"#VALUE!"},{"$error":"#VALUE!"},{"$error":"#VALUE!"},{"$error":"#VALUE!"},{"$error":"#VALUE!"},{"$error":"#VALUE!"}]
[null,148,null,"paper, carton","[GJ/t]",null,{"$error":"#VALUE!"},{"$error":"#VALUE!"},{"$error":"#VALUE!"},{"$error":"#VALUE!"},{"$error":"#VALUE!"},{"$error":"#VALUE!"},{"$error":"#VALUE!"},{"$error":"#VALUE!"},{"$error":"#VALUE!"},{"$error":"#VALUE!"},{"$error":"#VALUE!"},{"$error":"#VALUE!"},{"$error":"#VALUE!"},{"$error":"#VALUE!"},{"$error":"#VALUE!"},{"$error":"#VALUE!"},{"$error":"#VALUE!"},{"$error":"#VALUE!"},{"$error":"#VALUE!"},{"$error":"#VALUE!"},{"$error":"#VALUE!"},{"$error":"#VALUE!"},{"$error":"#VALUE!"},{"$error":"#VALUE!"},{"$error":"#VALUE!"},{"$error":"#VALUE!"},{"$error":"#VALUE!"},{"$error":"#VALUE!"},{"$error":"#VALUE!"},{"$error":"#VALUE!"},{"$error":"#VALUE!"},{"$error":"#VALUE!"},{"$error":"#VALUE!"},{"$error":"#VALUE!"},{"$error":"#VALUE!"},{"$error":"#VALUE!"},{"$f":"IF(AND(AQ249=\"\",AQ327=\"\"),\"\",IF(AQ249=0,\"not appl.\",AQ327*1000/AQ249))","v":{"$error":"#VALUE!"}},{"$error":"#VALUE!"},{"$error":"#VALUE!"},{"$error":"#VALUE!"},{"$error":"#VALUE!"},{"$error":"#VALUE!"},{"$error":"#VALUE!"},{"$error":"#VALUE!"},{"$error":"#VALUE!"},{"$error":"#VALUE!"},{"$error":"#VALUE!"},{"$error":"#VALUE!"},{"$error":"#VALUE!"},{"$error":"#VALUE!"},{"$error":"#VALUE!"},{"$error":"#VALUE!"},{"$error":"#VALUE!"},{"$error":"#VALUE!"},{"$error":"#VALUE!"},{"$error":"#VALUE!"},{"$error":"#VALUE!"},{"$error":"#VALUE!"},{"$error":"#VALUE!"},{"$error":"#VALUE!"},{"$error":"#VALUE!"}]
[null,149,null,"animal meal","[GJ/t]",null,{"$error":"#VALUE!"},{"$error":"#VALUE!"},{"$error":"#VALUE!"},{"$error":"#VALUE!"},{"$error":"#VALUE!"},{"$error":"#VALUE!"},{"$error":"#VALUE!"},{"$error":"#VALUE!"},{"$error":"#VALUE!"},{"$error":"#VALUE!"},{"$error":"#VALUE!"},{"$error":"#VALUE!"},{"$error":"#VALUE!"},{"$error":"#VALUE!"},{"$error":"#VALUE!"},{"$error":"#VALUE!"},{"$error":"#VALUE!"},{"$error":"#VALUE!"},{"$error":"#VALUE!"},{"$error":"#VALUE!"},{"$error":"#VALUE!"},{"$error":"#VALUE!"},{"$error":"#VALUE!"},{"$error":"#VALUE!"},{"$error":"#VALUE!"},{"$error":"#VALUE!"},{"$error":"#VALUE!"},{"$error":"#VALUE!"},{"$error":"#VALUE!"},{"$error":"#VALUE!"},{"$error":"#VALUE!"},{"$error":"#VALUE!"},{"$error":"#VALUE!"},{"$error":"#VALUE!"},{"$error":"#VALUE!"},{"$error":"#VALUE!"},{"$f":"IF(AND(AQ250=\"\",AQ328=\"\"),\"\",IF(AQ250=0,\"not appl.\",AQ328*1000/AQ250))","v":{"$error":"#VALUE!"}},{"$error":"#VALUE!"},{"$error":"#VALUE!"},{"$error":"#VALUE!"},{"$error":"#VALUE!"},{"$error":"#VALUE!"},{"$error":"#VALUE!"},{"$error":"#VALUE!"},{"$error":"#VALUE!"},{"$error":"#VALUE!"},{"$error":"#VALUE!"},{"$error":"#VALUE!"},{"$error":"#VALUE!"},{"$error":"#VALUE!"},{"$error":"#VALUE!"},{"$error":"#VALUE!"},{"$error":"#VALUE!"},{"$error":"#VALUE!"},{"$error":"#VALUE!"},{"$error":"#VALUE!"},{"$error":"#VALUE!"},{"$error":"#VALUE!"},{"$error":"#VALUE!"},{"$error":"#VALUE!"},{"$error":"#VALUE!"}]
[null,150,null,"animal bone meal","[GJ/t]",null,{"$error":"#VALUE!"},{"$error":"#VALUE!"},{"$error":"#VALUE!"},{"$error":"#VALUE!"},{"$error":"#VALUE!"},{"$error":"#VALUE!"},{"$error":"#VALUE!"},{"$error":"#VALUE!"},{"$error":"#VALUE!"},{"$error":"#VALUE!"},{"$error":"#VALUE!"},{"$error":"#VALUE!"},{"$error":"#VALUE!"},{"$error":"#VALUE!"},{"$error":"#VALUE!"},{"$error":"#VALUE!"},{"$error":"#VALUE!"},{"$error":"#VALUE!"},{"$error":"#VALUE!"},{"$error":"#VALUE!"},{"$error":"#VALUE!"},{"$error":"#VALUE!"},{"$error":"#VALUE!"},{"$error":"#VALUE!"},{"$error":"#VALUE!"},{"$error":"#VALUE!"},{"$error":"#VALUE!"},{"$error":"#VALUE!"},{"$error":"#VALUE!"},{"$error":"#VALUE!"},{"$error":"#VALUE!"},{"$error":"#VALUE!"},{"$error":"#VALUE!"},{"$error":"#VALUE!"},{"$error":"#VALUE!"},{"$error":"#VALUE!"},{"$f":"IF(AND(AQ251=\"\",AQ329=\"\"),\"\",IF(AQ251=0,\"not appl.\",AQ329*1000/AQ251))","v":{"$error":"#VALUE!"}},{"$error":"#VALUE!"},{"$error":"#VALUE!"},{"$error":"#VALUE!"},{"$error":"#VALUE!"},{"$error":"#VALUE!"},{"$error":"#VALUE!"},{"$error":"#VALUE!"},{"$error":"#VALUE!"},{"$error":"#VALUE!"},{"$error":"#VALUE!"},{"$error":"#VALUE!"},{"$error":"#VALUE!"},{"$error":"#VALUE!"},{"$error":"#VALUE!"},{"$error":"#VALUE!"},{"$error":"#VALUE!"},{"$error":"#VALUE!"},{"$error":"#VALUE!"},{"$error":"#VALUE!"},{"$error":"#VALUE!"},{"$error":"#VALUE!"},{"$error":"#VALUE!"},{"$error":"#VALUE!"},{"$error":"#VALUE!"}]
[null,151,null,"animal fat","[GJ/t]",null,{"$error":"#VALUE!"},{"$error":"#VALUE!"},{"$error":"#VALUE!"},{"$error":"#VALUE!"},{"$error":"#VALUE!"},{"$error":"#VALUE!"},{"$error":"#VALUE!"},{"$error":"#VALUE!"},{"$error":"#VALUE!"},{"$error":"#VALUE!"},{"$error":"#VALUE!"},{"$error":"#VALUE!"},{"$error":"#VALUE!"},{"$error":"#VALUE!"},{"$error":"#VALUE!"},{"$error":"#VALUE!"},{"$error":"#VALUE!"},{"$error":"#VALUE!"},{"$error":"#VALUE!"},{"$error":"#VALUE!"},{"$error":"#VALUE!"},{"$error":"#VALUE!"},{"$error":"#VALUE!"},{"$error":"#VALUE!"},{"$error":"#VALUE!"},{"$error":"#VALUE!"},{"$error":"#VALUE!"},{"$error":"#VALUE!"},{"$error":"#VALUE!"},{"$error":"#VALUE!"},{"$error":"#VALUE!"},{"$error":"#VALUE!"},{"$error":"#VALUE!"},{"$error":"#VALUE!"},{"$error":"#VALUE!"},{"$error":"#VALUE!"},{"$f":"IF(AND(AQ252=\"\",AQ330=\"\"),\"\",IF(AQ252=0,\"not appl.\",AQ330*1000/AQ252))","v":{"$error":"#VALUE!"}},{"$error":"#VALUE!"},{"$error":"#VALUE!"},{"$error":"#VALUE!"},{"$error":"#VALUE!"},{"$error":"#VALUE!"},{"$error":"#VALUE!"},{"$error":"#VALUE!"},{"$error":"#VALUE!"},{"$error":"#VALUE!"},{"$error":"#VALUE!"},{"$error":"#VALUE!"},{"$error":"#VALUE!"},{"$error":"#VALUE!"},{"$error":"#VALUE!"},{"$error":"#VALUE!"},{"$error":"#VALUE!"},{"$error":"#VALUE!"},{"$error":"#VALUE!"},{"$error":"#VALUE!"},{"$error":"#VALUE!"},{"$error":"#VALUE!"},{"$error":"#VALUE!"},{"$error":"#VALUE!"},{"$error":"#VALUE!"}]
[null,152,null,"agricultural, organic, diaper waste, charcoal","[GJ/t]",null,{"$error":"#VALUE!"},{"$error":"#VALUE!"},{"$error":"#VALUE!"},{"$error":"#VALUE!"},{"$error":"#VALUE!"},{"$error":"#VALUE!"},{"$error":"#VALUE!"},{"$error":"#VALUE!"},{"$error":"#VALUE!"},{"$error":"#VALUE!"},{"$error":"#VALUE!"},{"$error":"#VALUE!"},{"$error":"#VALUE!"},{"$error":"#VALUE!"},{"$error":"#VALUE!"},{"$error":"#VALUE!"},{"$error":"#VALUE!"},{"$error":"#VALUE!"},{"$error":"#VALUE!"},{"$error":"#VALUE!"},{"$error":"#VALUE!"},{"$error":"#VALUE!"},{"$error":"#VALUE!"},{"$error":"#VALUE!"},{"$error":"#VALUE!"},{"$error":"#VALUE!"},{"$error":"#VALUE!"},{"$error":"#VALUE!"},{"$error":"#VALUE!"},{"$error":"#VALUE!"},{"$error":"#VALUE!"},{"$error":"#VALUE!"},{"$error":"#VALUE!"},{"$error":"#VALUE!"},{"$error":"#VALUE!"},{"$error":"#VALUE!"},{"$f":"IF(AND(AQ253=\"\",AQ331=\"\"),\"\",IF(AQ253=0,\"not appl.\",AQ331*1000/AQ253))","v":{"$error":"#VALUE!"}},{"$error":"#VALUE!"},{"$error":"#VALUE!"},{"$error":"#VALUE!"},{"$error":"#VALUE!"},{"$error":"#VALUE!"},{"$error":"#VALUE!"},{"$error":"#VALUE!"},{"$error":"#VALUE!"},{"$error":"#VALUE!"},{"$error":"#VALUE!"},{"$error":"#VALUE!"},{"$error":"#VALUE!"},{"$error":"#VALUE!"},{"$error":"#VALUE!"},{"$error":"#VALUE!"},{"$error":"#VALUE!"},{"$error":"#VALUE!"},{"$error":"#VALUE!"},{"$error":"#VALUE!"},{"$error":"#VALUE!"},{"$error":"#VALUE!"},{"$error":"#VALUE!"},{"$error":"#VALUE!"},{"$error":"#VALUE!"}]
[null,153,null,"other biomass","[GJ/t]",null,{"$error":"#VALUE!"},{"$error":"#VALUE!"},{"$error":"#VALUE!"},{"$error":"#VALUE!"},{"$error":"#VALUE!"},{"$error":"#VALUE!"},{"$error":"#VALUE!"},{"$error":"#VALUE!"},{"$error":"#VALUE!"},{"$error":"#VALUE!"},{"$error":"#VALUE!"},{"$error":"#VALUE!"},{"$error":"#VALUE!"},{"$error":"#VALUE!"},{"$error":"#VALUE!"},{"$error":"#VALUE!"},{"$error":"#VALUE!"},{"$error":"#VALUE!"},{"$error":"#VALUE!"},{"$error":"#VALUE!"},{"$error":"#VALUE!"},{"$error":"#VALUE!"},{"$error":"#VALUE!"},{"$error":"#VALUE!"},{"$error":"#VALUE!"},{"$error":"#VALUE!"},{"$error":"#VALUE!"},{"$error":"#VALUE!"},{"$error":"#VALUE!"},{"$error":"#VALUE!"},{"$error":"#VALUE!"},{"$error":"#VALUE!"},{"$error":"#VALUE!"},{"$error":"#VALUE!"},{"$error":"#VALUE!"},{"$error":"#VALUE!"},{"$f":"IF(AND(AQ254=\"\",AQ332=\"\"),\"\",IF(AQ254=0,\"not appl.\",AQ332*1000/AQ254))","v":{"$error":"#VALUE!"}},{"$error":"#VALUE!"},{"$error":"#VALUE!"},{"$error":"#VALUE!"},{"$error":"#VALUE!"},{"$error":"#VALUE!"},{"$error":"#VALUE!"},{"$error":"#VALUE!"},{"$error":"#VALUE!"},{"$error":"#VALUE!"},{"$error":"#VALUE!"},{"$error":"#VALUE!"},{"$error":"#VALUE!"},{"$error":"#VALUE!"},{"$error":"#VALUE!"},{"$error":"#VALUE!"},{"$error":"#VALUE!"},{"$error":"#VALUE!"},{"$error":"#VALUE!"},{"$error":"#VALUE!"},{"$error":"#VALUE!"},{"$error":"#VALUE!"},{"$error":"#VALUE!"},{"$error":"#VALUE!"},{"$error":"#VALUE!"}]
[null,"Drying of raw materials and fuels",null,null,null,null,{"$f":"G$7","v":1990},1991,1992,1993,1994,1995,1996,1997,1998,1999,2000,2001,2002,2003,2004,2005,2006,2007,2008,2009,2010,2011,2012,2013,2014,2015,2016,2017,2018,2019,2020,2021,2022,2023,2024,2025,2026,2027,2028,2029,2030,2031,2032,2033,2034,2035,2036,2037,2038,2039,2040,2041,2042,2043,2044,2045,2046,2047,2048,2049,2050]
[null,154,"Conventional fossil fuels"]
[null,"154a",null,"coal + anthracite","[GJ/t]",null,{"$f":"IF(AND(G257=\"\",G336=\"\"),\"\",IF(G257=0,\"not appl.\",G336*1000/G257))","v":{"$error":"#VALUE!"}},{"$f":"IF(AND(H257=\"\",H336=\"\"),\"\",IF(H257=0,\"not appl.\",H336*1000/H257))","v":{"$error":"#VALUE!"}},{"$error":"#VALUE!"},{"$error":"#VALUE!"},{"$error":"#VALUE!"},{"$error":"#VALUE!"},{"$error":"#VALUE!"},{"$error":"#VALUE!"},{"$error":"#VALUE!"},{"$error":"#VALUE!"},{"$error":"#VALUE!"},{"$error":"#VALUE!"},{"$error":"#VALUE!"},{"$error":"#VALUE!"},{"$error":"#VALUE!"},{"$error":"#VALUE!"},{"$error":"#VALUE!"},{"$error":"#VALUE!"},{"$error":"#VALUE!"},{"$error":"#VALUE!"},{"$error":"#VALUE!"},{"$error":"#VALUE!"},{"$error":"#VALUE!"},{"$error":"#VALUE!"},{"$error":"#VALUE!"},{"$error":"#VALUE!"},{"$f":"IF(AND(AG257=\"\",AG336=\"\"),\"\",IF(AG257=0,\"not appl.\",AG336*1000/AG257))","v":{"$error":"#VALUE!"}},{"$error":"#VALUE!"},{"$error":"#VALUE!"},{"$error":"#VALUE!"},{"$error":"#VALUE!"},{"$f":"IF(AND(AL257=\"\",AL336=\"\"),\"\",IF(AL257=0,\"not appl.\",AL336*1000/AL257))","v":{"$error":"#VALUE!"}},{"$error":"#VALUE!"},{"$error":"#VALUE!"},{"$error":"#VALUE!"},{"$error":"#VALUE!"},{"$f":"IF(AND(AQ257=\"\",AQ336=\"\"),\"\",IF(AQ257=0,\"not appl.\",AQ336*1000/AQ257))","v":{"$error":"#VALUE!"}},{"$error":"#VALUE!"},{"$error":"#VALUE!"},{"$error":"#VALUE!"},{"$error":"#VALUE!"},{"$error":"#VALUE!"},{"$error":"#VALUE!"},{"$error":"#VALUE!"},{"$error":"#VALUE!"},{"$error":"#VALUE!"},{"$error":"#VALUE!"},{"$error":"#VALUE!"},{"$error":"#VALUE!"},{"$error":"#VALUE!"},{"$error":"#VALUE!"},{"$error":"#VALUE!"},{"$error":"#VALUE!"},{"$error":"#VALUE!"},{"$error":"#VALUE!"},{"$error":"#VALUE!"},{"$error":"#VALUE!"},{"$error":"#VALUE!"},{"$error":"#VALUE!"},{"$error":"#VALUE!"},{"$error":"#VALUE!"}]
[null,"154b",null,"petrol coke","[GJ/t]",null,{"$error":"#VALUE!"},{"$f":"IF(AND(H258=\"\",H337=\"\"),\"\",IF(H258=0,\"not appl.\",H337*1000/H258))","v":{"$error":"#VALUE!"}},{"$error":"#VALUE!"},{"$error":"#VALUE!"},{"$error":"#VALUE!"},{"$error":"#VALUE!"},{"$error":"#VALUE!"},{"$error":"#VALUE!"},{"$error":"#VALUE!"},{"$error":"#VALUE!"},{"$error":"#VALUE!"},{"$error":"#VALUE!"},{"$error":"#VALUE!"},{"$error":"#VALUE!"},{"$error":"#VALUE!"},{"$error":"#VALUE!"},{"$error":"#VALUE!"},{"$error":"#VALUE!"},{"$error":"#VALUE!"},{"$error":"#VALUE!"},{"$error":"#VALUE!"},{"$error":"#VALUE!"},{"$error":"#VALUE!"},{"$error":"#VALUE!"},{"$error":"#VALUE!"},{"$error":"#VALUE!"},{"$error":"#VALUE!"},{"$error":"#VALUE!"},{"$error":"#VALUE!"},{"$error":"#VALUE!"},{"$error":"#VALUE!"},{"$error":"#VALUE!"},{"$error":"#VALUE!"},{"$error":"#VALUE!"},{"$error":"#VALUE!"},{"$error":"#VALUE!"},{"$f":"IF(AND(AQ258=\"\",AQ337=\"\"),\"\",IF(AQ258=0,\"not appl.\",AQ337*1000/AQ258))","v":{"$error":"#VALUE!"}},{"$error":"#VALUE!"},{"$error":"#VALUE!"},{"$error":"#VALUE!"},{"$error":"#VALUE!"},{"$error":"#VALUE!"},{"$error":"#VALUE!"},{"$error":"#VALUE!"},{"$error":"#VALUE!"},{"$error":"#VALUE!"},{"$error":"#VALUE!"},{"$error":"#VALUE!"},{"$error":"#VALUE!"},{"$error":"#VALUE!"},{"$error":"#VALUE!"},{"$error":"#VALUE!"},{"$error":"#VALUE!"},{"$error":"#VALUE!"},{"$error":"#VALUE!"},{"$error":"#VALUE!"},{"$error":"#VALUE!"},{"$error":"#VALUE!"},{"$error":"#VALUE!"},{"$error":"#VALUE!"},{"$error":"#VALUE!"}]
[null,"154c",null,"(ultra) heavy fuel","[GJ/t]",null,{"$error":"#VALUE!"},{"$f":"IF(AND(H259=\"\",H338=\"\"),\"\",IF(H259=0,\"not appl.\",H338*1000/H259))","v":{"$error":"#VALUE!"}},{"$error":"#VALUE!"},{"$error":"#VALUE!"},{"$error":"#VALUE!"},{"$error":"#VALUE!"},{"$error":"#VALUE!"},{"$error":"#VALUE!"},{"$error":"#VALUE!"},{"$error":"#VALUE!"},{"$error":"#VALUE!"},{"$error":"#VALUE!"},{"$error":"#VALUE!"},{"$error":"#VALUE!"},{"$error":"#VALUE!"},{"$error":"#VALUE!"},{"$error":"#VALUE!"},{"$error":"#VALUE!"},{"$error":"#VALUE!"},{"$error":"#VALUE!"},{"$error":"#VALUE!"},{"$error":"#VALUE!"},{"$error":"#VALUE!"},{"$error":"#VALUE!"},{"$error":"#VALUE!"},{"$error":"#VALUE!"},{"$error":"#VALUE!"},{"$error":"#VALUE!"},{"$error":"#VALUE!"},{"$error":"#VALUE!"},{"$error":"#VALUE!"},{"$error":"#VALUE!"},{"$error":"#VALUE!"},{"$error":"#VALUE!"},{"$error":"#VALUE!"},{"$error":"#VALUE!"},{"$f":"IF(AND(AQ259=\"\",AQ338=\"\"),\"\",IF(AQ259=0,\"not appl.\",AQ338*1000/AQ259))","v":{"$error":"#VALUE!"}},{"$error":"#VALUE!"},{"$error":"#VALUE!"},{"$error":"#VALUE!"},{"$error":"#VALUE!"},{"$error":"#VALUE!"},{"$error":"#VALUE!"},{"$error":"#VALUE!"},{"$error":"#VALUE!"},{"$error":"#VALUE!"},{"$error":"#VALUE!"},{"$error":"#VALUE!"},{"$error":"#VALUE!"},{"$error":"#VALUE!"},{"$error":"#VALUE!"},{"$error":"#VALUE!"},{"$error":"#VALUE!"},{"$error":"#VALUE!"},{"$error":"#VALUE!"},{"$error":"#VALUE!"},{"$error":"#VALUE!"},{"$error":"#VALUE!"},{"$error":"#VALUE!"},{"$error":"#VALUE!"},{"$error":"#VALUE!"}]
[null,"154d",null,"diesel oil","[GJ/t]",null,{"$error":"#VALUE!"},{"$f":"IF(AND(H260=\"\",H339=\"\"),\"\",IF(H260=0,\"not appl.\",H339*1000/H260))","v":{"$error":"#VALUE!"}},{"$error":"#VALUE!"},{"$error":"#VALUE!"},{"$error":"#VALUE!"},{"$error":"#VALUE!"},{"$error":"#VALUE!"},{"$error":"#VALUE!"},{"$error":"#VALUE!"},{"$error":"#VALUE!"},{"$error":"#VALUE!"},{"$error":"#VALUE!"},{"$error":"#VALUE!"},{"$error":"#VALUE!"},{"$error":"#VALUE!"},{"$error":"#VALUE!"},{"$error":"#VALUE!"},{"$error":"#VALUE!"},{"$error":"#VALUE!"},{"$error":"#VALUE!"},{"$error":"#VALUE!"},{"$error":"#VALUE!"},{"$error":"#VALUE!"},{"$error":"#VALUE!"},{"$error":"#VALUE!"},{"$error":"#VALUE!"},{"$error":"#VALUE!"},{"$error":"#VALUE!"},{"$error":"#VALUE!"},{"$error":"#VALUE!"},{"$error":"#VALUE!"},{"$error":"#VALUE!"},{"$error":"#VALUE!"},{"$error":"#VALUE!"},{"$error":"#VALUE!"},{"$error":"#VALUE!"},{"$f":"IF(AND(AQ260=\"\",AQ339=\"\"),\"\",IF(AQ260=0,\"not appl.\",AQ339*1000/AQ260))","v":{"$error":"#VALUE!"}},{"$error":"#VALUE!"},{"$error":"#VALUE!"},{"$error":"#VALUE!"},{"$error":"#VALUE!"},{"$error":"#VALUE!"},{"$error":"#VALUE!"},{"$error":"#VALUE!"},{"$error":"#VALUE!"},{"$error":"#VALUE!"},{"$error":"#VALUE!"},{"$error":"#VALUE!"},{"$error":"#VALUE!"},{"$error":"#VALUE!"},{"$error":"#VALUE!"},{"$error":"#VALUE!"},{"$error":"#VALUE!"},{"$error":"#VALUE!"},{"$error":"#VALUE!"},{"$error":"#VALUE!"},{"$error":"#VALUE!"},{"$error":"#VALUE!"},{"$error":"#VALUE!"},{"$error":"#VALUE!"},{"$error":"#VALUE!"}]
[null,"154e",null,"natural gas ","[GJ/1'000 Nm3]",null,{"$error":"#VALUE!"},{"$f":"IF(AND(H261=\"\",H340=\"\"),\"\",IF(H261=0,\"not appl.\",H340*1000/H261))","v":{"$error":"#VALUE!"}},{"$error":"#VALUE!"},{"$error":"#VALUE!"},{"$error":"#VALUE!"},{"$error":"#VALUE!"},{"$error":"#VALUE!"},{"$error":"#VALUE!"},{"$error":"#VALUE!"},{"$error":"#VALUE!"},{"$error":"#VALUE!"},{"$error":"#VALUE!"},{"$error":"#VALUE!"},{"$error":"#VALUE!"},{"$error":"#VALUE!"},{"$error":"#VALUE!"},{"$error":"#VALUE!"},{"$error":"#VALUE!"},{"$error":"#VALUE!"},{"$error":"#VALUE!"},{"$error":"#VALUE!"},{"$error":"#VALUE!"},{"$error":"#VALUE!"},{"$error":"#VALUE!"},{"$error":"#VALUE!"},{"$error":"#VALUE!"},{"$error":"#VALUE!"},{"$error":"#VALUE!"},{"$error":"#VALUE!"},{"$error":"#VALUE!"},{"$error":"#VALUE!"},{"$error":"#VALUE!"},{"$error":"#VALUE!"},{"$error":"#VALUE!"},{"$error":"#VALUE!"},{"$error":"#VALUE!"},{"$f":"IF(AND(AQ261=\"\",AQ340=\"\"),\"\",IF(AQ261=0,\"not appl.\",AQ340*1000/AQ261))","v":{"$error":"#VALUE!"}},{"$error":"#VALUE!"},{"$error":"#VALUE!"},{"$error":"#VALUE!"},{"$error":"#VALUE!"},{"$error":"#VALUE!"},{"$error":"#VALUE!"},{"$error":"#VALUE!"},{"$error":"#VALUE!"},{"$error":"#VALUE!"},{"$error":"#VALUE!"},{"$error":"#VALUE!"},{"$error":"#VALUE!"},{"$error":"#VALUE!"},{"$error":"#VALUE!"},{"$error":"#VALUE!"},{"$error":"#VALUE!"},{"$error":"#VALUE!"},{"$error":"#VALUE!"},{"$error":"#VALUE!"},{"$error":"#VALUE!"},{"$error":"#VALUE!"},{"$error":"#VALUE!"},{"$error":"#VALUE!"},{"$error":"#VALUE!"}]
[null,"154f",null,"shale","[GJ/t]",null,{"$error":"#VALUE!"},{"$f":"IF(AND(H262=\"\",H341=\"\"),\"\",IF(H262=0,\"not appl.\",H341*1000/H262))","v":{"$error":"#VALUE!"}},{"$error":"#VALUE!"},{"$error":"#VALUE!"},{"$error":"#VALUE!"},{"$error":"#VALUE!"},{"$error":"#VALUE!"},{"$error":"#VALUE!"},{"$error":"#VALUE!"},{"$error":"#VALUE!"},{"$error":"#VALUE!"},{"$error":"#VALUE!"},{"$error":"#VALUE!"},{"$error":"#VALUE!"},{"$error":"#VALUE!"},{"$error":"#VALUE!"},{"$error":"#VALUE!"},{"$error":"#VALUE!"},{"$error":"#VALUE!"},{"$error":"#VALUE!"},{"$error":"#VALUE!"},{"$error":"#VALUE!"},{"$error":"#VALUE!"},{"$error":"#VALUE!"},{"$error":"#VALUE!"},{"$error":"#VALUE!"},{"$error":"#VALUE!"},{"$error":"#VALUE!"},{"$error":"#VALUE!"},{"$error":"#VALUE!"},{"$error":"#VALUE!"},{"$error":"#VALUE!"},{"$error":"#VALUE!"},{"$error":"#VALUE!"},{"$error":"#VALUE!"},{"$error":"#VALUE!"},{"$f":"IF(AND(AQ262=\"\",AQ341=\"\"),\"\",IF(AQ262=0,\"not appl.\",AQ341*1000/AQ262))","v":{"$error":"#VALUE!"}},{"$error":"#VALUE!"},{"$error":"#VALUE!"},{"$error":"#VALUE!"},{"$error":"#VALUE!"},{"$error":"#VALUE!"},{"$error":"#VALUE!"},{"$error":"#VALUE!"},{"$error":"#VALUE!"},{"$error":"#VALUE!"},{"$error":"#VALUE!"},{"$error":"#VALUE!"},{"$error":"#VALUE!"},{"$error":"#VALUE!"},{"$error":"#VALUE!"},{"$error":"#VALUE!"},{"$error":"#VALUE!"},{"$error":"#VALUE!"},{"$error":"#VALUE!"},{"$error":"#VALUE!"},{"$error":"#VALUE!"},{"$error":"#VALUE!"},{"$error":"#VALUE!"},{"$error":"#VALUE!"},{"$error":"#VALUE!"}]
[null,155,"Alternative fossil and mixed fuels"]
[null,"155a",null,"other fossil based wastes and mixed fuels","[GJ/t]",null,{"$f":"IF(AND(G264=\"\",G343=\"\"),\"\",IF(G264=0,\"not appl.\",G343*1000/G264))","v":{"$error":"#VALUE!"}},{"$f":"IF(AND(H264=\"\",H343=\"\"),\"\",IF(H264=0,\"not appl.\",H343*1000/H264))","v":{"$error":"#VALUE!"}},{"$error":"#VALUE!"},{"$error":"#VALUE!"},{"$error":"#VALUE!"},{"$error":"#VALUE!"},{"$error":"#VALUE!"},{"$error":"#VALUE!"},{"$error":"#VALUE!"},{"$error":"#VALUE!"},{"$error":"#VALUE!"},{"$error":"#VALUE!"},{"$error":"#VALUE!"},{"$error":"#VALUE!"},{"$error":"#VALUE!"},{"$error":"#VALUE!"},{"$error":"#VALUE!"},{"$error":"#VALUE!"},{"$error":"#VALUE!"},{"$error":"#VALUE!"},{"$error":"#VALUE!"},{"$error":"#VALUE!"},{"$error":"#VALUE!"},{"$error":"#VALUE!"},{"$error":"#VALUE!"},{"$error":"#VALUE!"},{"$f":"IF(AND(AG264=\"\",AG343=\"\"),\"\",IF(AG264=0,\"not appl.\",AG343*1000/AG264))","v":{"$error":"#VALUE!"}},{"$error":"#VALUE!"},{"$error":"#VALUE!"},{"$error":"#VALUE!"},{"$error":"#VALUE!"},{"$error":"#VALUE!"},{"$error":"#VALUE!"},{"$error":"#VALUE!"},{"$error":"#VALUE!"},{"$error":"#VALUE!"},{"$f":"IF(AND(AQ264=\"\",AQ343=\"\"),\"\",IF(AQ264=0,\"not appl.\",AQ343*1000/AQ264))","v":{"$error":"#VALUE!"}},{"$error":"#VALUE!"},{"$error":"#VALUE!"},{"$error":"#VALUE!"},{"$error":"#VALUE!"},{"$error":"#VALUE!"},{"$error":"#VALUE!"},{"$error":"#VALUE!"},{"$error":"#VALUE!"},{"$error":"#VALUE!"},{"$error":"#VALUE!"},{"$error":"#VALUE!"},{"$error":"#VALUE!"},{"$error":"#VALUE!"},{"$error":"#VALUE!"},{"$error":"#VALUE!"},{"$error":"#VALUE!"},{"$error":"#VALUE!"},{"$error":"#VALUE!"},{"$error":"#VALUE!"},{"$error":"#VALUE!"},{"$error":"#VALUE!"},{"$error":"#VALUE!"},{"$error":"#VALUE!"},{"$error":"#VALUE!"}]
[null,156,"Alternative biomass fuels"]
[null,"156a",null,"other biomass","[GJ/t]",null,{"$f":"IF(AND(G266=\"\",G345=\"\"),\"\",IF(G266=0,\"not appl.\",G345*1000/G266))","v":{"$error":"#VALUE!"}},{"$f":"IF(AND(H266=\"\",H345=\"\"),\"\",IF(H266=0,\"not appl.\",H345*1000/H266))","v":{"$error":"#VALUE!"}},{"$error":"#VALUE!"},{"$error":"#VALUE!"},{"$error":"#VALUE!"},{"$error":"#VALUE!"},{"$error":"#VALUE!"},{"$error":"#VALUE!"},{"$error":"#VALUE!"},{"$error":"#VALUE!"},{"$error":"#VALUE!"},{"$error":"#VALUE!"},{"$error":"#VALUE!"},{"$error":"#VALUE!"},{"$error":"#VALUE!"},{"$error":"#VALUE!"},{"$error":"#VALUE!"},{"$error":"#VALUE!"},{"$error":"#VALUE!"},{"$error":"#VALUE!"},{"$error":"#VALUE!"},{"$error":"#VALUE!"},{"$error":"#VALUE!"},{"$error":"#VALUE!"},{"$error":"#VALUE!"},{"$error":"#VALUE!"},{"$f":"IF(AND(AG266=\"\",AG345=\"\"),\"\",IF(AG266=0,\"not appl.\",AG345*1000/AG266))","v":{"$error":"#VALUE!"}},{"$error":"#VALUE!"},{"$error":"#VALUE!"},{"$error":"#VALUE!"},{"$error":"#VALUE!"},{"$error":"#VALUE!"},{"$error":"#VALUE!"},{"$error":"#VALUE!"},{"$error":"#VALUE!"},{"$error":"#VALUE!"},{"$f":"IF(AND(AQ266=\"\",AQ345=\"\"),\"\",IF(AQ266=0,\"not appl.\",AQ345*1000/AQ266))","v":{"$error":"#VALUE!"}},{"$error":"#VALUE!"},{"$error":"#VALUE!"},{"$error":"#VALUE!"},{"$error":"#VALUE!"},{"$error":"#VALUE!"},{"$error":"#VALUE!"},{"$error":"#VALUE!"},{"$error":"#VALUE!"},{"$error":"#VALUE!"},{"$error":"#VALUE!"},{"$error":"#VALUE!"},{"$error":"#VALUE!"},{"$error":"#VALUE!"},{"$error":"#VALUE!"},{"$error":"#VALUE!"},{"$error":"#VALUE!"},{"$error":"#VALUE!"},{"$error":"#VALUE!"},{"$error":"#VALUE!"},{"$error":"#VALUE!"},{"$error":"#VALUE!"},{"$error":"#VALUE!"},{"$error":"#VALUE!"},{"$error":"#VALUE!"}]
[]
[null,"Kiln Fuel Consumption in terajoules (TJ) per year",null,null,null,null,{"$f":"G$7","v":1990},1991,1992,1993,1994,1995,1996,1997,1998,1999,2000,2001,2002,2003,2004,2005,2006,2007,2008,2009,2010,2011,2012,2013,2014,2015,2016,2017,2018,2019,2020,2021,2022,2023,2024,2025,2026,2027,2028,2029,2030,2031,2032,2033,2034,2035,2036,2037,2038,2039,2040,2041,2042,2043,2044,2045,2046,2047,2048,2049,2050]
[null,161,"Conventional fossil fuels",null,"[TJ/yr]",null,{"$f":"IF(OR(COUNTBLANK(G309:G315)=7,G309=\"SUM\"),\"\",SUM(G309:G315))","v":""},{"$f":"IF(OR(COUNTBLANK(H309:H315)=7,H309=\"SUM\"),\"\",SUM(H309:H315))","v":""},"","","","","","","","","","","","","","","","","","","","","","","","",{"$f":"IF(OR(COUNTBLANK(AG309:AG315)=7,AG309=\"SUM\"),\"\",SUM(AG309:AG315))","v":""},"","","","","","","","","",{"$f":"IF(OR(COUNTBLANK(AQ309:AQ315)=7,AQ309=\"SUM\"),\"\",SUM(AQ309:AQ315))","v":""},"","","","","","","","","","","","","","","","","","","","","","","",""]
[null,{"$f":"B308+1","v":162},null,"coal + anthracite","[TJ/yr]",null,"SUM","SUM","SUM","SUM","SUM","SUM","SUM","SUM","SUM","SUM","SUM","SUM","SUM","SUM","SUM","SUM","SUM","SUM","SUM","SUM","SUM","SUM","SUM","SUM","SUM","SUM","SUM","SUM","SUM","SUM","SUM","SUM","SUM","SUM","SUM","SUM","SUM","SUM","SUM","SUM","SUM","SUM","SUM","SUM","SUM","SUM","SUM","SUM","SUM","SUM","SUM","SUM","SUM","SUM","SUM","SUM","SUM","SUM","SUM","SUM","SUM"]
[null,163,null,"petrol coke","[TJ/yr]",null,"SUM","SUM","SUM","SUM","SUM","SUM","SUM","SUM","SUM","SUM","SUM","SUM","SUM","SUM","SUM","SUM","SUM","SUM","SUM","SUM","SUM","SUM","SUM","SUM","SUM","SUM","SUM","SUM","SUM","SUM","SUM","SUM","SUM","SUM","SUM","SUM","SUM","SUM","SUM","SUM","SUM","SUM","SUM","SUM","SUM","SUM","SUM","SUM","SUM","SUM","SUM","SUM","SUM","SUM","SUM","SUM","SUM","SUM","SUM","SUM","SUM"]
[null,164,null,"(ultra) heavy fuel","[TJ/yr]",null,"SUM","SUM","SUM","SUM","SUM","SUM","SUM","SUM","SUM","SUM","SUM","SUM","SUM","SUM","SUM","SUM","SUM","SUM","SUM","SUM","SUM","SUM","SUM","SUM","SUM","SUM","SUM","SUM","SUM","SUM","SUM","SUM","SUM","SUM","SUM","SUM","SUM","SUM","SUM","SUM","SUM","SUM","SUM","SUM","SUM","SUM","SUM","SUM","SUM","SUM","SUM","SUM","SUM","SUM","SUM","SUM","SUM","SUM","SUM","SUM","SUM"]
[null,165,null,"diesel oil","[TJ/yr]",null,"SUM","SUM","SUM","SUM","SUM","SUM","SUM","SUM","SUM","SUM","SUM","SUM","SUM","SUM","SUM","SUM","SUM","SUM","SUM","SUM","SUM","SUM","SUM","SUM","SUM","SUM","SUM","SUM","SUM","SUM","SUM","SUM","SUM","SUM","SUM","SUM","SUM","SUM","SUM","SUM","SUM","SUM","SUM","SUM","SUM","SUM","SUM","SUM","SUM","SUM","SUM","SUM","SUM","SUM","SUM","SUM","SUM","SUM","SUM","SUM","SUM"]
[null,166,null,"natural gas ","[TJ/yr]",null,"SUM","SUM","SUM","SUM","SUM","SUM","SUM","SUM","SUM","SUM","SUM","SUM","SUM","SUM","SUM","SUM","SUM","SUM","SUM","SUM","SUM","SUM","SUM","SUM","SUM","SUM","SUM","SUM","SUM","SUM","SUM","SUM","SUM","SUM","SUM","SUM","SUM","SUM","SUM","SUM","SUM","SUM","SUM","SUM","SUM","SUM","SUM","SUM","SUM","SUM","SUM","SUM","SUM","SUM","SUM","SUM","SUM","SUM","SUM","SUM","SUM"]
[null,167,null,"shale","[TJ/yr]",null,"SUM","SUM","SUM","SUM","SUM","SUM","SUM","SUM","SUM","SUM","SUM","SUM","SUM","SUM","SUM","SUM","SUM","SUM","SUM","SUM","SUM","SUM","SUM","SUM","SUM","SUM","SUM","SUM","SUM","SUM","SUM","SUM","SUM","SUM","SUM","SUM","SUM","SUM","SUM","SUM","SUM","SUM","SUM","SUM","SUM","SUM","SUM","SUM","SUM","SUM","SUM","SUM","SUM","SUM","SUM","SUM","SUM","SUM","SUM","SUM","SUM"]
[null,"167a",null,"lignite","[TJ/yr]",null,"SUM","SUM","SUM","SUM","SUM","SUM","SUM","SUM","SUM","SUM","SUM","SUM","SUM","SUM","SUM","SUM","SUM","SUM","SUM","SUM","SUM","SUM","SUM","SUM","SUM","SUM","SUM","SUM","SUM","SUM","SUM","SUM","SUM","SUM","SUM","SUM","SUM","SUM","SUM","SUM","SUM","SUM","SUM","SUM","SUM","SUM","SUM","SUM","SUM","SUM","SUM","SUM","SUM","SUM","SUM","SUM","SUM","SUM","SUM","SUM","SUM"]
[null,{"$f":"B314+1","v":168},"Alternative fossil and mixed fuels, excluding biomass fraction of mixed fuels",null,"[TJ/yr]",null,{"$f":"IF(OR(COUNTBLANK(G317:G323)=7,G317=\"SUM\"),\"\",SUM(G317:G323))","v":""},{"$f":"IF(OR(COUNTBLANK(H317:H323)=7,H317=\"SUM\"),\"\",SUM(H317:H323))","v":""},"","","","","","","","","","","","","","","","","","","","","","","","",{"$f":"IF(OR(COUNTBLANK(AG317:AG323)=7,AG317=\"SUM\"),\"\",SUM(AG317:AG323))","v":""},"","","","","","","","","",{"$f":"IF(OR(COUNTBLANK(AQ317:AQ323)=7,AQ317=\"SUM\"),\"\",SUM(AQ317:AQ323))","v":""},"","","","","","","","","","","","","","","","","","","","","","","",""]
[null,{"$f":"B316+1","v":169},null,"waste oil","[TJ/yr]",null,"SUM","SUM","SUM","SUM","SUM","SUM","SUM","SUM","SUM","SUM","SUM","SUM","SUM","SUM","SUM","SUM","SUM","SUM","SUM","SUM","SUM","SUM","SUM","SUM","SUM","SUM","SUM","SUM","SUM","SUM","SUM","SUM","SUM","SUM","SUM","SUM","SUM","SUM","SUM","SUM","SUM","SUM","SUM","SUM","SUM","SUM","SUM","SUM","SUM","SUM","SUM","SUM","SUM","SUM","SUM","SUM","SUM","SUM","SUM","SUM","SUM"]
[null,{"$f":"B317+1","v":170},null,"tyres","[TJ/yr]",null,"SUM","SUM","SUM","SUM","SUM","SUM","SUM","SUM","SUM","SUM","SUM","SUM","SUM","SUM","SUM","SUM","SUM","SUM","SUM","SUM","SUM","SUM","SUM","SUM","SUM","SUM","SUM","SUM","SUM","SUM","SUM","SUM","SUM","SUM","SUM","SUM","SUM","SUM","SUM","SUM","SUM","SUM","SUM","SUM","SUM","SUM","SUM","SUM","SUM","SUM","SUM","SUM","SUM","SUM","SUM","SUM","SUM","SUM","SUM","SUM","SUM"]
[null,{"$f":"B318+1","v":171},null,"RDF including plastics","[TJ/yr]",null,"SUM","SUM","SUM","SUM","SUM","SUM","SUM","SUM","SUM","SUM","SUM","SUM","SUM","SUM","SUM","SUM","SUM","SUM","SUM","SUM","SUM","SUM","SUM","SUM","SUM","SUM","SUM","SUM","SUM","SUM","SUM","SUM","SUM","SUM","SUM","SUM","SUM","SUM","SUM","SUM","SUM","SUM","SUM","SUM","SUM","SUM","SUM","SUM","SUM","SUM","SUM","SUM","SUM","SUM","SUM","SUM","SUM","SUM","SUM","SUM","SUM"]
[null,{"$f":"B319+1","v":172},null,"solvents","[TJ/yr]",null,"SUM","SUM","SUM","SUM","SUM","SUM","SUM","SUM","SUM","SUM","SUM","SUM","SUM","SUM","SUM","SUM","SUM","SUM","SUM","SUM","SUM","SUM","SUM","SUM","SUM","SUM","SUM","SUM","SUM","SUM","SUM","SUM","SUM","SUM","SUM","SUM","SUM","SUM","SUM","SUM","SUM","SUM","SUM","SUM","SUM","SUM","SUM","SUM","SUM","SUM","SUM","SUM","SUM","SUM","SUM","SUM","SUM","SUM","SUM","SUM","SUM"]
[null,{"$f":"B320+1","v":173},null,"impregnated saw dust","[TJ/yr]",null,"SUM","SUM","SUM","SUM","SUM","SUM","SUM","SUM","SUM","SUM","SUM","SUM","SUM","SUM","SUM","SUM","SUM","SUM","SUM","SUM","SUM","SUM","SUM","SUM","SUM","SUM","SUM","SUM","SUM","SUM","SUM","SUM","SUM","SUM","SUM","SUM","SUM","SUM","SUM","SUM","SUM","SUM","SUM","SUM","SUM","SUM","SUM","SUM","SUM","SUM","SUM","SUM","SUM","SUM","SUM","SUM","SUM","SUM","SUM","SUM","SUM"]
[null,"173a",null,"mixed industrial waste","[TJ/yr]",null,"SUM","SUM","SUM","SUM","SUM","SUM","SUM","SUM","SUM","SUM","SUM","SUM","SUM","SUM","SUM","SUM","SUM","SUM","SUM","SUM","SUM","SUM","SUM","SUM","SUM","SUM","SUM","SUM","SUM","SUM","SUM","SUM","SUM","SUM","SUM","SUM","SUM","SUM","SUM","SUM","SUM","SUM","SUM","SUM","SUM","SUM","SUM","SUM","SUM","SUM","SUM","SUM","SUM","SUM","SUM","SUM","SUM","SUM","SUM","SUM","SUM"]
[null,174,null,"other fossil based wastes (excl. biomass content of mixed fuels)","[TJ/yr]",null,"SUM","SUM","SUM","SUM","SUM","SUM","SUM","SUM","SUM","SUM","SUM","SUM","SUM","SUM","SUM","SUM","SUM","SUM","SUM","SUM","SUM","SUM","SUM","SUM","SUM","SUM","SUM","SUM","SUM","SUM","SUM","SUM","SUM","SUM","SUM","SUM","SUM","SUM","SUM","SUM","SUM","SUM","SUM","SUM","SUM","SUM","SUM","SUM","SUM","SUM","SUM","SUM","SUM","SUM","SUM","SUM","SUM","SUM","SUM","SUM","SUM"]
[null,{"$f":"B323+1","v":175},"Biomass fuels - total, incl. biomass cont. from alternative fossil fuels",null,"[TJ/yr]",null,{"$f":"IF(OR(COUNTBLANK(G325:G333)=8,G325=\"SUM\"),\"\",SUM(G325:G333))","v":""},{"$f":"IF(OR(COUNTBLANK(H325:H333)=8,H325=\"SUM\"),\"\",SUM(H325:H333))","v":""},"","","","","","","","","","","","","","","","","","","","","","","","",{"$f":"IF(OR(COUNTBLANK(AG325:AG333)=8,AG325=\"SUM\"),\"\",SUM(AG325:AG333))","v":""},"","","","","","","","","",{"$f":"IF(OR(COUNTBLANK(AQ325:AQ333)=8,AQ325=\"SUM\"),\"\",SUM(AQ325:AQ333))","v":""},"","","","","","","","","","","","","","","","","","","","","","","",""]
[null,176,null,"sewage sludge","[TJ/yr]",null,"SUM","SUM","SUM","SUM","SUM","SUM","SUM","SUM","SUM","SUM","SUM","SUM","SUM","SUM","SUM","SUM","SUM","SUM","SUM","SUM","SUM","SUM","SUM","SUM","SUM","SUM","SUM","SUM","SUM","SUM","SUM","SUM","SUM","SUM","SUM","SUM","SUM","SUM","SUM","SUM","SUM","SUM","SUM","SUM","SUM","SUM","SUM","SUM","SUM","SUM","SUM","SUM","SUM","SUM","SUM","SUM","SUM","SUM","SUM","SUM","SUM"]
[null,177,null,"wood, non impregnated saw dust","[TJ/yr]",null,"SUM","SUM","SUM","SUM","SUM","SUM","SUM","SUM","SUM","SUM","SUM","SUM","SUM","SUM","SUM","SUM","SUM","SUM","SUM","SUM","SUM","SUM","SUM","SUM","SUM","SUM","SUM","SUM","SUM","SUM","SUM","SUM","SUM","SUM","SUM","SUM","SUM","SUM","SUM","SUM","SUM","SUM","SUM","SUM","SUM","SUM","SUM","SUM","SUM","SUM","SUM","SUM","SUM","SUM","SUM","SUM","SUM","SUM","SUM","SUM","SUM"]
[null,178,null,"paper, carton","[TJ/yr]",null,"SUM","SUM","SUM","SUM","SUM","SUM","SUM","SUM","SUM","SUM","SUM","SUM","SUM","SUM","SUM","SUM","SUM","SUM","SUM","SUM","SUM","SUM","SUM","SUM","SUM","SUM","SUM","SUM","SUM","SUM","SUM","SUM","SUM","SUM","SUM","SUM","SUM","SUM","SUM","SUM","SUM","SUM","SUM","SUM","SUM","SUM","SUM","SUM","SUM","SUM","SUM","SUM","SUM","SUM","SUM","SUM","SUM","SUM","SUM","SUM","SUM"]
[null,179,null,"animal meal","[TJ/yr]",null,"SUM","SUM","SUM","SUM","SUM","SUM","SUM","SUM","SUM","SUM","SUM","SUM","SUM","SUM","SUM","SUM","SUM","SUM","SUM","SUM","SUM","SUM","SUM","SUM","SUM","SUM","SUM","SUM","SUM","SUM","SUM","SUM","SUM","SUM","SUM","SUM","SUM","SUM","SUM","SUM","SUM","SUM","SUM","SUM","SUM","SUM","SUM","SUM","SUM","SUM","SUM","SUM","SUM","SUM","SUM","SUM","SUM","SUM","SUM","SUM","SUM"]
[null,180,null,"animal bone meal","[TJ/yr]",null,"SUM","SUM","SUM","SUM","SUM","SUM","SUM","SUM","SUM","SUM","SUM","SUM","SUM","SUM","SUM","SUM","SUM","SUM","SUM","SUM","SUM","SUM","SUM","SUM","SUM","SUM","SUM","SUM","SUM","SUM","SUM","SUM","SUM","SUM","SUM","SUM","SUM","SUM","SUM","SUM","SUM","SUM","SUM","SUM","SUM","SUM","SUM","SUM","SUM","SUM","SUM","SUM","SUM","SUM","SUM","SUM","SUM","SUM","SUM","SUM","SUM"]
[null,181,null,"animal fat","[TJ/yr]",null,"SUM","SUM","SUM","SUM","SUM","SUM","SUM","SUM","SUM","SUM","SUM","SUM","SUM","SUM","SUM","SUM","SUM","SUM","SUM","SUM","SUM","SUM","SUM","SUM","SUM","SUM","SUM","SUM","SUM","SUM","SUM","SUM","SUM","SUM","SUM","SUM","SUM","SUM","SUM","SUM","SUM","SUM","SUM","SUM","SUM","SUM","SUM","SUM","SUM","SUM","SUM","SUM","SUM","SUM","SUM","SUM","SUM","SUM","SUM","SUM","SUM"]
[null,182,null,"agricultural, organic, diaper waste, charcoal","[TJ/yr]",null,"SUM","SUM","SUM","SUM","SUM","SUM","SUM","SUM","SUM","SUM","SUM","SUM","SUM","SUM","SUM","SUM","SUM","SUM","SUM","SUM","SUM","SUM","SUM","SUM","SUM","SUM","SUM","SUM","SUM","SUM","SUM","SUM","SUM","SUM","SUM","SUM","SUM","SUM","SUM","SUM","SUM","SUM","SUM","SUM","SUM","SUM","SUM","SUM","SUM","SUM","SUM","SUM","SUM","SUM","SUM","SUM","SUM","SUM","SUM","SUM","SUM"]
[null,183,null,"other biomass","[TJ/yr]",null,"SUM","SUM","SUM","SUM","SUM","SUM","SUM","SUM","SUM","SUM","SUM","SUM","SUM","SUM","SUM","SUM","SUM","SUM","SUM","SUM","SUM","SUM","SUM","SUM","SUM","SUM","SUM","SUM","SUM","SUM","SUM","SUM","SUM","SUM","SUM","SUM","SUM","SUM","SUM","SUM","SUM","SUM","SUM","SUM","SUM","SUM","SUM","SUM","SUM","SUM","SUM","SUM","SUM","SUM","SUM","SUM","SUM","SUM","SUM","SUM","SUM"]
[null,"183a",null,"biomass content from alternative fuels","[TJ/yr]",null,"SUM","SUM","SUM","SUM","SUM","SUM","SUM","SUM","SUM","SUM","SUM","SUM","SUM","SUM","SUM","SUM","SUM","SUM","SUM","SUM","SUM","SUM","SUM","SUM","SUM","SUM","SUM","SUM","SUM","SUM","SUM","SUM","SUM","SUM","SUM","SUM","SUM","SUM","SUM","SUM","SUM","SUM","SUM","SUM","SUM","SUM","SUM","SUM","SUM","SUM","SUM","SUM","SUM","SUM","SUM","SUM","SUM","SUM","SUM","SUM","SUM"]
[null,"Drying of raw materials and fuels",null,null,null,null,{"$f":"G$7","v":1990},1991,1992,1993,1994,1995,1996,1997,1998,1999,2000,2001,2002,2003,2004,2005,2006,2007,2008,2009,2010,2011,2012,2013,2014,2015,2016,2017,2018,2019,2020,2021,2022,2023,2024,2025,2026,2027,2028,2029,2030,2031,2032,2033,2034,2035,2036,2037,2038,2039,2040,2041,2042,2043,2044,2045,2046,2047,2048,2049,2050]
[null,184,"Conventional fossil fuels",null,"[TJ/yr]",null,{"$f":"IF(OR(COUNTBLANK(G336:G341)=6,G336=\"SUM\"),\"\",SUM(G336:G341))","v":""},{"$f":"IF(OR(COUNTBLANK(H336:H341)=6,H336=\"SUM\"),\"\",SUM(H336:H341))","v":""},"","","","","","","","","","","","","","","","","","","","","","","","",{"$f":"IF(OR(COUNTBLANK(AG336:AG341)=6,AG336=\"SUM\"),\"\",SUM(AG336:AG341))","v":""},"","","","","","","","","",{"$f":"IF(OR(COUNTBLANK(AQ336:AQ341)=6,AQ336=\"SUM\"),\"\",SUM(AQ336:AQ341))","v":""},"","","","","","","","","","","","","","","","","","","","","","","",""]
[null,"184a",null,"coal + anthracite + lignite","[TJ/yr]",null,"SUM","SUM","SUM","SUM","SUM","SUM","SUM","SUM","SUM","SUM","SUM","SUM","SUM","SUM","SUM","SUM","SUM","SUM","SUM","SUM","SUM","SUM","SUM","SUM","SUM","SUM","SUM","SUM","SUM","SUM","SUM","SUM","SUM","SUM","SUM","SUM","SUM","SUM","SUM","SUM","SUM","SUM","SUM","SUM","SUM","SUM","SUM","SUM","SUM","SUM","SUM","SUM","SUM","SUM","SUM","SUM","SUM","SUM","SUM","SUM","SUM"]
[null,"184b",null,"petrol coke","[TJ/yr]",null,"SUM","SUM","SUM","SUM","SUM","SUM","SUM","SUM","SUM","SUM","SUM","SUM","SUM","SUM","SUM","SUM","SUM","SUM","SUM","SUM","SUM","SUM","SUM","SUM","SUM","SUM","SUM","SUM","SUM","SUM","SUM","SUM","SUM","SUM","SUM","SUM","SUM","SUM","SUM","SUM","SUM","SUM","SUM","SUM","SUM","SUM","SUM","SUM","SUM","SUM","SUM","SUM","SUM","SUM","SUM","SUM","SUM","SUM","SUM","SUM","SUM"]
[null,"184c",null,"(ultra) heavy fuel","[TJ/yr]",null,"SUM","SUM","SUM","SUM","SUM","SUM","SUM","SUM","SUM","SUM","SUM","SUM","SUM","SUM","SUM","SUM","SUM","SUM","SUM","SUM","SUM","SUM","SUM","SUM","SUM","SUM","SUM","SUM","SUM","SUM","SUM","SUM","SUM","SUM","SUM","SUM","SUM","SUM","SUM","SUM","SUM","SUM","SUM","SUM","SUM","SUM","SUM","SUM","SUM","SUM","SUM","SUM","SUM","SUM","SUM","SUM","SUM","SUM","SUM","SUM","SUM"]
[null,"184d",null,"diesel oil","[TJ/yr]",null,"SUM","SUM","SUM","SUM","SUM","SUM","SUM","SUM","SUM","SUM","SUM","SUM","SUM","SUM","SUM","SUM","SUM","SUM","SUM","SUM","SUM","SUM","SUM","SUM","SUM","SUM","SUM","SUM","SUM","SUM","SUM","SUM","SUM","SUM","SUM","SUM","SUM","SUM","SUM","SUM","SUM","SUM","SUM","SUM","SUM","SUM","SUM","SUM","SUM","SUM","SUM","SUM","SUM","SUM","SUM","SUM","SUM","SUM","SUM","SUM","SUM"]
[null,"184e",null,"natural gas ","[TJ/yr]",null,"SUM","SUM","SUM","SUM","SUM","SUM","SUM","SUM","SUM","SUM","SUM","SUM","SUM","SUM","SUM","SUM","SUM","SUM","SUM","SUM","SUM","SUM","SUM","SUM","SUM","SUM","SUM","SUM","SUM","SUM","SUM","SUM","SUM","SUM","SUM","SUM","SUM","SUM","SUM","SUM","SUM","SUM","SUM","SUM","SUM","SUM","SUM","SUM","SUM","SUM","SUM","SUM","SUM","SUM","SUM","SUM","SUM","SUM","SUM","SUM","SUM"]
[null,"184f",null,"shale","[TJ/yr]",null,"SUM","SUM","SUM","SUM","SUM","SUM","SUM","SUM","SUM","SUM","SUM","SUM","SUM","SUM","SUM","SUM","SUM","SUM","SUM","SUM","SUM","SUM","SUM","SUM","SUM","SUM","SUM","SUM","SUM","SUM","SUM","SUM","SUM","SUM","SUM","SUM","SUM","SUM","SUM","SUM","SUM","SUM","SUM","SUM","SUM","SUM","SUM","SUM","SUM","SUM","SUM","SUM","SUM","SUM","SUM","SUM","SUM","SUM","SUM","SUM","SUM"]
[null,"184g","Alternative fossil fuels",null,"[TJ/yr]",null,{"$f":"IF(G343=\"SUM\",\"\",G343)","v":""},{"$f":"IF(H343=\"SUM\",\"\",H343)","v":""},"","","","","","","","","","","","","","","","","","","","","","","","","","","","","","","","","","","","","","","","","","","","","","","","","","","","","","","","","","",""]
[null,"184h",null,"other fossil based wastes (excl. biomass content of mixed fuels)","[TJ/yr]",null,"SUM","SUM","SUM","SUM","SUM","SUM","SUM","SUM","SUM","SUM","SUM","SUM","SUM","SUM","SUM","SUM","SUM","SUM","SUM","SUM","SUM","SUM","SUM","SUM","SUM","SUM","SUM","SUM","SUM","SUM","SUM","SUM","SUM","SUM","SUM","SUM","SUM","SUM","SUM","SUM","SUM","SUM","SUM","SUM","SUM","SUM","SUM","SUM","SUM","SUM","SUM","SUM","SUM","SUM","SUM","SUM","SUM","SUM","SUM","SUM","SUM"]
[null,"184i","Alternative biomass fuels",null,"[TJ/yr]",null,{"$f":"IF(G345=\"SUM\",\"\",G345)","v":""},{"$f":"IF(H345=\"SUM\",\"\",H345)","v":""},"","","","","","","","","","","","","","","","","","","","","","","","","","","","","","","","","","","","","","","","","","","","","","","","","","","","","","","","","","",""]
[null,"184j",null,"other biomass (incl. biomass content of mixed fuels)","[TJ/yr]",null,"SUM","SUM","SUM","SUM","SUM","SUM","SUM","SUM","SUM","SUM","SUM","SUM","SUM","SUM","SUM","SUM","SUM","SUM","SUM","SUM","SUM","SUM","SUM","SUM","SUM","SUM","SUM","SUM","SUM","SUM","SUM","SUM","SUM","SUM","SUM","SUM","SUM","SUM","SUM","SUM","SUM","SUM","SUM","SUM","SUM","SUM","SUM","SUM","SUM","SUM","SUM","SUM","SUM","SUM","SUM","SUM","SUM","SUM","SUM","SUM","SUM"]
[]
[null,"CO2 Emission Factors of Kiln and Non-Kiln Fuels (per lower heating value)",null,null,null,null,{"$f":"G$7","v":1990},1991,1992,1993,1994,1995,1996,1997,1998,1999,2000,2001,2002,2003,2004,2005,2006,2007,2008,2009,2010,2011,2012,2013,2014,2015,2016,2017,2018,2019,2020,2021,2022,2023,2024,2025,2026,2027,2028,2029,2030,2031,2032,2033,2034,2035,2036,2037,2038,2039,2040,2041,2042,2043,2044,2045,2046,2047,2048,2049,2050]
[null,185,"Conventional fossil fuels"]
[null,{"$f":"B348+1","v":186},null,"coal + anthracite","[kg CO2/GJ]",null,{"$f":"IF(AND(G389=\"\",G309=\"\"),\"\",IF(G309=0,\"not appl.\",G389/G309))","v":{"$error":"#VALUE!"}},{"$f":"IF(AND(H389=\"\",H309=\"\"),\"\",IF(H309=0,\"not appl.\",H389/H309))","v":{"$error":"#VALUE!"}},{"$error":"#VALUE!"},{"$error":"#VALUE!"},{"$error":"#VALUE!"},{"$error":"#VALUE!"},{"$error":"#VALUE!"},{"$error":"#VALUE!"},{"$error":"#VALUE!"},{"$error":"#VALUE!"},{"$error":"#VALUE!"},{"$error":"#VALUE!"},{"$error":"#VALUE!"},{"$error":"#VALUE!"},{"$error":"#VALUE!"},{"$error":"#VALUE!"},{"$error":"#VALUE!"},{"$error":"#VALUE!"},{"$error":"#VALUE!"},{"$error":"#VALUE!"},{"$error":"#VALUE!"},{"$error":"#VALUE!"},{"$error":"#VALUE!"},{"$error":"#VALUE!"},{"$error":"#VALUE!"},{"$error":"#VALUE!"},{"$f":"IF(AND(AG389=\"\",AG309=\"\"),\"\",IF(AG309=0,\"not appl.\",AG389/AG309))","v":{"$error":"#VALUE!"}},{"$error":"#VALUE!"},{"$error":"#VALUE!"},{"$error":"#VALUE!"},{"$error":"#VALUE!"},{"$f":"IF(AND(AL389=\"\",AL309=\"\"),\"\",IF(AL309=0,\"not appl.\",AL389/AL309))","v":{"$error":"#VALUE!"}},{"$error":"#VALUE!"},{"$error":"#VALUE!"},{"$error":"#VALUE!"},{"$error":"#VALUE!"},{"$f":"IF(AND(AQ389=\"\",AQ309=\"\"),\"\",IF(AQ309=0,\"not appl.\",AQ389/AQ309))","v":{"$error":"#VALUE!"}},{"$error":"#VALUE!"},{"$error":"#VALUE!"},{"$error":"#VALUE!"},{"$error":"#VALUE!"},{"$error":"#VALUE!"},{"$error":"#VALUE!"},{"$error":"#VALUE!"},{"$error":"#VALUE!"},{"$error":"#VALUE!"},{"$error":"#VALUE!"},{"$error":"#VALUE!"},{"$error":"#VALUE!"},{"$error":"#VALUE!"},{"$error":"#VALUE!"},{"$error":"#VALUE!"},{"$error":"#VALUE!"},{"$error":"#VALUE!"},{"$error":"#VALUE!"},{"$error":"#VALUE!"},{"$error":"#VALUE!"},{"$error":"#VALUE!"},{"$error":"#VALUE!"},{"$error":"#VALUE!"},{"$error":"#VALUE!"}]
[null,187,null,"petrol coke","[kg CO2/GJ]",null,{"$error":"#VALUE!"},{"$f":"IF(AND(H390=\"\",H310=\"\"),\"\",IF(H310=0,\"not appl.\",H390/H310))","v":{"$error":"#VALUE!"}},{"$error":"#VALUE!"},{"$error":"#VALUE!"},{"$error":"#VALUE!"},{"$error":"#VALUE!"},{"$error":"#VALUE!"},{"$error":"#VALUE!"},{"$error":"#VALUE!"},{"$error":"#VALUE!"},{"$error":"#VALUE!"},{"$error":"#VALUE!"},{"$error":"#VALUE!"},{"$error":"#VALUE!"},{"$error":"#VALUE!"},{"$error":"#VALUE!"},{"$error":"#VALUE!"},{"$error":"#VALUE!"},{"$error":"#VALUE!"},{"$error":"#VALUE!"},{"$error":"#VALUE!"},{"$error":"#VALUE!"},{"$error":"#VALUE!"},{"$error":"#VALUE!"},{"$error":"#VALUE!"},{"$error":"#VALUE!"},{"$error":"#VALUE!"},{"$error":"#VALUE!"},{"$error":"#VALUE!"},{"$error":"#VALUE!"},{"$error":"#VALUE!"},{"$error":"#VALUE!"},{"$error":"#VALUE!"},{"$error":"#VALUE!"},{"$error":"#VALUE!"},{"$error":"#VALUE!"},{"$f":"IF(AND(AQ390=\"\",AQ310=\"\"),\"\",IF(AQ310=0,\"not appl.\",AQ390/AQ310))","v":{"$error":"#VALUE!"}},{"$error":"#VALUE!"},{"$error":"#VALUE!"},{"$error":"#VALUE!"},{"$error":"#VALUE!"},{"$error":"#VALUE!"},{"$error":"#VALUE!"},{"$error":"#VALUE!"},{"$error":"#VALUE!"},{"$error":"#VALUE!"},{"$error":"#VALUE!"},{"$error":"#VALUE!"},{"$error":"#VALUE!"},{"$error":"#VALUE!"},{"$error":"#VALUE!"},{"$error":"#VALUE!"},{"$error":"#VALUE!"},{"$error":"#VALUE!"},{"$error":"#VALUE!"},{"$error":"#VALUE!"},{"$error":"#VALUE!"},{"$error":"#VALUE!"},{"$error":"#VALUE!"},{"$error":"#VALUE!"},{"$error":"#VALUE!"}]
[null,188,null,"(ultra) heavy fuel","[kg CO2/GJ]",null,{"$error":"#VALUE!"},{"$f":"IF(AND(H391=\"\",H311=\"\"),\"\",IF(H311=0,\"not appl.\",H391/H311))","v":{"$error":"#VALUE!"}},{"$error":"#VALUE!"},{"$error":"#VALUE!"},{"$error":"#VALUE!"},{"$error":"#VALUE!"},{"$error":"#VALUE!"},{"$error":"#VALUE!"},{"$error":"#VALUE!"},{"$error":"#VALUE!"},{"$error":"#VALUE!"},{"$error":"#VALUE!"},{"$error":"#VALUE!"},{"$error":"#VALUE!"},{"$error":"#VALUE!"},{"$error":"#VALUE!"},{"$error":"#VALUE!"},{"$error":"#VALUE!"},{"$error":"#VALUE!"},{"$error":"#VALUE!"},{"$error":"#VALUE!"},{"$error":"#VALUE!"},{"$error":"#VALUE!"},{"$error":"#VALUE!"},{"$error":"#VALUE!"},{"$error":"#VALUE!"},{"$error":"#VALUE!"},{"$error":"#VALUE!"},{"$error":"#VALUE!"},{"$error":"#VALUE!"},{"$error":"#VALUE!"},{"$error":"#VALUE!"},{"$error":"#VALUE!"},{"$error":"#VALUE!"},{"$error":"#VALUE!"},{"$error":"#VALUE!"},{"$f":"IF(AND(AQ391=\"\",AQ311=\"\"),\"\",IF(AQ311=0,\"not appl.\",AQ391/AQ311))","v":{"$error":"#VALUE!"}},{"$error":"#VALUE!"},{"$error":"#VALUE!"},{"$error":"#VALUE!"},{"$error":"#VALUE!"},{"$error":"#VALUE!"},{"$error":"#VALUE!"},{"$error":"#VALUE!"},{"$error":"#VALUE!"},{"$error":"#VALUE!"},{"$error":"#VALUE!"},{"$error":"#VALUE!"},{"$error":"#VALUE!"},{"$error":"#VALUE!"},{"$error":"#VALUE!"},{"$error":"#VALUE!"},{"$error":"#VALUE!"},{"$error":"#VALUE!"},{"$error":"#VALUE!"},{"$error":"#VALUE!"},{"$error":"#VALUE!"},{"$error":"#VALUE!"},{"$error":"#VALUE!"},{"$error":"#VALUE!"},{"$error":"#VALUE!"}]
[null,189,null,"diesel oil","[kg CO2/GJ]",null,{"$error":"#VALUE!"},{"$f":"IF(AND(H392=\"\",H312=\"\"),\"\",IF(H312=0,\"not appl.\",H392/H312))","v":{"$error":"#VALUE!"}},{"$error":"#VALUE!"},{"$error":"#VALUE!"},{"$error":"#VALUE!"},{"$error":"#VALUE!"},{"$error":"#VALUE!"},{"$error":"#VALUE!"},{"$error":"#VALUE!"},{"$error":"#VALUE!"},{"$error":"#VALUE!"},{"$error":"#VALUE!"},{"$error":"#VALUE!"},{"$error":"#VALUE!"},{"$error":"#VALUE!"},{"$error":"#VALUE!"},{"$error":"#VALUE!"},{"$error":"#VALUE!"},{"$error":"#VALUE!"},{"$error":"#VALUE!"},{"$error":"#VALUE!"},{"$error":"#VALUE!"},{"$error":"#VALUE!"},{"$error":"#VALUE!"},{"$error":"#VALUE!"},{"$error":"#VALUE!"},{"$error":"#VALUE!"},{"$error":"#VALUE!"},{"$error":"#VALUE!"},{"$error":"#VALUE!"},{"$error":"#VALUE!"},{"$error":"#VALUE!"},{"$error":"#VALUE!"},{"$error":"#VALUE!"},{"$error":"#VALUE!"},{"$error":"#VALUE!"},{"$f":"IF(AND(AQ392=\"\",AQ312=\"\"),\"\",IF(AQ312=0,\"not appl.\",AQ392/AQ312))","v":{"$error":"#VALUE!"}},{"$error":"#VALUE!"},{"$error":"#VALUE!"},{"$error":"#VALUE!"},{"$error":"#VALUE!"},{"$error":"#VALUE!"},{"$error":"#VALUE!"},{"$error":"#VALUE!"},{"$error":"#VALUE!"},{"$error":"#VALUE!"},{"$error":"#VALUE!"},{"$error":"#VALUE!"},{"$error":"#VALUE!"},{"$error":"#VALUE!"},{"$error":"#VALUE!"},{"$error":"#VALUE!"},{"$error":"#VALUE!"},{"$error":"#VALUE!"},{"$error":"#VALUE!"},{"$error":"#VALUE!"},{"$error":"#VALUE!"},{"$error":"#VALUE!"},{"$error":"#VALUE!"},{"$error":"#VALUE!"},{"$error":"#VALUE!"}]
[null,190,null,"natural gas ","[kg CO2/GJ]",null,{"$error":"#VALUE!"},{"$f":"IF(AND(H393=\"\",H313=\"\"),\"\",IF(H313=0,\"not appl.\",H393/H313))","v":{"$error":"#VALUE!"}},{"$error":"#VALUE!"},{"$error":"#VALUE!"},{"$error":"#VALUE!"},{"$error":"#VALUE!"},{"$error":"#VALUE!"},{"$error":"#VALUE!"},{"$error":"#VALUE!"},{"$error":"#VALUE!"},{"$error":"#VALUE!"},{"$error":"#VALUE!"},{"$error":"#VALUE!"},{"$error":"#VALUE!"},{"$error":"#VALUE!"},{"$error":"#VALUE!"},{"$error":"#VALUE!"},{"$error":"#VALUE!"},{"$error":"#VALUE!"},{"$error":"#VALUE!"},{"$error":"#VALUE!"},{"$error":"#VALUE!"},{"$error":"#VALUE!"},{"$error":"#VALUE!"},{"$error":"#VALUE!"},{"$error":"#VALUE!"},{"$error":"#VALUE!"},{"$error":"#VALUE!"},{"$error":"#VALUE!"},{"$error":"#VALUE!"},{"$error":"#VALUE!"},{"$error":"#VALUE!"},{"$error":"#VALUE!"},{"$error":"#VALUE!"},{"$error":"#VALUE!"},{"$error":"#VALUE!"},{"$f":"IF(AND(AQ393=\"\",AQ313=\"\"),\"\",IF(AQ313=0,\"not appl.\",AQ393/AQ313))","v":{"$error":"#VALUE!"}},{"$error":"#VALUE!"},{"$error":"#VALUE!"},{"$error":"#VALUE!"},{"$error":"#VALUE!"},{"$error":"#VALUE!"},{"$error":"#VALUE!"},{"$error":"#VALUE!"},{"$error":"#VALUE!"},{"$error":"#VALUE!"},{"$error":"#VALUE!"},{"$error":"#VALUE!"},{"$error":"#VALUE!"},{"$error":"#VALUE!"},{"$error":"#VALUE!"},{"$error":"#VALUE!"},{"$error":"#VALUE!"},{"$error":"#VALUE!"},{"$error":"#VALUE!"},{"$error":"#VALUE!"},{"$error":"#VALUE!"},{"$error":"#VALUE!"},{"$error":"#VALUE!"},{"$error":"#VALUE!"},{"$error":"#VALUE!"}]
[null,191,null,"shale","[kg CO2/GJ]",null,{"$error":"#VALUE!"},{"$f":"IF(AND(H394=\"\",H314=\"\"),\"\",IF(H314=0,\"not appl.\",H394/H314))","v":{"$error":"#VALUE!"}},{"$error":"#VALUE!"},{"$error":"#VALUE!"},{"$error":"#VALUE!"},{"$error":"#VALUE!"},{"$error":"#VALUE!"},{"$error":"#VALUE!"},{"$error":"#VALUE!"},{"$error":"#VALUE!"},{"$error":"#VALUE!"},{"$error":"#VALUE!"},{"$error":"#VALUE!"},{"$error":"#VALUE!"},{"$error":"#VALUE!"},{"$error":"#VALUE!"},{"$error":"#VALUE!"},{"$error":"#VALUE!"},{"$error":"#VALUE!"},{"$error":"#VALUE!"},{"$error":"#VALUE!"},{"$error":"#VALUE!"},{"$error":"#VALUE!"},{"$error":"#VALUE!"},{"$error":"#VALUE!"},{"$error":"#VALUE!"},{"$error":"#VALUE!"},{"$error":"#VALUE!"},{"$error":"#VALUE!"},{"$error":"#VALUE!"},{"$error":"#VALUE!"},{"$error":"#VALUE!"},{"$error":"#VALUE!"},{"$error":"#VALUE!"},{"$error":"#VALUE!"},{"$error":"#VALUE!"},{"$f":"IF(AND(AQ394=\"\",AQ314=\"\"),\"\",IF(AQ314=0,\"not appl.\",AQ394/AQ314))","v":{"$error":"#VALUE!"}},{"$error":"#VALUE!"},{"$error":"#VALUE!"},{"$error":"#VALUE!"},{"$error":"#VALUE!"},{"$error":"#VALUE!"},{"$error":"#VALUE!"},{"$error":"#VALUE!"},{"$error":"#VALUE!"},{"$error":"#VALUE!"},{"$error":"#VALUE!"},{"$error":"#VALUE!"},{"$error":"#VALUE!"},{"$error":"#VALUE!"},{"$error":"#VALUE!"},{"$error":"#VALUE!"},{"$error":"#VALUE!"},{"$error":"#VALUE!"},{"$error":"#VALUE!"},{"$error":"#VALUE!"},{"$error":"#VALUE!"},{"$error":"#VALUE!"},{"$error":"#VALUE!"},{"$error":"#VALUE!"},{"$error":"#VALUE!"}]
[null,192,null,"lignite","[kg CO2/GJ]",null,{"$error":"#VALUE!"},{"$f":"IF(AND(H395=\"\",H315=\"\"),\"\",IF(H315=0,\"not appl.\",H395/H315))","v":{"$error":"#VALUE!"}},{"$error":"#VALUE!"},{"$error":"#VALUE!"},{"$error":"#VALUE!"},{"$error":"#VALUE!"},{"$error":"#VALUE!"},{"$error":"#VALUE!"},{"$error":"#VALUE!"},{"$error":"#VALUE!"},{"$error":"#VALUE!"},{"$error":"#VALUE!"},{"$error":"#VALUE!"},{"$error":"#VALUE!"},{"$error":"#VALUE!"},{"$error":"#VALUE!"},{"$error":"#VALUE!"},{"$error":"#VALUE!"},{"$error":"#VALUE!"},{"$error":"#VALUE!"},{"$error":"#VALUE!"},{"$error":"#VALUE!"},{"$error":"#VALUE!"},{"$error":"#VALUE!"},{"$error":"#VALUE!"},{"$error":"#VALUE!"},{"$error":"#VALUE!"},{"$error":"#VALUE!"},{"$error":"#VALUE!"},{"$error":"#VALUE!"},{"$error":"#VALUE!"},{"$error":"#VALUE!"},{"$error":"#VALUE!"},{"$error":"#VALUE!"},{"$error":"#VALUE!"},{"$error":"#VALUE!"},{"$f":"IF(AND(AQ395=\"\",AQ315=\"\"),\"\",IF(AQ315=0,\"not appl.\",AQ395/AQ315))","v":{"$error":"#VALUE!"}},{"$error":"#VALUE!"},{"$error":"#VALUE!"},{"$error":"#VALUE!"},{"$error":"#VALUE!"},{"$error":"#VALUE!"},{"$error":"#VALUE!"},{"$error":"#VALUE!"},{"$error":"#VALUE!"},{"$error":"#VALUE!"},{"$error":"#VALUE!"},{"$error":"#VALUE!"},{"$error":"#VALUE!"},{"$error":"#VALUE!"},{"$error":"#VALUE!"},{"$error":"#VALUE!"},{"$error":"#VALUE!"},{"$error":"#VALUE!"},{"$error":"#VALUE!"},{"$error":"#VALUE!"},{"$error":"#VALUE!"},{"$error":"#VALUE!"},{"$error":"#VALUE!"},{"$error":"#VALUE!"},{"$error":"#VALUE!"}]
[null,"192a",null,"gasoline","[kg CO2/GJ]",null,{"$f":"IF(AND(G540=\"\",G504=\"\"),\"\",IF(G504=0,\"not appl.\",G540/G504))","v":{"$error":"#VALUE!"}},{"$f":"IF(AND(H540=\"\",H504=\"\"),\"\",IF(H504=0,\"not appl.\",H540/H504))","v":{"$error":"#VALUE!"}},{"$error":"#VALUE!"},{"$error":"#VALUE!"},{"$error":"#VALUE!"},{"$error":"#VALUE!"},{"$error":"#VALUE!"},{"$error":"#VALUE!"},{"$error":"#VALUE!"},{"$error":"#VALUE!"},{"$error":"#VALUE!"},{"$error":"#VALUE!"},{"$error":"#VALUE!"},{"$error":"#VALUE!"},{"$error":"#VALUE!"},{"$error":"#VALUE!"},{"$error":"#VALUE!"},{"$error":"#VALUE!"},{"$error":"#VALUE!"},{"$error":"#VALUE!"},{"$error":"#VALUE!"},{"$error":"#VALUE!"},{"$error":"#VALUE!"},{"$error":"#VALUE!"},{"$error":"#VALUE!"},{"$error":"#VALUE!"},{"$f":"IF(AND(AG540=\"\",AG504=\"\"),\"\",IF(AG504=0,\"not appl.\",AG540/AG504))","v":{"$error":"#VALUE!"}},{"$error":"#VALUE!"},{"$error":"#VALUE!"},{"$error":"#VALUE!"},{"$error":"#VALUE!"},{"$f":"IF(AND(AL540=\"\",AL504=\"\"),\"\",IF(AL504=0,\"not appl.\",AL540/AL504))","v":{"$error":"#VALUE!"}},{"$error":"#VALUE!"},{"$error":"#VALUE!"},{"$error":"#VALUE!"},{"$error":"#VALUE!"},{"$f":"IF(AND(AQ540=\"\",AQ504=\"\"),\"\",IF(AQ504=0,\"not appl.\",AQ540/AQ504))","v":{"$error":"#VALUE!"}},{"$error":"#VALUE!"},{"$error":"#VALUE!"},{"$error":"#VALUE!"},{"$error":"#VALUE!"},{"$error":"#VALUE!"},{"$error":"#VALUE!"},{"$error":"#VALUE!"},{"$error":"#VALUE!"},{"$error":"#VALUE!"},{"$error":"#VALUE!"},{"$error":"#VALUE!"},{"$error":"#VALUE!"},{"$error":"#VALUE!"},{"$error":"#VALUE!"},{"$error":"#VALUE!"},{"$error":"#VALUE!"},{"$error":"#VALUE!"},{"$error":"#VALUE!"},{"$error":"#VALUE!"},{"$error":"#VALUE!"},{"$error":"#VALUE!"},{"$error":"#VALUE!"},{"$error":"#VALUE!"},{"$error":"#VALUE!"}]
[null,"192d",null,"other fossil fuels(Equipment and On-Site Vehicles)","[kg CO2/GJ]",null,{"$f":"IF(AND(G541=\"\",G505=\"\"),\"\",IF(G505=0,\"not appl.\",G541/G505))","v":{"$error":"#VALUE!"}},{"$f":"IF(AND(H541=\"\",H505=\"\"),\"\",IF(H505=0,\"not appl.\",H541/H505))","v":{"$error":"#VALUE!"}},{"$error":"#VALUE!"},{"$error":"#VALUE!"},{"$error":"#VALUE!"},{"$error":"#VALUE!"},{"$error":"#VALUE!"},{"$error":"#VALUE!"},{"$error":"#VALUE!"},{"$error":"#VALUE!"},{"$error":"#VALUE!"},{"$error":"#VALUE!"},{"$error":"#VALUE!"},{"$error":"#VALUE!"},{"$error":"#VALUE!"},{"$error":"#VALUE!"},{"$error":"#VALUE!"},{"$error":"#VALUE!"},{"$error":"#VALUE!"},{"$error":"#VALUE!"},{"$error":"#VALUE!"},{"$error":"#VALUE!"},{"$error":"#VALUE!"},{"$error":"#VALUE!"},{"$error":"#VALUE!"},{"$error":"#VALUE!"},{"$error":"#VALUE!"},{"$error":"#VALUE!"},{"$error":"#VALUE!"},{"$error":"#VALUE!"},{"$error":"#VALUE!"},{"$error":"#VALUE!"},{"$error":"#VALUE!"},{"$error":"#VALUE!"},{"$error":"#VALUE!"},{"$error":"#VALUE!"},{"$f":"IF(AND(AQ541=\"\",AQ505=\"\"),\"\",IF(AQ505=0,\"not appl.\",AQ541/AQ505))","v":{"$error":"#VALUE!"}},{"$error":"#VALUE!"},{"$error":"#VALUE!"},{"$error":"#VALUE!"},{"$error":"#VALUE!"},{"$error":"#VALUE!"},{"$error":"#VALUE!"},{"$error":"#VALUE!"},{"$error":"#VALUE!"},{"$error":"#VALUE!"},{"$error":"#VALUE!"},{"$error":"#VALUE!"},{"$error":"#VALUE!"},{"$error":"#VALUE!"},{"$error":"#VALUE!"},{"$error":"#VALUE!"},{"$error":"#VALUE!"},{"$error":"#VALUE!"},{"$error":"#VALUE!"},{"$error":"#VALUE!"},{"$error":"#VALUE!"},{"$error":"#VALUE!"},{"$error":"#VALUE!"},{"$error":"#VALUE!"},{"$error":"#VALUE!"}]
[null,"192b",null,"other fossil fuels(Room heating and cooling)","[kg CO2/GJ]",null,{"$f":"IF(AND(G547=\"\",G511=\"\"),\"\",IF(G511=0,\"not appl.\",G547/G511))","v":{"$error":"#VALUE!"}},{"$f":"IF(AND(H547=\"\",H511=\"\"),\"\",IF(H511=0,\"not appl.\",H547/H511))","v":{"$error":"#VALUE!"}},{"$error":"#VALUE!"},{"$error":"#VALUE!"},{"$error":"#VALUE!"},{"$error":"#VALUE!"},{"$error":"#VALUE!"},{"$error":"#VALUE!"},{"$error":"#VALUE!"},{"$error":"#VALUE!"},{"$error":"#VALUE!"},{"$error":"#VALUE!"},{"$error":"#VALUE!"},{"$error":"#VALUE!"},{"$error":"#VALUE!"},{"$error":"#VALUE!"},{"$error":"#VALUE!"},{"$error":"#VALUE!"},{"$error":"#VALUE!"},{"$error":"#VALUE!"},{"$error":"#VALUE!"},{"$error":"#VALUE!"},{"$error":"#VALUE!"},{"$error":"#VALUE!"},{"$error":"#VALUE!"},{"$error":"#VALUE!"},{"$f":"IF(AND(AG547=\"\",AG511=\"\"),\"\",IF(AG511=0,\"not appl.\",AG547/AG511))","v":{"$error":"#VALUE!"}},{"$error":"#VALUE!"},{"$error":"#VALUE!"},{"$error":"#VALUE!"},{"$error":"#VALUE!"},{"$error":"#VALUE!"},{"$error":"#VALUE!"},{"$error":"#VALUE!"},{"$error":"#VALUE!"},{"$error":"#VALUE!"},{"$f":"IF(AND(AQ547=\"\",AQ511=\"\"),\"\",IF(AQ511=0,\"not appl.\",AQ547/AQ511))","v":{"$error":"#VALUE!"}},{"$error":"#VALUE!"},{"$error":"#VALUE!"},{"$error":"#VALUE!"},{"$error":"#VALUE!"},{"$error":"#VALUE!"},{"$error":"#VALUE!"},{"$error":"#VALUE!"},{"$error":"#VALUE!"},{"$error":"#VALUE!"},{"$error":"#VALUE!"},{"$error":"#VALUE!"},{"$error":"#VALUE!"},{"$error":"#VALUE!"},{"$error":"#VALUE!"},{"$error":"#VALUE!"},{"$error":"#VALUE!"},{"$error":"#VALUE!"},{"$error":"#VALUE!"},{"$error":"#VALUE!"},{"$error":"#VALUE!"},{"$error":"#VALUE!"},{"$error":"#VALUE!"},{"$error":"#VALUE!"},{"$error":"#VALUE!"}]
[null,"192c",null,"other fossil fuels(On-site power generation)","[kg CO2/GJ]",null,{"$f":"IF(AND(G567=\"\",G531=\"\"),\"\",IF(G531=0,\"not appl.\",G567/G531))","v":{"$error":"#VALUE!"}},{"$f":"IF(AND(H567=\"\",H531=\"\"),\"\",IF(H531=0,\"not appl.\",H567/H531))","v":{"$error":"#VALUE!"}},{"$error":"#VALUE!"},{"$error":"#VALUE!"},{"$error":"#VALUE!"},{"$error":"#VALUE!"},{"$error":"#VALUE!"},{"$error":"#VALUE!"},{"$error":"#VALUE!"},{"$error":"#VALUE!"},{"$error":"#VALUE!"},{"$error":"#VALUE!"},{"$error":"#VALUE!"},{"$error":"#VALUE!"},{"$error":"#VALUE!"},{"$error":"#VALUE!"},{"$error":"#VALUE!"},{"$error":"#VALUE!"},{"$error":"#VALUE!"},{"$error":"#VALUE!"},{"$error":"#VALUE!"},{"$error":"#VALUE!"},{"$error":"#VALUE!"},{"$error":"#VALUE!"},{"$error":"#VALUE!"},{"$error":"#VALUE!"},{"$f":"IF(AND(AG567=\"\",AG531=\"\"),\"\",IF(AG531=0,\"not appl.\",AG567/AG531))","v":{"$error":"#VALUE!"}},{"$error":"#VALUE!"},{"$error":"#VALUE!"},{"$error":"#VALUE!"},{"$error":"#VALUE!"},{"$error":"#VALUE!"},{"$error":"#VALUE!"},{"$error":"#VALUE!"},{"$error":"#VALUE!"},{"$error":"#VALUE!"},{"$f":"IF(AND(AQ567=\"\",AQ531=\"\"),\"\",IF(AQ531=0,\"not appl.\",AQ567/AQ531))","v":{"$error":"#VALUE!"}},{"$error":"#VALUE!"},{"$error":"#VALUE!"},{"$error":"#VALUE!"},{"$error":"#VALUE!"},{"$error":"#VALUE!"},{"$error":"#VALUE!"},{"$error":"#VALUE!"},{"$error":"#VALUE!"},{"$error":"#VALUE!"},{"$error":"#VALUE!"},{"$error":"#VALUE!"},{"$error":"#VALUE!"},{"$error":"#VALUE!"},{"$error":"#VALUE!"},{"$error":"#VALUE!"},{"$error":"#VALUE!"},{"$error":"#VALUE!"},{"$error":"#VALUE!"},{"$error":"#VALUE!"},{"$error":"#VALUE!"},{"$error":"#VALUE!"},{"$error":"#VALUE!"},{"$error":"#VALUE!"},{"$error":"#VALUE!"}]
[null,{"$f":"B355+1","v":193},"Alternative fossil fuels, including mixed fuels"]
[null,194,null,"waste oil","[kg CO2/GJ]",null,{"$f":"IF(AND(G397=\"\",G317=\"\"),\"\",IF(G317=0,\"not appl.\",G397/G317))","v":{"$error":"#VALUE!"}},{"$f":"IF(AND(H397=\"\",H317=\"\"),\"\",IF(H317=0,\"not appl.\",H397/H317))","v":{"$error":"#VALUE!"}},{"$error":"#VALUE!"},{"$error":"#VALUE!"},{"$error":"#VALUE!"},{"$error":"#VALUE!"},{"$error":"#VALUE!"},{"$error":"#VALUE!"},{"$error":"#VALUE!"},{"$error":"#VALUE!"},{"$error":"#VALUE!"},{"$error":"#VALUE!"},{"$error":"#VALUE!"},{"$error":"#VALUE!"},{"$error":"#VALUE!"},{"$error":"#VALUE!"},{"$error":"#VALUE!"},{"$error":"#VALUE!"},{"$error":"#VALUE!"},{"$error":"#VALUE!"},{"$error":"#VALUE!"},{"$error":"#VALUE!"},{"$error":"#VALUE!"},{"$error":"#VALUE!"},{"$error":"#VALUE!"},{"$error":"#VALUE!"},{"$f":"IF(AND(AG397=\"\",AG317=\"\"),\"\",IF(AG317=0,\"not appl.\",AG397/AG317))","v":{"$error":"#VALUE!"}},{"$error":"#VALUE!"},{"$error":"#VALUE!"},{"$error":"#VALUE!"},{"$error":"#VALUE!"},{"$f":"IF(AND(AL397=\"\",AL317=\"\"),\"\",IF(AL317=0,\"not appl.\",AL397/AL317))","v":{"$error":"#VALUE!"}},{"$error":"#VALUE!"},{"$error":"#VALUE!"},{"$error":"#VALUE!"},{"$error":"#VALUE!"},{"$f":"IF(AND(AQ397=\"\",AQ317=\"\"),\"\",IF(AQ317=0,\"not appl.\",AQ397/AQ317))","v":{"$error":"#VALUE!"}},{"$error":"#VALUE!"},{"$error":"#VALUE!"},{"$error":"#VALUE!"},{"$error":"#VALUE!"},{"$error":"#VALUE!"},{"$error":"#VALUE!"},{"$error":"#VALUE!"},{"$error":"#VALUE!"},{"$error":"#VALUE!"},{"$error":"#VALUE!"},{"$error":"#VALUE!"},{"$error":"#VALUE!"},{"$error":"#VALUE!"},{"$error":"#VALUE!"},{"$error":"#VALUE!"},{"$error":"#VALUE!"},{"$error":"#VALUE!"},{"$error":"#VALUE!"},{"$error":"#VALUE!"},{"$error":"#VALUE!"},{"$error":"#VALUE!"},{"$error":"#VALUE!"},{"$error":"#VALUE!"},{"$error":"#VALUE!"}]
[null,195,null,"tyres","[kg CO2/GJ]",null,{"$error":"#VALUE!"},{"$f":"IF(AND(H398=\"\",H318=\"\"),\"\",IF(H318=0,\"not appl.\",H398/H318))","v":{"$error":"#VALUE!"}},{"$error":"#VALUE!"},{"$error":"#VALUE!"},{"$error":"#VALUE!"},{"$error":"#VALUE!"},{"$error":"#VALUE!"},{"$error":"#VALUE!"},{"$error":"#VALUE!"},{"$error":"#VALUE!"},{"$error":"#VALUE!"},{"$error":"#VALUE!"},{"$error":"#VALUE!"},{"$error":"#VALUE!"},{"$error":"#VALUE!"},{"$error":"#VALUE!"},{"$error":"#VALUE!"},{"$error":"#VALUE!"},{"$error":"#VALUE!"},{"$error":"#VALUE!"},{"$error":"#VALUE!"},{"$error":"#VALUE!"},{"$error":"#VALUE!"},{"$error":"#VALUE!"},{"$error":"#VALUE!"},{"$error":"#VALUE!"},{"$error":"#VALUE!"},{"$error":"#VALUE!"},{"$error":"#VALUE!"},{"$error":"#VALUE!"},{"$error":"#VALUE!"},{"$error":"#VALUE!"},{"$error":"#VALUE!"},{"$error":"#VALUE!"},{"$error":"#VALUE!"},{"$error":"#VALUE!"},{"$f":"IF(AND(AQ398=\"\",AQ318=\"\"),\"\",IF(AQ318=0,\"not appl.\",AQ398/AQ318))","v":{"$error":"#VALUE!"}},{"$error":"#VALUE!"},{"$error":"#VALUE!"},{"$error":"#VALUE!"},{"$error":"#VALUE!"},{"$error":"#VALUE!"},{"$error":"#VALUE!"},{"$error":"#VALUE!"},{"$error":"#VALUE!"},{"$error":"#VALUE!"},{"$error":"#VALUE!"},{"$error":"#VALUE!"},{"$error":"#VALUE!"},{"$error":"#VALUE!"},{"$error":"#VALUE!"},{"$error":"#VALUE!"},{"$error":"#VALUE!"},{"$error":"#VALUE!"},{"$error":"#VALUE!"},{"$error":"#VALUE!"},{"$error":"#VALUE!"},{"$error":"#VALUE!"},{"$error":"#VALUE!"},{"$error":"#VALUE!"},{"$error":"#VALUE!"}]
[null,196,null,"RDF including plastics","[kg CO2/GJ]",null,{"$error":"#VALUE!"},{"$f":"IF(AND(H399=\"\",H319=\"\"),\"\",IF(H319=0,\"not appl.\",H399/H319))","v":{"$error":"#VALUE!"}},{"$error":"#VALUE!"},{"$error":"#VALUE!"},{"$error":"#VALUE!"},{"$error":"#VALUE!"},{"$error":"#VALUE!"},{"$error":"#VALUE!"},{"$error":"#VALUE!"},{"$error":"#VALUE!"},{"$error":"#VALUE!"},{"$error":"#VALUE!"},{"$error":"#VALUE!"},{"$error":"#VALUE!"},{"$error":"#VALUE!"},{"$error":"#VALUE!"},{"$error":"#VALUE!"},{"$error":"#VALUE!"},{"$error":"#VALUE!"},{"$error":"#VALUE!"},{"$error":"#VALUE!"},{"$error":"#VALUE!"},{"$error":"#VALUE!"},{"$error":"#VALUE!"},{"$error":"#VALUE!"},{"$error":"#VALUE!"},{"$error":"#VALUE!"},{"$error":"#VALUE!"},{"$error":"#VALUE!"},{"$error":"#VALUE!"},{"$error":"#VALUE!"},{"$error":"#VALUE!"},{"$error":"#VALUE!"},{"$error":"#VALUE!"},{"$error":"#VALUE!"},{"$error":"#VALUE!"},{"$f":"IF(AND(AQ399=\"\",AQ319=\"\"),\"\",IF(AQ319=0,\"not appl.\",AQ399/AQ319))","v":{"$error":"#VALUE!"}},{"$error":"#VALUE!"},{"$error":"#VALUE!"},{"$error":"#VALUE!"},{"$error":"#VALUE!"},{"$error":"#VALUE!"},{"$error":"#VALUE!"},{"$error":"#VALUE!"},{"$error":"#VALUE!"},{"$error":"#VALUE!"},{"$error":"#VALUE!"},{"$error":"#VALUE!"},{"$error":"#VALUE!"},{"$error":"#VALUE!"},{"$error":"#VALUE!"},{"$error":"#VALUE!"},{"$error":"#VALUE!"},{"$error":"#VALUE!"},{"$error":"#VALUE!"},{"$error":"#VALUE!"},{"$error":"#VALUE!"},{"$error":"#VALUE!"},{"$error":"#VALUE!"},{"$error":"#VALUE!"},{"$error":"#VALUE!"}]
[null,197,null,"solvents","[kg CO2/GJ]",null,{"$error":"#VALUE!"},{"$f":"IF(AND(H400=\"\",H320=\"\"),\"\",IF(H320=0,\"not appl.\",H400/H320))","v":{"$error":"#VALUE!"}},{"$error":"#VALUE!"},{"$error":"#VALUE!"},{"$error":"#VALUE!"},{"$error":"#VALUE!"},{"$error":"#VALUE!"},{"$error":"#VALUE!"},{"$error":"#VALUE!"},{"$error":"#VALUE!"},{"$error":"#VALUE!"},{"$error":"#VALUE!"},{"$error":"#VALUE!"},{"$error":"#VALUE!"},{"$error":"#VALUE!"},{"$error":"#VALUE!"},{"$error":"#VALUE!"},{"$error":"#VALUE!"},{"$error":"#VALUE!"},{"$error":"#VALUE!"},{"$error":"#VALUE!"},{"$error":"#VALUE!"},{"$error":"#VALUE!"},{"$error":"#VALUE!"},{"$error":"#VALUE!"},{"$error":"#VALUE!"},{"$error":"#VALUE!"},{"$error":"#VALUE!"},{"$error":"#VALUE!"},{"$error":"#VALUE!"},{"$error":"#VALUE!"},{"$error":"#VALUE!"},{"$error":"#VALUE!"},{"$error":"#VALUE!"},{"$error":"#VALUE!"},{"$error":"#VALUE!"},{"$f":"IF(AND(AQ400=\"\",AQ320=\"\"),\"\",IF(AQ320=0,\"not appl.\",AQ400/AQ320))","v":{"$error":"#VALUE!"}},{"$error":"#VALUE!"},{"$error":"#VALUE!"},{"$error":"#VALUE!"},{"$error":"#VALUE!"},{"$error":"#VALUE!"},{"$error":"#VALUE!"},{"$error":"#VALUE!"},{"$error":"#VALUE!"},{"$error":"#VALUE!"},{"$error":"#VALUE!"},{"$error":"#VALUE!"},{"$error":"#VALUE!"},{"$error":"#VALUE!"},{"$error":"#VALUE!"},{"$error":"#VALUE!"},{"$error":"#VALUE!"},{"$error":"#VALUE!"},{"$error":"#VALUE!"},{"$error":"#VALUE!"},{"$error":"#VALUE!"},{"$error":"#VALUE!"},{"$error":"#VALUE!"},{"$error":"#VALUE!"},{"$error":"#VALUE!"}]
[null,198,null,"impregnated saw dust","[kg CO2/GJ]",null,{"$error":"#VALUE!"},{"$f":"IF(AND(H401=\"\",H321=\"\"),\"\",IF(H321=0,\"not appl.\",H401/H321))","v":{"$error":"#VALUE!"}},{"$error":"#VALUE!"},{"$error":"#VALUE!"},{"$error":"#VALUE!"},{"$error":"#VALUE!"},{"$error":"#VALUE!"},{"$error":"#VALUE!"},{"$error":"#VALUE!"},{"$error":"#VALUE!"},{"$error":"#VALUE!"},{"$error":"#VALUE!"},{"$error":"#VALUE!"},{"$error":"#VALUE!"},{"$error":"#VALUE!"},{"$error":"#VALUE!"},{"$error":"#VALUE!"},{"$error":"#VALUE!"},{"$error":"#VALUE!"},{"$error":"#VALUE!"},{"$error":"#VALUE!"},{"$error":"#VALUE!"},{"$error":"#VALUE!"},{"$error":"#VALUE!"},{"$error":"#VALUE!"},{"$error":"#VALUE!"},{"$error":"#VALUE!"},{"$error":"#VALUE!"},{"$error":"#VALUE!"},{"$error":"#VALUE!"},{"$error":"#VALUE!"},{"$error":"#VALUE!"},{"$error":"#VALUE!"},{"$error":"#VALUE!"},{"$error":"#VALUE!"},{"$error":"#VALUE!"},{"$f":"IF(AND(AQ401=\"\",AQ321=\"\"),\"\",IF(AQ321=0,\"not appl.\",AQ401/AQ321))","v":{"$error":"#VALUE!"}},{"$error":"#VALUE!"},{"$error":"#VALUE!"},{"$error":"#VALUE!"},{"$error":"#VALUE!"},{"$error":"#VALUE!"},{"$error":"#VALUE!"},{"$error":"#VALUE!"},{"$error":"#VALUE!"},{"$error":"#VALUE!"},{"$error":"#VALUE!"},{"$error":"#VALUE!"},{"$error":"#VALUE!"},{"$error":"#VALUE!"},{"$error":"#VALUE!"},{"$error":"#VALUE!"},{"$error":"#VALUE!"},{"$error":"#VALUE!"},{"$error":"#VALUE!"},{"$error":"#VALUE!"},{"$error":"#VALUE!"},{"$error":"#VALUE!"},{"$error":"#VALUE!"},{"$error":"#VALUE!"},{"$error":"#VALUE!"}]
[null,199,null,"mixed industrial waste","[kg CO2/GJ]",null,{"$error":"#VALUE!"},{"$f":"IF(AND(H402=\"\",H322=\"\"),\"\",IF(H322=0,\"not appl.\",H402/H322))","v":{"$error":"#VALUE!"}},{"$error":"#VALUE!"},{"$error":"#VALUE!"},{"$error":"#VALUE!"},{"$error":"#VALUE!"},{"$error":"#VALUE!"},{"$error":"#VALUE!"},{"$error":"#VALUE!"},{"$error":"#VALUE!"},{"$error":"#VALUE!"},{"$error":"#VALUE!"},{"$error":"#VALUE!"},{"$error":"#VALUE!"},{"$error":"#VALUE!"},{"$error":"#VALUE!"},{"$error":"#VALUE!"},{"$error":"#VALUE!"},{"$error":"#VALUE!"},{"$error":"#VALUE!"},{"$error":"#VALUE!"},{"$error":"#VALUE!"},{"$error":"#VALUE!"},{"$error":"#VALUE!"},{"$error":"#VALUE!"},{"$error":"#VALUE!"},{"$error":"#VALUE!"},{"$error":"#VALUE!"},{"$error":"#VALUE!"},{"$error":"#VALUE!"},{"$error":"#VALUE!"},{"$error":"#VALUE!"},{"$error":"#VALUE!"},{"$error":"#VALUE!"},{"$error":"#VALUE!"},{"$error":"#VALUE!"},{"$f":"IF(AND(AQ402=\"\",AQ322=\"\"),\"\",IF(AQ322=0,\"not appl.\",AQ402/AQ322))","v":{"$error":"#VALUE!"}},{"$error":"#VALUE!"},{"$error":"#VALUE!"},{"$error":"#VALUE!"},{"$error":"#VALUE!"},{"$error":"#VALUE!"},{"$error":"#VALUE!"},{"$error":"#VALUE!"},{"$error":"#VALUE!"},{"$error":"#VALUE!"},{"$error":"#VALUE!"},{"$error":"#VALUE!"},{"$error":"#VALUE!"},{"$error":"#VALUE!"},{"$error":"#VALUE!"},{"$error":"#VALUE!"},{"$error":"#VALUE!"},{"$error":"#VALUE!"},{"$error":"#VALUE!"},{"$error":"#VALUE!"},{"$error":"#VALUE!"},{"$error":"#VALUE!"},{"$error":"#VALUE!"},{"$error":"#VALUE!"},{"$error":"#VALUE!"}]
[null,"199a",null,"bio and mixed diesel","[kg CO2/GJ]"]
[null,{"$f":"B366+1","v":200},null,"other fossil based wastes and mixed fuels","[kg CO2/GJ]",null,{"$f":"IF(AND(G403=\"\",G323=\"\"),\"\",IF(G323=0,\"not appl.\",G403/G323))","v":{"$error":"#VALUE!"}},{"$f":"IF(AND(H403=\"\",H323=\"\"),\"\",IF(H323=0,\"not appl.\",H403/H323))","v":{"$error":"#VALUE!"}},{"$error":"#VALUE!"},{"$error":"#VALUE!"},{"$error":"#VALUE!"},{"$error":"#VALUE!"},{"$error":"#VALUE!"},{"$error":"#VALUE!"},{"$error":"#VALUE!"},{"$error":"#VALUE!"},{"$error":"#VALUE!"},{"$error":"#VALUE!"},{"$error":"#VALUE!"},{"$error":"#VALUE!"},{"$error":"#VALUE!"},{"$error":"#VALUE!"},{"$error":"#VALUE!"},{"$error":"#VALUE!"},{"$error":"#VALUE!"},{"$error":"#VALUE!"},{"$error":"#VALUE!"},{"$error":"#VALUE!"},{"$error":"#VALUE!"},{"$error":"#VALUE!"},{"$error":"#VALUE!"},{"$error":"#VALUE!"},{"$f":"IF(AND(AG403=\"\",AG323=\"\"),\"\",IF(AG323=0,\"not appl.\",AG403/AG323))","v":{"$error":"#VALUE!"}},{"$error":"#VALUE!"},{"$error":"#VALUE!"},{"$error":"#VALUE!"},{"$error":"#VALUE!"},{"$error":"#VALUE!"},{"$error":"#VALUE!"},{"$error":"#VALUE!"},{"$error":"#VALUE!"},{"$error":"#VALUE!"},{"$f":"IF(AND(AQ403=\"\",AQ323=\"\"),\"\",IF(AQ323=0,\"not appl.\",AQ403/AQ323))","v":{"$error":"#VALUE!"}},{"$error":"#VALUE!"},{"$error":"#VALUE!"},{"$error":"#VALUE!"},{"$error":"#VALUE!"},{"$error":"#VALUE!"},{"$error":"#VALUE!"},{"$error":"#VALUE!"},{"$error":"#VALUE!"},{"$error":"#VALUE!"},{"$error":"#VALUE!"},{"$error":"#VALUE!"},{"$error":"#VALUE!"},{"$error":"#VALUE!"},{"$error":"#VALUE!"},{"$error":"#VALUE!"},{"$error":"#VALUE!"},{"$error":"#VALUE!"},{"$error":"#VALUE!"},{"$error":"#VALUE!"},{"$error":"#VALUE!"},{"$error":"#VALUE!"},{"$error":"#VALUE!"},{"$error":"#VALUE!"},{"$error":"#VALUE!"}]
[null,"200a",null," biomass in waste oil","[ % Cbio/TC]"]
[null,"200b",null," biomass in tyres","[ % Cbio/TC]"]
[null,"200c",null," biomass in RDF including plastics","[ % Cbio/TC]"]
[null,"200d",null," biomass in solvents","[ % Cbio/TC]"]
[null,"200e",null," biomass in impregnated saw dust","[ % Cbio/TC]"]
[null,"200f",null," biomass in mixed industrial waste","[ % Cbio/TC]"]
[null,"200g",null," biomass in bio and mixed diesel","[ % Cbio/TC]"]
[null,"200h",null," biomass in other fossil based wastes and mixed fuels","[ % Cbio/TC]"]
[null,{"$f":"B368+1","v":201},"Biomass fuels"]
[null,{"$f":"B377+1","v":202},null,"sewage sludge","[kg CO2/GJ]",null,{"$f":"IF(AND(G405=\"\",G325=\"\"),\"\",IF(G325=0,\"not appl.\",G405/G325))","v":{"$error":"#VALUE!"}},{"$f":"IF(AND(H405=\"\",H325=\"\"),\"\",IF(H325=0,\"not appl.\",H405/H325))","v":{"$error":"#VALUE!"}},{"$error":"#VALUE!"},{"$error":"#VALUE!"},{"$error":"#VALUE!"},{"$error":"#VALUE!"},{"$error":"#VALUE!"},{"$error":"#VALUE!"},{"$error":"#VALUE!"},{"$error":"#VALUE!"},{"$error":"#VALUE!"},{"$error":"#VALUE!"},{"$error":"#VALUE!"},{"$error":"#VALUE!"},{"$error":"#VALUE!"},{"$error":"#VALUE!"},{"$error":"#VALUE!"},{"$error":"#VALUE!"},{"$error":"#VALUE!"},{"$error":"#VALUE!"},{"$error":"#VALUE!"},{"$error":"#VALUE!"},{"$error":"#VALUE!"},{"$error":"#VALUE!"},{"$error":"#VALUE!"},{"$error":"#VALUE!"},{"$f":"IF(AND(AG405=\"\",AG325=\"\"),\"\",IF(AG325=0,\"not appl.\",AG405/AG325))","v":{"$error":"#VALUE!"}},{"$error":"#VALUE!"},{"$error":"#VALUE!"},{"$error":"#VALUE!"},{"$error":"#VALUE!"},{"$f":"IF(AND(AL405=\"\",AL325=\"\"),\"\",IF(AL325=0,\"not appl.\",AL405/AL325))","v":{"$error":"#VALUE!"}},{"$error":"#VALUE!"},{"$error":"#VALUE!"},{"$error":"#VALUE!"},{"$error":"#VALUE!"},{"$f":"IF(AND(AQ405=\"\",AQ325=\"\"),\"\",IF(AQ325=0,\"not appl.\",AQ405/AQ325))","v":{"$error":"#VALUE!"}},{"$error":"#VALUE!"},{"$error":"#VALUE!"},{"$error":"#VALUE!"},{"$error":"#VALUE!"},{"$error":"#VALUE!"},{"$error":"#VALUE!"},{"$error":"#VALUE!"},{"$error":"#VALUE!"},{"$error":"#VALUE!"},{"$error":"#VALUE!"},{"$error":"#VALUE!"},{"$error":"#VALUE!"},{"$error":"#VALUE!"},{"$error":"#VALUE!"},{"$error":"#VALUE!"},{"$error":"#VALUE!"},{"$error":"#VALUE!"},{"$error":"#VALUE!"},{"$error":"#VALUE!"},{"$error":"#VALUE!"},{"$error":"#VALUE!"},{"$error":"#VALUE!"},{"$error":"#VALUE!"},{"$error":"#VALUE!"}]
[null,203,null,"wood, non impregnated saw dust","[kg CO2/GJ]",null,{"$error":"#VALUE!"},{"$f":"IF(AND(H406=\"\",H326=\"\"),\"\",IF(H326=0,\"not appl.\",H406/H326))","v":{"$error":"#VALUE!"}},{"$error":"#VALUE!"},{"$error":"#VALUE!"},{"$error":"#VALUE!"},{"$error":"#VALUE!"},{"$error":"#VALUE!"},{"$error":"#VALUE!"},{"$error":"#VALUE!"},{"$error":"#VALUE!"},{"$error":"#VALUE!"},{"$error":"#VALUE!"},{"$error":"#VALUE!"},{"$error":"#VALUE!"},{"$error":"#VALUE!"},{"$error":"#VALUE!"},{"$error":"#VALUE!"},{"$error":"#VALUE!"},{"$error":"#VALUE!"},{"$error":"#VALUE!"},{"$error":"#VALUE!"},{"$error":"#VALUE!"},{"$error":"#VALUE!"},{"$error":"#VALUE!"},{"$error":"#VALUE!"},{"$error":"#VALUE!"},{"$error":"#VALUE!"},{"$error":"#VALUE!"},{"$error":"#VALUE!"},{"$error":"#VALUE!"},{"$error":"#VALUE!"},{"$error":"#VALUE!"},{"$error":"#VALUE!"},{"$error":"#VALUE!"},{"$error":"#VALUE!"},{"$error":"#VALUE!"},{"$f":"IF(AND(AQ406=\"\",AQ326=\"\"),\"\",IF(AQ326=0,\"not appl.\",AQ406/AQ326))","v":{"$error":"#VALUE!"}},{"$error":"#VALUE!"},{"$error":"#VALUE!"},{"$error":"#VALUE!"},{"$error":"#VALUE!"},{"$error":"#VALUE!"},{"$error":"#VALUE!"},{"$error":"#VALUE!"},{"$error":"#VALUE!"},{"$error":"#VALUE!"},{"$error":"#VALUE!"},{"$error":"#VALUE!"},{"$error":"#VALUE!"},{"$error":"#VALUE!"},{"$error":"#VALUE!"},{"$error":"#VALUE!"},{"$error":"#VALUE!"},{"$error":"#VALUE!"},{"$error":"#VALUE!"},{"$error":"#VALUE!"},{"$error":"#VALUE!"},{"$error":"#VALUE!"},{"$error":"#VALUE!"},{"$error":"#VALUE!"},{"$error":"#VALUE!"}]
[null,204,null,"paper, carton","[kg CO2/GJ]",null,{"$error":"#VALUE!"},{"$f":"IF(AND(H407=\"\",H327=\"\"),\"\",IF(H327=0,\"not appl.\",H407/H327))","v":{"$error":"#VALUE!"}},{"$error":"#VALUE!"},{"$error":"#VALUE!"},{"$error":"#VALUE!"},{"$error":"#VALUE!"},{"$error":"#VALUE!"},{"$error":"#VALUE!"},{"$error":"#VALUE!"},{"$error":"#VALUE!"},{"$error":"#VALUE!"},{"$error":"#VALUE!"},{"$error":"#VALUE!"},{"$error":"#VALUE!"},{"$error":"#VALUE!"},{"$error":"#VALUE!"},{"$error":"#VALUE!"},{"$error":"#VALUE!"},{"$error":"#VALUE!"},{"$error":"#VALUE!"},{"$error":"#VALUE!"},{"$error":"#VALUE!"},{"$error":"#VALUE!"},{"$error":"#VALUE!"},{"$error":"#VALUE!"},{"$error":"#VALUE!"},{"$error":"#VALUE!"},{"$error":"#VALUE!"},{"$error":"#VALUE!"},{"$error":"#VALUE!"},{"$error":"#VALUE!"},{"$error":"#VALUE!"},{"$error":"#VALUE!"},{"$error":"#VALUE!"},{"$error":"#VALUE!"},{"$error":"#VALUE!"},{"$f":"IF(AND(AQ407=\"\",AQ327=\"\"),\"\",IF(AQ327=0,\"not appl.\",AQ407/AQ327))","v":{"$error":"#VALUE!"}},{"$error":"#VALUE!"},{"$error":"#VALUE!"},{"$error":"#VALUE!"},{"$error":"#VALUE!"},{"$error":"#VALUE!"},{"$error":"#VALUE!"},{"$error":"#VALUE!"},{"$error":"#VALUE!"},{"$error":"#VALUE!"},{"$error":"#VALUE!"},{"$error":"#VALUE!"},{"$error":"#VALUE!"},{"$error":"#VALUE!"},{"$error":"#VALUE!"},{"$error":"#VALUE!"},{"$error":"#VALUE!"},{"$error":"#VALUE!"},{"$error":"#VALUE!"},{"$error":"#VALUE!"},{"$error":"#VALUE!"},{"$error":"#VALUE!"},{"$error":"#VALUE!"},{"$error":"#VALUE!"},{"$error":"#VALUE!"}]
[null,205,null,"animal meal","[kg CO2/GJ]",null,{"$error":"#VALUE!"},{"$f":"IF(AND(H408=\"\",H328=\"\"),\"\",IF(H328=0,\"not appl.\",H408/H328))","v":{"$error":"#VALUE!"}},{"$error":"#VALUE!"},{"$error":"#VALUE!"},{"$error":"#VALUE!"},{"$error":"#VALUE!"},{"$error":"#VALUE!"},{"$error":"#VALUE!"},{"$error":"#VALUE!"},{"$error":"#VALUE!"},{"$error":"#VALUE!"},{"$error":"#VALUE!"},{"$error":"#VALUE!"},{"$error":"#VALUE!"},{"$error":"#VALUE!"},{"$error":"#VALUE!"},{"$error":"#VALUE!"},{"$error":"#VALUE!"},{"$error":"#VALUE!"},{"$error":"#VALUE!"},{"$error":"#VALUE!"},{"$error":"#VALUE!"},{"$error":"#VALUE!"},{"$error":"#VALUE!"},{"$error":"#VALUE!"},{"$error":"#VALUE!"},{"$error":"#VALUE!"},{"$error":"#VALUE!"},{"$error":"#VALUE!"},{"$error":"#VALUE!"},{"$error":"#VALUE!"},{"$error":"#VALUE!"},{"$error":"#VALUE!"},{"$error":"#VALUE!"},{"$error":"#VALUE!"},{"$error":"#VALUE!"},{"$f":"IF(AND(AQ408=\"\",AQ328=\"\"),\"\",IF(AQ328=0,\"not appl.\",AQ408/AQ328))","v":{"$error":"#VALUE!"}},{"$error":"#VALUE!"},{"$error":"#VALUE!"},{"$error":"#VALUE!"},{"$error":"#VALUE!"},{"$error":"#VALUE!"},{"$error":"#VALUE!"},{"$error":"#VALUE!"},{"$error":"#VALUE!"},{"$error":"#VALUE!"},{"$error":"#VALUE!"},{"$error":"#VALUE!"},{"$error":"#VALUE!"},{"$error":"#VALUE!"},{"$error":"#VALUE!"},{"$error":"#VALUE!"},{"$error":"#VALUE!"},{"$error":"#VALUE!"},{"$error":"#VALUE!"},{"$error":"#VALUE!"},{"$error":"#VALUE!"},{"$error":"#VALUE!"},{"$error":"#VALUE!"},{"$error":"#VALUE!"},{"$error":"#VALUE!"}]
[null,206,null,"animal bone meal","[kg CO2/GJ]",null,{"$error":"#VALUE!"},{"$f":"IF(AND(H409=\"\",H329=\"\"),\"\",IF(H329=0,\"not appl.\",H409/H329))","v":{"$error":"#VALUE!"}},{"$error":"#VALUE!"},{"$error":"#VALUE!"},{"$error":"#VALUE!"},{"$error":"#VALUE!"},{"$error":"#VALUE!"},{"$error":"#VALUE!"},{"$error":"#VALUE!"},{"$error":"#VALUE!"},{"$error":"#VALUE!"},{"$error":"#VALUE!"},{"$error":"#VALUE!"},{"$error":"#VALUE!"},{"$error":"#VALUE!"},{"$error":"#VALUE!"},{"$error":"#VALUE!"},{"$error":"#VALUE!"},{"$error":"#VALUE!"},{"$error":"#VALUE!"},{"$error":"#VALUE!"},{"$error":"#VALUE!"},{"$error":"#VALUE!"},{"$error":"#VALUE!"},{"$error":"#VALUE!"},{"$error":"#VALUE!"},{"$error":"#VALUE!"},{"$error":"#VALUE!"},{"$error":"#VALUE!"},{"$error":"#VALUE!"},{"$error":"#VALUE!"},{"$error":"#VALUE!"},{"$error":"#VALUE!"},{"$error":"#VALUE!"},{"$error":"#VALUE!"},{"$error":"#VALUE!"},{"$f":"IF(AND(AQ409=\"\",AQ329=\"\"),\"\",IF(AQ329=0,\"not appl.\",AQ409/AQ329))","v":{"$error":"#VALUE!"}},{"$error":"#VALUE!"},{"$error":"#VALUE!"},{"$error":"#VALUE!"},{"$error":"#VALUE!"},{"$error":"#VALUE!"},{"$error":"#VALUE!"},{"$error":"#VALUE!"},{"$error":"#VALUE!"},{"$error":"#VALUE!"},{"$error":"#VALUE!"},{"$error":"#VALUE!"},{"$error":"#VALUE!"},{"$error":"#VALUE!"},{"$error":"#VALUE!"},{"$error":"#VALUE!"},{"$error":"#VALUE!"},{"$error":"#VALUE!"},{"$error":"#VALUE!"},{"$error":"#VALUE!"},{"$error":"#VALUE!"},{"$error":"#VALUE!"},{"$error":"#VALUE!"},{"$error":"#VALUE!"},{"$error":"#VALUE!"}]
[null,207,null,"animal fat","[kg CO2/GJ]",null,{"$error":"#VALUE!"},{"$f":"IF(AND(H410=\"\",H330=\"\"),\"\",IF(H330=0,\"not appl.\",H410/H330))","v":{"$error":"#VALUE!"}},{"$error":"#VALUE!"},{"$error":"#VALUE!"},{"$error":"#VALUE!"},{"$error":"#VALUE!"},{"$error":"#VALUE!"},{"$error":"#VALUE!"},{"$error":"#VALUE!"},{"$error":"#VALUE!"},{"$error":"#VALUE!"},{"$error":"#VALUE!"},{"$error":"#VALUE!"},{"$error":"#VALUE!"},{"$error":"#VALUE!"},{"$error":"#VALUE!"},{"$error":"#VALUE!"},{"$error":"#VALUE!"},{"$error":"#VALUE!"},{"$error":"#VALUE!"},{"$error":"#VALUE!"},{"$error":"#VALUE!"},{"$error":"#VALUE!"},{"$error":"#VALUE!"},{"$error":"#VALUE!"},{"$error":"#VALUE!"},{"$error":"#VALUE!"},{"$error":"#VALUE!"},{"$error":"#VALUE!"},{"$error":"#VALUE!"},{"$error":"#VALUE!"},{"$error":"#VALUE!"},{"$error":"#VALUE!"},{"$error":"#VALUE!"},{"$error":"#VALUE!"},{"$error":"#VALUE!"},{"$f":"IF(AND(AQ410=\"\",AQ330=\"\"),\"\",IF(AQ330=0,\"not appl.\",AQ410/AQ330))","v":{"$error":"#VALUE!"}},{"$error":"#VALUE!"},{"$error":"#VALUE!"},{"$error":"#VALUE!"},{"$error":"#VALUE!"},{"$error":"#VALUE!"},{"$error":"#VALUE!"},{"$error":"#VALUE!"},{"$error":"#VALUE!"},{"$error":"#VALUE!"},{"$error":"#VALUE!"},{"$error":"#VALUE!"},{"$error":"#VALUE!"},{"$error":"#VALUE!"},{"$error":"#VALUE!"},{"$error":"#VALUE!"},{"$error":"#VALUE!"},{"$error":"#VALUE!"},{"$error":"#VALUE!"},{"$error":"#VALUE!"},{"$error":"#VALUE!"},{"$error":"#VALUE!"},{"$error":"#VALUE!"},{"$error":"#VALUE!"},{"$error":"#VALUE!"}]
[null,208,null,"agricultural, organic, diaper waste, charcoal","[kg CO2/GJ]",null,{"$error":"#VALUE!"},{"$f":"IF(AND(H411=\"\",H331=\"\"),\"\",IF(H331=0,\"not appl.\",H411/H331))","v":{"$error":"#VALUE!"}},{"$error":"#VALUE!"},{"$error":"#VALUE!"},{"$error":"#VALUE!"},{"$error":"#VALUE!"},{"$error":"#VALUE!"},{"$error":"#VALUE!"},{"$error":"#VALUE!"},{"$error":"#VALUE!"},{"$error":"#VALUE!"},{"$error":"#VALUE!"},{"$error":"#VALUE!"},{"$error":"#VALUE!"},{"$error":"#VALUE!"},{"$error":"#VALUE!"},{"$error":"#VALUE!"},{"$error":"#VALUE!"},{"$error":"#VALUE!"},{"$error":"#VALUE!"},{"$error":"#VALUE!"},{"$error":"#VALUE!"},{"$error":"#VALUE!"},{"$error":"#VALUE!"},{"$error":"#VALUE!"},{"$error":"#VALUE!"},{"$error":"#VALUE!"},{"$error":"#VALUE!"},{"$error":"#VALUE!"},{"$error":"#VALUE!"},{"$error":"#VALUE!"},{"$error":"#VALUE!"},{"$error":"#VALUE!"},{"$error":"#VALUE!"},{"$error":"#VALUE!"},{"$error":"#VALUE!"},{"$f":"IF(AND(AQ411=\"\",AQ331=\"\"),\"\",IF(AQ331=0,\"not appl.\",AQ411/AQ331))","v":{"$error":"#VALUE!"}},{"$error":"#VALUE!"},{"$error":"#VALUE!"},{"$error":"#VALUE!"},{"$error":"#VALUE!"},{"$error":"#VALUE!"},{"$error":"#VALUE!"},{"$error":"#VALUE!"},{"$error":"#VALUE!"},{"$error":"#VALUE!"},{"$error":"#VALUE!"},{"$error":"#VALUE!"},{"$error":"#VALUE!"},{"$error":"#VALUE!"},{"$error":"#VALUE!"},{"$error":"#VALUE!"},{"$error":"#VALUE!"},{"$error":"#VALUE!"},{"$error":"#VALUE!"},{"$error":"#VALUE!"},{"$error":"#VALUE!"},{"$error":"#VALUE!"},{"$error":"#VALUE!"},{"$error":"#VALUE!"},{"$error":"#VALUE!"}]
[null,209,null,"other biomass","[kg CO2/GJ]",null,{"$error":"#VALUE!"},{"$f":"IF(AND(H412=\"\",H332=\"\"),\"\",IF(H332=0,\"not appl.\",H412/H332))","v":{"$error":"#VALUE!"}},{"$error":"#VALUE!"},{"$error":"#VALUE!"},{"$error":"#VALUE!"},{"$error":"#VALUE!"},{"$error":"#VALUE!"},{"$error":"#VALUE!"},{"$error":"#VALUE!"},{"$error":"#VALUE!"},{"$error":"#VALUE!"},{"$error":"#VALUE!"},{"$error":"#VALUE!"},{"$error":"#VALUE!"},{"$error":"#VALUE!"},{"$error":"#VALUE!"},{"$error":"#VALUE!"},{"$error":"#VALUE!"},{"$error":"#VALUE!"},{"$error":"#VALUE!"},{"$error":"#VALUE!"},{"$error":"#VALUE!"},{"$error":"#VALUE!"},{"$error":"#VALUE!"},{"$error":"#VALUE!"},{"$error":"#VALUE!"},{"$error":"#VALUE!"},{"$error":"#VALUE!"},{"$error":"#VALUE!"},{"$error":"#VALUE!"},{"$error":"#VALUE!"},{"$error":"#VALUE!"},{"$error":"#VALUE!"},{"$error":"#VALUE!"},{"$error":"#VALUE!"},{"$error":"#VALUE!"},{"$f":"IF(AND(AQ412=\"\",AQ332=\"\"),\"\",IF(AQ332=0,\"not appl.\",AQ412/AQ332))","v":{"$error":"#VALUE!"}},{"$error":"#VALUE!"},{"$error":"#VALUE!"},{"$error":"#VALUE!"},{"$error":"#VALUE!"},{"$error":"#VALUE!"},{"$error":"#VALUE!"},{"$error":"#VALUE!"},{"$error":"#VALUE!"},{"$error":"#VALUE!"},{"$error":"#VALUE!"},{"$error":"#VALUE!"},{"$error":"#VALUE!"},{"$error":"#VALUE!"},{"$error":"#VALUE!"},{"$error":"#VALUE!"},{"$error":"#VALUE!"},{"$error":"#VALUE!"},{"$error":"#VALUE!"},{"$error":"#VALUE!"},{"$error":"#VALUE!"},{"$error":"#VALUE!"},{"$error":"#VALUE!"},{"$error":"#VALUE!"},{"$error":"#VALUE!"}]
[]
[null,"CO2 Emissions from Kiln Fuels",null,null,null,null,{"$f":"G$7","v":1990},1991,1992,1993,1994,1995,1996,1997,1998,1999,2000,2001,2002,2003,2004,2005,2006,2007,2008,2009,2010,2011,2012,2013,2014,2015,2016,2017,2018,2019,2020,2021,2022,2023,2024,2025,2026,2027,2028,2029,2030,2031,2032,2033,2034,2035,2036,2037,2038,2039,2040,2041,2042,2043,2044,2045,2046,2047,2048,2049,2050]
[null,211,"Conventional fossil fuels - total emissions",null,"[t CO2/yr]",null,{"$f":"IF(OR(COUNTBLANK(G389:G395)=7,G389=\"SUM\"),\"\",SUM(G389:G395))","v":""},{"$f":"IF(OR(COUNTBLANK(H389:H395)=7,H389=\"SUM\"),\"\",SUM(H389:H395))","v":""},"","","","","","","","","","","","","","","","","","","","","","","","",{"$f":"IF(OR(COUNTBLANK(AG389:AG395)=7,AG389=\"SUM\"),\"\",SUM(AG389:AG395))","v":""},"","","","","","","","","",{"$f":"IF(OR(COUNTBLANK(AQ389:AQ395)=7,AQ389=\"SUM\"),\"\",SUM(AQ389:AQ395))","v":""},"","","","","","","","","","","","","","","","","","","","","","","",""]
[null,{"$f":"B388+1","v":212},null,"coal + anthracite","[t CO2/yr]",null,"SUM","SUM","SUM","SUM","SUM","SUM","SUM","SUM","SUM","SUM","SUM","SUM","SUM","SUM","SUM","SUM","SUM","SUM","SUM","SUM","SUM","SUM","SUM","SUM","SUM","SUM","SUM","SUM","SUM","SUM","SUM","SUM","SUM","SUM","SUM","SUM","SUM","SUM","SUM","SUM","SUM","SUM","SUM","SUM","SUM","SUM","SUM","SUM","SUM","SUM","SUM","SUM","SUM","SUM","SUM","SUM","SUM","SUM","SUM","SUM","SUM"]
[null,213,null,"petrol coke","[t CO2/yr]",null,"SUM","SUM","SUM","SUM","SUM","SUM","SUM","SUM","SUM","SUM","SUM","SUM","SUM","SUM","SUM","SUM","SUM","SUM","SUM","SUM","SUM","SUM","SUM","SUM","SUM","SUM","SUM","SUM","SUM","SUM","SUM","SUM","SUM","SUM","SUM","SUM","SUM","SUM","SUM","SUM","SUM","SUM","SUM","SUM","SUM","SUM","SUM","SUM","SUM","SUM","SUM","SUM","SUM","SUM","SUM","SUM","SUM","SUM","SUM","SUM","SUM"]
[null,214,null,"(ultra) heavy fuel","[t CO2/yr]",null,"SUM","SUM","SUM","SUM","SUM","SUM","SUM","SUM","SUM","SUM","SUM","SUM","SUM","SUM","SUM","SUM","SUM","SUM","SUM","SUM","SUM","SUM","SUM","SUM","SUM","SUM","SUM","SUM","SUM","SUM","SUM","SUM","SUM","SUM","SUM","SUM","SUM","SUM","SUM","SUM","SUM","SUM","SUM","SUM","SUM","SUM","SUM","SUM","SUM","SUM","SUM","SUM","SUM","SUM","SUM","SUM","SUM","SUM","SUM","SUM","SUM"]
[null,215,null,"diesel oil","[t CO2/yr]",null,"SUM","SUM","SUM","SUM","SUM","SUM","SUM","SUM","SUM","SUM","SUM","SUM","SUM","SUM","SUM","SUM","SUM","SUM","SUM","SUM","SUM","SUM","SUM","SUM","SUM","SUM","SUM","SUM","SUM","SUM","SUM","SUM","SUM","SUM","SUM","SUM","SUM","SUM","SUM","SUM","SUM","SUM","SUM","SUM","SUM","SUM","SUM","SUM","SUM","SUM","SUM","SUM","SUM","SUM","SUM","SUM","SUM","SUM","SUM","SUM","SUM"]
[null,216,null,"natural gas ","[t CO2/yr]",null,"SUM","SUM","SUM","SUM","SUM","SUM","SUM","SUM","SUM","SUM","SUM","SUM","SUM","SUM","SUM","SUM","SUM","SUM","SUM","SUM","SUM","SUM","SUM","SUM","SUM","SUM","SUM","SUM","SUM","SUM","SUM","SUM","SUM","SUM","SUM","SUM","SUM","SUM","SUM","SUM","SUM","SUM","SUM","SUM","SUM","SUM","SUM","SUM","SUM","SUM","SUM","SUM","SUM","SUM","SUM","SUM","SUM","SUM","SUM","SUM","SUM"]
[null,217,null,"shale","[t CO2/yr]",null,"SUM","SUM","SUM","SUM","SUM","SUM","SUM","SUM","SUM","SUM","SUM","SUM","SUM","SUM","SUM","SUM","SUM","SUM","SUM","SUM","SUM","SUM","SUM","SUM","SUM","SUM","SUM","SUM","SUM","SUM","SUM","SUM","SUM","SUM","SUM","SUM","SUM","SUM","SUM","SUM","SUM","SUM","SUM","SUM","SUM","SUM","SUM","SUM","SUM","SUM","SUM","SUM","SUM","SUM","SUM","SUM","SUM","SUM","SUM","SUM","SUM"]
[null,"217a",null,"lignite","[t CO2/yr]",null,"SUM","SUM","SUM","SUM","SUM","SUM","SUM","SUM","SUM","SUM","SUM","SUM","SUM","SUM","SUM","SUM","SUM","SUM","SUM","SUM","SUM","SUM","SUM","SUM","SUM","SUM","SUM","SUM","SUM","SUM","SUM","SUM","SUM","SUM","SUM","SUM","SUM","SUM","SUM","SUM","SUM","SUM","SUM","SUM","SUM","SUM","SUM","SUM","SUM","SUM","SUM","SUM","SUM","SUM","SUM","SUM","SUM","SUM","SUM","SUM","SUM"]
[null,{"$f":"B394+1","v":218},"Alternative fossil and mixed fuels - total fossil emissions",null,"[t CO2/yr]",null,{"$f":"IF(OR(COUNTBLANK(G397:G403)=7,G397=\"SUM\"),\"\",SUM(G397:G403))","v":""},{"$f":"IF(OR(COUNTBLANK(H397:H403)=7,H397=\"SUM\"),\"\",SUM(H397:H403))","v":""},"","","","","","","","","","","","","","","","","","","","","","","","",{"$f":"IF(OR(COUNTBLANK(AG397:AG403)=7,AG397=\"SUM\"),\"\",SUM(AG397:AG403))","v":""},"","","","","","","","","",{"$f":"IF(OR(COUNTBLANK(AQ397:AQ403)=7,AQ397=\"SUM\"),\"\",SUM(AQ397:AQ403))","v":""},"","","","","","","","","","","","","","","","","","","","","","","",""]
[null,{"$f":"B396+1","v":219},null,"waste oil / fossil content","[t CO2/yr]",null,"SUM","SUM","SUM","SUM","SUM","SUM","SUM","SUM","SUM","SUM","SUM","SUM","SUM","SUM","SUM","SUM","SUM","SUM","SUM","SUM","SUM","SUM","SUM","SUM","SUM","SUM","SUM","SUM","SUM","SUM","SUM","SUM","SUM","SUM","SUM","SUM","SUM","SUM","SUM","SUM","SUM","SUM","SUM","SUM","SUM","SUM","SUM","SUM","SUM","SUM","SUM","SUM","SUM","SUM","SUM","SUM","SUM","SUM","SUM","SUM","SUM"]
[null,{"$f":"B397+1","v":220},null,"waste tyres / fossil content","[t CO2/yr]",null,"SUM","SUM","SUM","SUM","SUM","SUM","SUM","SUM","SUM","SUM","SUM","SUM","SUM","SUM","SUM","SUM","SUM","SUM","SUM","SUM","SUM","SUM","SUM","SUM","SUM","SUM","SUM","SUM","SUM","SUM","SUM","SUM","SUM","SUM","SUM","SUM","SUM","SUM","SUM","SUM","SUM","SUM","SUM","SUM","SUM","SUM","SUM","SUM","SUM","SUM","SUM","SUM","SUM","SUM","SUM","SUM","SUM","SUM","SUM","SUM","SUM"]
[null,{"$f":"B398+1","v":221},null,"RDF including plastics / fossil content","[t CO2/yr]",null,"SUM","SUM","SUM","SUM","SUM","SUM","SUM","SUM","SUM","SUM","SUM","SUM","SUM","SUM","SUM","SUM","SUM","SUM","SUM","SUM","SUM","SUM","SUM","SUM","SUM","SUM","SUM","SUM","SUM","SUM","SUM","SUM","SUM","SUM","SUM","SUM","SUM","SUM","SUM","SUM","SUM","SUM","SUM","SUM","SUM","SUM","SUM","SUM","SUM","SUM","SUM","SUM","SUM","SUM","SUM","SUM","SUM","SUM","SUM","SUM","SUM"]
[null,{"$f":"B399+1","v":222},null,"solvents / fossil content","[t CO2/yr]",null,"SUM","SUM","SUM","SUM","SUM","SUM","SUM","SUM","SUM","SUM","SUM","SUM","SUM","SUM","SUM","SUM","SUM","SUM","SUM","SUM","SUM","SUM","SUM","SUM","SUM","SUM","SUM","SUM","SUM","SUM","SUM","SUM","SUM","SUM","SUM","SUM","SUM","SUM","SUM","SUM","SUM","SUM","SUM","SUM","SUM","SUM","SUM","SUM","SUM","SUM","SUM","SUM","SUM","SUM","SUM","SUM","SUM","SUM","SUM","SUM","SUM"]
[null,{"$f":"B400+1","v":223},null,"impregnated saw dust / fossil content","[t CO2/yr]",null,"SUM","SUM","SUM","SUM","SUM","SUM","SUM","SUM","SUM","SUM","SUM","SUM","SUM","SUM","SUM","SUM","SUM","SUM","SUM","SUM","SUM","SUM","SUM","SUM","SUM","SUM","SUM","SUM","SUM","SUM","SUM","SUM","SUM","SUM","SUM","SUM","SUM","SUM","SUM","SUM","SUM","SUM","SUM","SUM","SUM","SUM","SUM","SUM","SUM","SUM","SUM","SUM","SUM","SUM","SUM","SUM","SUM","SUM","SUM","SUM","SUM"]
[null,"223a",null,"mixed industrial waste / fossil content","[t CO2/yr]",null,"SUM","SUM","SUM","SUM","SUM","SUM","SUM","SUM","SUM","SUM","SUM","SUM","SUM","SUM","SUM","SUM","SUM","SUM","SUM","SUM","SUM","SUM","SUM","SUM","SUM","SUM","SUM","SUM","SUM","SUM","SUM","SUM","SUM","SUM","SUM","SUM","SUM","SUM","SUM","SUM","SUM","SUM","SUM","SUM","SUM","SUM","SUM","SUM","SUM","SUM","SUM","SUM","SUM","SUM","SUM","SUM","SUM","SUM","SUM","SUM","SUM"]
[null,224,null,"other fossil based wastes / fossil content","[t CO2/yr]",null,"SUM","SUM","SUM","SUM","SUM","SUM","SUM","SUM","SUM","SUM","SUM","SUM","SUM","SUM","SUM","SUM","SUM","SUM","SUM","SUM","SUM","SUM","SUM","SUM","SUM","SUM","SUM","SUM","SUM","SUM","SUM","SUM","SUM","SUM","SUM","SUM","SUM","SUM","SUM","SUM","SUM","SUM","SUM","SUM","SUM","SUM","SUM","SUM","SUM","SUM","SUM","SUM","SUM","SUM","SUM","SUM","SUM","SUM","SUM","SUM","SUM"]
[null,{"$f":"B403+1","v":225},"Biomass fuels - total, incl. biomass cont. from alternative mixed fuels",null,"[t CO2/yr]",null,{"$f":"IF(OR(COUNTBLANK(G405:G413)=8,G405=\"SUM\"),\"\",SUM(G405:G413))","v":""},{"$f":"IF(OR(COUNTBLANK(H405:H413)=8,H405=\"SUM\"),\"\",SUM(H405:H413))","v":""},"","","","","","","","","","","","","","","","","","","","","","","","",{"$f":"IF(OR(COUNTBLANK(AG405:AG413)=8,AG405=\"SUM\"),\"\",SUM(AG405:AG413))","v":""},"","","","","","","","","",{"$f":"IF(OR(COUNTBLANK(AQ405:AQ413)=8,AQ405=\"SUM\"),\"\",SUM(AQ405:AQ413))","v":""},"","","","","","","","","","","","","","","","","","","","","","","",""]
[null,226,null,"sewage sludge","[t CO2/yr]",null,"SUM","SUM","SUM","SUM","SUM","SUM","SUM","SUM","SUM","SUM","SUM","SUM","SUM","SUM","SUM","SUM","SUM","SUM","SUM","SUM","SUM","SUM","SUM","SUM","SUM","SUM","SUM","SUM","SUM","SUM","SUM","SUM","SUM","SUM","SUM","SUM","SUM","SUM","SUM","SUM","SUM","SUM","SUM","SUM","SUM","SUM","SUM","SUM","SUM","SUM","SUM","SUM","SUM","SUM","SUM","SUM","SUM","SUM","SUM","SUM","SUM"]
[null,227,null,"wood, non impregnated saw dust","[t CO2/yr]",null,"SUM","SUM","SUM","SUM","SUM","SUM","SUM","SUM","SUM","SUM","SUM","SUM","SUM","SUM","SUM","SUM","SUM","SUM","SUM","SUM","SUM","SUM","SUM","SUM","SUM","SUM","SUM","SUM","SUM","SUM","SUM","SUM","SUM","SUM","SUM","SUM","SUM","SUM","SUM","SUM","SUM","SUM","SUM","SUM","SUM","SUM","SUM","SUM","SUM","SUM","SUM","SUM","SUM","SUM","SUM","SUM","SUM","SUM","SUM","SUM","SUM"]
[null,228,null,"paper, carton","[t CO2/yr]",null,"SUM","SUM","SUM","SUM","SUM","SUM","SUM","SUM","SUM","SUM","SUM","SUM","SUM","SUM","SUM","SUM","SUM","SUM","SUM","SUM","SUM","SUM","SUM","SUM","SUM","SUM","SUM","SUM","SUM","SUM","SUM","SUM","SUM","SUM","SUM","SUM","SUM","SUM","SUM","SUM","SUM","SUM","SUM","SUM","SUM","SUM","SUM","SUM","SUM","SUM","SUM","SUM","SUM","SUM","SUM","SUM","SUM","SUM","SUM","SUM","SUM"]
[null,229,null,"animal meal","[t CO2/yr]",null,"SUM","SUM","SUM","SUM","SUM","SUM","SUM","SUM","SUM","SUM","SUM","SUM","SUM","SUM","SUM","SUM","SUM","SUM","SUM","SUM","SUM","SUM","SUM","SUM","SUM","SUM","SUM","SUM","SUM","SUM","SUM","SUM","SUM","SUM","SUM","SUM","SUM","SUM","SUM","SUM","SUM","SUM","SUM","SUM","SUM","SUM","SUM","SUM","SUM","SUM","SUM","SUM","SUM","SUM","SUM","SUM","SUM","SUM","SUM","SUM","SUM"]
[null,230,null,"animal bone meal","[t CO2/yr]",null,"SUM","SUM","SUM","SUM","SUM","SUM","SUM","SUM","SUM","SUM","SUM","SUM","SUM","SUM","SUM","SUM","SUM","SUM","SUM","SUM","SUM","SUM","SUM","SUM","SUM","SUM","SUM","SUM","SUM","SUM","SUM","SUM","SUM","SUM","SUM","SUM","SUM","SUM","SUM","SUM","SUM","SUM","SUM","SUM","SUM","SUM","SUM","SUM","SUM","SUM","SUM","SUM","SUM","SUM","SUM","SUM","SUM","SUM","SUM","SUM","SUM"]
[null,231,null,"animal fat","[t CO2/yr]",null,"SUM","SUM","SUM","SUM","SUM","SUM","SUM","SUM","SUM","SUM","SUM","SUM","SUM","SUM","SUM","SUM","SUM","SUM","SUM","SUM","SUM","SUM","SUM","SUM","SUM","SUM","SUM","SUM","SUM","SUM","SUM","SUM","SUM","SUM","SUM","SUM","SUM","SUM","SUM","SUM","SUM","SUM","SUM","SUM","SUM","SUM","SUM","SUM","SUM","SUM","SUM","SUM","SUM","SUM","SUM","SUM","SUM","SUM","SUM","SUM","SUM"]
[null,232,null,"agricultural, organic, diaper waste, charcoal","[t CO2/yr]",null,"SUM","SUM","SUM","SUM","SUM","SUM","SUM","SUM","SUM","SUM","SUM","SUM","SUM","SUM","SUM","SUM","SUM","SUM","SUM","SUM","SUM","SUM","SUM","SUM","SUM","SUM","SUM","SUM","SUM","SUM","SUM","SUM","SUM","SUM","SUM","SUM","SUM","SUM","SUM","SUM","SUM","SUM","SUM","SUM","SUM","SUM","SUM","SUM","SUM","SUM","SUM","SUM","SUM","SUM","SUM","SUM","SUM","SUM","SUM","SUM","SUM"]
[null,233,null,"other biomass","[t CO2/yr]",null,"SUM","SUM","SUM","SUM","SUM","SUM","SUM","SUM","SUM","SUM","SUM","SUM","SUM","SUM","SUM","SUM","SUM","SUM","SUM","SUM","SUM","SUM","SUM","SUM","SUM","SUM","SUM","SUM","SUM","SUM","SUM","SUM","SUM","SUM","SUM","SUM","SUM","SUM","SUM","SUM","SUM","SUM","SUM","SUM","SUM","SUM","SUM","SUM","SUM","SUM","SUM","SUM","SUM","SUM","SUM","SUM","SUM","SUM","SUM","SUM","SUM"]
[null,"233a",null,"biomass content from alternative fuels","[t CO2/yr]",null,"SUM","SUM","SUM","SUM","SUM","SUM","SUM","SUM","SUM","SUM","SUM","SUM","SUM","SUM","SUM","SUM","SUM","SUM","SUM","SUM","SUM","SUM","SUM","SUM","SUM","SUM","SUM","SUM","SUM","SUM","SUM","SUM","SUM","SUM","SUM","SUM","SUM","SUM","SUM","SUM","SUM","SUM","SUM","SUM","SUM","SUM","SUM","SUM","SUM","SUM","SUM","SUM","SUM","SUM","SUM","SUM","SUM","SUM","SUM","SUM","SUM"]
[null,"Drying of raw materials and fuels",null,null,null,null,{"$f":"G$7","v":1990},1991,1992,1993,1994,1995,1996,1997,1998,1999,2000,2001,2002,2003,2004,2005,2006,2007,2008,2009,2010,2011,2012,2013,2014,2015,2016,2017,2018,2019,2020,2021,2022,2023,2024,2025,2026,2027,2028,2029,2030,2031,2032,2033,2034,2035,2036,2037,2038,2039,2040,2041,2042,2043,2044,2045,2046,2047,2048,2049,2050]
[null,234,"Conventional fossil fuels - total emissions",null,"[t CO2/yr]",null,{"$f":"IF(OR(COUNTBLANK(G416:G421)=6,G416=\"SUM\"),\"\",SUM(G416:G421))","v":""},{"$f":"IF(OR(COUNTBLANK(H416:H421)=6,H416=\"SUM\"),\"\",SUM(H416:H421))","v":""},"","","","","","","","","","","","","","","","","","","","","","","","",{"$f":"IF(OR(COUNTBLANK(AG416:AG421)=6,AG416=\"SUM\"),\"\",SUM(AG416:AG421))","v":""},"","","","","","","","","",{"$f":"IF(OR(COUNTBLANK(AQ416:AQ421)=6,AQ416=\"SUM\"),\"\",SUM(AQ416:AQ421))","v":""},"","","","","","","","","","","","","","","","","","","","","","","",""]
[null,"234a",null,"coal + anthracite + lignite","[t CO2/yr]",null,"SUM","SUM","SUM","SUM","SUM","SUM","SUM","SUM","SUM","SUM","SUM","SUM","SUM","SUM","SUM","SUM","SUM","SUM","SUM","SUM","SUM","SUM","SUM","SUM","SUM","SUM","SUM","SUM","SUM","SUM","SUM","SUM","SUM","SUM","SUM","SUM","SUM","SUM","SUM","SUM","SUM","SUM","SUM","SUM","SUM","SUM","SUM","SUM","SUM","SUM","SUM","SUM","SUM","SUM","SUM","SUM","SUM","SUM","SUM","SUM","SUM"]
[null,"234b",null,"petrol coke","[t CO2/yr]",null,"SUM","SUM","SUM","SUM","SUM","SUM","SUM","SUM","SUM","SUM","SUM","SUM","SUM","SUM","SUM","SUM","SUM","SUM","SUM","SUM","SUM","SUM","SUM","SUM","SUM","SUM","SUM","SUM","SUM","SUM","SUM","SUM","SUM","SUM","SUM","SUM","SUM","SUM","SUM","SUM","SUM","SUM","SUM","SUM","SUM","SUM","SUM","SUM","SUM","SUM","SUM","SUM","SUM","SUM","SUM","SUM","SUM","SUM","SUM","SUM","SUM"]
[null,"234c",null,"(ultra) heavy fuel","[t CO2/yr]",null,"SUM","SUM","SUM","SUM","SUM","SUM","SUM","SUM","SUM","SUM","SUM","SUM","SUM","SUM","SUM","SUM","SUM","SUM","SUM","SUM","SUM","SUM","SUM","SUM","SUM","SUM","SUM","SUM","SUM","SUM","SUM","SUM","SUM","SUM","SUM","SUM","SUM","SUM","SUM","SUM","SUM","SUM","SUM","SUM","SUM","SUM","SUM","SUM","SUM","SUM","SUM","SUM","SUM","SUM","SUM","SUM","SUM","SUM","SUM","SUM","SUM"]
[null,"234d",null,"diesel oil","[t CO2/yr]",null,"SUM","SUM","SUM","SUM","SUM","SUM","SUM","SUM","SUM","SUM","SUM","SUM","SUM","SUM","SUM","SUM","SUM","SUM","SUM","SUM","SUM","SUM","SUM","SUM","SUM","SUM","SUM","SUM","SUM","SUM","SUM","SUM","SUM","SUM","SUM","SUM","SUM","SUM","SUM","SUM","SUM","SUM","SUM","SUM","SUM","SUM","SUM","SUM","SUM","SUM","SUM","SUM","SUM","SUM","SUM","SUM","SUM","SUM","SUM","SUM","SUM"]
[null,"234e",null,"natural gas ","[t CO2/yr]",null,"SUM","SUM","SUM","SUM","SUM","SUM","SUM","SUM","SUM","SUM","SUM","SUM","SUM","SUM","SUM","SUM","SUM","SUM","SUM","SUM","SUM","SUM","SUM","SUM","SUM","SUM","SUM","SUM","SUM","SUM","SUM","SUM","SUM","SUM","SUM","SUM","SUM","SUM","SUM","SUM","SUM","SUM","SUM","SUM","SUM","SUM","SUM","SUM","SUM","SUM","SUM","SUM","SUM","SUM","SUM","SUM","SUM","SUM","SUM","SUM","SUM"]
[null,"234f",null,"shale","[t CO2/yr]",null,"SUM","SUM","SUM","SUM","SUM","SUM","SUM","SUM","SUM","SUM","SUM","SUM","SUM","SUM","SUM","SUM","SUM","SUM","SUM","SUM","SUM","SUM","SUM","SUM","SUM","SUM","SUM","SUM","SUM","SUM","SUM","SUM","SUM","SUM","SUM","SUM","SUM","SUM","SUM","SUM","SUM","SUM","SUM","SUM","SUM","SUM","SUM","SUM","SUM","SUM","SUM","SUM","SUM","SUM","SUM","SUM","SUM","SUM","SUM","SUM","SUM"]
[null,235,"Alternative fossil fuels - fossil total emissions",null,"[t CO2/yr]",null,{"$f":"IF(G423=\"SUM\",\"\",G423)","v":""},{"$f":"IF(H423=\"SUM\",\"\",H423)","v":""},"","","","","","","","","","","","","","","","","","","","","","","","","","","","","","","","","","","","","","","","","","","","","","","","","","","","","","","","","","",""]
[null,"235a",null,"other fossil based wastes / fossil content","[t CO2/yr]",null,"SUM","SUM","SUM","SUM","SUM","SUM","SUM","SUM","SUM","SUM","SUM","SUM","SUM","SUM","SUM","SUM","SUM","SUM","SUM","SUM","SUM","SUM","SUM","SUM","SUM","SUM","SUM","SUM","SUM","SUM","SUM","SUM","SUM","SUM","SUM","SUM","SUM","SUM","SUM","SUM","SUM","SUM","SUM","SUM","SUM","SUM","SUM","SUM","SUM","SUM","SUM","SUM","SUM","SUM","SUM","SUM","SUM","SUM","SUM","SUM","SUM"]
[null,236,"Alternative biomass fuels - biomass total emissions",null,"[t CO2/yr]",null,{"$f":"IF(G425=\"SUM\",\"\",G425)","v":""},{"$f":"IF(H425=\"SUM\",\"\",H425)","v":""},"","","","","","","","","","","","","","","","","","","","","","","","","","","","","","","","","","","","","","","","","","","","","","","","","","","","","","","","","","",""]
[null,"236a",null,"other biomass (incl. biomass content of mixed fuels)","[t CO2/yr]",null,"SUM","SUM","SUM","SUM","SUM","SUM","SUM","SUM","SUM","SUM","SUM","SUM","SUM","SUM","SUM","SUM","SUM","SUM","SUM","SUM","SUM","SUM","SUM","SUM","SUM","SUM","SUM","SUM","SUM","SUM","SUM","SUM","SUM","SUM","SUM","SUM","SUM","SUM","SUM","SUM","SUM","SUM","SUM","SUM","SUM","SUM","SUM","SUM","SUM","SUM","SUM","SUM","SUM","SUM","SUM","SUM","SUM","SUM","SUM","SUM","SUM"]
[]
["NON-KILN FUELS - DETAILED INFORMATION"]
[]
[null,"Non-Kiln Fuel Consumption in tonnes per year",null,null,null,null,{"$f":"G$7","v":1990},1991,1992,1993,1994,1995,1996,1997,1998,1999,2000,2001,2002,2003,2004,2005,2006,2007,2008,2009,2010,2011,2012,2013,2014,2015,2016,2017,2018,2019,2020,2021,2022,2023,2024,2025,2026,2027,2028,2029,2030,2031,2032,2033,2034,2035,2036,2037,2038,2039,2040,2041,2042,2043,2044,2045,2046,2047,2048,2049,2050]
[null,301,"Equipment and On-Site Vehicles fossil fuels"]
[null,"301a",null,"diesel oil","[t/yr]",null,"SUM","SUM","SUM","SUM","SUM","SUM","SUM","SUM","SUM","SUM","SUM","SUM","SUM","SUM","SUM","SUM","SUM","SUM","SUM","SUM","SUM","SUM","SUM","SUM","SUM","SUM","SUM","SUM","SUM","SUM","SUM","SUM","SUM","SUM","SUM","SUM","SUM","SUM","SUM","SUM","SUM","SUM","SUM","SUM","SUM","SUM","SUM","SUM","SUM","SUM","SUM","SUM","SUM","SUM","SUM","SUM","SUM","SUM","SUM","SUM","SUM"]
[null,"301b",null,"gasoline","[t/yr]",null,"SUM","SUM","SUM","SUM","SUM","SUM","SUM","SUM","SUM","SUM","SUM","SUM","SUM","SUM","SUM","SUM","SUM","SUM","SUM","SUM","SUM","SUM","SUM","SUM","SUM","SUM","SUM","SUM","SUM","SUM","SUM","SUM","SUM","SUM","SUM","SUM","SUM","SUM","SUM","SUM","SUM","SUM","SUM","SUM","SUM","SUM","SUM","SUM","SUM","SUM","SUM","SUM","SUM","SUM","SUM","SUM","SUM","SUM","SUM","SUM","SUM"]
[null,"301ba",null,"other fossil fuels","[t/yr]",null,"SUM","SUM","SUM","SUM","SUM","SUM","SUM","SUM","SUM","SUM","SUM","SUM","SUM","SUM","SUM","SUM","SUM","SUM","SUM","SUM","SUM","SUM","SUM","SUM","SUM","SUM","SUM","SUM","SUM","SUM","SUM","SUM","SUM","SUM","SUM","SUM","SUM","SUM","SUM","SUM","SUM","SUM","SUM","SUM","SUM","SUM","SUM","SUM","SUM","SUM","SUM","SUM","SUM","SUM","SUM","SUM","SUM","SUM","SUM","SUM","SUM"]
[null,"301c","Equipment and On-Site Vehicles fuels (containing biomass)"]
[null,"301d",null,"bio and mixed diesel ","[t/yr]",null,"SUM","SUM","SUM","SUM","SUM","SUM","SUM","SUM","SUM","SUM","SUM","SUM","SUM","SUM","SUM","SUM","SUM","SUM","SUM","SUM","SUM","SUM","SUM","SUM","SUM","SUM","SUM","SUM","SUM","SUM","SUM","SUM","SUM","SUM","SUM","SUM","SUM","SUM","SUM","SUM","SUM","SUM","SUM","SUM","SUM","SUM","SUM","SUM","SUM","SUM","SUM","SUM","SUM","SUM","SUM","SUM","SUM","SUM","SUM","SUM","SUM"]
[null,302,"Room Heating and Cooling"]
[null,"302a",null,"diesel oil","[t/yr]",null,"SUM","SUM","SUM","SUM","SUM","SUM","SUM","SUM","SUM","SUM","SUM","SUM","SUM","SUM","SUM","SUM","SUM","SUM","SUM","SUM","SUM","SUM","SUM","SUM","SUM","SUM","SUM","SUM","SUM","SUM","SUM","SUM","SUM","SUM","SUM","SUM","SUM","SUM","SUM","SUM","SUM","SUM","SUM","SUM","SUM","SUM","SUM","SUM","SUM","SUM","SUM","SUM","SUM","SUM","SUM","SUM","SUM","SUM","SUM","SUM","SUM"]
[null,"302b",null,"natural gas","[1'000 Nm3/yr]",null,"SUM","SUM","SUM","SUM","SUM","SUM","SUM","SUM","SUM","SUM","SUM","SUM","SUM","SUM","SUM","SUM","SUM","SUM","SUM","SUM","SUM","SUM","SUM","SUM","SUM","SUM","SUM","SUM","SUM","SUM","SUM","SUM","SUM","SUM","SUM","SUM","SUM","SUM","SUM","SUM","SUM","SUM","SUM","SUM","SUM","SUM","SUM","SUM","SUM","SUM","SUM","SUM","SUM","SUM","SUM","SUM","SUM","SUM","SUM","SUM","SUM"]
[null,"302c",null,"other fossil fuels","[t/yr]",null,"SUM","SUM","SUM","SUM","SUM","SUM","SUM","SUM","SUM","SUM","SUM","SUM","SUM","SUM","SUM","SUM","SUM","SUM","SUM","SUM","SUM","SUM","SUM","SUM","SUM","SUM","SUM","SUM","SUM","SUM","SUM","SUM","SUM","SUM","SUM","SUM","SUM","SUM","SUM","SUM","SUM","SUM","SUM","SUM","SUM","SUM","SUM","SUM","SUM","SUM","SUM","SUM","SUM","SUM","SUM","SUM","SUM","SUM","SUM","SUM","SUM"]
[null,303,"Drying of mineral components"]
[null,"303k","     Conventional fossil fuels"]
[null,"303a",null,"coal + anthracite + lignite","[t/yr]",null,"SUM","SUM","SUM","SUM","SUM","SUM","SUM","SUM","SUM","SUM","SUM","SUM","SUM","SUM","SUM","SUM","SUM","SUM","SUM","SUM","SUM","SUM","SUM","SUM","SUM","SUM","SUM","SUM","SUM","SUM","SUM","SUM","SUM","SUM","SUM","SUM","SUM","SUM","SUM","SUM","SUM","SUM","SUM","SUM","SUM","SUM","SUM","SUM","SUM","SUM","SUM","SUM","SUM","SUM","SUM","SUM","SUM","SUM","SUM","SUM","SUM"]
[null,"303b",null,"petrol coke","[t/yr]",null,"SUM","SUM","SUM","SUM","SUM","SUM","SUM","SUM","SUM","SUM","SUM","SUM","SUM","SUM","SUM","SUM","SUM","SUM","SUM","SUM","SUM","SUM","SUM","SUM","SUM","SUM","SUM","SUM","SUM","SUM","SUM","SUM","SUM","SUM","SUM","SUM","SUM","SUM","SUM","SUM","SUM","SUM","SUM","SUM","SUM","SUM","SUM","SUM","SUM","SUM","SUM","SUM","SUM","SUM","SUM","SUM","SUM","SUM","SUM","SUM","SUM"]
[null,"303c",null,"(ultra) heavy fuel","[t/yr]",null,"SUM","SUM","SUM","SUM","SUM","SUM","SUM","SUM","SUM","SUM","SUM","SUM","SUM","SUM","SUM","SUM","SUM","SUM","SUM","SUM","SUM","SUM","SUM","SUM","SUM","SUM","SUM","SUM","SUM","SUM","SUM","SUM","SUM","SUM","SUM","SUM","SUM","SUM","SUM","SUM","SUM","SUM","SUM","SUM","SUM","SUM","SUM","SUM","SUM","SUM","SUM","SUM","SUM","SUM","SUM","SUM","SUM","SUM","SUM","SUM","SUM"]
[null,"303d",null,"diesel oil","[t/yr]",null,"SUM","SUM","SUM","SUM","SUM","SUM","SUM","SUM","SUM","SUM","SUM","SUM","SUM","SUM","SUM","SUM","SUM","SUM","SUM","SUM","SUM","SUM","SUM","SUM","SUM","SUM","SUM","SUM","SUM","SUM","SUM","SUM","SUM","SUM","SUM","SUM","SUM","SUM","SUM","SUM","SUM","SUM","SUM","SUM","SUM","SUM","SUM","SUM","SUM","SUM","SUM","SUM","SUM","SUM","SUM","SUM","SUM","SUM","SUM","SUM","SUM"]
[null,"303e",null,"natural gas ","[1'000 Nm3/yr]",null,"SUM","SUM","SUM","SUM","SUM","SUM","SUM","SUM","SUM","SUM","SUM","SUM","SUM","SUM","SUM","SUM","SUM","SUM","SUM","SUM","SUM","SUM","SUM","SUM","SUM","SUM","SUM","SUM","SUM","SUM","SUM","SUM","SUM","SUM","SUM","SUM","SUM","SUM","SUM","SUM","SUM","SUM","SUM","SUM","SUM","SUM","SUM","SUM","SUM","SUM","SUM","SUM","SUM","SUM","SUM","SUM","SUM","SUM","SUM","SUM","SUM"]
[null,"303f",null,"shale","[t/yr]",null,"SUM","SUM","SUM","SUM","SUM","SUM","SUM","SUM","SUM","SUM","SUM","SUM","SUM","SUM","SUM","SUM","SUM","SUM","SUM","SUM","SUM","SUM","SUM","SUM","SUM","SUM","SUM","SUM","SUM","SUM","SUM","SUM","SUM","SUM","SUM","SUM","SUM","SUM","SUM","SUM","SUM","SUM","SUM","SUM","SUM","SUM","SUM","SUM","SUM","SUM","SUM","SUM","SUM","SUM","SUM","SUM","SUM","SUM","SUM","SUM","SUM"]
[null,"303g","     Alternative fossil and mixed fuels"]
[null,"303h",null,"other fossil based wastes and mixed fuels","[t/yr]",null,"SUM","SUM","SUM","SUM","SUM","SUM","SUM","SUM","SUM","SUM","SUM","SUM","SUM","SUM","SUM","SUM","SUM","SUM","SUM","SUM","SUM","SUM","SUM","SUM","SUM","SUM","SUM","SUM","SUM","SUM","SUM","SUM","SUM","SUM","SUM","SUM","SUM","SUM","SUM","SUM","SUM","SUM","SUM","SUM","SUM","SUM","SUM","SUM","SUM","SUM","SUM","SUM","SUM","SUM","SUM","SUM","SUM","SUM","SUM","SUM","SUM"]
[null,"303i","     Alternative biomass fuels"]
[null,"303j",null,"other biomass","[t/yr]",null,"SUM","SUM","SUM","SUM","SUM","SUM","SUM","SUM","SUM","SUM","SUM","SUM","SUM","SUM","SUM","SUM","SUM","SUM","SUM","SUM","SUM","SUM","SUM","SUM","SUM","SUM","SUM","SUM","SUM","SUM","SUM","SUM","SUM","SUM","SUM","SUM","SUM","SUM","SUM","SUM","SUM","SUM","SUM","SUM","SUM","SUM","SUM","SUM","SUM","SUM","SUM","SUM","SUM","SUM","SUM","SUM","SUM","SUM","SUM","SUM","SUM"]
[null,304,"On-site power generation"]
[null,"304aa","     Conventional fossil fuels"]
[null,"304a",null,"coal + anthracite + lignite","[t/yr]",null,"SUM","SUM","SUM","SUM","SUM","SUM","SUM","SUM","SUM","SUM","SUM","SUM","SUM","SUM","SUM","SUM","SUM","SUM","SUM","SUM","SUM","SUM","SUM","SUM","SUM","SUM","SUM","SUM","SUM","SUM","SUM","SUM","SUM","SUM","SUM","SUM","SUM","SUM","SUM","SUM","SUM","SUM","SUM","SUM","SUM","SUM","SUM","SUM","SUM","SUM","SUM","SUM","SUM","SUM","SUM","SUM","SUM","SUM","SUM","SUM","SUM"]
[null,"304b",null,"(ultra) heavy fuel","[t/yr]",null,"SUM","SUM","SUM","SUM","SUM","SUM","SUM","SUM","SUM","SUM","SUM","SUM","SUM","SUM","SUM","SUM","SUM","SUM","SUM","SUM","SUM","SUM","SUM","SUM","SUM","SUM","SUM","SUM","SUM","SUM","SUM","SUM","SUM","SUM","SUM","SUM","SUM","SUM","SUM","SUM","SUM","SUM","SUM","SUM","SUM","SUM","SUM","SUM","SUM","SUM","SUM","SUM","SUM","SUM","SUM","SUM","SUM","SUM","SUM","SUM","SUM"]
[null,"304c",null,"diesel oil","[t/yr]",null,"SUM","SUM","SUM","SUM","SUM","SUM","SUM","SUM","SUM","SUM","SUM","SUM","SUM","SUM","SUM","SUM","SUM","SUM","SUM","SUM","SUM","SUM","SUM","SUM","SUM","SUM","SUM","SUM","SUM","SUM","SUM","SUM","SUM","SUM","SUM","SUM","SUM","SUM","SUM","SUM","SUM","SUM","SUM","SUM","SUM","SUM","SUM","SUM","SUM","SUM","SUM","SUM","SUM","SUM","SUM","SUM","SUM","SUM","SUM","SUM","SUM"]
[null,"304d",null,"natural gas ","[1'000 Nm3/yr]",null,"SUM","SUM","SUM","SUM","SUM","SUM","SUM","SUM","SUM","SUM","SUM","SUM","SUM","SUM","SUM","SUM","SUM","SUM","SUM","SUM","SUM","SUM","SUM","SUM","SUM","SUM","SUM","SUM","SUM","SUM","SUM","SUM","SUM","SUM","SUM","SUM","SUM","SUM","SUM","SUM","SUM","SUM","SUM","SUM","SUM","SUM","SUM","SUM","SUM","SUM","SUM","SUM","SUM","SUM","SUM","SUM","SUM","SUM","SUM","SUM","SUM"]
[null,"304i",null,"petrol coke","[t/yr]",null,"SUM","SUM","SUM","SUM","SUM","SUM","SUM","SUM","SUM","SUM","SUM","SUM","SUM","SUM","SUM","SUM","SUM","SUM","SUM","SUM","SUM","SUM","SUM","SUM","SUM","SUM","SUM","SUM","SUM","SUM","SUM","SUM","SUM","SUM","SUM","SUM","SUM","SUM","SUM","SUM","SUM","SUM","SUM","SUM","SUM","SUM","SUM","SUM","SUM","SUM","SUM","SUM","SUM","SUM","SUM","SUM","SUM","SUM","SUM","SUM","SUM"]
[null,"304j",null,"other fossil fuels","[t/yr]",null,"SUM","SUM","SUM","SUM","SUM","SUM","SUM","SUM","SUM","SUM","SUM","SUM","SUM","SUM","SUM","SUM","SUM","SUM","SUM","SUM","SUM","SUM","SUM","SUM","SUM","SUM","SUM","SUM","SUM","SUM","SUM","SUM","SUM","SUM","SUM","SUM","SUM","SUM","SUM","SUM","SUM","SUM","SUM","SUM","SUM","SUM","SUM","SUM","SUM","SUM","SUM","SUM","SUM","SUM","SUM","SUM","SUM","SUM","SUM","SUM","SUM"]
[null,"304f","     Alternative fossil and mixed fuels"]
[null,"304g",null,"other fossil based wastes and mixed fuels","[t/yr]",null,"SUM","SUM","SUM","SUM","SUM","SUM","SUM","SUM","SUM","SUM","SUM","SUM","SUM","SUM","SUM","SUM","SUM","SUM","SUM","SUM","SUM","SUM","SUM","SUM","SUM","SUM","SUM","SUM","SUM","SUM","SUM","SUM","SUM","SUM","SUM","SUM","SUM","SUM","SUM","SUM","SUM","SUM","SUM","SUM","SUM","SUM","SUM","SUM","SUM","SUM","SUM","SUM","SUM","SUM","SUM","SUM","SUM","SUM","SUM","SUM","SUM"]
[null,"304h","     Alternative biomass fuels"]
[null,"304e",null,"other biomass","[t/yr]",null,"SUM","SUM","SUM","SUM","SUM","SUM","SUM","SUM","SUM","SUM","SUM","SUM","SUM","SUM","SUM","SUM","SUM","SUM","SUM","SUM","SUM","SUM","SUM","SUM","SUM","SUM","SUM","SUM","SUM","SUM","SUM","SUM","SUM","SUM","SUM","SUM","SUM","SUM","SUM","SUM","SUM","SUM","SUM","SUM","SUM","SUM","SUM","SUM","SUM","SUM","SUM","SUM","SUM","SUM","SUM","SUM","SUM","SUM","SUM","SUM","SUM"]
[]
[null,"Non-Kiln Fuel Lower Heating Values",null,null,null,null,{"$f":"G$7","v":1990},1991,1992,1993,1994,1995,1996,1997,1998,1999,2000,2001,2002,2003,2004,2005,2006,2007,2008,2009,2010,2011,2012,2013,2014,2015,2016,2017,2018,2019,2020,2021,2022,2023,2024,2025,2026,2027,2028,2029,2030,2031,2032,2033,2034,2035,2036,2037,2038,2039,2040,2041,2042,2043,2044,2045,2046,2047,2048,2049,2050]
[null,311,"Equipment and On-Site Vehicles fossil fuels"]
[null,"311a",null,"diesel oil","[GJ/t]",null,{"$f":"IF(AND(G431=\"\",G503=\"\"),\"\",IF(G431=0,\"not appl.\",G503*1000/G431))","v":{"$error":"#VALUE!"}},{"$error":"#VALUE!"},{"$error":"#VALUE!"},{"$error":"#VALUE!"},{"$error":"#VALUE!"},{"$error":"#VALUE!"},{"$error":"#VALUE!"},{"$error":"#VALUE!"},{"$error":"#VALUE!"},{"$error":"#VALUE!"},{"$error":"#VALUE!"},{"$error":"#VALUE!"},{"$error":"#VALUE!"},{"$error":"#VALUE!"},{"$error":"#VALUE!"},{"$error":"#VALUE!"},{"$error":"#VALUE!"},{"$error":"#VALUE!"},{"$error":"#VALUE!"},{"$error":"#VALUE!"},{"$error":"#VALUE!"},{"$error":"#VALUE!"},{"$error":"#VALUE!"},{"$error":"#VALUE!"},{"$error":"#VALUE!"},{"$error":"#VALUE!"},{"$error":"#VALUE!"},{"$error":"#VALUE!"},{"$error":"#VALUE!"},{"$error":"#VALUE!"},{"$error":"#VALUE!"},{"$f":"IF(AND(AL431=\"\",AL503=\"\"),\"\",IF(AL431=0,\"not appl.\",AL503*1000/AL431))","v":{"$error":"#VALUE!"}},{"$error":"#VALUE!"},{"$error":"#VALUE!"},{"$error":"#VALUE!"},{"$error":"#VALUE!"},{"$f":"IF(AND(AQ431=\"\",AQ503=\"\"),\"\",IF(AQ431=0,\"not appl.\",AQ503*1000/AQ431))","v":{"$error":"#VALUE!"}},{"$error":"#VALUE!"},{"$error":"#VALUE!"},{"$error":"#VALUE!"},{"$error":"#VALUE!"},{"$error":"#VALUE!"},{"$error":"#VALUE!"},{"$error":"#VALUE!"},{"$error":"#VALUE!"},{"$error":"#VALUE!"},{"$error":"#VALUE!"},{"$error":"#VALUE!"},{"$error":"#VALUE!"},{"$error":"#VALUE!"},{"$error":"#VALUE!"},{"$error":"#VALUE!"},{"$error":"#VALUE!"},{"$error":"#VALUE!"},{"$error":"#VALUE!"},{"$error":"#VALUE!"},{"$error":"#VALUE!"},{"$error":"#VALUE!"},{"$error":"#VALUE!"},{"$error":"#VALUE!"},{"$error":"#VALUE!"}]
[null,"311b",null,"gasoline","[GJ/t]",null,{"$f":"IF(AND(G432=\"\",G504=\"\"),\"\",IF(G432=0,\"not appl.\",G504*1000/G432))","v":{"$error":"#VALUE!"}},{"$error":"#VALUE!"},{"$error":"#VALUE!"},{"$error":"#VALUE!"},{"$error":"#VALUE!"},{"$error":"#VALUE!"},{"$error":"#VALUE!"},{"$error":"#VALUE!"},{"$error":"#VALUE!"},{"$error":"#VALUE!"},{"$error":"#VALUE!"},{"$error":"#VALUE!"},{"$error":"#VALUE!"},{"$error":"#VALUE!"},{"$error":"#VALUE!"},{"$error":"#VALUE!"},{"$error":"#VALUE!"},{"$error":"#VALUE!"},{"$error":"#VALUE!"},{"$error":"#VALUE!"},{"$error":"#VALUE!"},{"$error":"#VALUE!"},{"$error":"#VALUE!"},{"$error":"#VALUE!"},{"$error":"#VALUE!"},{"$error":"#VALUE!"},{"$error":"#VALUE!"},{"$error":"#VALUE!"},{"$error":"#VALUE!"},{"$error":"#VALUE!"},{"$error":"#VALUE!"},{"$error":"#VALUE!"},{"$error":"#VALUE!"},{"$error":"#VALUE!"},{"$error":"#VALUE!"},{"$error":"#VALUE!"},{"$f":"IF(AND(AQ432=\"\",AQ504=\"\"),\"\",IF(AQ432=0,\"not appl.\",AQ504*1000/AQ432))","v":{"$error":"#VALUE!"}},{"$error":"#VALUE!"},{"$error":"#VALUE!"},{"$error":"#VALUE!"},{"$error":"#VALUE!"},{"$error":"#VALUE!"},{"$error":"#VALUE!"},{"$error":"#VALUE!"},{"$error":"#VALUE!"},{"$error":"#VALUE!"},{"$error":"#VALUE!"},{"$error":"#VALUE!"},{"$error":"#VALUE!"},{"$error":"#VALUE!"},{"$error":"#VALUE!"},{"$error":"#VALUE!"},{"$error":"#VALUE!"},{"$error":"#VALUE!"},{"$error":"#VALUE!"},{"$error":"#VALUE!"},{"$error":"#VALUE!"},{"$error":"#VALUE!"},{"$error":"#VALUE!"},{"$error":"#VALUE!"},{"$error":"#VALUE!"}]
[null,"311ba",null,"other fossil fuels","[GJ/t]",null,{"$f":"IF(AND(G433=\"\",G505=\"\"),\"\",IF(G433=0,\"not appl.\",G505*1000/G433))","v":{"$error":"#VALUE!"}},{"$error":"#VALUE!"},{"$error":"#VALUE!"},{"$error":"#VALUE!"},{"$error":"#VALUE!"},{"$error":"#VALUE!"},{"$error":"#VALUE!"},{"$error":"#VALUE!"},{"$error":"#VALUE!"},{"$error":"#VALUE!"},{"$error":"#VALUE!"},{"$error":"#VALUE!"},{"$error":"#VALUE!"},{"$error":"#VALUE!"},{"$error":"#VALUE!"},{"$error":"#VALUE!"},{"$error":"#VALUE!"},{"$error":"#VALUE!"},{"$error":"#VALUE!"},{"$error":"#VALUE!"},{"$error":"#VALUE!"},{"$error":"#VALUE!"},{"$error":"#VALUE!"},{"$error":"#VALUE!"},{"$error":"#VALUE!"},{"$error":"#VALUE!"},{"$error":"#VALUE!"},{"$error":"#VALUE!"},{"$error":"#VALUE!"},{"$error":"#VALUE!"},{"$error":"#VALUE!"},{"$error":"#VALUE!"},{"$error":"#VALUE!"},{"$error":"#VALUE!"},{"$error":"#VALUE!"},{"$error":"#VALUE!"},{"$f":"IF(AND(AQ433=\"\",AQ505=\"\"),\"\",IF(AQ433=0,\"not appl.\",AQ505*1000/AQ433))","v":{"$error":"#VALUE!"}},{"$error":"#VALUE!"},{"$error":"#VALUE!"},{"$error":"#VALUE!"},{"$error":"#VALUE!"},{"$error":"#VALUE!"},{"$error":"#VALUE!"},{"$error":"#VALUE!"},{"$error":"#VALUE!"},{"$error":"#VALUE!"},{"$error":"#VALUE!"},{"$error":"#VALUE!"},{"$error":"#VALUE!"},{"$error":"#VALUE!"},{"$error":"#VALUE!"},{"$error":"#VALUE!"},{"$error":"#VALUE!"},{"$error":"#VALUE!"},{"$error":"#VALUE!"},{"$error":"#VALUE!"},{"$error":"#VALUE!"},{"$error":"#VALUE!"},{"$error":"#VALUE!"},{"$error":"#VALUE!"},{"$error":"#VALUE!"}]
[null,"311c","Equipment and On-Site Vehicles fuels (containing biomass)"]
[null,"311d",null,"bio and mixed diesel ","[GJ/t]",null,{"$f":"IF(AND(G435=\"\",G507=\"\"),\"\",IF(G435=0,\"not appl.\",G507*1000/G435))","v":{"$error":"#VALUE!"}},{"$error":"#VALUE!"},{"$error":"#VALUE!"},{"$error":"#VALUE!"},{"$error":"#VALUE!"},{"$error":"#VALUE!"},{"$error":"#VALUE!"},{"$error":"#VALUE!"},{"$error":"#VALUE!"},{"$error":"#VALUE!"},{"$error":"#VALUE!"},{"$error":"#VALUE!"},{"$error":"#VALUE!"},{"$error":"#VALUE!"},{"$error":"#VALUE!"},{"$error":"#VALUE!"},{"$error":"#VALUE!"},{"$error":"#VALUE!"},{"$error":"#VALUE!"},{"$error":"#VALUE!"},{"$error":"#VALUE!"},{"$error":"#VALUE!"},{"$error":"#VALUE!"},{"$error":"#VALUE!"},{"$error":"#VALUE!"},{"$error":"#VALUE!"},{"$error":"#VALUE!"},{"$error":"#VALUE!"},{"$error":"#VALUE!"},{"$error":"#VALUE!"},{"$error":"#VALUE!"},{"$f":"IF(AND(AL435=\"\",AL507=\"\"),\"\",IF(AL435=0,\"not appl.\",AL507*1000/AL435))","v":{"$error":"#VALUE!"}},{"$f":"IF(AND(AM435=\"\",AM507=\"\"),\"\",IF(AM435=0,\"not appl.\",AM507*1000/AM435))","v":{"$error":"#VALUE!"}},{"$f":"IF(AND(AN435=\"\",AN507=\"\"),\"\",IF(AN435=0,\"not appl.\",AN507*1000/AN435))","v":{"$error":"#VALUE!"}},{"$f":"IF(AND(AO435=\"\",AO507=\"\"),\"\",IF(AO435=0,\"not appl.\",AO507*1000/AO435))","v":{"$error":"#VALUE!"}},{"$f":"IF(AND(AP435=\"\",AP507=\"\"),\"\",IF(AP435=0,\"not appl.\",AP507*1000/AP435))","v":{"$error":"#VALUE!"}},{"$f":"IF(AND(AQ435=\"\",AQ507=\"\"),\"\",IF(AQ435=0,\"not appl.\",AQ507*1000/AQ435))","v":{"$error":"#VALUE!"}},{"$error":"#VALUE!"},{"$error":"#VALUE!"},{"$error":"#VALUE!"},{"$error":"#VALUE!"},{"$error":"#VALUE!"},{"$error":"#VALUE!"},{"$error":"#VALUE!"},{"$error":"#VALUE!"},{"$error":"#VALUE!"},{"$error":"#VALUE!"},{"$error":"#VALUE!"},{"$error":"#VALUE!"},{"$error":"#VALUE!"},{"$error":"#VALUE!"},{"$error":"#VALUE!"},{"$error":"#VALUE!"},{"$error":"#VALUE!"},{"$error":"#VALUE!"},{"$error":"#VALUE!"},{"$error":"#VALUE!"},{"$error":"#VALUE!"},{"$error":"#VALUE!"},{"$error":"#VALUE!"},{"$error":"#VALUE!"}]
[null,312,"Room Heating and Cooling"]
[null,"312a",null,"diesel oil","[GJ/t]",null,{"$f":"IF(AND(G437=\"\",G509=\"\"),\"\",IF(G437=0,\"not appl.\",G509*1000/G437))","v":{"$error":"#VALUE!"}},{"$error":"#VALUE!"},{"$error":"#VALUE!"},{"$error":"#VALUE!"},{"$error":"#VALUE!"},{"$error":"#VALUE!"},{"$error":"#VALUE!"},{"$error":"#VALUE!"},{"$error":"#VALUE!"},{"$error":"#VALUE!"},{"$error":"#VALUE!"},{"$error":"#VALUE!"},{"$error":"#VALUE!"},{"$error":"#VALUE!"},{"$error":"#VALUE!"},{"$error":"#VALUE!"},{"$error":"#VALUE!"},{"$error":"#VALUE!"},{"$error":"#VALUE!"},{"$error":"#VALUE!"},{"$error":"#VALUE!"},{"$error":"#VALUE!"},{"$error":"#VALUE!"},{"$error":"#VALUE!"},{"$error":"#VALUE!"},{"$error":"#VALUE!"},{"$error":"#VALUE!"},{"$error":"#VALUE!"},{"$error":"#VALUE!"},{"$error":"#VALUE!"},{"$error":"#VALUE!"},{"$f":"IF(AND(AL437=\"\",AL509=\"\"),\"\",IF(AL437=0,\"not appl.\",AL509*1000/AL437))","v":{"$error":"#VALUE!"}},{"$error":"#VALUE!"},{"$error":"#VALUE!"},{"$error":"#VALUE!"},{"$error":"#VALUE!"},{"$f":"IF(AND(AQ437=\"\",AQ509=\"\"),\"\",IF(AQ437=0,\"not appl.\",AQ509*1000/AQ437))","v":{"$error":"#VALUE!"}},{"$error":"#VALUE!"},{"$error":"#VALUE!"},{"$error":"#VALUE!"},{"$error":"#VALUE!"},{"$error":"#VALUE!"},{"$error":"#VALUE!"},{"$error":"#VALUE!"},{"$error":"#VALUE!"},{"$error":"#VALUE!"},{"$error":"#VALUE!"},{"$error":"#VALUE!"},{"$error":"#VALUE!"},{"$error":"#VALUE!"},{"$error":"#VALUE!"},{"$error":"#VALUE!"},{"$error":"#VALUE!"},{"$error":"#VALUE!"},{"$error":"#VALUE!"},{"$error":"#VALUE!"},{"$error":"#VALUE!"},{"$error":"#VALUE!"},{"$error":"#VALUE!"},{"$error":"#VALUE!"},{"$error":"#VALUE!"}]
[null,"312b",null,"natural gas","[GJ/1'000 Nm3]",null,{"$f":"IF(AND(G438=\"\",G510=\"\"),\"\",IF(G438=0,\"not appl.\",G510*1000/G438))","v":{"$error":"#VALUE!"}},{"$error":"#VALUE!"},{"$error":"#VALUE!"},{"$error":"#VALUE!"},{"$error":"#VALUE!"},{"$error":"#VALUE!"},{"$error":"#VALUE!"},{"$error":"#VALUE!"},{"$error":"#VALUE!"},{"$error":"#VALUE!"},{"$error":"#VALUE!"},{"$error":"#VALUE!"},{"$error":"#VALUE!"},{"$error":"#VALUE!"},{"$error":"#VALUE!"},{"$error":"#VALUE!"},{"$error":"#VALUE!"},{"$error":"#VALUE!"},{"$error":"#VALUE!"},{"$error":"#VALUE!"},{"$error":"#VALUE!"},{"$error":"#VALUE!"},{"$error":"#VALUE!"},{"$error":"#VALUE!"},{"$error":"#VALUE!"},{"$error":"#VALUE!"},{"$error":"#VALUE!"},{"$error":"#VALUE!"},{"$error":"#VALUE!"},{"$error":"#VALUE!"},{"$error":"#VALUE!"},{"$error":"#VALUE!"},{"$error":"#VALUE!"},{"$error":"#VALUE!"},{"$error":"#VALUE!"},{"$error":"#VALUE!"},{"$f":"IF(AND(AQ438=\"\",AQ510=\"\"),\"\",IF(AQ438=0,\"not appl.\",AQ510*1000/AQ438))","v":{"$error":"#VALUE!"}},{"$error":"#VALUE!"},{"$error":"#VALUE!"},{"$error":"#VALUE!"},{"$error":"#VALUE!"},{"$error":"#VALUE!"},{"$error":"#VALUE!"},{"$error":"#VALUE!"},{"$error":"#VALUE!"},{"$error":"#VALUE!"},{"$error":"#VALUE!"},{"$error":"#VALUE!"},{"$error":"#VALUE!"},{"$error":"#VALUE!"},{"$error":"#VALUE!"},{"$error":"#VALUE!"},{"$error":"#VALUE!"},{"$error":"#VALUE!"},{"$error":"#VALUE!"},{"$error":"#VALUE!"},{"$error":"#VALUE!"},{"$error":"#VALUE!"},{"$error":"#VALUE!"},{"$error":"#VALUE!"},{"$error":"#VALUE!"}]
[null,"312c",null,"other fossil fuels","[GJ/t]",null,{"$f":"IF(AND(G439=\"\",G511=\"\"),\"\",IF(G439=0,\"not appl.\",G511*1000/G439))","v":{"$error":"#VALUE!"}},{"$error":"#VALUE!"},{"$error":"#VALUE!"},{"$error":"#VALUE!"},{"$error":"#VALUE!"},{"$error":"#VALUE!"},{"$error":"#VALUE!"},{"$error":"#VALUE!"},{"$error":"#VALUE!"},{"$error":"#VALUE!"},{"$error":"#VALUE!"},{"$error":"#VALUE!"},{"$error":"#VALUE!"},{"$error":"#VALUE!"},{"$error":"#VALUE!"},{"$error":"#VALUE!"},{"$error":"#VALUE!"},{"$error":"#VALUE!"},{"$error":"#VALUE!"},{"$error":"#VALUE!"},{"$error":"#VALUE!"},{"$error":"#VALUE!"},{"$error":"#VALUE!"},{"$error":"#VALUE!"},{"$error":"#VALUE!"},{"$error":"#VALUE!"},{"$error":"#VALUE!"},{"$error":"#VALUE!"},{"$error":"#VALUE!"},{"$error":"#VALUE!"},{"$error":"#VALUE!"},{"$error":"#VALUE!"},{"$error":"#VALUE!"},{"$error":"#VALUE!"},{"$error":"#VALUE!"},{"$error":"#VALUE!"},{"$f":"IF(AND(AQ439=\"\",AQ511=\"\"),\"\",IF(AQ439=0,\"not appl.\",AQ511*1000/AQ439))","v":{"$error":"#VALUE!"}},{"$error":"#VALUE!"},{"$error":"#VALUE!"},{"$error":"#VALUE!"},{"$error":"#VALUE!"},{"$error":"#VALUE!"},{"$error":"#VALUE!"},{"$error":"#VALUE!"},{"$error":"#VALUE!"},{"$error":"#VALUE!"},{"$error":"#VALUE!"},{"$error":"#VALUE!"},{"$error":"#VALUE!"},{"$error":"#VALUE!"},{"$error":"#VALUE!"},{"$error":"#VALUE!"},{"$error":"#VALUE!"},{"$error":"#VALUE!"},{"$error":"#VALUE!"},{"$error":"#VALUE!"},{"$error":"#VALUE!"},{"$error":"#VALUE!"},{"$error":"#VALUE!"},{"$error":"#VALUE!"},{"$error":"#VALUE!"}]
[null,313,"Drying of mineral components"]
[null,"313k","     Conventional fossil fuels"]
[null,"313a",null,"coal + anthracite + lignite","[GJ/t]",null,{"$f":"IF(AND(G442=\"\",G514=\"\"),\"\",IF(G442=0,\"not appl.\",G514*1000/G442))","v":{"$error":"#VALUE!"}},{"$error":"#VALUE!"},{"$error":"#VALUE!"},{"$error":"#VALUE!"},{"$error":"#VALUE!"},{"$error":"#VALUE!"},{"$error":"#VALUE!"},{"$error":"#VALUE!"},{"$error":"#VALUE!"},{"$error":"#VALUE!"},{"$error":"#VALUE!"},{"$error":"#VALUE!"},{"$error":"#VALUE!"},{"$error":"#VALUE!"},{"$error":"#VALUE!"},{"$error":"#VALUE!"},{"$error":"#VALUE!"},{"$error":"#VALUE!"},{"$error":"#VALUE!"},{"$error":"#VALUE!"},{"$error":"#VALUE!"},{"$error":"#VALUE!"},{"$error":"#VALUE!"},{"$error":"#VALUE!"},{"$error":"#VALUE!"},{"$error":"#VALUE!"},{"$error":"#VALUE!"},{"$error":"#VALUE!"},{"$error":"#VALUE!"},{"$error":"#VALUE!"},{"$error":"#VALUE!"},{"$f":"IF(AND(AL442=\"\",AL514=\"\"),\"\",IF(AL442=0,\"not appl.\",AL514*1000/AL442))","v":{"$error":"#VALUE!"}},{"$error":"#VALUE!"},{"$error":"#VALUE!"},{"$error":"#VALUE!"},{"$error":"#VALUE!"},{"$f":"IF(AND(AQ442=\"\",AQ514=\"\"),\"\",IF(AQ442=0,\"not appl.\",AQ514*1000/AQ442))","v":{"$error":"#VALUE!"}},{"$error":"#VALUE!"},{"$error":"#VALUE!"},{"$error":"#VALUE!"},{"$error":"#VALUE!"},{"$error":"#VALUE!"},{"$error":"#VALUE!"},{"$error":"#VALUE!"},{"$error":"#VALUE!"},{"$error":"#VALUE!"},{"$error":"#VALUE!"},{"$error":"#VALUE!"},{"$error":"#VALUE!"},{"$error":"#VALUE!"},{"$error":"#VALUE!"},{"$error":"#VALUE!"},{"$error":"#VALUE!"},{"$error":"#VALUE!"},{"$error":"#VALUE!"},{"$error":"#VALUE!"},{"$error":"#VALUE!"},{"$error":"#VALUE!"},{"$error":"#VALUE!"},{"$error":"#VALUE!"},{"$error":"#VALUE!"}]
[null,"313b",null,"petrol coke","[GJ/t]",null,{"$f":"IF(AND(G443=\"\",G515=\"\"),\"\",IF(G443=0,\"not appl.\",G515*1000/G443))","v":{"$error":"#VALUE!"}},{"$error":"#VALUE!"},{"$error":"#VALUE!"},{"$error":"#VALUE!"},{"$error":"#VALUE!"},{"$error":"#VALUE!"},{"$error":"#VALUE!"},{"$error":"#VALUE!"},{"$error":"#VALUE!"},{"$error":"#VALUE!"},{"$error":"#VALUE!"},{"$error":"#VALUE!"},{"$error":"#VALUE!"},{"$error":"#VALUE!"},{"$error":"#VALUE!"},{"$error":"#VALUE!"},{"$error":"#VALUE!"},{"$error":"#VALUE!"},{"$error":"#VALUE!"},{"$error":"#VALUE!"},{"$error":"#VALUE!"},{"$error":"#VALUE!"},{"$error":"#VALUE!"},{"$error":"#VALUE!"},{"$error":"#VALUE!"},{"$error":"#VALUE!"},{"$error":"#VALUE!"},{"$error":"#VALUE!"},{"$error":"#VALUE!"},{"$error":"#VALUE!"},{"$error":"#VALUE!"},{"$error":"#VALUE!"},{"$error":"#VALUE!"},{"$error":"#VALUE!"},{"$error":"#VALUE!"},{"$error":"#VALUE!"},{"$f":"IF(AND(AQ443=\"\",AQ515=\"\"),\"\",IF(AQ443=0,\"not appl.\",AQ515*1000/AQ443))","v":{"$error":"#VALUE!"}},{"$error":"#VALUE!"},{"$error":"#VALUE!"},{"$error":"#VALUE!"},{"$error":"#VALUE!"},{"$error":"#VALUE!"},{"$error":"#VALUE!"},{"$error":"#VALUE!"},{"$error":"#VALUE!"},{"$error":"#VALUE!"},{"$error":"#VALUE!"},{"$error":"#VALUE!"},{"$error":"#VALUE!"},{"$error":"#VALUE!"},{"$error":"#VALUE!"},{"$error":"#VALUE!"},{"$error":"#VALUE!"},{"$error":"#VALUE!"},{"$error":"#VALUE!"},{"$error":"#VALUE!"},{"$error":"#VALUE!"},{"$error":"#VALUE!"},{"$error":"#VALUE!"},{"$error":"#VALUE!"},{"$error":"#VALUE!"}]
[null,"313c",null,"(ultra) heavy fuel","[GJ/t]",null,{"$f":"IF(AND(G444=\"\",G516=\"\"),\"\",IF(G444=0,\"not appl.\",G516*1000/G444))","v":{"$error":"#VALUE!"}},{"$error":"#VALUE!"},{"$error":"#VALUE!"},{"$error":"#VALUE!"},{"$error":"#VALUE!"},{"$error":"#VALUE!"},{"$error":"#VALUE!"},{"$error":"#VALUE!"},{"$error":"#VALUE!"},{"$error":"#VALUE!"},{"$error":"#VALUE!"},{"$error":"#VALUE!"},{"$error":"#VALUE!"},{"$error":"#VALUE!"},{"$error":"#VALUE!"},{"$error":"#VALUE!"},{"$error":"#VALUE!"},{"$error":"#VALUE!"},{"$error":"#VALUE!"},{"$error":"#VALUE!"},{"$error":"#VALUE!"},{"$error":"#VALUE!"},{"$error":"#VALUE!"},{"$error":"#VALUE!"},{"$error":"#VALUE!"},{"$error":"#VALUE!"},{"$error":"#VALUE!"},{"$error":"#VALUE!"},{"$error":"#VALUE!"},{"$error":"#VALUE!"},{"$error":"#VALUE!"},{"$error":"#VALUE!"},{"$error":"#VALUE!"},{"$error":"#VALUE!"},{"$error":"#VALUE!"},{"$error":"#VALUE!"},{"$f":"IF(AND(AQ444=\"\",AQ516=\"\"),\"\",IF(AQ444=0,\"not appl.\",AQ516*1000/AQ444))","v":{"$error":"#VALUE!"}},{"$error":"#VALUE!"},{"$error":"#VALUE!"},{"$error":"#VALUE!"},{"$error":"#VALUE!"},{"$error":"#VALUE!"},{"$error":"#VALUE!"},{"$error":"#VALUE!"},{"$error":"#VALUE!"},{"$error":"#VALUE!"},{"$error":"#VALUE!"},{"$error":"#VALUE!"},{"$error":"#VALUE!"},{"$error":"#VALUE!"},{"$error":"#VALUE!"},{"$error":"#VALUE!"},{"$error":"#VALUE!"},{"$error":"#VALUE!"},{"$error":"#VALUE!"},{"$error":"#VALUE!"},{"$error":"#VALUE!"},{"$error":"#VALUE!"},{"$error":"#VALUE!"},{"$error":"#VALUE!"},{"$error":"#VALUE!"}]
[null,"313d",null,"diesel oil","[GJ/t]",null,{"$f":"IF(AND(G445=\"\",G517=\"\"),\"\",IF(G445=0,\"not appl.\",G517*1000/G445))","v":{"$error":"#VALUE!"}},{"$error":"#VALUE!"},{"$error":"#VALUE!"},{"$error":"#VALUE!"},{"$error":"#VALUE!"},{"$error":"#VALUE!"},{"$error":"#VALUE!"},{"$error":"#VALUE!"},{"$error":"#VALUE!"},{"$error":"#VALUE!"},{"$error":"#VALUE!"},{"$error":"#VALUE!"},{"$error":"#VALUE!"},{"$error":"#VALUE!"},{"$error":"#VALUE!"},{"$error":"#VALUE!"},{"$error":"#VALUE!"},{"$error":"#VALUE!"},{"$error":"#VALUE!"},{"$error":"#VALUE!"},{"$error":"#VALUE!"},{"$error":"#VALUE!"},{"$error":"#VALUE!"},{"$error":"#VALUE!"},{"$error":"#VALUE!"},{"$error":"#VALUE!"},{"$error":"#VALUE!"},{"$error":"#VALUE!"},{"$error":"#VALUE!"},{"$error":"#VALUE!"},{"$error":"#VALUE!"},{"$error":"#VALUE!"},{"$error":"#VALUE!"},{"$error":"#VALUE!"},{"$error":"#VALUE!"},{"$error":"#VALUE!"},{"$f":"IF(AND(AQ445=\"\",AQ517=\"\"),\"\",IF(AQ445=0,\"not appl.\",AQ517*1000/AQ445))","v":{"$error":"#VALUE!"}},{"$error":"#VALUE!"},{"$error":"#VALUE!"},{"$error":"#VALUE!"},{"$error":"#VALUE!"},{"$error":"#VALUE!"},{"$error":"#VALUE!"},{"$error":"#VALUE!"},{"$error":"#VALUE!"},{"$error":"#VALUE!"},{"$error":"#VALUE!"},{"$error":"#VALUE!"},{"$error":"#VALUE!"},{"$error":"#VALUE!"},{"$error":"#VALUE!"},{"$error":"#VALUE!"},{"$error":"#VALUE!"},{"$error":"#VALUE!"},{"$error":"#VALUE!"},{"$error":"#VALUE!"},{"$error":"#VALUE!"},{"$error":"#VALUE!"},{"$error":"#VALUE!"},{"$error":"#VALUE!"},{"$error":"#VALUE!"}]
[null,"313e",null,"natural gas ","[GJ/1'000 Nm3]",null,{"$f":"IF(AND(G446=\"\",G518=\"\"),\"\",IF(G446=0,\"not appl.\",G518*1000/G446))","v":{"$error":"#VALUE!"}},{"$error":"#VALUE!"},{"$error":"#VALUE!"},{"$error":"#VALUE!"},{"$error":"#VALUE!"},{"$error":"#VALUE!"},{"$error":"#VALUE!"},{"$error":"#VALUE!"},{"$error":"#VALUE!"},{"$error":"#VALUE!"},{"$error":"#VALUE!"},{"$error":"#VALUE!"},{"$error":"#VALUE!"},{"$error":"#VALUE!"},{"$error":"#VALUE!"},{"$error":"#VALUE!"},{"$error":"#VALUE!"},{"$error":"#VALUE!"},{"$error":"#VALUE!"},{"$error":"#VALUE!"},{"$error":"#VALUE!"},{"$error":"#VALUE!"},{"$error":"#VALUE!"},{"$error":"#VALUE!"},{"$error":"#VALUE!"},{"$error":"#VALUE!"},{"$error":"#VALUE!"},{"$error":"#VALUE!"},{"$error":"#VALUE!"},{"$error":"#VALUE!"},{"$error":"#VALUE!"},{"$error":"#VALUE!"},{"$error":"#VALUE!"},{"$error":"#VALUE!"},{"$error":"#VALUE!"},{"$error":"#VALUE!"},{"$f":"IF(AND(AQ446=\"\",AQ518=\"\"),\"\",IF(AQ446=0,\"not appl.\",AQ518*1000/AQ446))","v":{"$error":"#VALUE!"}},{"$error":"#VALUE!"},{"$error":"#VALUE!"},{"$error":"#VALUE!"},{"$error":"#VALUE!"},{"$error":"#VALUE!"},{"$error":"#VALUE!"},{"$error":"#VALUE!"},{"$error":"#VALUE!"},{"$error":"#VALUE!"},{"$error":"#VALUE!"},{"$error":"#VALUE!"},{"$error":"#VALUE!"},{"$error":"#VALUE!"},{"$error":"#VALUE!"},{"$error":"#VALUE!"},{"$error":"#VALUE!"},{"$error":"#VALUE!"},{"$error":"#VALUE!"},{"$error":"#VALUE!"},{"$error":"#VALUE!"},{"$error":"#VALUE!"},{"$error":"#VALUE!"},{"$error":"#VALUE!"},{"$error":"#VALUE!"}]
[null,"313f",null,"shale","[GJ/t]",null,{"$f":"IF(AND(G447=\"\",G519=\"\"),\"\",IF(G447=0,\"not appl.\",G519*1000/G447))","v":{"$error":"#VALUE!"}},{"$error":"#VALUE!"},{"$error":"#VALUE!"},{"$error":"#VALUE!"},{"$error":"#VALUE!"},{"$error":"#VALUE!"},{"$error":"#VALUE!"},{"$error":"#VALUE!"},{"$error":"#VALUE!"},{"$error":"#VALUE!"},{"$error":"#VALUE!"},{"$error":"#VALUE!"},{"$error":"#VALUE!"},{"$error":"#VALUE!"},{"$error":"#VALUE!"},{"$error":"#VALUE!"},{"$error":"#VALUE!"},{"$error":"#VALUE!"},{"$error":"#VALUE!"},{"$error":"#VALUE!"},{"$error":"#VALUE!"},{"$error":"#VALUE!"},{"$error":"#VALUE!"},{"$error":"#VALUE!"},{"$error":"#VALUE!"},{"$error":"#VALUE!"},{"$error":"#VALUE!"},{"$error":"#VALUE!"},{"$error":"#VALUE!"},{"$error":"#VALUE!"},{"$error":"#VALUE!"},{"$error":"#VALUE!"},{"$error":"#VALUE!"},{"$error":"#VALUE!"},{"$error":"#VALUE!"},{"$error":"#VALUE!"},{"$f":"IF(AND(AQ447=\"\",AQ519=\"\"),\"\",IF(AQ447=0,\"not appl.\",AQ519*1000/AQ447))","v":{"$error":"#VALUE!"}},{"$error":"#VALUE!"},{"$error":"#VALUE!"},{"$error":"#VALUE!"},{"$error":"#VALUE!"},{"$error":"#VALUE!"},{"$error":"#VALUE!"},{"$error":"#VALUE!"},{"$error":"#VALUE!"},{"$error":"#VALUE!"},{"$error":"#VALUE!"},{"$error":"#VALUE!"},{"$error":"#VALUE!"},{"$error":"#VALUE!"},{"$error":"#VALUE!"},{"$error":"#VALUE!"},{"$error":"#VALUE!"},{"$error":"#VALUE!"},{"$error":"#VALUE!"},{"$error":"#VALUE!"},{"$error":"#VALUE!"},{"$error":"#VALUE!"},{"$error":"#VALUE!"},{"$error":"#VALUE!"},{"$error":"#VALUE!"}]
[null,"313g","     Alternative fossil and mixed fuels"]
[null,"313h",null,"other fossil based wastes and mixed fuels","[GJ/t]",null,{"$f":"IF(AND(G449=\"\",G521=\"\"),\"\",IF(G449=0,\"not appl.\",G521*1000/G449))","v":{"$error":"#VALUE!"}},{"$error":"#VALUE!"},{"$error":"#VALUE!"},{"$error":"#VALUE!"},{"$error":"#VALUE!"},{"$error":"#VALUE!"},{"$error":"#VALUE!"},{"$error":"#VALUE!"},{"$error":"#VALUE!"},{"$error":"#VALUE!"},{"$error":"#VALUE!"},{"$error":"#VALUE!"},{"$error":"#VALUE!"},{"$error":"#VALUE!"},{"$error":"#VALUE!"},{"$error":"#VALUE!"},{"$error":"#VALUE!"},{"$error":"#VALUE!"},{"$error":"#VALUE!"},{"$error":"#VALUE!"},{"$error":"#VALUE!"},{"$error":"#VALUE!"},{"$error":"#VALUE!"},{"$error":"#VALUE!"},{"$error":"#VALUE!"},{"$error":"#VALUE!"},{"$error":"#VALUE!"},{"$error":"#VALUE!"},{"$error":"#VALUE!"},{"$error":"#VALUE!"},{"$error":"#VALUE!"},{"$f":"IF(AND(AL449=\"\",AL521=\"\"),\"\",IF(AL449=0,\"not appl.\",AL521*1000/AL449))","v":{"$error":"#VALUE!"}},{"$f":"IF(AND(AM449=\"\",AM521=\"\"),\"\",IF(AM449=0,\"not appl.\",AM521*1000/AM449))","v":{"$error":"#VALUE!"}},{"$f":"IF(AND(AN449=\"\",AN521=\"\"),\"\",IF(AN449=0,\"not appl.\",AN521*1000/AN449))","v":{"$error":"#VALUE!"}},{"$f":"IF(AND(AO449=\"\",AO521=\"\"),\"\",IF(AO449=0,\"not appl.\",AO521*1000/AO449))","v":{"$error":"#VALUE!"}},{"$f":"IF(AND(AP449=\"\",AP521=\"\"),\"\",IF(AP449=0,\"not appl.\",AP521*1000/AP449))","v":{"$error":"#VALUE!"}},{"$f":"IF(AND(AQ449=\"\",AQ521=\"\"),\"\",IF(AQ449=0,\"not appl.\",AQ521*1000/AQ449))","v":{"$error":"#VALUE!"}},{"$error":"#VALUE!"},{"$error":"#VALUE!"},{"$error":"#VALUE!"},{"$error":"#VALUE!"},{"$error":"#VALUE!"},{"$error":"#VALUE!"},{"$error":"#VALUE!"},{"$error":"#VALUE!"},{"$error":"#VALUE!"},{"$error":"#VALUE!"},{"$error":"#VALUE!"},{"$error":"#VALUE!"},{"$error":"#VALUE!"},{"$error":"#VALUE!"},{"$error":"#VALUE!"},{"$error":"#VALUE!"},{"$error":"#VALUE!"},{"$error":"#VALUE!"},{"$error":"#VALUE!"},{"$error":"#VALUE!"},{"$error":"#VALUE!"},{"$error":"#VALUE!"},{"$error":"#VALUE!"},{"$error":"#VALUE!"}]
[null,"313i","     Alternative biomass fuels"]
[null,"313j",null,"other biomass","[GJ/t]",null,{"$f":"IF(AND(G451=\"\",G523=\"\"),\"\",IF(G451=0,\"not appl.\",G523*1000/G451))","v":{"$error":"#VALUE!"}},{"$error":"#VALUE!"},{"$error":"#VALUE!"},{"$error":"#VALUE!"},{"$error":"#VALUE!"},{"$error":"#VALUE!"},{"$error":"#VALUE!"},{"$error":"#VALUE!"},{"$error":"#VALUE!"},{"$error":"#VALUE!"},{"$error":"#VALUE!"},{"$error":"#VALUE!"},{"$error":"#VALUE!"},{"$error":"#VALUE!"},{"$error":"#VALUE!"},{"$error":"#VALUE!"},{"$error":"#VALUE!"},{"$error":"#VALUE!"},{"$error":"#VALUE!"},{"$error":"#VALUE!"},{"$error":"#VALUE!"},{"$error":"#VALUE!"},{"$error":"#VALUE!"},{"$error":"#VALUE!"},{"$error":"#VALUE!"},{"$error":"#VALUE!"},{"$error":"#VALUE!"},{"$error":"#VALUE!"},{"$error":"#VALUE!"},{"$error":"#VALUE!"},{"$error":"#VALUE!"},{"$f":"IF(AND(AL451=\"\",AL523=\"\"),\"\",IF(AL451=0,\"not appl.\",AL523*1000/AL451))","v":{"$error":"#VALUE!"}},{"$f":"IF(AND(AM451=\"\",AM523=\"\"),\"\",IF(AM451=0,\"not appl.\",AM523*1000/AM451))","v":{"$error":"#VALUE!"}},{"$f":"IF(AND(AN451=\"\",AN523=\"\"),\"\",IF(AN451=0,\"not appl.\",AN523*1000/AN451))","v":{"$error":"#VALUE!"}},{"$f":"IF(AND(AO451=\"\",AO523=\"\"),\"\",IF(AO451=0,\"not appl.\",AO523*1000/AO451))","v":{"$error":"#VALUE!"}},{"$f":"IF(AND(AP451=\"\",AP523=\"\"),\"\",IF(AP451=0,\"not appl.\",AP523*1000/AP451))","v":{"$error":"#VALUE!"}},{"$f":"IF(AND(AQ451=\"\",AQ523=\"\"),\"\",IF(AQ451=0,\"not appl.\",AQ523*1000/AQ451))","v":{"$error":"#VALUE!"}},{"$error":"#VALUE!"},{"$error":"#VALUE!"},{"$error":"#VALUE!"},{"$error":"#VALUE!"},{"$error":"#VALUE!"},{"$error":"#VALUE!"},{"$error":"#VALUE!"},{"$error":"#VALUE!"},{"$error":"#VALUE!"},{"$error":"#VALUE!"},{"$error":"#VALUE!"},{"$error":"#VALUE!"},{"$error":"#VALUE!"},{"$error":"#VALUE!"},{"$error":"#VALUE!"},{"$error":"#VALUE!"},{"$error":"#VALUE!"},{"$error":"#VALUE!"},{"$error":"#VALUE!"},{"$error":"#VALUE!"},{"$error":"#VALUE!"},{"$error":"#VALUE!"},{"$error":"#VALUE!"},{"$error":"#VALUE!"}]
[null,314,"On-site power generation"]
[null,"314aa","     Conventional fossil fuels"]
[null,"314a",null,"coal + anthracite + lignite","[GJ/t]",null,{"$f":"IF(AND(G454=\"\",G526=\"\"),\"\",IF(G454=0,\"not appl.\",G526*1000/G454))","v":{"$error":"#VALUE!"}},{"$error":"#VALUE!"},{"$error":"#VALUE!"},{"$error":"#VALUE!"},{"$error":"#VALUE!"},{"$error":"#VALUE!"},{"$error":"#VALUE!"},{"$error":"#VALUE!"},{"$error":"#VALUE!"},{"$error":"#VALUE!"},{"$error":"#VALUE!"},{"$error":"#VALUE!"},{"$error":"#VALUE!"},{"$error":"#VALUE!"},{"$error":"#VALUE!"},{"$error":"#VALUE!"},{"$error":"#VALUE!"},{"$error":"#VALUE!"},{"$error":"#VALUE!"},{"$error":"#VALUE!"},{"$error":"#VALUE!"},{"$error":"#VALUE!"},{"$error":"#VALUE!"},{"$error":"#VALUE!"},{"$error":"#VALUE!"},{"$error":"#VALUE!"},{"$error":"#VALUE!"},{"$error":"#VALUE!"},{"$error":"#VALUE!"},{"$error":"#VALUE!"},{"$error":"#VALUE!"},{"$f":"IF(AND(AL454=\"\",AL526=\"\"),\"\",IF(AL454=0,\"not appl.\",AL526*1000/AL454))","v":{"$error":"#VALUE!"}},{"$error":"#VALUE!"},{"$error":"#VALUE!"},{"$error":"#VALUE!"},{"$error":"#VALUE!"},{"$f":"IF(AND(AQ454=\"\",AQ526=\"\"),\"\",IF(AQ454=0,\"not appl.\",AQ526*1000/AQ454))","v":{"$error":"#VALUE!"}},{"$error":"#VALUE!"},{"$error":"#VALUE!"},{"$error":"#VALUE!"},{"$error":"#VALUE!"},{"$error":"#VALUE!"},{"$error":"#VALUE!"},{"$error":"#VALUE!"},{"$error":"#VALUE!"},{"$error":"#VALUE!"},{"$error":"#VALUE!"},{"$error":"#VALUE!"},{"$error":"#VALUE!"},{"$error":"#VALUE!"},{"$error":"#VALUE!"},{"$error":"#VALUE!"},{"$error":"#VALUE!"},{"$error":"#VALUE!"},{"$error":"#VALUE!"},{"$error":"#VALUE!"},{"$error":"#VALUE!"},{"$error":"#VALUE!"},{"$error":"#VALUE!"},{"$error":"#VALUE!"},{"$error":"#VALUE!"}]
[null,"314b",null,"(ultra) heavy fuel","[GJ/t]",null,{"$f":"IF(AND(G455=\"\",G527=\"\"),\"\",IF(G455=0,\"not appl.\",G527*1000/G455))","v":{"$error":"#VALUE!"}},{"$error":"#VALUE!"},{"$error":"#VALUE!"},{"$error":"#VALUE!"},{"$error":"#VALUE!"},{"$error":"#VALUE!"},{"$error":"#VALUE!"},{"$error":"#VALUE!"},{"$error":"#VALUE!"},{"$error":"#VALUE!"},{"$error":"#VALUE!"},{"$error":"#VALUE!"},{"$error":"#VALUE!"},{"$error":"#VALUE!"},{"$error":"#VALUE!"},{"$error":"#VALUE!"},{"$error":"#VALUE!"},{"$error":"#VALUE!"},{"$error":"#VALUE!"},{"$error":"#VALUE!"},{"$error":"#VALUE!"},{"$error":"#VALUE!"},{"$error":"#VALUE!"},{"$error":"#VALUE!"},{"$error":"#VALUE!"},{"$error":"#VALUE!"},{"$error":"#VALUE!"},{"$error":"#VALUE!"},{"$error":"#VALUE!"},{"$error":"#VALUE!"},{"$error":"#VALUE!"},{"$error":"#VALUE!"},{"$error":"#VALUE!"},{"$error":"#VALUE!"},{"$error":"#VALUE!"},{"$error":"#VALUE!"},{"$f":"IF(AND(AQ455=\"\",AQ527=\"\"),\"\",IF(AQ455=0,\"not appl.\",AQ527*1000/AQ455))","v":{"$error":"#VALUE!"}},{"$error":"#VALUE!"},{"$error":"#VALUE!"},{"$error":"#VALUE!"},{"$error":"#VALUE!"},{"$error":"#VALUE!"},{"$error":"#VALUE!"},{"$error":"#VALUE!"},{"$error":"#VALUE!"},{"$error":"#VALUE!"},{"$error":"#VALUE!"},{"$error":"#VALUE!"},{"$error":"#VALUE!"},{"$error":"#VALUE!"},{"$error":"#VALUE!"},{"$error":"#VALUE!"},{"$error":"#VALUE!"},{"$error":"#VALUE!"},{"$error":"#VALUE!"},{"$error":"#VALUE!"},{"$error":"#VALUE!"},{"$error":"#VALUE!"},{"$error":"#VALUE!"},{"$error":"#VALUE!"},{"$error":"#VALUE!"}]
[null,"314c",null,"diesel oil","[GJ/t]",null,{"$f":"IF(AND(G456=\"\",G528=\"\"),\"\",IF(G456=0,\"not appl.\",G528*1000/G456))","v":{"$error":"#VALUE!"}},{"$error":"#VALUE!"},{"$error":"#VALUE!"},{"$error":"#VALUE!"},{"$error":"#VALUE!"},{"$error":"#VALUE!"},{"$error":"#VALUE!"},{"$error":"#VALUE!"},{"$error":"#VALUE!"},{"$error":"#VALUE!"},{"$error":"#VALUE!"},{"$error":"#VALUE!"},{"$error":"#VALUE!"},{"$error":"#VALUE!"},{"$error":"#VALUE!"},{"$error":"#VALUE!"},{"$error":"#VALUE!"},{"$error":"#VALUE!"},{"$error":"#VALUE!"},{"$error":"#VALUE!"},{"$error":"#VALUE!"},{"$error":"#VALUE!"},{"$error":"#VALUE!"},{"$error":"#VALUE!"},{"$error":"#VALUE!"},{"$error":"#VALUE!"},{"$error":"#VALUE!"},{"$error":"#VALUE!"},{"$error":"#VALUE!"},{"$error":"#VALUE!"},{"$error":"#VALUE!"},{"$error":"#VALUE!"},{"$error":"#VALUE!"},{"$error":"#VALUE!"},{"$error":"#VALUE!"},{"$error":"#VALUE!"},{"$f":"IF(AND(AQ456=\"\",AQ528=\"\"),\"\",IF(AQ456=0,\"not appl.\",AQ528*1000/AQ456))","v":{"$error":"#VALUE!"}},{"$error":"#VALUE!"},{"$error":"#VALUE!"},{"$error":"#VALUE!"},{"$error":"#VALUE!"},{"$error":"#VALUE!"},{"$error":"#VALUE!"},{"$error":"#VALUE!"},{"$error":"#VALUE!"},{"$error":"#VALUE!"},{"$error":"#VALUE!"},{"$error":"#VALUE!"},{"$error":"#VALUE!"},{"$error":"#VALUE!"},{"$error":"#VALUE!"},{"$error":"#VALUE!"},{"$error":"#VALUE!"},{"$error":"#VALUE!"},{"$error":"#VALUE!"},{"$error":"#VALUE!"},{"$error":"#VALUE!"},{"$error":"#VALUE!"},{"$error":"#VALUE!"},{"$error":"#VALUE!"},{"$error":"#VALUE!"}]
[null,"314d",null,"natural gas ","[GJ/1'000 Nm3]",null,{"$f":"IF(AND(G457=\"\",G529=\"\"),\"\",IF(G457=0,\"not appl.\",G529*1000/G457))","v":{"$error":"#VALUE!"}},{"$error":"#VALUE!"},{"$error":"#VALUE!"},{"$error":"#VALUE!"},{"$error":"#VALUE!"},{"$error":"#VALUE!"},{"$error":"#VALUE!"},{"$error":"#VALUE!"},{"$error":"#VALUE!"},{"$error":"#VALUE!"},{"$error":"#VALUE!"},{"$error":"#VALUE!"},{"$error":"#VALUE!"},{"$error":"#VALUE!"},{"$error":"#VALUE!"},{"$error":"#VALUE!"},{"$error":"#VALUE!"},{"$error":"#VALUE!"},{"$error":"#VALUE!"},{"$error":"#VALUE!"},{"$error":"#VALUE!"},{"$error":"#VALUE!"},{"$error":"#VALUE!"},{"$error":"#VALUE!"},{"$error":"#VALUE!"},{"$error":"#VALUE!"},{"$error":"#VALUE!"},{"$error":"#VALUE!"},{"$error":"#VALUE!"},{"$error":"#VALUE!"},{"$error":"#VALUE!"},{"$error":"#VALUE!"},{"$error":"#VALUE!"},{"$error":"#VALUE!"},{"$error":"#VALUE!"},{"$error":"#VALUE!"},{"$f":"IF(AND(AQ457=\"\",AQ529=\"\"),\"\",IF(AQ457=0,\"not appl.\",AQ529*1000/AQ457))","v":{"$error":"#VALUE!"}},{"$error":"#VALUE!"},{"$error":"#VALUE!"},{"$error":"#VALUE!"},{"$error":"#VALUE!"},{"$error":"#VALUE!"},{"$error":"#VALUE!"},{"$error":"#VALUE!"},{"$error":"#VALUE!"},{"$error":"#VALUE!"},{"$error":"#VALUE!"},{"$error":"#VALUE!"},{"$error":"#VALUE!"},{"$error":"#VALUE!"},{"$error":"#VALUE!"},{"$error":"#VALUE!"},{"$error":"#VALUE!"},{"$error":"#VALUE!"},{"$error":"#VALUE!"},{"$error":"#VALUE!"},{"$error":"#VALUE!"},{"$error":"#VALUE!"},{"$error":"#VALUE!"},{"$error":"#VALUE!"},{"$error":"#VALUE!"}]
[null,"314i",null,"petrol coke","[GJ/t]",null,{"$f":"IF(AND(G458=\"\",G530=\"\"),\"\",IF(G458=0,\"not appl.\",G530*1000/G458))","v":{"$error":"#VALUE!"}},{"$error":"#VALUE!"},{"$error":"#VALUE!"},{"$error":"#VALUE!"},{"$error":"#VALUE!"},{"$error":"#VALUE!"},{"$error":"#VALUE!"},{"$error":"#VALUE!"},{"$error":"#VALUE!"},{"$error":"#VALUE!"},{"$error":"#VALUE!"},{"$error":"#VALUE!"},{"$error":"#VALUE!"},{"$error":"#VALUE!"},{"$error":"#VALUE!"},{"$error":"#VALUE!"},{"$error":"#VALUE!"},{"$error":"#VALUE!"},{"$error":"#VALUE!"},{"$error":"#VALUE!"},{"$error":"#VALUE!"},{"$error":"#VALUE!"},{"$error":"#VALUE!"},{"$error":"#VALUE!"},{"$error":"#VALUE!"},{"$error":"#VALUE!"},{"$error":"#VALUE!"},{"$error":"#VALUE!"},{"$error":"#VALUE!"},{"$error":"#VALUE!"},{"$error":"#VALUE!"},{"$error":"#VALUE!"},{"$error":"#VALUE!"},{"$error":"#VALUE!"},{"$error":"#VALUE!"},{"$error":"#VALUE!"},{"$f":"IF(AND(AQ458=\"\",AQ530=\"\"),\"\",IF(AQ458=0,\"not appl.\",AQ530*1000/AQ458))","v":{"$error":"#VALUE!"}},{"$error":"#VALUE!"},{"$error":"#VALUE!"},{"$error":"#VALUE!"},{"$error":"#VALUE!"},{"$error":"#VALUE!"},{"$error":"#VALUE!"},{"$error":"#VALUE!"},{"$error":"#VALUE!"},{"$error":"#VALUE!"},{"$error":"#VALUE!"},{"$error":"#VALUE!"},{"$error":"#VALUE!"},{"$error":"#VALUE!"},{"$error":"#VALUE!"},{"$error":"#VALUE!"},{"$error":"#VALUE!"},{"$error":"#VALUE!"},{"$error":"#VALUE!"},{"$error":"#VALUE!"},{"$error":"#VALUE!"},{"$error":"#VALUE!"},{"$error":"#VALUE!"},{"$error":"#VALUE!"},{"$error":"#VALUE!"}]
[null,"314j",null,"other fossil fuels","[GJ/t]",null,{"$f":"IF(AND(G459=\"\",G531=\"\"),\"\",IF(G459=0,\"not appl.\",G531*1000/G459))","v":{"$error":"#VALUE!"}},{"$error":"#VALUE!"},{"$error":"#VALUE!"},{"$error":"#VALUE!"},{"$error":"#VALUE!"},{"$error":"#VALUE!"},{"$error":"#VALUE!"},{"$error":"#VALUE!"},{"$error":"#VALUE!"},{"$error":"#VALUE!"},{"$error":"#VALUE!"},{"$error":"#VALUE!"},{"$error":"#VALUE!"},{"$error":"#VALUE!"},{"$error":"#VALUE!"},{"$error":"#VALUE!"},{"$error":"#VALUE!"},{"$error":"#VALUE!"},{"$error":"#VALUE!"},{"$error":"#VALUE!"},{"$error":"#VALUE!"},{"$error":"#VALUE!"},{"$error":"#VALUE!"},{"$error":"#VALUE!"},{"$error":"#VALUE!"},{"$error":"#VALUE!"},{"$error":"#VALUE!"},{"$error":"#VALUE!"},{"$error":"#VALUE!"},{"$error":"#VALUE!"},{"$error":"#VALUE!"},{"$error":"#VALUE!"},{"$error":"#VALUE!"},{"$error":"#VALUE!"},{"$error":"#VALUE!"},{"$error":"#VALUE!"},{"$f":"IF(AND(AQ459=\"\",AQ531=\"\"),\"\",IF(AQ459=0,\"not appl.\",AQ531*1000/AQ459))","v":{"$error":"#VALUE!"}},{"$error":"#VALUE!"},{"$error":"#VALUE!"},{"$error":"#VALUE!"},{"$error":"#VALUE!"},{"$error":"#VALUE!"},{"$error":"#VALUE!"},{"$error":"#VALUE!"},{"$error":"#VALUE!"},{"$error":"#VALUE!"},{"$error":"#VALUE!"},{"$error":"#VALUE!"},{"$error":"#VALUE!"},{"$error":"#VALUE!"},{"$error":"#VALUE!"},{"$error":"#VALUE!"},{"$error":"#VALUE!"},{"$error":"#VALUE!"},{"$error":"#VALUE!"},{"$error":"#VALUE!"},{"$error":"#VALUE!"},{"$error":"#VALUE!"},{"$error":"#VALUE!"},{"$error":"#VALUE!"},{"$error":"#VALUE!"}]
[null,"314f","     Alternative fossil and mixed fuels"]
[null,"314g",null,"other fossil based wastes and mixed fuels","[GJ/t]",null,{"$f":"IF(AND(G461=\"\",G533=\"\"),\"\",IF(G461=0,\"not appl.\",G533*1000/G461))","v":{"$error":"#VALUE!"}},{"$error":"#VALUE!"},{"$error":"#VALUE!"},{"$error":"#VALUE!"},{"$error":"#VALUE!"},{"$error":"#VALUE!"},{"$error":"#VALUE!"},{"$error":"#VALUE!"},{"$error":"#VALUE!"},{"$error":"#VALUE!"},{"$error":"#VALUE!"},{"$error":"#VALUE!"},{"$error":"#VALUE!"},{"$error":"#VALUE!"},{"$error":"#VALUE!"},{"$error":"#VALUE!"},{"$error":"#VALUE!"},{"$error":"#VALUE!"},{"$error":"#VALUE!"},{"$error":"#VALUE!"},{"$error":"#VALUE!"},{"$error":"#VALUE!"},{"$error":"#VALUE!"},{"$error":"#VALUE!"},{"$error":"#VALUE!"},{"$error":"#VALUE!"},{"$error":"#VALUE!"},{"$error":"#VALUE!"},{"$error":"#VALUE!"},{"$error":"#VALUE!"},{"$error":"#VALUE!"},{"$f":"IF(AND(AL461=\"\",AL533=\"\"),\"\",IF(AL461=0,\"not appl.\",AL533*1000/AL461))","v":{"$error":"#VALUE!"}},{"$f":"IF(AND(AM461=\"\",AM533=\"\"),\"\",IF(AM461=0,\"not appl.\",AM533*1000/AM461))","v":{"$error":"#VALUE!"}},{"$f":"IF(AND(AN461=\"\",AN533=\"\"),\"\",IF(AN461=0,\"not appl.\",AN533*1000/AN461))","v":{"$error":"#VALUE!"}},{"$f":"IF(AND(AO461=\"\",AO533=\"\"),\"\",IF(AO461=0,\"not appl.\",AO533*1000/AO461))","v":{"$error":"#VALUE!"}},{"$f":"IF(AND(AP461=\"\",AP533=\"\"),\"\",IF(AP461=0,\"not appl.\",AP533*1000/AP461))","v":{"$error":"#VALUE!"}},{"$f":"IF(AND(AQ461=\"\",AQ533=\"\"),\"\",IF(AQ461=0,\"not appl.\",AQ533*1000/AQ461))","v":{"$error":"#VALUE!"}},{"$error":"#VALUE!"},{"$error":"#VALUE!"},{"$error":"#VALUE!"},{"$error":"#VALUE!"},{"$error":"#VALUE!"},{"$error":"#VALUE!"},{"$error":"#VALUE!"},{"$error":"#VALUE!"},{"$error":"#VALUE!"},{"$error":"#VALUE!"},{"$error":"#VALUE!"},{"$error":"#VALUE!"},{"$error":"#VALUE!"},{"$error":"#VALUE!"},{"$error":"#VALUE!"},{"$error":"#VALUE!"},{"$error":"#VALUE!"},{"$error":"#VALUE!"},{"$error":"#VALUE!"},{"$error":"#VALUE!"},{"$error":"#VALUE!"},{"$error":"#VALUE!"},{"$error":"#VALUE!"},{"$error":"#VALUE!"}]
[null,"314h","     Alternative biomass fuels"]
[null,"314e",null,"other biomass","[GJ/t]",null,{"$f":"IF(AND(G463=\"\",G535=\"\"),\"\",IF(G463=0,\"not appl.\",G535*1000/G463))","v":{"$error":"#VALUE!"}},{"$error":"#VALUE!"},{"$error":"#VALUE!"},{"$error":"#VALUE!"},{"$error":"#VALUE!"},{"$error":"#VALUE!"},{"$error":"#VALUE!"},{"$error":"#VALUE!"},{"$error":"#VALUE!"},{"$error":"#VALUE!"},{"$error":"#VALUE!"},{"$error":"#VALUE!"},{"$error":"#VALUE!"},{"$error":"#VALUE!"},{"$error":"#VALUE!"},{"$error":"#VALUE!"},{"$error":"#VALUE!"},{"$error":"#VALUE!"},{"$error":"#VALUE!"},{"$error":"#VALUE!"},{"$error":"#VALUE!"},{"$error":"#VALUE!"},{"$error":"#VALUE!"},{"$error":"#VALUE!"},{"$error":"#VALUE!"},{"$error":"#VALUE!"},{"$error":"#VALUE!"},{"$error":"#VALUE!"},{"$error":"#VALUE!"},{"$error":"#VALUE!"},{"$error":"#VALUE!"},{"$f":"IF(AND(AL463=\"\",AL535=\"\"),\"\",IF(AL463=0,\"not appl.\",AL535*1000/AL463))","v":{"$error":"#VALUE!"}},{"$f":"IF(AND(AM463=\"\",AM535=\"\"),\"\",IF(AM463=0,\"not appl.\",AM535*1000/AM463))","v":{"$error":"#VALUE!"}},{"$f":"IF(AND(AN463=\"\",AN535=\"\"),\"\",IF(AN463=0,\"not appl.\",AN535*1000/AN463))","v":{"$error":"#VALUE!"}},{"$f":"IF(AND(AO463=\"\",AO535=\"\"),\"\",IF(AO463=0,\"not appl.\",AO535*1000/AO463))","v":{"$error":"#VALUE!"}},{"$f":"IF(AND(AP463=\"\",AP535=\"\"),\"\",IF(AP463=0,\"not appl.\",AP535*1000/AP463))","v":{"$error":"#VALUE!"}},{"$f":"IF(AND(AQ463=\"\",AQ535=\"\"),\"\",IF(AQ463=0,\"not appl.\",AQ535*1000/AQ463))","v":{"$error":"#VALUE!"}},{"$error":"#VALUE!"},{"$error":"#VALUE!"},{"$error":"#VALUE!"},{"$error":"#VALUE!"},{"$error":"#VALUE!"},{"$error":"#VALUE!"},{"$error":"#VALUE!"},{"$error":"#VALUE!"},{"$error":"#VALUE!"},{"$error":"#VALUE!"},{"$error":"#VALUE!"},{"$error":"#VALUE!"},{"$error":"#VALUE!"},{"$error":"#VALUE!"},{"$error":"#VALUE!"},{"$error":"#VALUE!"},{"$error":"#VALUE!"},{"$error":"#VALUE!"},{"$error":"#VALUE!"},{"$error":"#VALUE!"},{"$error":"#VALUE!"},{"$error":"#VALUE!"},{"$error":"#VALUE!"},{"$error":"#VALUE!"}]
[]
[null,"Non-Kiln Fuel Consumption in terajoules (TJ) per year",null,null,null,null,{"$f":"G$7","v":1990},1991,1992,1993,1994,1995,1996,1997,1998,1999,2000,2001,2002,2003,2004,2005,2006,2007,2008,2009,2010,2011,2012,2013,2014,2015,2016,2017,2018,2019,2020,2021,2022,2023,2024,2025,2026,2027,2028,2029,2030,2031,2032,2033,2034,2035,2036,2037,2038,2039,2040,2041,2042,2043,2044,2045,2046,2047,2048,2049,2050]
[null,321,"Equipment and On-Site Vehicles fossil fuels",null,"[TJ/yr]",null,{"$f":"IF(OR(COUNTBLANK(G503:G505)=3,G503=\"SUM\"),\"\",SUM(G503:G505))","v":""},{"$f":"IF(OR(COUNTBLANK(H503:H505)=3,H503=\"SUM\"),\"\",SUM(H503:H505))","v":""},"","","","","","","","","","","","","","","","","","","","","","","","",{"$f":"IF(OR(COUNTBLANK(AG503:AG505)=3,AG503=\"SUM\"),\"\",SUM(AG503:AG505))","v":""},"","","","","","","","","",{"$f":"IF(OR(COUNTBLANK(AQ503:AQ505)=3,AQ503=\"SUM\"),\"\",SUM(AQ503:AQ505))","v":""},"","","","","","","","","","","","","","","","","","","","","","","",""]
[null,"321a",null,"diesel oil","[TJ/yr]",null,"SUM","SUM","SUM","SUM","SUM","SUM","SUM","SUM","SUM","SUM","SUM","SUM","SUM","SUM","SUM","SUM","SUM","SUM","SUM","SUM","SUM","SUM","SUM","SUM","SUM","SUM","SUM","SUM","SUM","SUM","SUM","SUM","SUM","SUM","SUM","SUM","SUM","SUM","SUM","SUM","SUM","SUM","SUM","SUM","SUM","SUM","SUM","SUM","SUM","SUM","SUM","SUM","SUM","SUM","SUM","SUM","SUM","SUM","SUM","SUM","SUM"]
[null,"321b",null,"gasoline","[TJ/yr]",null,"SUM","SUM","SUM","SUM","SUM","SUM","SUM","SUM","SUM","SUM","SUM","SUM","SUM","SUM","SUM","SUM","SUM","SUM","SUM","SUM","SUM","SUM","SUM","SUM","SUM","SUM","SUM","SUM","SUM","SUM","SUM","SUM","SUM","SUM","SUM","SUM","SUM","SUM","SUM","SUM","SUM","SUM","SUM","SUM","SUM","SUM","SUM","SUM","SUM","SUM","SUM","SUM","SUM","SUM","SUM","SUM","SUM","SUM","SUM","SUM","SUM"]
[null,"321ba",null,"other fossil fuels","[TJ/yr]",null,"SUM","SUM","SUM","SUM","SUM","SUM","SUM","SUM","SUM","SUM","SUM","SUM","SUM","SUM","SUM","SUM","SUM","SUM","SUM","SUM","SUM","SUM","SUM","SUM","SUM","SUM","SUM","SUM","SUM","SUM","SUM","SUM","SUM","SUM","SUM","SUM","SUM","SUM","SUM","SUM","SUM","SUM","SUM","SUM","SUM","SUM","SUM","SUM","SUM","SUM","SUM","SUM","SUM","SUM","SUM","SUM","SUM","SUM","SUM","SUM","SUM"]
[null,"321c","Equipment and On-Site Vehicles fuels (containing biomass)",null,"[TJ/yr]",null,{"$f":"IF(G507=\"SUM\",\"\",G507)","v":""},{"$f":"IF(H507=\"SUM\",\"\",H507)","v":""},"","","","","","","","","","","","","","","","","","","","","","","","","","","","","","","","","","","","","","","","","","","","","","","","","","","","","","","","","","",""]
[null,"321d",null,"bio and mixed diesel ","[TJ/yr]",null,"SUM","SUM","SUM","SUM","SUM","SUM","SUM","SUM","SUM","SUM","SUM","SUM","SUM","SUM","SUM","SUM","SUM","SUM","SUM","SUM","SUM","SUM","SUM","SUM","SUM","SUM","SUM","SUM","SUM","SUM","SUM","SUM","SUM","SUM","SUM","SUM","SUM","SUM","SUM","SUM","SUM","SUM","SUM","SUM","SUM","SUM","SUM","SUM","SUM","SUM","SUM","SUM","SUM","SUM","SUM","SUM","SUM","SUM","SUM","SUM","SUM"]
[null,322,"Room Heating and Cooling",null,"[TJ/yr]",null,{"$f":"IF(OR(COUNTBLANK(G509:G511)=3,G509=\"SUM\"),\"\",SUM(G509:G511))","v":""},{"$f":"IF(OR(COUNTBLANK(H509:H511)=3,H509=\"SUM\"),\"\",SUM(H509:H511))","v":""},"","","","","","","","","","","","","","","","","","","","","","","","",{"$f":"IF(OR(COUNTBLANK(AG509:AG511)=3,AG509=\"SUM\"),\"\",SUM(AG509:AG511))","v":""},"","","","","","","","","",{"$f":"IF(OR(COUNTBLANK(AQ509:AQ511)=3,AQ509=\"SUM\"),\"\",SUM(AQ509:AQ511))","v":""},"","","","","","","","","","","","","","","","","","","","","","","",""]
[null,"322a",null,"diesel oil","[TJ/yr]",null,"SUM","SUM","SUM","SUM","SUM","SUM","SUM","SUM","SUM","SUM","SUM","SUM","SUM","SUM","SUM","SUM","SUM","SUM","SUM","SUM","SUM","SUM","SUM","SUM","SUM","SUM","SUM","SUM","SUM","SUM","SUM","SUM","SUM","SUM","SUM","SUM","SUM","SUM","SUM","SUM","SUM","SUM","SUM","SUM","SUM","SUM","SUM","SUM","SUM","SUM","SUM","SUM","SUM","SUM","SUM","SUM","SUM","SUM","SUM","SUM","SUM"]
[null,"322b",null,"natural gas","[TJ/yr]",null,"SUM","SUM","SUM","SUM","SUM","SUM","SUM","SUM","SUM","SUM","SUM","SUM","SUM","SUM","SUM","SUM","SUM","SUM","SUM","SUM","SUM","SUM","SUM","SUM","SUM","SUM","SUM","SUM","SUM","SUM","SUM","SUM","SUM","SUM","SUM","SUM","SUM","SUM","SUM","SUM","SUM","SUM","SUM","SUM","SUM","SUM","SUM","SUM","SUM","SUM","SUM","SUM","SUM","SUM","SUM","SUM","SUM","SUM","SUM","SUM","SUM"]
[null,"322c",null,"other fossil fuels","[TJ/yr]",null,"SUM","SUM","SUM","SUM","SUM","SUM","SUM","SUM","SUM","SUM","SUM","SUM","SUM","SUM","SUM","SUM","SUM","SUM","SUM","SUM","SUM","SUM","SUM","SUM","SUM","SUM","SUM","SUM","SUM","SUM","SUM","SUM","SUM","SUM","SUM","SUM","SUM","SUM","SUM","SUM","SUM","SUM","SUM","SUM","SUM","SUM","SUM","SUM","SUM","SUM","SUM","SUM","SUM","SUM","SUM","SUM","SUM","SUM","SUM","SUM","SUM"]
[null,323,"Drying of mineral components"]
[null,"323k","     Conventional fossil fuels",null,"[TJ/yr]",null,{"$f":"IF(OR(COUNTBLANK(G514:G519)=6,G514=\"SUM\"),\"\",SUM(G514:G519))","v":""},{"$f":"IF(OR(COUNTBLANK(H514:H519)=6,H514=\"SUM\"),\"\",SUM(H514:H519))","v":""},"","","","","","","","","","","","","","","","","","","","","","","","",{"$f":"IF(OR(COUNTBLANK(AG514:AG519)=6,AG514=\"SUM\"),\"\",SUM(AG514:AG519))","v":""},"","","","","","","","","",{"$f":"IF(OR(COUNTBLANK(AQ514:AQ519)=6,AQ514=\"SUM\"),\"\",SUM(AQ514:AQ519))","v":""},"","","","","","","","","","","","","","","","","","","","","","","",""]
[null,"323a",null,"coal + anthracite + lignite","[TJ/yr]",null,"SUM","SUM","SUM","SUM","SUM","SUM","SUM","SUM","SUM","SUM","SUM","SUM","SUM","SUM","SUM","SUM","SUM","SUM","SUM","SUM","SUM","SUM","SUM","SUM","SUM","SUM","SUM","SUM","SUM","SUM","SUM","SUM","SUM","SUM","SUM","SUM","SUM","SUM","SUM","SUM","SUM","SUM","SUM","SUM","SUM","SUM","SUM","SUM","SUM","SUM","SUM","SUM","SUM","SUM","SUM","SUM","SUM","SUM","SUM","SUM","SUM"]
[null,"323b",null,"petrol coke","[TJ/yr]",null,"SUM","SUM","SUM","SUM","SUM","SUM","SUM","SUM","SUM","SUM","SUM","SUM","SUM","SUM","SUM","SUM","SUM","SUM","SUM","SUM","SUM","SUM","SUM","SUM","SUM","SUM","SUM","SUM","SUM","SUM","SUM","SUM","SUM","SUM","SUM","SUM","SUM","SUM","SUM","SUM","SUM","SUM","SUM","SUM","SUM","SUM","SUM","SUM","SUM","SUM","SUM","SUM","SUM","SUM","SUM","SUM","SUM","SUM","SUM","SUM","SUM"]
[null,"323c",null,"(ultra) heavy fuel","[TJ/yr]",null,"SUM","SUM","SUM","SUM","SUM","SUM","SUM","SUM","SUM","SUM","SUM","SUM","SUM","SUM","SUM","SUM","SUM","SUM","SUM","SUM","SUM","SUM","SUM","SUM","SUM","SUM","SUM","SUM","SUM","SUM","SUM","SUM","SUM","SUM","SUM","SUM","SUM","SUM","SUM","SUM","SUM","SUM","SUM","SUM","SUM","SUM","SUM","SUM","SUM","SUM","SUM","SUM","SUM","SUM","SUM","SUM","SUM","SUM","SUM","SUM","SUM"]
[null,"323d",null,"diesel oil","[TJ/yr]",null,"SUM","SUM","SUM","SUM","SUM","SUM","SUM","SUM","SUM","SUM","SUM","SUM","SUM","SUM","SUM","SUM","SUM","SUM","SUM","SUM","SUM","SUM","SUM","SUM","SUM","SUM","SUM","SUM","SUM","SUM","SUM","SUM","SUM","SUM","SUM","SUM","SUM","SUM","SUM","SUM","SUM","SUM","SUM","SUM","SUM","SUM","SUM","SUM","SUM","SUM","SUM","SUM","SUM","SUM","SUM","SUM","SUM","SUM","SUM","SUM","SUM"]
[null,"323e",null,"natural gas ","[TJ/yr]",null,"SUM","SUM","SUM","SUM","SUM","SUM","SUM","SUM","SUM","SUM","SUM","SUM","SUM","SUM","SUM","SUM","SUM","SUM","SUM","SUM","SUM","SUM","SUM","SUM","SUM","SUM","SUM","SUM","SUM","SUM","SUM","SUM","SUM","SUM","SUM","SUM","SUM","SUM","SUM","SUM","SUM","SUM","SUM","SUM","SUM","SUM","SUM","SUM","SUM","SUM","SUM","SUM","SUM","SUM","SUM","SUM","SUM","SUM","SUM","SUM","SUM"]
[null,"323f",null,"shale","[TJ/yr]",null,"SUM","SUM","SUM","SUM","SUM","SUM","SUM","SUM","SUM","SUM","SUM","SUM","SUM","SUM","SUM","SUM","SUM","SUM","SUM","SUM","SUM","SUM","SUM","SUM","SUM","SUM","SUM","SUM","SUM","SUM","SUM","SUM","SUM","SUM","SUM","SUM","SUM","SUM","SUM","SUM","SUM","SUM","SUM","SUM","SUM","SUM","SUM","SUM","SUM","SUM","SUM","SUM","SUM","SUM","SUM","SUM","SUM","SUM","SUM","SUM","SUM"]
[null,"323g","     Alternative fossil and mixed fuels",null,"[TJ/yr]",null,{"$f":"IF(G521=\"SUM\",\"\",G521)","v":""},{"$f":"IF(H521=\"SUM\",\"\",H521)","v":""},"","","","","","","","","","","","","","","","","","","","","","","","","","","","","","","","","","","","","","","","","","","","","","","","","","","","","","","","","","",""]
[null,"323h",null,"other fossil based wastes and mixed fuels","[TJ/yr]",null,"SUM","SUM","SUM","SUM","SUM","SUM","SUM","SUM","SUM","SUM","SUM","SUM","SUM","SUM","SUM","SUM","SUM","SUM","SUM","SUM","SUM","SUM","SUM","SUM","SUM","SUM","SUM","SUM","SUM","SUM","SUM","SUM","SUM","SUM","SUM","SUM","SUM","SUM","SUM","SUM","SUM","SUM","SUM","SUM","SUM","SUM","SUM","SUM","SUM","SUM","SUM","SUM","SUM","SUM","SUM","SUM","SUM","SUM","SUM","SUM","SUM"]
[null,"323i","     Alternative biomass fuels",null,"[TJ/yr]",null,{"$f":"IF(G523=\"SUM\",\"\",G523)","v":""},{"$f":"IF(H523=\"SUM\",\"\",H523)","v":""},"","","","","","","","","","","","","","","","","","","","","","","","","","","","","","","","","","","","","","","","","","","","","","","","","","","","","","","","","","",""]
[null,"323j",null,"other biomass","[TJ/yr]",null,"SUM","SUM","SUM","SUM","SUM","SUM","SUM","SUM","SUM","SUM","SUM","SUM","SUM","SUM","SUM","SUM","SUM","SUM","SUM","SUM","SUM","SUM","SUM","SUM","SUM","SUM","SUM","SUM","SUM","SUM","SUM","SUM","SUM","SUM","SUM","SUM","SUM","SUM","SUM","SUM","SUM","SUM","SUM","SUM","SUM","SUM","SUM","SUM","SUM","SUM","SUM","SUM","SUM","SUM","SUM","SUM","SUM","SUM","SUM","SUM","SUM"]
[null,324,"On-site power generation"]
[null,"324aa","     Conventional fossil fuels",null,"[TJ/yr]",null,{"$f":"IF(OR(COUNTBLANK(G526:G531)=6,G526=\"SUM\"),\"\",SUM(G526:G531))","v":""},{"$f":"IF(OR(COUNTBLANK(H526:H531)=6,H526=\"SUM\"),\"\",SUM(H526:H531))","v":""},"","","","","","","","","","","","","","","","","","","","","","","","",{"$f":"IF(OR(COUNTBLANK(AG526:AG531)=6,AG526=\"SUM\"),\"\",SUM(AG526:AG531))","v":""},"","","","","","","","","",{"$f":"IF(OR(COUNTBLANK(AQ526:AQ531)=6,AQ526=\"SUM\"),\"\",SUM(AQ526:AQ531))","v":""},"","","","","","","","","","","","","","","","","","","","","","","",""]
[null,"324a",null,"coal + anthracite + lignite","[TJ/yr]",null,"SUM","SUM","SUM","SUM","SUM","SUM","SUM","SUM","SUM","SUM","SUM","SUM","SUM","SUM","SUM","SUM","SUM","SUM","SUM","SUM","SUM","SUM","SUM","SUM","SUM","SUM","SUM","SUM","SUM","SUM","SUM","SUM","SUM","SUM","SUM","SUM","SUM","SUM","SUM","SUM","SUM","SUM","SUM","SUM","SUM","SUM","SUM","SUM","SUM","SUM","SUM","SUM","SUM","SUM","SUM","SUM","SUM","SUM","SUM","SUM","SUM"]
[null,"324b",null,"(ultra) heavy fuel","[TJ/yr]",null,"SUM","SUM","SUM","SUM","SUM","SUM","SUM","SUM","SUM","SUM","SUM","SUM","SUM","SUM","SUM","SUM","SUM","SUM","SUM","SUM","SUM","SUM","SUM","SUM","SUM","SUM","SUM","SUM","SUM","SUM","SUM","SUM","SUM","SUM","SUM","SUM","SUM","SUM","SUM","SUM","SUM","SUM","SUM","SUM","SUM","SUM","SUM","SUM","SUM","SUM","SUM","SUM","SUM","SUM","SUM","SUM","SUM","SUM","SUM","SUM","SUM"]
[null,"324c",null,"diesel oil","[TJ/yr]",null,"SUM","SUM","SUM","SUM","SUM","SUM","SUM","SUM","SUM","SUM","SUM","SUM","SUM","SUM","SUM","SUM","SUM","SUM","SUM","SUM","SUM","SUM","SUM","SUM","SUM","SUM","SUM","SUM","SUM","SUM","SUM","SUM","SUM","SUM","SUM","SUM","SUM","SUM","SUM","SUM","SUM","SUM","SUM","SUM","SUM","SUM","SUM","SUM","SUM","SUM","SUM","SUM","SUM","SUM","SUM","SUM","SUM","SUM","SUM","SUM","SUM"]
[null,"324d",null,"natural gas ","[TJ/yr]",null,"SUM","SUM","SUM","SUM","SUM","SUM","SUM","SUM","SUM","SUM","SUM","SUM","SUM","SUM","SUM","SUM","SUM","SUM","SUM","SUM","SUM","SUM","SUM","SUM","SUM","SUM","SUM","SUM","SUM","SUM","SUM","SUM","SUM","SUM","SUM","SUM","SUM","SUM","SUM","SUM","SUM","SUM","SUM","SUM","SUM","SUM","SUM","SUM","SUM","SUM","SUM","SUM","SUM","SUM","SUM","SUM","SUM","SUM","SUM","SUM","SUM"]
[null,"324i",null,"petrol coke","[TJ/yr]",null,"SUM","SUM","SUM","SUM","SUM","SUM","SUM","SUM","SUM","SUM","SUM","SUM","SUM","SUM","SUM","SUM","SUM","SUM","SUM","SUM","SUM","SUM","SUM","SUM","SUM","SUM","SUM","SUM","SUM","SUM","SUM","SUM","SUM","SUM","SUM","SUM","SUM","SUM","SUM","SUM","SUM","SUM","SUM","SUM","SUM","SUM","SUM","SUM","SUM","SUM","SUM","SUM","SUM","SUM","SUM","SUM","SUM","SUM","SUM","SUM","SUM"]
[null,"324j",null,"other fossil fuels","[TJ/yr]",null,"SUM","SUM","SUM","SUM","SUM","SUM","SUM","SUM","SUM","SUM","SUM","SUM","SUM","SUM","SUM","SUM","SUM","SUM","SUM","SUM","SUM","SUM","SUM","SUM","SUM","SUM","SUM","SUM","SUM","SUM","SUM","SUM","SUM","SUM","SUM","SUM","SUM","SUM","SUM","SUM","SUM","SUM","SUM","SUM","SUM","SUM","SUM","SUM","SUM","SUM","SUM","SUM","SUM","SUM","SUM","SUM","SUM","SUM","SUM","SUM","SUM"]
[null,"324f","     Alternative fossil and mixed fuels",null,"[TJ/yr]",null,{"$f":"IF(G533=\"SUM\",\"\",G533)","v":""},{"$f":"IF(H533=\"SUM\",\"\",H533)","v":""},"","","","","","","","","","","","","","","","","","","","","","","","","","","","","","","","","","","","","","","","","","","","","","","","","","","","","","","","","","",""]
[null,"324g",null,"other fossil based wastes and mixed fuels","[TJ/yr]",null,"SUM","SUM","SUM","SUM","SUM","SUM","SUM","SUM","SUM","SUM","SUM","SUM","SUM","SUM","SUM","SUM","SUM","SUM","SUM","SUM","SUM","SUM","SUM","SUM","SUM","SUM","SUM","SUM","SUM","SUM","SUM","SUM","SUM","SUM","SUM","SUM","SUM","SUM","SUM","SUM","SUM","SUM","SUM","SUM","SUM","SUM","SUM","SUM","SUM","SUM","SUM","SUM","SUM","SUM","SUM","SUM","SUM","SUM","SUM","SUM","SUM"]
[null,"324h","     Alternative biomass fuels",null,"[TJ/yr]",null,{"$f":"IF(G535=\"SUM\",\"\",G535)","v":""},{"$f":"IF(H535=\"SUM\",\"\",H535)","v":""},"","","","","","","","","","","","","","","","","","","","","","","","","","","","","","","","","","","","","","","","","","","","","","","","","","","","","","","","","","",""]
[null,"324e",null,"other biomass","[TJ/yr]",null,"SUM","SUM","SUM","SUM","SUM","SUM","SUM","SUM","SUM","SUM","SUM","SUM","SUM","SUM","SUM","SUM","SUM","SUM","SUM","SUM","SUM","SUM","SUM","SUM","SUM","SUM","SUM","SUM","SUM","SUM","SUM","SUM","SUM","SUM","SUM","SUM","SUM","SUM","SUM","SUM","SUM","SUM","SUM","SUM","SUM","SUM","SUM","SUM","SUM","SUM","SUM","SUM","SUM","SUM","SUM","SUM","SUM","SUM","SUM","SUM","SUM"]
[]
[null,"CO2 Emissions from Non-Kiln fuels",null,null,null,null,{"$f":"G$7","v":1990},1991,1992,1993,1994,1995,1996,1997,1998,1999,2000,2001,2002,2003,2004,2005,2006,2007,2008,2009,2010,2011,2012,2013,2014,2015,2016,2017,2018,2019,2020,2021,2022,2023,2024,2025,2026,2027,2028,2029,2030,2031,2032,2033,2034,2035,2036,2037,2038,2039,2040,2041,2042,2043,2044,2045,2046,2047,2048,2049,2050]
[null,331,"Equipment and On-Site Vehicles",null,"[t CO2/yr]",null,{"$f":"IF(OR(COUNTBLANK(G539:G541)=3,G539=\"SUM\"),\"\",SUM(G539:G541))","v":""},{"$f":"IF(OR(COUNTBLANK(H539:H541)=3,H539=\"SUM\"),\"\",SUM(H539:H541))","v":""},"","","","","","","","","","","","","","","","","","","","","","","","",{"$f":"IF(OR(COUNTBLANK(AG539:AG541)=3,AG539=\"SUM\"),\"\",SUM(AG539:AG541))","v":""},"","","","","","","","","",{"$f":"IF(OR(COUNTBLANK(AQ539:AQ541)=3,AQ539=\"SUM\"),\"\",SUM(AQ539:AQ541))","v":""},"","","","","","","","","","","","","","","","","","","","","","","",""]
[null,"331a",null,"diesel oil (incl. fossil CO2 of mixed diesel)","[t CO2/yr]",null,"SUM","SUM","SUM","SUM","SUM","SUM","SUM","SUM","SUM","SUM","SUM","SUM","SUM","SUM","SUM","SUM","SUM","SUM","SUM","SUM","SUM","SUM","SUM","SUM","SUM","SUM","SUM","SUM","SUM","SUM","SUM","SUM","SUM","SUM","SUM","SUM","SUM","SUM","SUM","SUM","SUM","SUM","SUM","SUM","SUM","SUM","SUM","SUM","SUM","SUM","SUM","SUM","SUM","SUM","SUM","SUM","SUM","SUM","SUM","SUM","SUM"]
[null,"331b",null,"gasoline","[t CO2/yr]",null,"SUM","SUM","SUM","SUM","SUM","SUM","SUM","SUM","SUM","SUM","SUM","SUM","SUM","SUM","SUM","SUM","SUM","SUM","SUM","SUM","SUM","SUM","SUM","SUM","SUM","SUM","SUM","SUM","SUM","SUM","SUM","SUM","SUM","SUM","SUM","SUM","SUM","SUM","SUM","SUM","SUM","SUM","SUM","SUM","SUM","SUM","SUM","SUM","SUM","SUM","SUM","SUM","SUM","SUM","SUM","SUM","SUM","SUM","SUM","SUM","SUM"]
[null,"331ba",null,"other fossil fuels","[t CO2/yr]",null,"SUM","SUM","SUM","SUM","SUM","SUM","SUM","SUM","SUM","SUM","SUM","SUM","SUM","SUM","SUM","SUM","SUM","SUM","SUM","SUM","SUM","SUM","SUM","SUM","SUM","SUM","SUM","SUM","SUM","SUM","SUM","SUM","SUM","SUM","SUM","SUM","SUM","SUM","SUM","SUM","SUM","SUM","SUM","SUM","SUM","SUM","SUM","SUM","SUM","SUM","SUM","SUM","SUM","SUM","SUM","SUM","SUM","SUM","SUM","SUM","SUM"]
[null,"331c","Equipment and On-Site Vehicles biomass fuels",null,"[t CO2/yr]",null,{"$f":"IF(G543=\"SUM\",\"\",G543)","v":""},{"$f":"IF(H543=\"SUM\",\"\",H543)","v":""},"","","","","","","","","","","","","","","","","","","","","","","","","","","","","","","","","","","","","","","","","","","","","","","","","","","","","","","","","","",""]
[null,"331d",null,"bio diesel (biogenic CO2 of bio or mixed diesel)","[t CO2/yr]",null,"SUM","SUM","SUM","SUM","SUM","SUM","SUM","SUM","SUM","SUM","SUM","SUM","SUM","SUM","SUM","SUM","SUM","SUM","SUM","SUM","SUM","SUM","SUM","SUM","SUM","SUM","SUM","SUM","SUM","SUM","SUM","SUM","SUM","SUM","SUM","SUM","SUM","SUM","SUM","SUM","SUM","SUM","SUM","SUM","SUM","SUM","SUM","SUM","SUM","SUM","SUM","SUM","SUM","SUM","SUM","SUM","SUM","SUM","SUM","SUM","SUM"]
[null,332,"Room Heating and Cooling",null,"[t CO2/yr]",null,{"$f":"IF(OR(COUNTBLANK(G545:G547)=3,G545=\"SUM\"),\"\",SUM(G545:G547))","v":""},{"$f":"IF(OR(COUNTBLANK(H545:H547)=3,H545=\"SUM\"),\"\",SUM(H545:H547))","v":""},"","","","","","","","","","","","","","","","","","","","","","","","",{"$f":"IF(OR(COUNTBLANK(AG545:AG547)=3,AG545=\"SUM\"),\"\",SUM(AG545:AG547))","v":""},"","","","","","","","","",{"$f":"IF(OR(COUNTBLANK(AQ545:AQ547)=3,AQ545=\"SUM\"),\"\",SUM(AQ545:AQ547))","v":""},"","","","","","","","","","","","","","","","","","","","","","","",""]
[null,"332a",null,"diesel oil","[t CO2/yr]",null,"SUM","SUM","SUM","SUM","SUM","SUM","SUM","SUM","SUM","SUM","SUM","SUM","SUM","SUM","SUM","SUM","SUM","SUM","SUM","SUM","SUM","SUM","SUM","SUM","SUM","SUM","SUM","SUM","SUM","SUM","SUM","SUM","SUM","SUM","SUM","SUM","SUM","SUM","SUM","SUM","SUM","SUM","SUM","SUM","SUM","SUM","SUM","SUM","SUM","SUM","SUM","SUM","SUM","SUM","SUM","SUM","SUM","SUM","SUM","SUM","SUM"]
[null,"332b",null,"natural gas","[t CO2/yr]",null,"SUM","SUM","SUM","SUM","SUM","SUM","SUM","SUM","SUM","SUM","SUM","SUM","SUM","SUM","SUM","SUM","SUM","SUM","SUM","SUM","SUM","SUM","SUM","SUM","SUM","SUM","SUM","SUM","SUM","SUM","SUM","SUM","SUM","SUM","SUM","SUM","SUM","SUM","SUM","SUM","SUM","SUM","SUM","SUM","SUM","SUM","SUM","SUM","SUM","SUM","SUM","SUM","SUM","SUM","SUM","SUM","SUM","SUM","SUM","SUM","SUM"]
[null,"332c",null,"other fossil fuels","[t CO2/yr]",null,"SUM","SUM","SUM","SUM","SUM","SUM","SUM","SUM","SUM","SUM","SUM","SUM","SUM","SUM","SUM","SUM","SUM","SUM","SUM","SUM","SUM","SUM","SUM","SUM","SUM","SUM","SUM","SUM","SUM","SUM","SUM","SUM","SUM","SUM","SUM","SUM","SUM","SUM","SUM","SUM","SUM","SUM","SUM","SUM","SUM","SUM","SUM","SUM","SUM","SUM","SUM","SUM","SUM","SUM","SUM","SUM","SUM","SUM","SUM","SUM","SUM"]
[null,333,"Drying of mineral components"]
[null,"333k","     Conventional fossil fuels",null,"[t CO2/yr]",null,{"$f":"IF(OR(COUNTBLANK(G550:G555)=6,G550=\"SUM\"),\"\",SUM(G550:G555))","v":""},{"$f":"IF(OR(COUNTBLANK(H550:H555)=6,H550=\"SUM\"),\"\",SUM(H550:H555))","v":""},"","","","","","","","","","","","","","","","","","","","","","","","",{"$f":"IF(OR(COUNTBLANK(AG550:AG555)=6,AG550=\"SUM\"),\"\",SUM(AG550:AG555))","v":""},"","","","","","","","","",{"$f":"IF(OR(COUNTBLANK(AQ550:AQ555)=6,AQ550=\"SUM\"),\"\",SUM(AQ550:AQ555))","v":""},"","","","","","","","","","","","","","","","","","","","","","","",""]
[null,"333a",null,"coal + anthracite + lignite","[t CO2/yr]",null,"SUM","SUM","SUM","SUM","SUM","SUM","SUM","SUM","SUM","SUM","SUM","SUM","SUM","SUM","SUM","SUM","SUM","SUM","SUM","SUM","SUM","SUM","SUM","SUM","SUM","SUM","SUM","SUM","SUM","SUM","SUM","SUM","SUM","SUM","SUM","SUM","SUM","SUM","SUM","SUM","SUM","SUM","SUM","SUM","SUM","SUM","SUM","SUM","SUM","SUM","SUM","SUM","SUM","SUM","SUM","SUM","SUM","SUM","SUM","SUM","SUM"]
[null,"333b",null,"petrol coke","[t CO2/yr]",null,"SUM","SUM","SUM","SUM","SUM","SUM","SUM","SUM","SUM","SUM","SUM","SUM","SUM","SUM","SUM","SUM","SUM","SUM","SUM","SUM","SUM","SUM","SUM","SUM","SUM","SUM","SUM","SUM","SUM","SUM","SUM","SUM","SUM","SUM","SUM","SUM","SUM","SUM","SUM","SUM","SUM","SUM","SUM","SUM","SUM","SUM","SUM","SUM","SUM","SUM","SUM","SUM","SUM","SUM","SUM","SUM","SUM","SUM","SUM","SUM","SUM"]
[null,"333c",null,"(ultra) heavy fuel","[t CO2/yr]",null,"SUM","SUM","SUM","SUM","SUM","SUM","SUM","SUM","SUM","SUM","SUM","SUM","SUM","SUM","SUM","SUM","SUM","SUM","SUM","SUM","SUM","SUM","SUM","SUM","SUM","SUM","SUM","SUM","SUM","SUM","SUM","SUM","SUM","SUM","SUM","SUM","SUM","SUM","SUM","SUM","SUM","SUM","SUM","SUM","SUM","SUM","SUM","SUM","SUM","SUM","SUM","SUM","SUM","SUM","SUM","SUM","SUM","SUM","SUM","SUM","SUM"]
[null,"333d",null,"diesel oil","[t CO2/yr]",null,"SUM","SUM","SUM","SUM","SUM","SUM","SUM","SUM","SUM","SUM","SUM","SUM","SUM","SUM","SUM","SUM","SUM","SUM","SUM","SUM","SUM","SUM","SUM","SUM","SUM","SUM","SUM","SUM","SUM","SUM","SUM","SUM","SUM","SUM","SUM","SUM","SUM","SUM","SUM","SUM","SUM","SUM","SUM","SUM","SUM","SUM","SUM","SUM","SUM","SUM","SUM","SUM","SUM","SUM","SUM","SUM","SUM","SUM","SUM","SUM","SUM"]
[null,"333e",null,"natural gas ","[t CO2/yr]",null,"SUM","SUM","SUM","SUM","SUM","SUM","SUM","SUM","SUM","SUM","SUM","SUM","SUM","SUM","SUM","SUM","SUM","SUM","SUM","SUM","SUM","SUM","SUM","SUM","SUM","SUM","SUM","SUM","SUM","SUM","SUM","SUM","SUM","SUM","SUM","SUM","SUM","SUM","SUM","SUM","SUM","SUM","SUM","SUM","SUM","SUM","SUM","SUM","SUM","SUM","SUM","SUM","SUM","SUM","SUM","SUM","SUM","SUM","SUM","SUM","SUM"]
[null,"333f",null,"shale","[t CO2/yr]",null,"SUM","SUM","SUM","SUM","SUM","SUM","SUM","SUM","SUM","SUM","SUM","SUM","SUM","SUM","SUM","SUM","SUM","SUM","SUM","SUM","SUM","SUM","SUM","SUM","SUM","SUM","SUM","SUM","SUM","SUM","SUM","SUM","SUM","SUM","SUM","SUM","SUM","SUM","SUM","SUM","SUM","SUM","SUM","SUM","SUM","SUM","SUM","SUM","SUM","SUM","SUM","SUM","SUM","SUM","SUM","SUM","SUM","SUM","SUM","SUM","SUM"]
[null,"333g","     Alternative fossil fuels - fossil total emissions",null,"[t CO2/yr]",null,{"$f":"IF(G557=\"SUM\",\"\",G557)","v":""},{"$f":"IF(H557=\"SUM\",\"\",H557)","v":""},"","","","","","","","","","","","","","","","","","","","","","","","","","","","","","","","","","","","","","","","","","","","","","","","","","","","","","","","","","",""]
[null,"333h",null,"other fossil based wastes / fossil content","[t CO2/yr]",null,"SUM","SUM","SUM","SUM","SUM","SUM","SUM","SUM","SUM","SUM","SUM","SUM","SUM","SUM","SUM","SUM","SUM","SUM","SUM","SUM","SUM","SUM","SUM","SUM","SUM","SUM","SUM","SUM","SUM","SUM","SUM","SUM","SUM","SUM","SUM","SUM","SUM","SUM","SUM","SUM","SUM","SUM","SUM","SUM","SUM","SUM","SUM","SUM","SUM","SUM","SUM","SUM","SUM","SUM","SUM","SUM","SUM","SUM","SUM","SUM","SUM"]
[null,"333i","     Alternative biomass fuels - biomass total emissions",null,"[t CO2/yr]",null,{"$f":"IF(G559=\"SUM\",\"\",G559)","v":""},{"$f":"IF(H559=\"SUM\",\"\",H559)","v":""},"","","","","","","","","","","","","","","","","","","","","","","","","","","","","","","","","","","","","","","","","","","","","","","","","","","","","","","","","","",""]
[null,"333j",null,"other biomass (incl. biomass content of mixed fuels)","[t CO2/yr]",null,"SUM","SUM","SUM","SUM","SUM","SUM","SUM","SUM","SUM","SUM","SUM","SUM","SUM","SUM","SUM","SUM","SUM","SUM","SUM","SUM","SUM","SUM","SUM","SUM","SUM","SUM","SUM","SUM","SUM","SUM","SUM","SUM","SUM","SUM","SUM","SUM","SUM","SUM","SUM","SUM","SUM","SUM","SUM","SUM","SUM","SUM","SUM","SUM","SUM","SUM","SUM","SUM","SUM","SUM","SUM","SUM","SUM","SUM","SUM","SUM","SUM"]
[null,334,"On-site power generation"]
[null,"334aa","     Conventional fossil fuels",null,"[t CO2/yr]",null,{"$f":"IF(OR(COUNTBLANK(G562:G567)=6,G562=\"SUM\"),\"\",SUM(G562:G567))","v":""},{"$f":"IF(OR(COUNTBLANK(H562:H567)=6,H562=\"SUM\"),\"\",SUM(H562:H567))","v":""},"","","","","","","","","","","","","","","","","","","","","","","","",{"$f":"IF(OR(COUNTBLANK(AG562:AG567)=6,AG562=\"SUM\"),\"\",SUM(AG562:AG567))","v":""},"","","","","","","","","",{"$f":"IF(OR(COUNTBLANK(AQ562:AQ567)=6,AQ562=\"SUM\"),\"\",SUM(AQ562:AQ567))","v":""},"","","","","","","","","","","","","","","","","","","","","","","",""]
[null,"334a",null,"coal + anthracite + lignite","[t CO2/yr]",null,"SUM","SUM","SUM","SUM","SUM","SUM","SUM","SUM","SUM","SUM","SUM","SUM","SUM","SUM","SUM","SUM","SUM","SUM","SUM","SUM","SUM","SUM","SUM","SUM","SUM","SUM","SUM","SUM","SUM","SUM","SUM","SUM","SUM","SUM","SUM","SUM","SUM","SUM","SUM","SUM","SUM","SUM","SUM","SUM","SUM","SUM","SUM","SUM","SUM","SUM","SUM","SUM","SUM","SUM","SUM","SUM","SUM","SUM","SUM","SUM","SUM"]
[null,"334b",null,"(ultra) heavy fuel","[t CO2/yr]",null,"SUM","SUM","SUM","SUM","SUM","SUM","SUM","SUM","SUM","SUM","SUM","SUM","SUM","SUM","SUM","SUM","SUM","SUM","SUM","SUM","SUM","SUM","SUM","SUM","SUM","SUM","SUM","SUM","SUM","SUM","SUM","SUM","SUM","SUM","SUM","SUM","SUM","SUM","SUM","SUM","SUM","SUM","SUM","SUM","SUM","SUM","SUM","SUM","SUM","SUM","SUM","SUM","SUM","SUM","SUM","SUM","SUM","SUM","SUM","SUM","SUM"]
[null,"334c",null,"diesel oil","[t CO2/yr]",null,"SUM","SUM","SUM","SUM","SUM","SUM","SUM","SUM","SUM","SUM","SUM","SUM","SUM","SUM","SUM","SUM","SUM","SUM","SUM","SUM","SUM","SUM","SUM","SUM","SUM","SUM","SUM","SUM","SUM","SUM","SUM","SUM","SUM","SUM","SUM","SUM","SUM","SUM","SUM","SUM","SUM","SUM","SUM","SUM","SUM","SUM","SUM","SUM","SUM","SUM","SUM","SUM","SUM","SUM","SUM","SUM","SUM","SUM","SUM","SUM","SUM"]
[null,"334d",null,"natural gas ","[t CO2/yr]",null,"SUM","SUM","SUM","SUM","SUM","SUM","SUM","SUM","SUM","SUM","SUM","SUM","SUM","SUM","SUM","SUM","SUM","SUM","SUM","SUM","SUM","SUM","SUM","SUM","SUM","SUM","SUM","SUM","SUM","SUM","SUM","SUM","SUM","SUM","SUM","SUM","SUM","SUM","SUM","SUM","SUM","SUM","SUM","SUM","SUM","SUM","SUM","SUM","SUM","SUM","SUM","SUM","SUM","SUM","SUM","SUM","SUM","SUM","SUM","SUM","SUM"]
[null,"334i",null,"petrol coke","[t CO2/yr]",null,"SUM","SUM","SUM","SUM","SUM","SUM","SUM","SUM","SUM","SUM","SUM","SUM","SUM","SUM","SUM","SUM","SUM","SUM","SUM","SUM","SUM","SUM","SUM","SUM","SUM","SUM","SUM","SUM","SUM","SUM","SUM","SUM","SUM","SUM","SUM","SUM","SUM","SUM","SUM","SUM","SUM","SUM","SUM","SUM","SUM","SUM","SUM","SUM","SUM","SUM","SUM","SUM","SUM","SUM","SUM","SUM","SUM","SUM","SUM","SUM","SUM"]
[null,"334j",null,"other fossil fuels","[t CO2/yr]",null,"SUM","SUM","SUM","SUM","SUM","SUM","SUM","SUM","SUM","SUM","SUM","SUM","SUM","SUM","SUM","SUM","SUM","SUM","SUM","SUM","SUM","SUM","SUM","SUM","SUM","SUM","SUM","SUM","SUM","SUM","SUM","SUM","SUM","SUM","SUM","SUM","SUM","SUM","SUM","SUM","SUM","SUM","SUM","SUM","SUM","SUM","SUM","SUM","SUM","SUM","SUM","SUM","SUM","SUM","SUM","SUM","SUM","SUM","SUM","SUM","SUM"]
[null,"334f","     Alternative fossil fuels - fossil total emissions",null,"[t CO2/yr]",null,{"$f":"IF(G569=\"SUM\",\"\",G569)","v":""},{"$f":"IF(H569=\"SUM\",\"\",H569)","v":""},"","","","","","","","","","","","","","","","","","","","","","","","","","","","","","","","","","","","","","","","","","","","","","","","","","","","","","","","","","",""]
[null,"334g",null,"other fossil based wastes / fossil content","[t CO2/yr]",null,"SUM","SUM","SUM","SUM","SUM","SUM","SUM","SUM","SUM","SUM","SUM","SUM","SUM","SUM","SUM","SUM","SUM","SUM","SUM","SUM","SUM","SUM","SUM","SUM","SUM","SUM","SUM","SUM","SUM","SUM","SUM","SUM","SUM","SUM","SUM","SUM","SUM","SUM","SUM","SUM","SUM","SUM","SUM","SUM","SUM","SUM","SUM","SUM","SUM","SUM","SUM","SUM","SUM","SUM","SUM","SUM","SUM","SUM","SUM","SUM","SUM"]
[null,"334h","     Alternative biomass fuels - biomass total emissions",null,"[t CO2/yr]",null,{"$f":"IF(G571=\"SUM\",\"\",G571)","v":""},{"$f":"IF(H571=\"SUM\",\"\",H571)","v":""},"","","","","","","","","","","","","","","","","","","","","","","","","","","","","","","","","","","","","","","","","","","","","","","","","","","","","","","","","","",""]
[null,"334e",null,"other biomass (incl. biomass content of mixed fuels)","[t CO2/yr]",null,"SUM","SUM","SUM","SUM","SUM","SUM","SUM","SUM","SUM","SUM","SUM","SUM","SUM","SUM","SUM","SUM","SUM","SUM","SUM","SUM","SUM","SUM","SUM","SUM","SUM","SUM","SUM","SUM","SUM","SUM","SUM","SUM","SUM","SUM","SUM","SUM","SUM","SUM","SUM","SUM","SUM","SUM","SUM","SUM","SUM","SUM","SUM","SUM","SUM","SUM","SUM","SUM","SUM","SUM","SUM","SUM","SUM","SUM","SUM","SUM","SUM"]
[]
[]
[]
[]
[]
[]
[]
[]
[]
[]
[]
[]
[]
[]
[]
[]
[]
[]
[]
[]
[]
[]
["yes"]
["no"]
["n.a."]
[]
[]
["0 < X < 500"]
["500 < X < 2000"]
["2000 < X < 5000"]
["5000 < X < 8000"]
["X > 8000"]
[]
[]
[]
["WHITE CEMENT"]
["GREY CEMENT"]
["GRINDING CENTER"]
["OTHER PLANT"]
["NOT IN USE"]
[]
["DRY WITHOUT PREHEATER(LONG DRY KILN)"]
["DRY WITH PREHEATER WITHOUT PRECALCINER"]
["DRY WITH PREHEATER AND PRECALCINER"]
["MIXED KILN TYPE"]
["SEMI WET/SEMI DRY"]
["SHAFT KILN"]
["N/A"]

{"sheet":"Validation","index":4,"n_rows":9,"n_cols":11,"rows_kept":9,"cut":false,"hidden":false,"merged":[[1,3,1,6],[3,0,4,0],[6,1,6,3]]}
[]
["1.)","Select year for validation:"]
[]
["2.)",null,"FAILED"]
[]
[]
["3.)"," -  If validation fails please read the sheet \"ControlPlant\".\n -  Make correction in the plant sheets.\n -  Start validation again."]
[]
[null,"Plant name","Validation","Plant type",2009,2010,2011,2012,2013,2014,2015]

{"sheet":"ControlPlant","index":5,"n_rows":2,"n_cols":8,"rows_kept":2,"cut":false,"hidden":false,"merged":[]}
["Plant Level"]
["Year","Tab Name","Line","Comment","Min","Value","Max","Note"]

{"sheet":"Fuel CO2 Factors","index":6,"n_rows":38,"n_cols":7,"rows_kept":38,"cut":false,"hidden":false,"merged":[[0,0,0,4]]}
["GCCA (Global Cement and Concret Association)\nCement CO2 and Energy Protocol, Version 3.1, CO2 Emissions and Energy Inventory. \nDeveloped by the WBCSD Cement Sustainability Initiative (CSI) and European Cement Research Academy (ECRA).",null,null,null,null,"Default CO2 Emission Factors for Fuels"]
[]
[null,"Date of latest update",null,null,{"$f":"Plant!E3","v":"2013-12-09"}]
[]
["Type","Category",null,"IPCC default \nkg CO2/GJ","CSI default\nkg CO2/GJ","CSI default\n% biomass","Comments"]
[null,"Fossil fuels"]
[1,null,"coal + anthracite + waste coal",96,null,null,"IPCC defaults are: 94.6 for coking coal and other bituminous coal, 96.1 for sub-bituminous coal, and 98.3 for anthracite"]
[{"$f":"A7+1","v":2},null,"petrol coke",null,92.8,null,"Based on measurements compiled by CSI Task Force 1. See Guidance Document, Appendix 4 for details."]
[{"$f":"A8+1","v":3},null,"(ultra) heavy fuel",77.400000000000006,null,null,"IPCC default for residual fuel oil"]
[{"$f":"A9+1","v":4},null,"diesel oil",74.099999999999994]
[{"$f":"A10+1","v":5},null,"natural gas (dry)",56.1]
[{"$f":"A11+1","v":6},null,"oil shale",107]
["6a",null,"lignite",101]
[{"$f":"A12+1","v":7},null,"gasoline",69.3]
[null,"Alternative fossil fuels"]
[8,null,"waste oil",null,74,null,"Based on measurements compiled by CSI Task Force 1. See Guidance Document, Appendix 4 for details."]
[{"$f":"A16+1","v":9},null,"tyres ",null,85,0.27,"Best estimate of CSI Task Force 1"]
[{"$f":"A17+1","v":10},null,"plastics",null,75,null,"Best estimate of CSI Task Force 1"]
[{"$f":"A18+1","v":11},null,"solvents",null,74,null,"Based on measurements compiled by CSI Task Force 1. See Guidance Document, Appendix 4 for details."]
[{"$f":"A19+1","v":12},null,"impregnated saw dust",null,75,null,"Best estimate of CSI Task Force 1"]
["12a",null,"mixed industrial waste",null,83,null,"Best estimate of CSI Task Force 1"]
[13,null,"other fossil based wastes",null,80,null,"Best estimate of CSI Task Force 1"]
[null,"Biomass fuels"]
[14,null,"dried sewage sludge",null,110,null,"= IPCC default for solid biomass fuels"]
[{"$f":"A24+1","v":15},null,"wood, non impregnated saw dust",null,110,null,"= IPCC default for solid biomass fuels"]
[16,null,"paper, carton",null,110,null,"= IPCC default for solid biomass fuels"]
[17,null,"animal meal",null,89,null,"Based on measurements compiled by CSI Task Force 1. See Guidance Document, Appendix 4 for details."]
[18,null,"animal bone meal",null,89,null,"Best estimate of CSI Task Force 1"]
[19,null,"animal fat",null,89,null,"Best estimate of CSI Task Force 1"]
[20,null,"agricultural, organic, diaper waste, charcoal",null,110,null,"= IPCC default for solid biomass fuels"]
[21,null,"other biomass",null,110,null,"= IPCC default for solid biomass fuels"]
[]
[]
["IPCC 2006, 2006 IPCC Guidelines for National Greenhouse Gas Inventories, Prepared by the National Greenhouse Gas Inventories Programme, Published: IGES, Japan. "]
["http://www.ipcc-nggip.iges.or.jp"]
["Vol. II, Section 1.4.2.1, Table 1.4, Section 2.3.2.1., Table 2.3"]
[]
["Some fuels have been clustered for simplicity."]

{"sheet":"Plant_new","index":7,"n_rows":571,"n_cols":67,"rows_kept":571,"cut":false,"hidden":true,"merged":[[179,1,179,5],[182,1,182,5],[188,1,188,5],[194,1,194,5],[0,0,0,3],[0,4,0,15],[31,2,31,3],[32,4,32,5],[35,2,35,3],[171,1,171,5]]}
["GCCA (Global Cement and Concret Association)\nCement CO2 and Energy Protocol, Version 3.1, CO2 Emissions and Energy Inventory. \nDeveloped by the WBCSD Cement Sustainability Initiative (CSI) and European Cement Research Academy (ECRA).",null,null,null,"Plant Level"]
[]
[null,"Date of latest update",null,null,{"$f":"'Read Me'!B4","v":"2013-12-09"}]
[]
["INFORMATION"]
[]
[null,"General Plant Information",null,null,null,null,1990,1991,1992,1993,1994,1995,1996,1997,1998,1999,2000,2001,2002,2003,2004,2005,2006,2007,2008,2009,2010,2011,2012,2013,2014,2015,2016,2017,2018,2019,2020,2021,2022,2023,2024,2025,2026,2027,2028,2029,2030,2031,2032,2033,2034,2035,2036,2037,2038,2039,2040,2041,2042,2043,2044,2045,2046,2047,2048,2049,2050]
[null,1,"Plant"]
[null,2,"Company"]
[null,3,"Country"]
[null,4,"Continent"]
[null,5,"\"Kyoto\" Region (Annex 1 or non-Annex 1)"]
[null,6,"Kiln types"]
[null,"6a","Nominal clinker capacity",null,"[t/d]"]
[null,"6b","Plant type"]
[null,7,"Shares owned by Company",null,"[%]"]
[null,"7aa","Third party verification"]
[null,"7ab","Used Cement CO2 and Energy Protocol version ",null,null,null,"V3.1","V3.1","V3.1","V3.1","V3.1","V3.1","V3.1","V3.1","V3.1","V3.1","V3.1","V3.1","V3.1","V3.1","V3.1","V3.1","V3.1","V3.1","V3.1","V3.1","V3.1","V3.1","V3.1","V3.1","V3.1","V3.1","V3.1","V3.1","V3.1","V3.1","V3.1","V3.1","V3.1","V3.1","V3.1","V3.1","V3.1","V3.1","V3.1","V3.1","V3.1","V3.1","V3.1","V3.1","V3.1","V3.1","V3.1","V3.1","V3.1","V3.1","V3.1","V3.1","V3.1","V3.1","V3.1","V3.1","V3.1","V3.1","V3.1","V3.1","V3.1"]
[null,"7ac","Short notes or user comment (max. 250 characters)",null,null,null,"Recalculation with protocol V3 (GNR data until 2010 according to V2)","Recalculation with protocol V3 (GNR data until 2010 according to V2)",null,null,null,null,null,null,null,null,"Recalculation with protocol V3 (GNR data until 2010 according to V2)",null,null,null,null,"Recalculation with protocol V3 (GNR data until 2010 according to V2)","Recalculation with protocol V3 (GNR data until 2010 according to V2)","Recalculation with protocol V3 (GNR data until 2010 according to V2)","Recalculation with protocol V3 (GNR data until 2010 according to V2)","Recalculation with protocol V3 (GNR data until 2010 according to V2)","Recalculation with protocol V3 (GNR data until 2010 according to V2)"]
[null,null,null,null,null,null,"."]
[null,"Inventory Boundaries: Coverage of Main Process Steps",null,null,"[yes, no or n.a.]",null,{"$f":"G$7","v":1990},1991,1992,1993,1994,1995,1996,1997,1998,1999,2000,2001,2002,2003,2004,2005,2006,2007,2008,2009,2010,2011,2012,2013,2014,2015,2016,2017,2018,2019,2020,2021,2022,2023,2024,2025,2026,2027,2028,2029,2030,2031,2032,2033,2034,2035,2036,2037,2038,2039,2040,2041,2042,2043,2044,2045,2046,2047,2048,2049,2050]
[null,"7a","Raw material supply (quarrying, mining, crushing)",null,"no"]
[null,"7b","Preparation of raw materials, fuels and additives",null,"no"]
[null,"7c","Kiln operation (pyro-processing)",null,"no"]
[null,"7d","Cement grinding, blending",null,"no"]
[null,"7e","On-site (internal) transport",null,"no"]
[null,"7f","Off-site transport with company-owned fleets",null,"no"]
[null,"7g","On-site power generation",null,"no"]
[null,"7h","Room heating and cooling",null,"no"]
[null,"7i","(add other processes as appropriate)",null,"no"]
[null,"7j","use of internal cement transfer for blending",null,"no"]
[null,"7k","Select year to copy and apply inventory boundaries (7a - 7j) "]
[]
[null,"7n","1.) Select calcination CO2 method (A1; A2; B1; B2)  B1=Standard (no seperate calcination sheet needed).",null,null,null,"B1","B1","B1","B1","B1","B1","B1","B1","B1","B1","B1","B1","B1","B1","B1","B1","B1","B1","B1","B1","B1","B1","B1","B1","B1","B1","B1","B1","B1","B1","B1","B1","B1","B1","B1","B1","B1","B1","B1","B1","B1","B1","B1","B1","B1","B1","B1","B1","B1","B1","B1","B1","B1","B1","B1","B1","B1","B1","B1","B1","B1"]
[null,null,"2.) For A1; A2; B2 check if appropriate calcination sheet (CalcA1; CalcA2 or CalcB2) is already availabe next to plant sheet."]
[null,null,"3.) If not, press the 'create' button one time in order to create one new calcination sheet."]
[]
[null,"Clinker and Cement Production",null,null,null,null,{"$f":"G$7","v":1990},1991,1992,1993,1994,1995,1996,1997,1998,1999,2000,2001,2002,2003,2004,2005,2006,2007,2008,2009,2010,2011,2012,2013,2014,2015,2016,2017,2018,2019,2020,2021,2022,2023,2024,2025,2026,2027,2028,2029,2030,2031,2032,2033,2034,2035,2036,2037,2038,2039,2040,2041,2042,2043,2044,2045,2046,2047,2048,2049,2050]
[null,null,"Clinker:"]
[null,{"$f":"B16+1","v":8},"Clinker production",null,"[t/yr]"]
[null,{"$f":"B40+1","v":9},"Clinker bought from other companies and from cross-border transfer",null,"[t/yr]"]
[null,{"$f":"B41+1","v":10},"Clinker sold to other companies and from cross-border transfer",null,"[t/yr]"]
[null,"10a","Change in clinker stocks (+ = increase; - = reduction)",null,"[t/yr]"]
[null,"10b","Internal clinker transfer (+ = clinker received; - = clinker sent)",null,"[t/yr]"]
[null,"10c","Clinker from internal transfer of processed cement (+ = cement received; - = cement sent)",null,"[t/yr]"]
[null,{"$f":"B42+1","v":11},"Total clinker consumed",null,"[t/yr]",null,{"$f":"IF(COUNTBLANK(G40:G45)=6,\"\",G40+G41-G42-G43+G44+G45)","v":""},{"$f":"IF(COUNTBLANK(H40:H45)=6,\"\",H40+H41-H42-H43+H44+H45)","v":""},"","","","","","","","","","","","","","","","","","","","","","","","","","","","","",{"$f":"IF(COUNTBLANK(AL40:AL45)=6,\"\",AL40+AL41-AL42-AL43+AL44+AL45)","v":""},{"$f":"IF(COUNTBLANK(AM40:AM45)=6,\"\",AM40+AM41-AM42-AM43+AM44+AM45)","v":""},{"$f":"IF(COUNTBLANK(AN40:AN45)=6,\"\",AN40+AN41-AN42-AN43+AN44+AN45)","v":""},{"$f":"IF(COUNTBLANK(AO40:AO45)=6,\"\",AO40+AO41-AO42-AO43+AO44+AO45)","v":""},{"$f":"IF(COUNTBLANK(AP40:AP45)=6,\"\",AP40+AP41-AP42-AP43+AP44+AP45)","v":""},{"$f":"IF(COUNTBLANK(AQ40:AQ45)=6,\"\",AQ40+AQ41-AQ42-AQ43+AQ44+AQ45)","v":""},"","","","","","","","","","","","","","","","","","","","","","","",""]
[]
[null,null,"Mineral components (MIC) used to produce Portland and blended cements:"]
[null,{"$f":"B46+1","v":12},"Gypsum",null,"[t/yr, dry weight]"]
[null,{"$f":"B49+1","v":13},"Limestone",null,"[t/yr, dry weight]"]
[null,{"$f":"B50+1","v":14},"Slag",null,"[t/yr, dry weight]"]
[null,{"$f":"B51+1","v":15},"Fly ash (for blending)",null,"[t/yr, dry weight]"]
[null,{"$f":"B52+1","v":16},"Puzzolana",null,"[t/yr, dry weight]"]
[null,{"$f":"B53+1","v":17},"Others (e.g., CKD added to cement mill)",null,"[t/yr, dry weight]"]
[null,"17a","MIC from internal transfer of processed cement (+ = cement received; - = cement sent)",null,"[t/yr, dry weight]"]
[null,{"$f":"B54+1","v":18},"Total MIC consumed for Portland and blended cements (dry weight)",null,"[t/yr, dry weight]",null,{"$f":"IF(COUNTBLANK(G49:G55)=7,\"\",SUM(G49:G55))","v":""},{"$f":"IF(COUNTBLANK(H49:H55)=7,\"\",SUM(H49:H55))","v":""},"","","","","","","","","","","","","","","","","","","","","","","","","","","","","",{"$f":"IF(COUNTBLANK(AL49:AL55)=7,\"\",SUM(AL49:AL55))","v":""},{"$f":"IF(COUNTBLANK(AM49:AM55)=7,\"\",SUM(AM49:AM55))","v":""},{"$f":"IF(COUNTBLANK(AN49:AN55)=7,\"\",SUM(AN49:AN55))","v":""},{"$f":"IF(COUNTBLANK(AO49:AO55)=7,\"\",SUM(AO49:AO55))","v":""},{"$f":"IF(COUNTBLANK(AP49:AP55)=7,\"\",SUM(AP49:AP55))","v":""},{"$f":"IF(COUNTBLANK(AQ49:AQ55)=7,\"\",SUM(AQ49:AQ55))","v":""},"","","","","","","","","","","","","","","","","","","","","","","",""]
[]
[null,null,"Processed mineral components (MIC) sold externally or transferred internally (dry weight):"]
[null,"19a","Processed slag sold externally",null,"[t/yr, dry weight]"]
[null,"19b","Processed fly ash and other puzzolana sold externally",null,"[t/yr, dry weight]"]
[null,"19c","Total internal processed MIC transfer (+ = received; - = sent)",null,"[t/yr, dry weight]"]
[null,19,"Total processed MIC's used as clinker or cement substitute sold externally",null,"[t/yr, dry weight]",null,{"$f":"IF(COUNTBLANK(G59:G61)=3,\"\",SUM(G59:G61))","v":""},{"$f":"IF(COUNTBLANK(H59:H61)=3,\"\",SUM(H59:H61))","v":""},"","","","","","","","","","","","","","","","","","","","","","","","","","","","","",{"$f":"IF(COUNTBLANK(AL59:AL61)=3,\"\",SUM(AL59:AL61))","v":""},{"$f":"IF(COUNTBLANK(AM59:AM61)=3,\"\",SUM(AM59:AM61))","v":""},{"$f":"IF(COUNTBLANK(AN59:AN61)=3,\"\",SUM(AN59:AN61))","v":""},{"$f":"IF(COUNTBLANK(AO59:AO61)=3,\"\",SUM(AO59:AO61))","v":""},{"$f":"IF(COUNTBLANK(AP59:AP61)=3,\"\",SUM(AP59:AP61))","v":""},{"$f":"IF(COUNTBLANK(AQ59:AQ61)=3,\"\",SUM(AQ59:AQ61))","v":""},"","","","","","","","","","","","","","","","","","","","","","","",""]
[]
[null,null,"Production totals:"]
[null,{"$f":"B62+1","v":20},"Total Portland and Blended cements ",null,"[t/yr]",null,{"$f":"IF(OR(G46=\"\",G56=\"\"),\"\",G46+G56)","v":""},{"$f":"IF(OR(H46=\"\",H56=\"\"),\"\",H46+H56)","v":""},"","","","","","","","","","","","","","","","","","","","","","","","","","","","","",{"$f":"IF(OR(AL46=\"\",AL56=\"\"),\"\",AL46+AL56)","v":""},{"$f":"IF(OR(AM46=\"\",AM56=\"\"),\"\",AM46+AM56)","v":""},{"$f":"IF(OR(AN46=\"\",AN56=\"\"),\"\",AN46+AN56)","v":""},{"$f":"IF(OR(AO46=\"\",AO56=\"\"),\"\",AO46+AO56)","v":""},{"$f":"IF(OR(AP46=\"\",AP56=\"\"),\"\",AP46+AP56)","v":""},{"$f":"IF(OR(AQ46=\"\",AQ56=\"\"),\"\",AQ46+AQ56)","v":""},"","","","","","","","","","","","","","","","","","","","","","","",""]
[null,{"$f":"B65+1","v":21},"Total cements + substitutes: Portland, Blended, Slag, etc.",null,"[t/yr]",null,{"$f":"IF(OR(G46=\"\",G56=\"\",G62=\"\"),\"\",G46+G56+G62)","v":""},"","","","","","","","","","","","","","","","","","","","","","","","","","","","","","",{"$f":"IF(OR(AL46=\"\",AL56=\"\",AL62=\"\"),\"\",AL46+AL56+AL62)","v":""},{"$f":"IF(OR(AM46=\"\",AM56=\"\",AM62=\"\"),\"\",AM46+AM56+AM62)","v":""},{"$f":"IF(OR(AN46=\"\",AN56=\"\",AN62=\"\"),\"\",AN46+AN56+AN62)","v":""},{"$f":"IF(OR(AO46=\"\",AO56=\"\",AO62=\"\"),\"\",AO46+AO56+AO62)","v":""},{"$f":"IF(OR(AP46=\"\",AP56=\"\",AP62=\"\"),\"\",AP46+AP56+AP62)","v":""},{"$f":"IF(OR(AQ46=\"\",AQ56=\"\",AQ62=\"\"),\"\",AQ46+AQ56+AQ62)","v":""},"","","","","","","","","","","","","","","","","","","","","","","",""]
[null,"21a","Total cementitious products",null,"[t/yr]",null,{"$f":"IF(OR(G40=\"\",G56=\"\",G62=\"\"),\"\",G40+G56+G62)","v":""},"","","","","","","","","","","","","","","","","","","","","","","","","","","","","","",{"$f":"IF(OR(AL40=\"\",AL56=\"\",AL62=\"\"),\"\",AL40+AL56+AL62)","v":""},{"$f":"IF(OR(AM40=\"\",AM56=\"\",AM62=\"\"),\"\",AM40+AM56+AM62)","v":""},{"$f":"IF(OR(AN40=\"\",AN56=\"\",AN62=\"\"),\"\",AN40+AN56+AN62)","v":""},{"$f":"IF(OR(AO40=\"\",AO56=\"\",AO62=\"\"),\"\",AO40+AO56+AO62)","v":""},{"$f":"IF(OR(AP40=\"\",AP56=\"\",AP62=\"\"),\"\",AP40+AP56+AP62)","v":""},{"$f":"IF(OR(AQ40=\"\",AQ56=\"\",AQ62=\"\"),\"\",AQ40+AQ56+AQ62)","v":""},"","","","","","","","","","","","","","","","","","","","","","","",""]
[null,"21b","Total cement equivalent",null,"[t/yr]",null,{"$f":"IF(OR(G40=\"\",G40=0,G209=\"n. appl.\"),\"n. appl.\",G40/G209)","v":"n. appl."},{"$f":"IF(OR(H40=\"\",H40=0,H209=\"n. appl.\"),\"n. appl.\",H40/H209)","v":"n. appl."},"n. appl.","n. appl.","n. appl.","n. appl.","n. appl.","n. appl.","n. appl.","n. appl.","n. appl.","n. appl.","n. appl.","n. appl.","n. appl.","n. appl.","n. appl.","n. appl.","n. appl.","n. appl.","n. appl.","n. appl.","n. appl.","n. appl.","n. appl.","n. appl.","n. appl.","n. appl.","n. appl.","n. appl.","n. appl.","n. appl.","n. appl.","n. appl.","n. appl.","n. appl.","n. appl.","n. appl.","n. appl.","n. appl.","n. appl.","n. appl.","n. appl.","n. appl.","n. appl.","n. appl.","n. appl.","n. appl.","n. appl.","n. appl.","n. appl.","n. appl.","n. appl.","n. appl.","n. appl.","n. appl.","n. appl.","n. appl.","n. appl.","n. appl.","n. appl."]
[]
[null,"Dust Production (dry weight)",null,null,null,null,{"$f":"G$7","v":1990},1991,1992,1993,1994,1995,1996,1997,1998,1999,2000,2001,2002,2003,2004,2005,2006,2007,2008,2009,2010,2011,2012,2013,2014,2015,2016,2017,2018,2019,2020,2021,2022,2023,2024,2025,2026,2027,2028,2029,2030,2031,2032,2033,2034,2035,2036,2037,2038,2039,2040,2041,2042,2043,2044,2045,2046,2047,2048,2049,2050]
[null,22,"Bypass dust leaving kiln system",null,"[t/yr, dry weight]",null,0,0,0,0,0,0,0,0,0,0,0,0,0,0,0,0,0,0,0,0,0,0,0,0,0,0,0,0,0,0,0,0,0,0,0,0,0,0,0,0,0,0,0,0,0,0,0,0,0,0,0,0,0,0,0,0,0,0,0,0,0]
[null,{"$f":"B71+1","v":23},"CKD leaving the kiln system",null,"[t/yr, dry weight]",null,0,0,0,0,0,0,0,0,0,0,0,0,0,0,0,0,0,0,0,0,0,0,0,0,0,0,0,0,0,0,0,0,0,0,0,0,0,0,0,0,0,0,0,0,0,0,0,0,0,0,0,0,0,0,0,0,0,0,0,0,0]
[null,{"$f":"B72+1","v":24},"CKD calcination rate d (Plant specific value or default 0%= dry kilns, 100%= for other kiln types)",null,"[%]",null,0,0,0,0,0,0,0,0,0,0,0,0,0,0,0,0,0,0,0,0,0,0,0,0,0,0,0,0,0,0,0,0,0,0,0,0,0,0,0,0,0,0,0,0,0,0,0,0,0,0,0,0,0,0,0,0,0,0,0,0,0]
[]
[null,"Kiln Fuel Consumption incl. raw material and fuel drying",null,null,null,null,{"$f":"G$7","v":1990},1991,1992,1993,1994,1995,1996,1997,1998,1999,2000,2001,2002,2003,2004,2005,2006,2007,2008,2009,2010,2011,2012,2013,2014,2015,2016,2017,2018,2019,2020,2021,2022,2023,2024,2025,2026,2027,2028,2029,2030,2031,2032,2033,2034,2035,2036,2037,2038,2039,2040,2041,2042,2043,2044,2045,2046,2047,2048,2049,2050]
[null,25,"Total heat consumption of kilns",null,"[TJ/yr]",null,{"$f":"IF(COUNTBLANK(G78:G80)=3,\"\",SUM(G78:G80))","v":0},{"$f":"IF(COUNTBLANK(H78:H80)=3,\"\",SUM(H78:H80))","v":0},0,0,0,0,0,0,0,0,0,0,0,0,0,0,0,0,0,0,0,0,0,0,0,0,0,0,0,0,0,{"$f":"IF(COUNTBLANK(AL78:AL80)=3,\"\",SUM(AL78:AL80))","v":0},{"$f":"IF(COUNTBLANK(AM78:AM80)=3,\"\",SUM(AM78:AM80))","v":0},{"$f":"IF(COUNTBLANK(AN78:AN80)=3,\"\",SUM(AN78:AN80))","v":0},{"$f":"IF(COUNTBLANK(AO78:AO80)=3,\"\",SUM(AO78:AO80))","v":0},{"$f":"IF(COUNTBLANK(AP78:AP80)=3,\"\",SUM(AP78:AP80))","v":0},{"$f":"IF(COUNTBLANK(AQ78:AQ80)=3,\"\",SUM(AQ78:AQ80))","v":0},0,0,0,0,0,0,0,0,0,0,0,0,0,0,0,0,0,0,0,0,0,0,0,0]
[null,"25a","Total heat consumption of kilns excluding drying of fuels and raw materials",null,"[TJ/yr]",null,{"$f":"IF(OR(G76=\"\",G335=\"\",G342=\"\",G344=\"\"),\"\",G76-G335-G342-G344)","v":0},{"$f":"IF(OR(H76=\"\",H335=\"\",H342=\"\",H344=\"\"),\"\",H76-H335-H342-H344)","v":0},0,0,0,0,0,0,0,0,0,0,0,0,0,0,0,0,0,0,0,0,0,0,0,0,0,0,0,0,0,{"$f":"IF(OR(AL76=\"\",AL335=\"\",AL342=\"\",AL344=\"\"),\"\",AL76-AL335-AL342-AL344)","v":0},{"$f":"IF(OR(AM76=\"\",AM335=\"\",AM342=\"\",AM344=\"\"),\"\",AM76-AM335-AM342-AM344)","v":0},{"$f":"IF(OR(AN76=\"\",AN335=\"\",AN342=\"\",AN344=\"\"),\"\",AN76-AN335-AN342-AN344)","v":0},{"$f":"IF(OR(AO76=\"\",AO335=\"\",AO342=\"\",AO344=\"\"),\"\",AO76-AO335-AO342-AO344)","v":0},{"$f":"IF(OR(AP76=\"\",AP335=\"\",AP342=\"\",AP344=\"\"),\"\",AP76-AP335-AP342-AP344)","v":0},{"$f":"IF(OR(AQ76=\"\",AQ335=\"\",AQ342=\"\",AQ344=\"\"),\"\",AQ76-AQ335-AQ342-AQ344)","v":0},0,0,0,0,0,0,0,0,0,0,0,0,0,0,0,0,0,0,0,0,0,0,0,0]
[null,{"$f":"B76+1","v":26},"Conventional fossil fuels",null,"[TJ/yr]",null,{"$f":"IF(OR(G308=\"\",G335=\"\"),\"\",G308+G335)","v":0},{"$f":"IF(OR(H308=\"\",H335=\"\"),\"\",H308+H335)","v":0},0,0,0,0,0,0,0,0,0,0,0,0,0,0,0,0,0,0,0,0,0,0,0,0,0,0,0,0,0,{"$f":"IF(OR(AL308=\"\",AL335=\"\"),\"\",AL308+AL335)","v":0},{"$f":"IF(OR(AM308=\"\",AM335=\"\"),\"\",AM308+AM335)","v":0},{"$f":"IF(OR(AN308=\"\",AN335=\"\"),\"\",AN308+AN335)","v":0},{"$f":"IF(OR(AO308=\"\",AO335=\"\"),\"\",AO308+AO335)","v":0},{"$f":"IF(OR(AP308=\"\",AP335=\"\"),\"\",AP308+AP335)","v":0},{"$f":"IF(OR(AQ308=\"\",AQ335=\"\"),\"\",AQ308+AQ335)","v":0},0,0,0,0,0,0,0,0,0,0,0,0,0,0,0,0,0,0,0,0,0,0,0,0]
[null,{"$f":"B78+1","v":27},"Alternative fuels, fossil content; excluding biomass fraction of mixed fuels",null,"[TJ/yr]",null,{"$f":"IF(OR(G316=\"\",G342=\"\"),\"\",G316+G342)","v":0},{"$f":"IF(OR(H316=\"\",H342=\"\"),\"\",H316+H342)","v":0},0,0,0,0,0,0,0,0,0,0,0,0,0,0,0,0,0,0,0,0,0,0,0,0,0,0,0,0,0,{"$f":"IF(OR(AL316=\"\",AL342=\"\"),\"\",AL316+AL342)","v":0},{"$f":"IF(OR(AM316=\"\",AM342=\"\"),\"\",AM316+AM342)","v":0},{"$f":"IF(OR(AN316=\"\",AN342=\"\"),\"\",AN316+AN342)","v":0},{"$f":"IF(OR(AO316=\"\",AO342=\"\"),\"\",AO316+AO342)","v":0},{"$f":"IF(OR(AP316=\"\",AP342=\"\"),\"\",AP316+AP342)","v":0},{"$f":"IF(OR(AQ316=\"\",AQ342=\"\"),\"\",AQ316+AQ342)","v":0},0,0,0,0,0,0,0,0,0,0,0,0,0,0,0,0,0,0,0,0,0,0,0,0]
[null,{"$f":"B79+1","v":28},"Biomass fuels, incl. biomass content of alternative fuels",null,"[TJ/yr]",null,{"$f":"IF(OR(G324=\"\",G344=\"\"),\"\",G324+G344)","v":0},{"$f":"IF(OR(H324=\"\",H344=\"\"),\"\",H324+H344)","v":0},0,0,0,0,0,0,0,0,0,0,0,0,0,0,0,0,0,0,0,0,0,0,0,0,0,0,0,0,0,{"$f":"IF(OR(AL324=\"\",AL344=\"\"),\"\",AL324+AL344)","v":0},{"$f":"IF(OR(AM324=\"\",AM344=\"\"),\"\",AM324+AM344)","v":0},{"$f":"IF(OR(AN324=\"\",AN344=\"\"),\"\",AN324+AN344)","v":0},{"$f":"IF(OR(AO324=\"\",AO344=\"\"),\"\",AO324+AO344)","v":0},{"$f":"IF(OR(AP324=\"\",AP344=\"\"),\"\",AP324+AP344)","v":0},{"$f":"IF(OR(AQ324=\"\",AQ344=\"\"),\"\",AQ324+AQ344)","v":0},0,0,0,0,0,0,0,0,0,0,0,0,0,0,0,0,0,0,0,0,0,0,0,0]
[]
[null,"Non-Kiln Fuel Consumption",null,null,null,null,{"$f":"G$7","v":1990},1991,1992,1993,1994,1995,1996,1997,1998,1999,2000,2001,2002,2003,2004,2005,2006,2007,2008,2009,2010,2011,2012,2013,2014,2015,2016,2017,2018,2019,2020,2021,2022,2023,2024,2025,2026,2027,2028,2029,2030,2031,2032,2033,2034,2035,2036,2037,2038,2039,2040,2041,2042,2043,2044,2045,2046,2047,2048,2049,2050]
[null,30,"Equipment and on-site vehicles",null,"[TJ/yr]",null,{"$f":"G502+G506","v":0},{"$f":"H502+H506","v":0},0,0,0,0,0,0,0,0,0,0,0,0,0,0,0,0,0,0,0,0,0,0,0,0,0,0,0,0,0,{"$f":"AL502+AL506","v":0},{"$f":"AM502+AM506","v":0},{"$f":"AN502+AN506","v":0},{"$f":"AO502+AO506","v":0},{"$f":"AP502+AP506","v":0},{"$f":"AQ502+AQ506","v":0},0,0,0,0,0,0,0,0,0,0,0,0,0,0,0,0,0,0,0,0,0,0,0,0]
[null,"31a","Room heating and cooling",null,"[TJ/yr]",null,{"$f":"G508","v":0},{"$f":"H508","v":0},0,0,0,0,0,0,0,0,0,0,0,0,0,0,0,0,0,0,0,0,0,0,0,0,0,0,0,0,0,{"$f":"AL508","v":0},{"$f":"AM508","v":0},{"$f":"AN508","v":0},{"$f":"AO508","v":0},{"$f":"AP508","v":0},{"$f":"AQ508","v":0},0,0,0,0,0,0,0,0,0,0,0,0,0,0,0,0,0,0,0,0,0,0,0,0]
[null,"31b","Drying of mineral components",null,"[TJ/yr]",null,{"$f":"IF(OR(G513=\"\",G520=\"\",G522=\"\"),\"\",G513+G520+G522)","v":0},{"$f":"IF(OR(H513=\"\",H520=\"\",H522=\"\"),\"\",H513+H520+H522)","v":0},0,0,0,0,0,0,0,0,0,0,0,0,0,0,0,0,0,0,0,0,0,0,0,0,0,0,0,0,0,{"$f":"IF(OR(AL513=\"\",AL520=\"\",AL522=\"\"),\"\",AL513+AL520+AL522)","v":0},{"$f":"IF(OR(AM513=\"\",AM520=\"\",AM522=\"\"),\"\",AM513+AM520+AM522)","v":0},{"$f":"IF(OR(AN513=\"\",AN520=\"\",AN522=\"\"),\"\",AN513+AN520+AN522)","v":0},{"$f":"IF(OR(AO513=\"\",AO520=\"\",AO522=\"\"),\"\",AO513+AO520+AO522)","v":0},{"$f":"IF(OR(AP513=\"\",AP520=\"\",AP522=\"\"),\"\",AP513+AP520+AP522)","v":0},{"$f":"IF(OR(AQ513=\"\",AQ520=\"\",AQ522=\"\"),\"\",AQ513+AQ520+AQ522)","v":0},0,0,0,0,0,0,0,0,0,0,0,0,0,0,0,0,0,0,0,0,0,0,0,0]
[null,"31c","On-site power generation",null,"[TJ/yr]",null,{"$f":"IF(OR(G525=\"\",G532=\"\",G534=\"\"),\"\",G525+G532+G534)","v":0},{"$f":"IF(OR(H525=\"\",H532=\"\",H534=\"\"),\"\",H525+H532+H534)","v":0},0,0,0,0,0,0,0,0,0,0,0,0,0,0,0,0,0,0,0,0,0,0,0,0,0,0,0,0,0,{"$f":"IF(OR(AL525=\"\",AL532=\"\",AL534=\"\"),\"\",AL525+AL532+AL534)","v":0},{"$f":"IF(OR(AM525=\"\",AM532=\"\",AM534=\"\"),\"\",AM525+AM532+AM534)","v":0},{"$f":"IF(OR(AN525=\"\",AN532=\"\",AN534=\"\"),\"\",AN525+AN532+AN534)","v":0},{"$f":"IF(OR(AO525=\"\",AO532=\"\",AO534=\"\"),\"\",AO525+AO532+AO534)","v":0},{"$f":"IF(OR(AP525=\"\",AP532=\"\",AP534=\"\"),\"\",AP525+AP532+AP534)","v":0},{"$f":"IF(OR(AQ525=\"\",AQ532=\"\",AQ534=\"\"),\"\",AQ525+AQ532+AQ534)","v":0},0,0,0,0,0,0,0,0,0,0,0,0,0,0,0,0,0,0,0,0,0,0,0,0]
[null,32,"Total non-kiln fuel consumption",null,"[TJ/yr]",null,{"$f":"IF(COUNTBLANK(G83:G86)=4,\"\",SUM(G83:G86))","v":0},0,0,0,0,0,0,0,0,0,0,0,0,0,0,0,0,0,0,0,0,0,0,0,0,0,0,0,0,0,0,{"$f":"IF(COUNTBLANK(AL83:AL86)=4,\"\",SUM(AL83:AL86))","v":0},{"$f":"IF(COUNTBLANK(AM83:AM86)=4,\"\",SUM(AM83:AM86))","v":0},{"$f":"IF(COUNTBLANK(AN83:AN86)=4,\"\",SUM(AN83:AN86))","v":0},{"$f":"IF(COUNTBLANK(AO83:AO86)=4,\"\",SUM(AO83:AO86))","v":0},{"$f":"IF(COUNTBLANK(AP83:AP86)=4,\"\",SUM(AP83:AP86))","v":0},{"$f":"IF(COUNTBLANK(AQ83:AQ86)=4,\"\",SUM(AQ83:AQ86))","v":0},0,0,0,0,0,0,0,0,0,0,0,0,0,0,0,0,0,0,0,0,0,0,0,0]
[]
[null,"Power Balance",null,null,null,null,{"$f":"G$7","v":1990},1991,1992,1993,1994,1995,1996,1997,1998,1999,2000,2001,2002,2003,2004,2005,2006,2007,2008,2009,2010,2011,2012,2013,2014,2015,2016,2017,2018,2019,2020,2021,2022,2023,2024,2025,2026,2027,2028,2029,2030,2031,2032,2033,2034,2035,2036,2037,2038,2039,2040,2041,2042,2043,2044,2045,2046,2047,2048,2049,2050]
[null,"33a","Total power production from separate on-site power generation",null,"[MWh/yr]",null,0,0,0,0,0,0,0,0,0,0,0,0,0,0,0,0,0,0,0,0,0,0,0,0,0,0,0,0,0,0,0,0,0,0,0,0,0,0,0,0,0,0,0,0,0,0,0,0,0,0,0,0,0,0,0,0,0,0,0,0,0]
[null,"33aa","       Power delivered to cement plant",null,"[MWh/yr]",null,0,0,0,0,0,0,0,0,0,0,0,0,0,0,0,0,0,0,0,0,0,0,0,0,0,0,0,0,0,0,0,0,0,0,0,0,0,0,0,0,0,0,0,0,0,0,0,0,0,0,0,0,0,0,0,0,0,0,0,0,0]
[null,"33ab","       Power delivered externally",null,"[MWh/yr]",null,0,0,0,0,0,0,0,0,0,0,0,0,0,0,0,0,0,0,0,0,0,0,0,0,0,0,0,0,0,0,0,0,0,0,0,0,0,0,0,0,0,0,0,0,0,0,0,0,0,0,0,0,0,0,0,0,0,0,0,0,0]
[null,"33ac","       Power consumed by on-site power generation equipment",null,"[MWh/yr]",null,{"$f":"IF(OR(G90=\"\",G91=\"\",G92=\"\"),\"\",G90-G91-G92)","v":0},0,0,0,0,0,0,0,0,0,0,0,0,0,0,0,0,0,0,0,0,0,0,0,0,0,0,0,0,0,0,{"$f":"IF(OR(AL90=\"\",AL91=\"\",AL92=\"\"),\"\",AL90-AL91-AL92)","v":0},{"$f":"IF(OR(AM90=\"\",AM91=\"\",AM92=\"\"),\"\",AM90-AM91-AM92)","v":0},{"$f":"IF(OR(AN90=\"\",AN91=\"\",AN92=\"\"),\"\",AN90-AN91-AN92)","v":0},{"$f":"IF(OR(AO90=\"\",AO91=\"\",AO92=\"\"),\"\",AO90-AO91-AO92)","v":0},{"$f":"IF(OR(AP90=\"\",AP91=\"\",AP92=\"\"),\"\",AP90-AP91-AP92)","v":0},{"$f":"IF(OR(AQ90=\"\",AQ91=\"\",AQ92=\"\"),\"\",AQ90-AQ91-AQ92)","v":0},0,0,0,0,0,0,0,0,0,0,0,0,0,0,0,0,0,0,0,0,0,0,0,0]
[null,"33ad","       CO2 per power unit produced by separate on-site power generation",null,"[kg CO2/MWh]",null,{"$f":"IF(G90=0,\"\",G155/G90*1000)","v":""},{"$f":"IF(H90=0,\"\",H155/H90*1000)","v":""},"","","","","","","","","","","","","","","","","","","","","","","","","","","","","",{"$f":"IF(AL90=0,\"\",AL155/AL90*1000)","v":""},{"$f":"IF(AM90=0,\"\",AM155/AM90*1000)","v":""},{"$f":"IF(AN90=0,\"\",AN155/AN90*1000)","v":""},{"$f":"IF(AO90=0,\"\",AO155/AO90*1000)","v":""},{"$f":"IF(AP90=0,\"\",AP155/AP90*1000)","v":""},{"$f":"IF(AQ90=0,\"\",AQ155/AQ90*1000)","v":""},"","","","","","","","","","","","","","","","","","","","","","","",""]
[null,"33b","Total power production from waste heat recovery",null,"[MWh/yr]",null,0,0,0,0,0,0,0,0,0,0,0,0,0,0,0,0,0,0,0,0,0,0,0,0,0,0,0,0,0,0,0,0,0,0,0,0,0,0,0,0,0,0,0,0,0,0,0,0,0,0,0,0,0,0,0,0,0,0,0,0,0]
[null,"33ba","       Power delivered to cement plant",null,"[MWh/yr]",null,0,0,0,0,0,0,0,0,0,0,0,0,0,0,0,0,0,0,0,0,0,0,0,0,0,0,0,0,0,0,0,0,0,0,0,0,0,0,0,0,0,0,0,0,0,0,0,0,0,0,0,0,0,0,0,0,0,0,0,0,0]
[null,"33bb","       Power delivered externally",null,"[MWh/yr]",null,0,0,0,0,0,0,0,0,0,0,0,0,0,0,0,0,0,0,0,0,0,0,0,0,0,0,0,0,0,0,0,0,0,0,0,0,0,0,0,0,0,0,0,0,0,0,0,0,0,0,0,0,0,0,0,0,0,0,0,0,0]
[null,"33bc","       Power consumed by waste heat recovery equipment",null,"[MWh/yr]",null,{"$f":"IF(OR(G95=\"\",G96=\"\",G97=\"\"),\"\",G95-G96-G97)","v":0},0,0,0,0,0,0,0,0,0,0,0,0,0,0,0,0,0,0,0,0,0,0,0,0,0,0,0,0,0,0,{"$f":"IF(OR(AL95=\"\",AL96=\"\",AL97=\"\"),\"\",AL95-AL96-AL97)","v":0},{"$f":"IF(OR(AM95=\"\",AM96=\"\",AM97=\"\"),\"\",AM95-AM96-AM97)","v":0},{"$f":"IF(OR(AN95=\"\",AN96=\"\",AN97=\"\"),\"\",AN95-AN96-AN97)","v":0},{"$f":"IF(OR(AO95=\"\",AO96=\"\",AO97=\"\"),\"\",AO95-AO96-AO97)","v":0},{"$f":"IF(OR(AP95=\"\",AP96=\"\",AP97=\"\"),\"\",AP95-AP96-AP97)","v":0},{"$f":"IF(OR(AQ95=\"\",AQ96=\"\",AQ97=\"\"),\"\",AQ95-AQ96-AQ97)","v":0},0,0,0,0,0,0,0,0,0,0,0,0,0,0,0,0,0,0,0,0,0,0,0,0]
[null,"33c","Total external power consumption for cement manufacturing",null,"[MWh/yr]",null,{"$f":"IF(COUNTBLANK(G100:G102)=3,\"\",SUM(G100:G102))","v":0},{"$f":"IF(COUNTBLANK(H100:H102)=3,\"\",SUM(H100:H102))","v":0},0,0,0,0,0,0,0,0,0,0,0,0,0,0,0,0,0,0,0,0,0,0,0,0,0,0,0,0,0,{"$f":"IF(COUNTBLANK(AL100:AL102)=3,\"\",SUM(AL100:AL102))","v":0},{"$f":"IF(COUNTBLANK(AM100:AM102)=3,\"\",SUM(AM100:AM102))","v":0},{"$f":"IF(COUNTBLANK(AN100:AN102)=3,\"\",SUM(AN100:AN102))","v":0},{"$f":"IF(COUNTBLANK(AO100:AO102)=3,\"\",SUM(AO100:AO102))","v":0},{"$f":"IF(COUNTBLANK(AP100:AP102)=3,\"\",SUM(AP100:AP102))","v":0},{"$f":"IF(COUNTBLANK(AQ100:AQ102)=3,\"\",SUM(AQ100:AQ102))","v":0},0,0,0,0,0,0,0,0,0,0,0,0,0,0,0,0,0,0,0,0,0,0,0,0]
[null,"33ca","      External power delivered to cement plant",null,"[MWh/yr]"]
[null,"33cb","      Cement-related external power delivered to on-site power generation plant",null,"[MWh/yr]",null,0,0,0,0,0,0,0,0,0,0,0,0,0,0,0,0,0,0,0,0,0,0,0,0,0,0,0,0,0,0,0,0,0,0,0,0,0,0,0,0,0,0,0,0,0,0,0,0,0,0,0,0,0,0,0,0,0,0,0,0,0]
[null,"33cc","      Cement-related external power delivered to waste heat recovery plant",null,"[MWh/yr]",null,0,0,0,0,0,0,0,0,0,0,0,0,0,0,0,0,0,0,0,0,0,0,0,0,0,0,0,0,0,0,0,0,0,0,0,0,0,0,0,0,0,0,0,0,0,0,0,0,0,0,0,0,0,0,0,0,0,0,0,0,0]
[null,"33d","      CO2 per power unit produced externally",null,"[kg CO2/MWh]"]
[null,"33e","Power consumption up to and including clinker production",null,"[MWh/yr]"]
[null,33,"Total cement plant power consumption",null,"[MWh/yr]",null,{"$f":"IF(AND(G91=0,G96=0,G100=\"\"),\"\",G91+G96+G100)","v":""},{"$f":"IF(AND(H91=0,H96=0,H100=\"\"),\"\",H91+H96+H100)","v":""},"","","","","","","","","","","","","","","","","","","","","","","","","","","","","","","","","","","","","","","","","","","","","","","","","","","","","","","","","","",""]
[]
[null,"Waste Heat Use",null,null,null,null,{"$f":"G$7","v":1990},1991,1992,1993,1994,1995,1996,1997,1998,1999,2000,2001,2002,2003,2004,2005,2006,2007,2008,2009,2010,2011,2012,2013,2014,2015,2016,2017,2018,2019,2020,2021,2022,2023,2024,2025,2026,2027,2028,2029,2030,2031,2032,2033,2034,2035,2036,2037,2038,2039,2040,2041,2042,2043,2044,2045,2046,2047,2048,2049,2050]
[null,34,"Waste heat supplied to external consumers",null,"[GJ/yr]",null,0,0,0,0,0,0,0,0,0,0,0,0,0,0,0,0,0,0,0,0,0,0,0,0,0,0,0,0,0,0,0,0,0,0,0,0,0,0,0,0,0,0,0,0,0,0,0,0,0,0,0,0,0,0,0,0,0,0,0,0,0]
[null,"34a","Waste heat used internally (incl. power generation)",null,"[GJ/yr]"]
[]
["CO2 EMISSIONS "]
[]
[null,"Calculation method in calcination sheet",null,null,null,null,{"$f":"G$7","v":1990},1991,1992,1993,1994,1995,1996,1997,1998,1999,2000,2001,2002,2003,2004,2005,2006,2007,2008,2009,2010,2011,2012,2013,2014,2015,2016,2017,2018,2019,2020,2021,2022,2023,2024,2025,2026,2027,2028,2029,2030,2031,2032,2033,2034,2035,2036,2037,2038,2039,2040,2041,2042,2043,2044,2045,2046,2047,2048,2049,2050]
[null,"34d","Calculation method in calcination sheet",null,"A1; A2; B1; B2",null,{"$f":"IF(G34=\"\",\"\",G34)","v":"B1"},"B1","B1","B1","B1","B1","B1","B1","B1","B1","B1","B1","B1","B1","B1","B1","B1","B1","B1","B1","B1","B1","B1","B1","B1","B1","B1","B1","B1","B1","B1","B1","B1","B1","B1","B1","B1","B1","B1","B1","B1","B1","B1","B1","B1","B1","B1","B1","B1","B1","B1","B1","B1","B1","B1","B1","B1","B1","B1","B1","B1"]
[]
[null,"Data for Simple Input Method (A1)",null,null,null,null,{"$f":"G$7","v":1990},1991,1992,1993,1994,1995,1996,1997,1998,1999,2000,2001,2002,2003,2004,2005,2006,2007,2008,2009,2010,2011,2012,2013,2014,2015,2016,2017,2018,2019,2020,2021,2022,2023,2024,2025,2026,2027,2028,2029,2030,2031,2032,2033,2034,2035,2036,2037,2038,2039,2040,2041,2042,2043,2044,2045,2046,2047,2048,2049,2050]
[null,"34e","Input CalcA1: Raw meal consumption (Line 525)",null,"[t/yr, dry weight]"]
[null,"34f","Input CalcA1: Total CO2 from raw materials (Line 526)",null,"[t CO2/yr]"]
[]
[null,"Data for Detailed Input Method (A2)",null,null,null,null,{"$f":"G$7","v":1990},1991,1992,1993,1994,1995,1996,1997,1998,1999,2000,2001,2002,2003,2004,2005,2006,2007,2008,2009,2010,2011,2012,2013,2014,2015,2016,2017,2018,2019,2020,2021,2022,2023,2024,2025,2026,2027,2028,2029,2030,2031,2032,2033,2034,2035,2036,2037,2038,2039,2040,2041,2042,2043,2044,2045,2046,2047,2048,2049,2050]
[null,"34i","Input CalcA2: Raw meal consumption (Line 681)",null,"[t/yr, dry weight]"]
[null,"34j","Input CalcA2: Total CO2 from raw materials (Line 682)",null,"[t CO2/yr]"]
[]
[null,"Data for Simple Output Method (B1)",null,null,null,null,{"$f":"G$7","v":1990},1991,1992,1993,1994,1995,1996,1997,1998,1999,2000,2001,2002,2003,2004,2005,2006,2007,2008,2009,2010,2011,2012,2013,2014,2015,2016,2017,2018,2019,2020,2021,2022,2023,2024,2025,2026,2027,2028,2029,2030,2031,2032,2033,2034,2035,2036,2037,2038,2039,2040,2041,2042,2043,2044,2045,2046,2047,2048,2049,2050]
[null,"34m","Standard calcination emission factor [default 525 kg CO2/t clinker]",null,"[kg CO2/t cli]",null,525,525,525,525,525,525,525,525,525,525,525,525,525,525,525,525,525,525,525,525,525,525,525,525,525,525,525,525,525,525,525,525,525,525,525,525,525,525,525,525,525,525,525,525,525,525,525,525,525,525,525,525,525,525,525,525,525,525,525,525,525]
[null,"34n","Organic carbon content of raw meal (average), default value 0.2%, or set plant specific value",null,"[%, dry weight]",null,2E-3,2E-3,2E-3,2E-3,2E-3,2E-3,2E-3,2E-3,2E-3,2E-3,2E-3,2E-3,2E-3,2E-3,2E-3,2E-3,2E-3,2E-3,2E-3,2E-3,2E-3,2E-3,2E-3,2E-3,2E-3,2E-3,2E-3,2E-3,2E-3,2E-3,2E-3,2E-3,2E-3,2E-3,2E-3,2E-3,2E-3,2E-3,2E-3,2E-3,2E-3,2E-3,2E-3,2E-3,2E-3,2E-3,2E-3,2E-3,2E-3,2E-3,2E-3,2E-3,2E-3,2E-3,2E-3,2E-3,2E-3,2E-3,2E-3,2E-3,2E-3]
[null,"34o","Raw meal : clinker ratio, default value 1.55, or set plant specific value",null,"[--, dry weight]",null,1.55,1.55,1.55,1.55,1.55,1.55,1.55,1.55,1.55,1.55,1.55,1.55,1.55,1.55,1.55,1.55,1.55,1.55,1.55,1.55,1.55,1.55,1.55,1.55,1.55,1.55,1.55,1.55,1.55,1.55,1.55,1.55,1.55,1.55,1.55,1.55,1.55,1.55,1.55,1.55,1.55,1.55,1.55,1.55,1.55,1.55,1.55,1.55,1.55,1.55,1.55,1.55,1.55,1.55,1.55,1.55,1.55,1.55,1.55,1.55,1.55]
[]
[null,"Data for Detailed Output Method (B2)",null,null,null,null,{"$f":"G$7","v":1990},1991,1992,1993,1994,1995,1996,1997,1998,1999,2000,2001,2002,2003,2004,2005,2006,2007,2008,2009,2010,2011,2012,2013,2014,2015,2016,2017,2018,2019,2020,2021,2022,2023,2024,2025,2026,2027,2028,2029,2030,2031,2032,2033,2034,2035,2036,2037,2038,2039,2040,2041,2042,2043,2044,2045,2046,2047,2048,2049,2050]
[null,"34q","Input CalcB2: Calcination emission factor corrected for CaO,MgO, Ca-Si, Mg-Si imports (Line 820)",null,"[kg CO2/t cli]"]
[null,"34r","Organic carbon content of raw meal (average), default value 0.2%, or set plant specific value",null,"[%, dry weight]",null,2E-3,2E-3,2E-3,2E-3,2E-3,2E-3,2E-3,2E-3,2E-3,2E-3,2E-3,2E-3,2E-3,2E-3,2E-3,2E-3,2E-3,2E-3,2E-3,2E-3,2E-3,2E-3,2E-3,2E-3,2E-3,2E-3,2E-3,2E-3,2E-3,2E-3,2E-3,2E-3,2E-3,2E-3,2E-3,2E-3,2E-3,2E-3,2E-3,2E-3,2E-3,2E-3,2E-3,2E-3,2E-3,2E-3,2E-3,2E-3,2E-3,2E-3,2E-3,2E-3,2E-3,2E-3,2E-3,2E-3,2E-3,2E-3,2E-3,2E-3,2E-3]
[null,"34s","Raw meal : clinker ratio, default value 1.55, or set plant specific value",null,"[--, dry weight]",null,1.55,1.55,1.55,1.55,1.55,1.55,1.55,1.55,1.55,1.55,1.55,1.55,1.55,1.55,1.55,1.55,1.55,1.55,1.55,1.55,1.55,1.55,1.55,1.55,1.55,1.55,1.55,1.55,1.55,1.55,1.55,1.55,1.55,1.55,1.55,1.55,1.55,1.55,1.55,1.55,1.55,1.55,1.55,1.55,1.55,1.55,1.55,1.55,1.55,1.55,1.55,1.55,1.55,1.55,1.55,1.55,1.55,1.55,1.55,1.55,1.55]
[]
["Direct CO2 Emissions"]
[null,"CO2 from Raw Materials",null,null,null,null,{"$f":"G$7","v":1990},1991,1992,1993,1994,1995,1996,1997,1998,1999,2000,2001,2002,2003,2004,2005,2006,2007,2008,2009,2010,2011,2012,2013,2014,2015,2016,2017,2018,2019,2020,2021,2022,2023,2024,2025,2026,2027,2028,2029,2030,2031,2032,2033,2034,2035,2036,2037,2038,2039,2040,2041,2042,2043,2044,2045,2046,2047,2048,2049,2050]
[null,"35a","Calcination emission factor, corrected for CaO- and MgO imports",null,"[kg CO2/t cli]",null,{"$f":"IF(G114=\"B2\",G130,IF(G114=\"B1\",G125,\"n. appl.\"))","v":525},{"$f":"IF(H114=\"B2\",H130,IF(H114=\"B1\",H125,\"n. appl.\"))","v":525},525,525,525,525,525,525,525,525,525,525,525,525,525,525,525,525,525,525,525,525,525,525,525,525,525,525,525,525,525,525,525,525,525,525,525,525,525,525,525,525,525,525,525,525,525,525,525,525,525,525,525,525,525,525,525,525,525,525,525]
[null,"35b","Organic carbon content of raw meal (average)",null,"[%, dry weight]",null,{"$f":"IF(G114=\"B1\",G126,IF(G114=\"B2\",G131,\"n. appl.\"))","v":2E-3},{"$f":"IF(H114=\"B1\",H126,IF(H114=\"B2\",H131,\"n. appl.\"))","v":2E-3},2E-3,2E-3,2E-3,2E-3,2E-3,2E-3,2E-3,2E-3,2E-3,2E-3,2E-3,2E-3,2E-3,2E-3,2E-3,2E-3,2E-3,2E-3,2E-3,2E-3,2E-3,2E-3,2E-3,2E-3,2E-3,2E-3,2E-3,2E-3,2E-3,2E-3,2E-3,2E-3,2E-3,2E-3,2E-3,2E-3,2E-3,2E-3,2E-3,2E-3,2E-3,2E-3,2E-3,2E-3,2E-3,2E-3,2E-3,2E-3,2E-3,2E-3,2E-3,2E-3,2E-3,2E-3,2E-3,2E-3,2E-3,2E-3,2E-3]
[null,"35c","Raw meal : clinker ratio",null,"[--, dry weight]",null,{"$f":"IF(G114=\"B1\",G127,IF(G114=\"B2\",G132,\"n. appl.\"))","v":1.55},{"$f":"IF(H114=\"B1\",H127,IF(H114=\"B2\",H132,\"n. appl.\"))","v":1.55},1.55,1.55,1.55,1.55,1.55,1.55,1.55,1.55,1.55,1.55,1.55,1.55,1.55,1.55,1.55,1.55,1.55,1.55,1.55,1.55,1.55,1.55,1.55,1.55,1.55,1.55,1.55,1.55,1.55,1.55,1.55,1.55,1.55,1.55,1.55,1.55,1.55,1.55,1.55,1.55,1.55,1.55,1.55,1.55,1.55,1.55,1.55,1.55,1.55,1.55,1.55,1.55,1.55,1.55,1.55,1.55,1.55,1.55,1.55]
[null,"35d","Raw meal consumption",null,"[t/yr, dry weight]",null,{"$f":"IF(G114=\"A1\",G117,IF(G114=\"A2\",G121,IF(G40=\"\",\"\",G40*G138)))","v":""},"","","","","","","","","","","","","","","","","","","","","","","","","","","","","","",{"$f":"IF(AL114=\"A1\",AL117,IF(AL114=\"A2\",AL121,IF(AL40=\"\",\"\",AL40*AL138)))","v":""},{"$f":"IF(AM114=\"A1\",AM117,IF(AM114=\"A2\",AM121,IF(AM40=\"\",\"\",AM40*AM138)))","v":""},{"$f":"IF(AN114=\"A1\",AN117,IF(AN114=\"A2\",AN121,IF(AN40=\"\",\"\",AN40*AN138)))","v":""},{"$f":"IF(AO114=\"A1\",AO117,IF(AO114=\"A2\",AO121,IF(AO40=\"\",\"\",AO40*AO138)))","v":""},{"$f":"IF(AP114=\"A1\",AP117,IF(AP114=\"A2\",AP121,IF(AP40=\"\",\"\",AP40*AP138)))","v":""},{"$f":"IF(AQ114=\"A1\",AQ117,IF(AQ114=\"A2\",AQ121,IF(AQ40=\"\",\"\",AQ40*AQ138)))","v":""},"","","","","","","","","","","","","","","","","","","","","","","",""]
[null,36,"CO2 from calcination of raw materials consumed for clinker production",null,"[t CO2/yr]",null,{"$f":"IF(OR(G114=\"A1\",G114=\"A2\"),\"n. appl.\",IF(G40=\"\",\"\",G$136/1000*G40))","v":""},"","","","","","","","","","","","","","","","","","","","","","","","","","","","","","",{"$f":"IF(OR(AL114=\"A1\",AL114=\"A2\"),\"n. appl.\",IF(AL40=\"\",\"\",AL$136/1000*AL40))","v":""},{"$f":"IF(OR(AM114=\"A1\",AM114=\"A2\"),\"n. appl.\",IF(AM40=\"\",\"\",AM$136/1000*AM40))","v":""},{"$f":"IF(OR(AN114=\"A1\",AN114=\"A2\"),\"n. appl.\",IF(AN40=\"\",\"\",AN$136/1000*AN40))","v":""},{"$f":"IF(OR(AO114=\"A1\",AO114=\"A2\"),\"n. appl.\",IF(AO40=\"\",\"\",AO$136/1000*AO40))","v":""},{"$f":"IF(OR(AP114=\"A1\",AP114=\"A2\"),\"n. appl.\",IF(AP40=\"\",\"\",AP$136/1000*AP40))","v":""},{"$f":"IF(OR(AQ114=\"A1\",AQ114=\"A2\"),\"n. appl.\",IF(AQ40=\"\",\"\",AQ$136/1000*AQ40))","v":""},"","","","","","","","","","","","","","","","","","","","","","","",""]
[null,{"$f":"B140+1","v":37},"CO2 from calcination of bypass dust leaving the kiln system",null,"[t CO2/yr]",null,{"$f":"IF(OR(G114=\"A1\",G114=\"A2\"),\"n. appl.\",IF(G71=\"\",\"\",G$136/1000*G71))","v":0},{"$f":"IF(OR(H114=\"A1\",H114=\"A2\"),\"n. appl.\",IF(H71=\"\",\"\",H$136/1000*H71))","v":0},0,0,0,0,0,0,0,0,0,0,0,0,0,0,0,0,0,0,0,0,0,0,0,0,0,0,0,0,0,0,0,0,0,0,0,0,0,0,0,0,0,0,0,0,0,0,0,0,0,0,0,0,0,0,0,0,0,0,0]
[null,"38a","CO2 from calcination of CKD leaving the kiln system",null,"[t CO2/yr]",null,{"$f":"IF(OR(G114=\"A1\",G114=\"A2\"),\"n. appl.\",IF(G72=\"\",\"\",G72*G136/1000/(1+G136/1000)*G73/(1-G136/1000/(1+G136/1000)*G73)))","v":0},{"$f":"IF(OR(H114=\"A1\",H114=\"A2\"),\"n. appl.\",IF(H72=\"\",\"\",H72*H136/1000/(1+H136/1000)*H73/(1-H136/1000/(1+H136/1000)*H73)))","v":0},0,0,0,0,0,0,0,0,0,0,0,0,0,0,0,0,0,0,0,0,0,0,0,0,0,0,0,0,0,0,0,0,0,0,0,0,0,0,0,0,0,0,0,0,0,0,0,0,0,0,0,0,0,0,0,0,0,0,0]
[null,"38b","CO2 from organic carbon content of raw meal",null,"[t CO2/yr]",null,{"$f":"IF(OR(G114=\"A1\",G114=\"A2\"),\"n. appl.\",IF(G139=\"\",\"\",G137*G139*3.664))","v":""},{"$f":"IF(OR(H114=\"A1\",H114=\"A2\"),\"n. appl.\",IF(H139=\"\",\"\",H137*H139*3.664))","v":""},"","","","","","","","","","","","","","","","","","","","","","","","","","","","","","","","","","","","","","","","","","","","","","","","","","","","","","","","","","",""]
[null,39,"Total CO2 from raw materials",null,"[t CO2/yr]",null,{"$f":"IF(G114=\"A1\",G118,IF(G114=\"A2\",G122,SUM(G140:G143)))","v":0},{"$f":"IF(H114=\"A1\",H118,IF(H114=\"A2\",H122,SUM(H140:H143)))","v":0},0,0,0,0,0,0,0,0,0,0,0,0,0,0,0,0,0,0,0,0,0,0,0,0,0,0,0,0,0,{"$f":"IF(AL114=\"A1\",AL118,IF(AL114=\"A2\",AL122,SUM(AL140:AL143)))","v":0},{"$f":"IF(AM114=\"A1\",AM118,IF(AM114=\"A2\",AM122,SUM(AM140:AM143)))","v":0},{"$f":"IF(AN114=\"A1\",AN118,IF(AN114=\"A2\",AN122,SUM(AN140:AN143)))","v":0},{"$f":"IF(AO114=\"A1\",AO118,IF(AO114=\"A2\",AO122,SUM(AO140:AO143)))","v":0},{"$f":"IF(AP114=\"A1\",AP118,IF(AP114=\"A2\",AP122,SUM(AP140:AP143)))","v":0},{"$f":"IF(AQ114=\"A1\",AQ118,IF(AQ114=\"A2\",AQ122,SUM(AQ140:AQ143)))","v":0},0,0,0,0,0,0,0,0,0,0,0,0,0,0,0,0,0,0,0,0,0,0,0,0]
[]
[null,"CO2 from Kiln Fuels (incl. drying of fuels and raw materials)",null,null,null,null,{"$f":"G$7","v":1990},1991,1992,1993,1994,1995,1996,1997,1998,1999,2000,2001,2002,2003,2004,2005,2006,2007,2008,2009,2010,2011,2012,2013,2014,2015,2016,2017,2018,2019,2020,2021,2022,2023,2024,2025,2026,2027,2028,2029,2030,2031,2032,2033,2034,2035,2036,2037,2038,2039,2040,2041,2042,2043,2044,2045,2046,2047,2048,2049,2050]
[null,{"$f":"B144+1","v":40},"CO2 from conventional fossil fuels",null,"[t CO2/yr]",null,{"$f":"IF(OR(G388=\"\",G415=\"\"),\"\",G388+G415)","v":0},{"$f":"IF(OR(H388=\"\",H415=\"\"),\"\",H388+H415)","v":0},0,0,0,0,0,0,0,0,0,0,0,0,0,0,0,0,0,0,0,0,0,0,0,0,0,0,0,0,0,0,0,0,0,0,0,0,0,0,0,0,0,0,0,0,0,0,0,0,0,0,0,0,0,0,0,0,0,0,0]
[null,{"$f":"B147+1","v":41},"CO2 from alternative fossil fuels",null,"[t CO2/yr]",null,{"$f":"IF(OR(G396=\"\",G422=\"\"),\"\",G396+G422)","v":0},{"$f":"IF(OR(H396=\"\",H422=\"\"),\"\",H396+H422)","v":0},0,0,0,0,0,0,0,0,0,0,0,0,0,0,0,0,0,0,0,0,0,0,0,0,0,0,0,0,0,0,0,0,0,0,0,0,0,0,0,0,0,0,0,0,0,0,0,0,0,0,0,0,0,0,0,0,0,0,0]
[null,43,"Total CO2 from fossil-based kiln fuels",null,"[t CO2/yr]",null,{"$f":"IF(COUNTBLANK(G147:G148)=2,\"\",SUM(G147:G148))","v":0},0,0,0,0,0,0,0,0,0,0,0,0,0,0,0,0,0,0,0,0,0,0,0,0,0,{"$f":"IF(COUNTBLANK(AG147:AG148)=2,\"\",SUM(AG147:AG148))","v":0},0,0,0,0,0,0,0,0,0,0,0,0,0,0,0,0,0,0,0,0,0,0,0,0,0,0,0,0,0,0,0,0,0,0]
[]
[null,"CO2 from Non-Kiln Fuels",null,null,null,null,{"$f":"G$7","v":1990},1991,1992,1993,1994,1995,1996,1997,1998,1999,2000,2001,2002,2003,2004,2005,2006,2007,2008,2009,2010,2011,2012,2013,2014,2015,2016,2017,2018,2019,2020,2021,2022,2023,2024,2025,2026,2027,2028,2029,2030,2031,2032,2033,2034,2035,2036,2037,2038,2039,2040,2041,2042,2043,2044,2045,2046,2047,2048,2049,2050]
[null,44,"CO2 from equipment and on-site vehicles (fossil fuels)",null,"[t CO2/yr]",null,{"$f":"G538","v":0},{"$f":"H538","v":0},0,0,0,0,0,0,0,0,0,0,0,0,0,0,0,0,0,0,0,0,0,0,0,0,0,0,0,0,0,0,0,0,0,0,0,0,0,0,0,0,0,0,0,0,0,0,0,0,0,0,0,0,0,0,0,0,0,0,0]
[null,"45a","CO2 from room heating and cooling (fossil fuels)",null,"[t CO2/yr]",null,{"$f":"G544","v":0},{"$f":"H544","v":0},0,0,0,0,0,0,0,0,0,0,0,0,0,0,0,0,0,0,0,0,0,0,0,0,0,0,0,0,0,0,0,0,0,0,0,0,0,0,0,0,0,0,0,0,0,0,0,0,0,0,0,0,0,0,0,0,0,0,0]
[null,"45b","CO2 from drying of mineral components (fossil fuels)",null,"[t CO2/yr]",null,{"$f":"IF(OR(G549=\"\",G556=\"\"),\"\",G549+G556)","v":0},{"$f":"IF(OR(H549=\"\",H556=\"\"),\"\",H549+H556)","v":0},0,0,0,0,0,0,0,0,0,0,0,0,0,0,0,0,0,0,0,0,0,0,0,0,0,0,0,0,0,0,0,0,0,0,0,0,0,0,0,0,0,0,0,0,0,0,0,0,0,0,0,0,0,0,0,0,0,0,0]
[null,"45c","CO2 from seperate on-site power generation (fossil fuels)",null,"[t CO2/yr]",null,{"$f":"IF(OR(G561=\"\",G568=\"\"),\"\",G561+G568)","v":0},{"$f":"IF(OR(H561=\"\",H568=\"\"),\"\",H561+H568)","v":0},0,0,0,0,0,0,0,0,0,0,0,0,0,0,0,0,0,0,0,0,0,0,0,0,0,0,0,0,0,0,0,0,0,0,0,0,0,0,0,0,0,0,0,0,0,0,0,0,0,0,0,0,0,0,0,0,0,0,0]
[null,46,"Total CO2 from non-kiln fossil fuels",null,"[t CO2/yr]",null,{"$f":"IF(COUNTBLANK(G152:G155)=4,\"\",SUM(G152:G155))","v":0},0,0,0,0,0,0,0,0,0,0,0,0,0,0,0,0,0,0,0,0,0,0,0,0,0,{"$f":"IF(COUNTBLANK(AG152:AG155)=4,\"\",SUM(AG152:AG155))","v":0},0,0,0,0,0,0,0,0,0,0,0,0,0,0,0,0,0,0,0,0,0,0,0,0,0,0,0,0,0,0,0,0,0,0]
[]
[null,"Total Direct CO2 Emissions ",null,null,null,null,{"$f":"G$7","v":1990},1991,1992,1993,1994,1995,1996,1997,1998,1999,2000,2001,2002,2003,2004,2005,2006,2007,2008,2009,2010,2011,2012,2013,2014,2015,2016,2017,2018,2019,2020,2021,2022,2023,2024,2025,2026,2027,2028,2029,2030,2031,2032,2033,2034,2035,2036,2037,2038,2039,2040,2041,2042,2043,2044,2045,2046,2047,2048,2049,2050]
[null,48,"Total direct CO2: all fossil CO2 sources",null,"[t CO2/yr]",null,{"$f":"IF(OR(G144=\"\",G149=\"\",G156=\"\"),\"\",G144+G149+G156)","v":0},0,0,0,0,0,0,0,0,0,0,0,0,0,0,0,0,0,0,0,0,0,0,0,0,0,0,0,0,0,0,0,0,0,0,0,0,0,0,0,0,0,0,0,0,0,0,0,0,0,0,0,0,0,0,0,0,0,0,0,0]
[]
["Indirect CO2 Emissions (Main Sources)",null,null,null,null,null,{"$f":"G$7","v":1990},1991,1992,1993,1994,1995,1996,1997,1998,1999,2000,2001,2002,2003,2004,2005,2006,2007,2008,2009,2010,2011,2012,2013,2014,2015,2016,2017,2018,2019,2020,2021,2022,2023,2024,2025,2026,2027,2028,2029,2030,2031,2032,2033,2034,2035,2036,2037,2038,2039,2040,2041,2042,2043,2044,2045,2046,2047,2048,2049,2050]
[null,"49a","CO2 from external power generation",null,"[t CO2/yr]",null,{"$f":"IF(G99=0,\"\",G99*G103/1000)","v":""},{"$f":"IF(H99=0,\"\",H99*H103/1000)","v":""},"","","","","","","","","","","","","","","","","","","","","","","","","","","","","","","","","","","","","","","","","","","","","","","","","","","","","","","","","","",""]
[null,"49b","Emission factor for inbound clinker",null,"[kg CO2/t cli]",null,865,865,865,865,865,865,865,865,865,865,865,865,865,865,865,865,865,865,865,865,865,865,865,865,865,865,865,865,865,865,865,865,865,865,865,865,865,865,865,865,865,865,865,865,865,865,865,865,865,865,865,865,865,865,865,865,865,865,865,865,865]
[null,"49c","CO2 from net inbound (+) / outbound (-) clinker",null,"[t CO2/yr]",null,{"$f":"IF(OR(G41=\"\",G44=\"\",G45=\"\",G42=\"\"),\"\",IF(G184<>\"n. appl.\",(((G41+G44+G45)*G163)-(G42*G184))/1000,(G41+G44+G45)*G163/1000))","v":""},"","","","","","","","","","","","","","","","","","","","","","","","","","","","","","",{"$f":"IF(OR(AL41=\"\",AL44=\"\",AL45=\"\",AL42=\"\"),\"\",IF(AL184<>\"n. appl.\",(((AL41+AL44+AL45)*AL163)-(AL42*AL184))/1000,(AL41+AL44+AL45)*AL163/1000))","v":""},{"$f":"IF(OR(AM41=\"\",AM44=\"\",AM45=\"\",AM42=\"\"),\"\",IF(AM184<>\"n. appl.\",(((AM41+AM44+AM45)*AM163)-(AM42*AM184))/1000,(AM41+AM44+AM45)*AM163/1000))","v":""},{"$f":"IF(OR(AN41=\"\",AN44=\"\",AN45=\"\",AN42=\"\"),\"\",IF(AN184<>\"n. appl.\",(((AN41+AN44+AN45)*AN163)-(AN42*AN184))/1000,(AN41+AN44+AN45)*AN163/1000))","v":""},{"$f":"IF(OR(AO41=\"\",AO44=\"\",AO45=\"\",AO42=\"\"),\"\",IF(AO184<>\"n. appl.\",(((AO41+AO44+AO45)*AO163)-(AO42*AO184))/1000,(AO41+AO44+AO45)*AO163/1000))","v":""},{"$f":"IF(OR(AP41=\"\",AP44=\"\",AP45=\"\",AP42=\"\"),\"\",IF(AP184<>\"n. appl.\",(((AP41+AP44+AP45)*AP163)-(AP42*AP184))/1000,(AP41+AP44+AP45)*AP163/1000))","v":""},{"$f":"IF(OR(AQ41=\"\",AQ44=\"\",AQ45=\"\",AQ42=\"\"),\"\",IF(AQ184<>\"n. appl.\",(((AQ41+AQ44+AQ45)*AQ163)-(AQ42*AQ184))/1000,(AQ41+AQ44+AQ45)*AQ163/1000))","v":""},"","","","","","","","","","","","","","","","","","","","","","","",""]
[null,"49d","Total indirect CO2 (main sources)",null,"[t CO2/yr]",null,{"$f":"IF(OR(G162=\"\",G164=\"\"),\"\",G162+G164)","v":""},"","","","","","","","","","","","","","","","","","","","","","","","","","","","","","","","","","","","","","","","","","","","","","","","","","","","","","","","","","","",""]
[]
["Direct CO2 from Biomass (Memo Item)",null,null,null,null,null,{"$f":"G$7","v":1990},1991,1992,1993,1994,1995,1996,1997,1998,1999,2000,2001,2002,2003,2004,2005,2006,2007,2008,2009,2010,2011,2012,2013,2014,2015,2016,2017,2018,2019,2020,2021,2022,2023,2024,2025,2026,2027,2028,2029,2030,2031,2032,2033,2034,2035,2036,2037,2038,2039,2040,2041,2042,2043,2044,2045,2046,2047,2048,2049,2050]
[null,50,"CO2 from combustion of biomass (kiln and non-kiln fuels, incl. biomass content of mixed fuels)",null,"[t CO2/yr]",null,{"$f":"IF(OR(G404=\"\",G424=\"\",G542=\"\",G558=\"\",G570=\"\"),\"\",G404+G424+G542+G558+G570)","v":0},0,0,0,0,0,0,0,0,0,0,0,0,0,0,0,0,0,0,0,0,0,0,0,0,0,0,0,0,0,0,{"$f":"IF(OR(AL404=\"\",AL424=\"\",AL542=\"\",AL558=\"\",AL570=\"\"),\"\",AL404+AL424+AL542+AL558+AL570)","v":0},{"$f":"IF(OR(AM404=\"\",AM424=\"\",AM542=\"\",AM558=\"\",AM570=\"\"),\"\",AM404+AM424+AM542+AM558+AM570)","v":0},{"$f":"IF(OR(AN404=\"\",AN424=\"\",AN542=\"\",AN558=\"\",AN570=\"\"),\"\",AN404+AN424+AN542+AN558+AN570)","v":0},{"$f":"IF(OR(AO404=\"\",AO424=\"\",AO542=\"\",AO558=\"\",AO570=\"\"),\"\",AO404+AO424+AO542+AO558+AO570)","v":0},{"$f":"IF(OR(AP404=\"\",AP424=\"\",AP542=\"\",AP558=\"\",AP570=\"\"),\"\",AP404+AP424+AP542+AP558+AP570)","v":0},{"$f":"IF(OR(AQ404=\"\",AQ424=\"\",AQ542=\"\",AQ558=\"\",AQ570=\"\"),\"\",AQ404+AQ424+AQ542+AQ558+AQ570)","v":0},0,0,0,0,0,0,0,0,0,0,0,0,0,0,0,0,0,0,0,0,0,0,0,0]
[]
["PERFORMANCE INDICATORS"]
[]
[null,"Absolute Direct CO2 Emissions",null,null,null,null,{"$f":"G$7","v":1990},1991,1992,1993,1994,1995,1996,1997,1998,1999,2000,2001,2002,2003,2004,2005,2006,2007,2008,2009,2010,2011,2012,2013,2014,2015,2016,2017,2018,2019,2020,2021,{"$f":"AM$7","v":2022},2023,2024,2025,2026,2027,2028,2029,2030,2031,2032,2033,2034,2035,2036,2037,{"$f":"BC$7","v":2038},2039,2040,2041,2042,2043,2044,2045,2046,2047,2048,2049,2050]
[null,59,"Absolute gross CO2 including CO2 from on-site power generation",null,"[t CO2/yr]",null,{"$f":"IF(OR(G144=\"\",G149=\"\",G156=\"\"),\"\",G144+G149+G156)","v":0},0,0,0,0,0,0,0,0,0,0,0,0,0,0,0,0,0,0,0,0,0,0,0,0,0,0,0,0,0,0,{"$f":"IF(OR(AL144=\"\",AL149=\"\",AL156=\"\"),\"\",AL144+AL149+AL156)","v":0},{"$f":"IF(OR(AM144=\"\",AM149=\"\",AM156=\"\"),\"\",AM144+AM149+AM156)","v":0},{"$f":"IF(OR(AN144=\"\",AN149=\"\",AN156=\"\"),\"\",AN144+AN149+AN156)","v":0},{"$f":"IF(OR(AO144=\"\",AO149=\"\",AO156=\"\"),\"\",AO144+AO149+AO156)","v":0},{"$f":"IF(OR(AP144=\"\",AP149=\"\",AP156=\"\"),\"\",AP144+AP149+AP156)","v":0},{"$f":"IF(OR(AQ144=\"\",AQ149=\"\",AQ156=\"\"),\"\",AQ144+AQ149+AQ156)","v":0},0,0,0,0,0,0,0,0,0,0,0,0,0,0,0,0,0,0,0,0,0,0,0,0]
[null,"Gross CO2 Emissions (=direct fossil CO2 excluding CO2 from on-site power generation)",null,null,null,null,1990,1991,1992,1993,1994,1995,1996,1997,1998,1999,2000,2001,2002,2003,2004,2005,2006,2007,2008,2009,2010,2011,2012,2013,2014,2015,2016,2017,2018,2019,2020,2021,{"$f":"AM$7","v":2022},2023,2024,2025,2026,2027,2028,2029,2030,2031,2032,2033,2034,2035,2036,2037,{"$f":"BC$7","v":2038},2039,2040,2041,2042,2043,2044,2045,2046,2047,2048,2049,2050]
[null,"59c","Absolute gross CO2",null,"[t CO2/yr]",null,{"$f":"IF(OR(G173=\"\",G155=\"\"),\"\",G173-G155)","v":0},0,0,0,0,0,0,0,0,0,0,0,0,0,0,0,0,0,0,0,0,0,0,0,0,0,0,0,0,0,0,{"$f":"IF(OR(AL173=\"\",AL155=\"\"),\"\",AL173-AL155)","v":0},{"$f":"IF(OR(AM173=\"\",AM155=\"\"),\"\",AM173-AM155)","v":0},{"$f":"IF(OR(AN173=\"\",AN155=\"\"),\"\",AN173-AN155)","v":0},{"$f":"IF(OR(AO173=\"\",AO155=\"\"),\"\",AO173-AO155)","v":0},{"$f":"IF(OR(AP173=\"\",AP155=\"\"),\"\",AP173-AP155)","v":0},{"$f":"IF(OR(AQ173=\"\",AQ155=\"\"),\"\",AQ173-AQ155)","v":0},0,0,0,0,0,0,0,0,0,0,0,0,0,0,0,0,0,0,0,0,0,0,0,0]
[null,"59a",null,"calcination component","[t CO2/yr]",null,{"$f":"G144","v":0},{"$f":"H144","v":0},0,0,0,0,0,0,0,0,0,0,0,0,0,0,0,0,0,0,0,0,0,0,0,0,0,0,0,0,0,0,0,0,0,0,0,0,0,0,0,0,0,0,0,0,0,0,0,0,0,0,0,0,0,0,0,0,0,0,0]
[null,"59b",null,"fuel component","[t CO2/yr]",null,{"$f":"IF(OR(G149=\"\",G152=\"\",G153=\"\",G154=\"\"),\"\",G149+G152+G153+G154)","v":0},{"$f":"IF(OR(H149=\"\",H152=\"\",H153=\"\",H154=\"\"),\"\",H149+H152+H153+H154)","v":0},0,0,0,0,0,0,0,0,0,0,0,0,0,0,0,0,0,0,0,0,0,0,0,0,0,0,0,0,0,0,0,0,0,0,0,0,0,0,0,0,0,0,0,0,0,0,0,0,0,0,0,0,0,0,0,0,0,0,0]
[null,"Net CO2 Emissions (= gross CO2 minus alternative fossil fuels CO2; excluding CO2 from on-site power generation)",null,null,null,null,{"$f":"G$7","v":1990},1991,1992,1993,1994,1995,1996,1997,1998,1999,2000,2001,2002,2003,2004,2005,2006,2007,2008,2009,2010,2011,2012,2013,2014,2015,2016,2017,2018,2019,2020,2021,2022,2023,2024,2025,2026,2027,2028,2029,2030,2031,2032,2033,2034,2035,2036,2037,2038,2039,2040,2041,2042,2043,2044,2045,2046,2047,2048,2049,2050]
[null,71,"Absolute net CO2",null,"[t CO2/yr]",null,{"$f":"IF(OR(G175=\"\",G148=\"\"),\"\",G175-G148)","v":0},0,0,0,0,0,0,0,0,0,0,0,0,0,0,0,0,0,0,0,0,0,0,0,0,0,0,0,0,0,0,{"$f":"IF(OR(AL175=\"\",AL148=\"\"),\"\",AL175-AL148)","v":0},{"$f":"IF(OR(AM175=\"\",AM148=\"\"),\"\",AM175-AM148)","v":0},{"$f":"IF(OR(AN175=\"\",AN148=\"\"),\"\",AN175-AN148)","v":0},{"$f":"IF(OR(AO175=\"\",AO148=\"\"),\"\",AO175-AO148)","v":0},{"$f":"IF(OR(AP175=\"\",AP148=\"\"),\"\",AP175-AP148)","v":0},{"$f":"IF(OR(AQ175=\"\",AQ148=\"\"),\"\",AQ175-AQ148)","v":0},0,0,0,0,0,0,0,0,0,0,0,0,0,0,0,0,0,0,0,0,0,0,0,0]
[null,"Biomass CO2 Emissions (Memo Item)",null,null,null,null,{"$f":"G$7","v":1990},1991,1992,1993,1994,1995,1996,1997,1998,1999,2000,2001,2002,2003,2004,2005,2006,2007,2008,2009,2010,2011,2012,2013,2014,2015,2016,2017,2018,2019,2020,2021,2022,2023,2024,2025,2026,2027,2028,2029,2030,2031,2032,2033,2034,2035,2036,2037,2038,2039,2040,2041,2042,2043,2044,2045,2046,2047,2048,2049,2050]
[null,"83a","Absolute CO2 from biomass sources (including biomass content of mixed fuels)",null,"[t CO2/yr]",null,{"$f":"G168","v":0},{"$f":"H168","v":0},0,0,0,0,0,0,0,0,0,0,0,0,0,0,0,0,0,0,0,0,0,0,0,0,0,0,0,0,0,{"$f":"AL168","v":0},{"$f":"AM168","v":0},{"$f":"AN168","v":0},{"$f":"AO168","v":0},{"$f":"AP168","v":0},{"$f":"AQ168","v":0},0,0,0,0,0,0,0,0,0,0,0,0,0,0,0,0,0,0,0,0,0,0,0,0]
[]
[null,"Specific Gross and Net CO2 Emissions per Clinker Produced",null,null,null,null,{"$f":"G$7","v":1990},1991,1992,1993,1994,1995,1996,1997,1998,1999,2000,2001,2002,2003,2004,2005,2006,2007,2008,2009,2010,2011,2012,2013,2014,2015,2016,2017,2018,2019,2020,2021,2022,2023,2024,2025,2026,2027,2028,2029,2030,2031,2032,2033,2034,2035,2036,2037,2038,2039,2040,2041,2042,2043,2044,2045,2046,2047,2048,2049,2050]
[null,60,"Specific gross CO2 ","per tonne of clinker produced","[kg CO2/t cli]",null,{"$f":"IF(G$40=\"\",\"\",IF(G$40=0,\"n. appl.\",G175/G$40*1000))","v":""},"","","","","","","","","","","","","","","","","","","","","","","","","","","","","","","","","","","","","","","","","","","","","","","","","","","","","","","","","","","",""]
[null,"60a",null,"calcination component","[kg CO2/t cli]",null,{"$f":"IF(G$40=\"\",\"\",IF(G$40=0,\"n. appl.\",G176/G$40*1000))","v":""},"","","","","","","","","","","","","","","","","","","","","","","","","","","","","","","","","","","","","","","","","","","","","","","","","","","","","","","","","","","",""]
[null,"60b",null,"fuel component","[kg CO2/t cli]",null,{"$f":"IF(G$40=\"\",\"\",IF(G$40=0,\"n. appl.\",G177/G$40*1000))","v":""},"","","","","","","","","","","","","","","","","","","","","","","","","","","","","","","","","","","","","","","","","","","","","","","","","","","","","","","","","","","",""]
[null,73,"Specific net CO2 ","per tonne of clinker produced","[kg CO2/t cli]",null,{"$f":"IF(G$40=\"\",\"\",IF(G$40=0,\"n. appl.\",G179/G$40*1000))","v":""},"","","","","","","","","","","","","","","","","","","","","","","","","","","","","","",{"$f":"IF(AL$40=\"\",\"\",IF(AL$40=0,\"n. appl.\",AL179/AL$40*1000))","v":""},{"$f":"IF(AM$40=\"\",\"\",IF(AM$40=0,\"n. appl.\",AM179/AM$40*1000))","v":""},{"$f":"IF(AN$40=\"\",\"\",IF(AN$40=0,\"n. appl.\",AN179/AN$40*1000))","v":""},{"$f":"IF(AO$40=\"\",\"\",IF(AO$40=0,\"n. appl.\",AO179/AO$40*1000))","v":""},{"$f":"IF(AP$40=\"\",\"\",IF(AP$40=0,\"n. appl.\",AP179/AP$40*1000))","v":""},{"$f":"IF(AQ$40=\"\",\"\",IF(AQ$40=0,\"n. appl.\",AQ179/AQ$40*1000))","v":""},"","","","","","","","","","","","","","","","","","","","","","","",""]
[]
[null,"Specific Gross and Net CO2 Emissions per Cement (equivalent)",null,null,null,null,{"$f":"G$7","v":1990},1991,1992,1993,1994,1995,1996,1997,1998,1999,2000,2001,2002,2003,2004,2005,2006,2007,2008,2009,2010,2011,2012,2013,2014,2015,2016,2017,2018,2019,2020,2021,2022,2023,2024,2025,2026,2027,2028,2029,2030,2031,2032,2033,2034,2035,2036,2037,2038,2039,2040,2041,2042,2043,2044,2045,2046,2047,2048,2049,2050]
[null,63,"Specific gross CO2","per tonne of cement (eq.)","[kg CO2/t cem eq.]",null,{"$f":"IF(OR(G175=\"\",G68=\"n. appl.\"),\"n. appl.\",G175/G68*1000)","v":"n. appl."},{"$f":"IF(OR(H175=\"\",H68=\"n. appl.\"),\"n. appl.\",H175/H68*1000)","v":"n. appl."},"n. appl.","n. appl.","n. appl.","n. appl.","n. appl.","n. appl.","n. appl.","n. appl.","n. appl.","n. appl.","n. appl.","n. appl.","n. appl.","n. appl.","n. appl.","n. appl.","n. appl.","n. appl.","n. appl.","n. appl.","n. appl.","n. appl.","n. appl.","n. appl.","n. appl.","n. appl.","n. appl.","n. appl.","n. appl.","n. appl.","n. appl.","n. appl.","n. appl.","n. appl.","n. appl.","n. appl.","n. appl.","n. appl.","n. appl.","n. appl.","n. appl.","n. appl.","n. appl.","n. appl.","n. appl.","n. appl.","n. appl.","n. appl.","n. appl.","n. appl.","n. appl.","n. appl.","n. appl.","n. appl.","n. appl.","n. appl.","n. appl.","n. appl.","n. appl."]
[null,"63a",null,"calcination component","[kg CO2/t cem eq.]",null,{"$f":"IF(G$40=\"\",\"\",IF(OR(G$40=0,G46=0),\"n. appl.\",G176/G$68*1000))","v":""},{"$f":"IF(H$40=\"\",\"\",IF(OR(H$40=0,H46=0),\"n. appl.\",H176/H$68*1000))","v":""},"","","","","","","","","","","","","","","","","","","","","","","","","","","","","","","","","","","","","","","","","","","","","","","","","","","","","","","","","","",""]
[null,"63b",null,"fuel component","[kg CO2/t cem eq.]",null,{"$f":"IF(G$40=\"\",\"\",IF(OR(G$40=0,G46=0),\"n. appl.\",G177/G$68*1000))","v":""},{"$f":"IF(H$40=\"\",\"\",IF(OR(H$40=0,H46=0),\"n. appl.\",H177/H$68*1000))","v":""},"","","","","","","","","","","","","","","","","","","","","","","","","","","","","","","","","","","","","","","","","","","","","","","","","","","","","","","","","","",""]
[null,{"$f":"B199+1","v":75},"Specific net CO2 ","per tonne of cement (eq.)","[kg CO2/t cem eq.]",null,{"$f":"IF(OR(G$68=\"n. appl.\",G$68=0),\"n. appl.\",G179/G$68*1000)","v":"n. appl."},{"$f":"IF(OR(H$68=\"n. appl.\",H$68=0),\"n. appl.\",H179/H$68*1000)","v":"n. appl."},"n. appl.","n. appl.","n. appl.","n. appl.","n. appl.","n. appl.","n. appl.","n. appl.","n. appl.","n. appl.","n. appl.","n. appl.","n. appl.","n. appl.","n. appl.","n. appl.","n. appl.","n. appl.","n. appl.","n. appl.","n. appl.","n. appl.","n. appl.","n. appl.","n. appl.","n. appl.","n. appl.","n. appl.","n. appl.","n. appl.","n. appl.","n. appl.","n. appl.","n. appl.","n. appl.","n. appl.","n. appl.","n. appl.","n. appl.","n. appl.","n. appl.","n. appl.","n. appl.","n. appl.","n. appl.","n. appl.","n. appl.","n. appl.","n. appl.","n. appl.","n. appl.","n. appl.","n. appl.","n. appl.","n. appl.","n. appl.","n. appl.","n. appl.","n. appl."]
[]
[null,"Specific Gross and Net CO2 Emissions per Cementitious Produced",null,null,null,null,{"$f":"G$7","v":1990},1991,1992,1993,1994,1995,1996,1997,1998,1999,2000,2001,2002,2003,2004,2005,2006,2007,2008,2009,2010,2011,2012,2013,2014,2015,2016,2017,2018,2019,2020,2021,2022,2023,2024,2025,2026,2027,2028,2029,2030,2031,2032,2033,2034,2035,2036,2037,2038,2039,2040,2041,2042,2043,2044,2045,2046,2047,2048,2049,2050]
[null,62,"Specific gross CO2 ","per tonne of cementitious product","[kg CO2/t cem prod]",null,{"$f":"IF(G$67=\"\",\"\",IF(G$67=0,\"n. appl.\",G175/G$67*1000))","v":""},{"$f":"IF(H$67=\"\",\"\",IF(H$67=0,\"n. appl.\",H175/H$67*1000))","v":""},"","","","","","","","","","","","","","","","","","","","","","","","","","","","","","","","","","","","","","","","","","","","","","","","","","","","","","","","","","",""]
[null,"62a",null,"calcination component","[kg CO2/t cem prod]",null,{"$f":"IF(G$67=\"\",\"\",IF(G$67=0,\"n. appl.\",G176/G$67*1000))","v":""},"","","","","","","","","","","","","","","","","","","","","","","","","","","","","","","","","","","","","","","","","","","","","","","","","","","","","","","","","","","",""]
[null,"62b",null,"fuel component","[kg CO2/t cem prod]",null,{"$f":"IF(G$67=\"\",\"\",IF(G$67=0,\"n. appl.\",G177/G$67*1000))","v":""},"","","","","","","","","","","","","","","","","","","","","","","","","","","","","","","","","","","","","","","","","","","","","","","","","","","","","","","","","","","",""]
[null,{"$f":"B187+1","v":74},"Specific net CO2 ","per tonne of cementitious product","[kg CO2/t cem prod]",null,{"$f":"IF(G$67=\"\",\"\",IF(G$67=0,\"n. appl.\",G179/G$67*1000))","v":""},"","","","","","","","","","","","","","","","","","","","","","","","","","","","","","",{"$f":"IF(AL$67=\"\",\"\",IF(AL$67=0,\"n. appl.\",AL179/AL$67*1000))","v":""},{"$f":"IF(AM$67=\"\",\"\",IF(AM$67=0,\"n. appl.\",AM179/AM$67*1000))","v":""},{"$f":"IF(AN$67=\"\",\"\",IF(AN$67=0,\"n. appl.\",AN179/AN$67*1000))","v":""},{"$f":"IF(AO$67=\"\",\"\",IF(AO$67=0,\"n. appl.\",AO179/AO$67*1000))","v":""},{"$f":"IF(AP$67=\"\",\"\",IF(AP$67=0,\"n. appl.\",AP179/AP$67*1000))","v":""},{"$f":"IF(AQ$67=\"\",\"\",IF(AQ$67=0,\"n. appl.\",AQ179/AQ$67*1000))","v":""},"","","","","","","","","","","","","","","","","","","","","","","",""]
[null,77,"Improvement rate  -  net CO2 per tonne of cementitious product",null,"[% relative to base yr]",null,{"$f":"IF(G199=\"\",\"\",IF(OR($G199=\"n. appl.\",$G199=0),\"n. appl.\",(G199-$G199)/$G199))","v":""},"","","","","","","","","","","","","","","","","","","","","","","","","","","","","","","","","","","","","","","","","","","","","","","","","","","","","","","","","","","",""]
[]
[null,"Specific Indirect CO2 Emission",null,null,null,null,{"$f":"G$7","v":1990},1991,1992,1993,1994,1995,1996,1997,1998,1999,2000,2001,2002,2003,2004,2005,2006,2007,2008,2009,2010,2011,2012,2013,2014,2015,2016,2017,2018,2019,2020,2021,2022,2023,2024,2025,2026,2027,2028,2029,2030,2031,2032,2033,2034,2035,2036,2037,2038,2039,2040,2041,2042,2043,2044,2045,2046,2047,2048,2049,2050]
[null,"82c","Specific indirect CO2 from external power generation per tonne of cement (eq.)",null,"[kg CO2/t cem eq.]",null,{"$f":"IF(OR(G$68=\"n. appl.\",G$68=0),\"n. appl.\",G162/G$68*1000)","v":"n. appl."},{"$f":"IF(OR(H$68=\"n. appl.\",H$68=0),\"n. appl.\",H162/H$68*1000)","v":"n. appl."},"n. appl.","n. appl.","n. appl.","n. appl.","n. appl.","n. appl.","n. appl.","n. appl.","n. appl.","n. appl.","n. appl.","n. appl.","n. appl.","n. appl.","n. appl.","n. appl.","n. appl.","n. appl.","n. appl.","n. appl.","n. appl.","n. appl.","n. appl.","n. appl.","n. appl.","n. appl.","n. appl.","n. appl.","n. appl.","n. appl.","n. appl.","n. appl.","n. appl.","n. appl.","n. appl.","n. appl.","n. appl.","n. appl.","n. appl.","n. appl.","n. appl.","n. appl.","n. appl.","n. appl.","n. appl.","n. appl.","n. appl.","n. appl.","n. appl.","n. appl.","n. appl.","n. appl.","n. appl.","n. appl.","n. appl.","n. appl.","n. appl.","n. appl.","n. appl."]
[null,"82a","Specific indirect CO2 from external power generation per tonne of cementitious product",null,"[kg CO2/t cem prod]",null,{"$f":"IF(G$67=\"\",\"\",IF(G$67=0,\"n. appl.\",G162/G$67*1000))","v":""},{"$f":"IF(H$67=\"\",\"\",IF(H$67=0,\"n. appl.\",H162/H$67*1000))","v":""},"","","","","","","","","","","","","","","","","","","","","","","","","","","","","","","","","","","","","","","","","","","","","","","","","","","","","","","","","","",""]
[null,"82b","Specific indirect CO2 from net clinker imports (+) / exports (-) per tonne of cementitious product",null,"[kg CO2/t cem prod]",null,{"$f":"IF(G$67=\"\",\"\",IF(G$67=0,\"n. appl.\",G164/G$67*1000))","v":""},{"$f":"IF(H$67=\"\",\"\",IF(H$67=0,\"n. appl.\",H164/H$67*1000))","v":""},"","","","","","","","","","","","","","","","","","","","","","","","","","","","","","","","","","","","","","","","","","","","","","","","","","","","","","","","","","",""]
[]
[null,"General Performance Indicators",null,null,null,null,{"$f":"G$7","v":1990},1991,1992,1993,1994,1995,1996,1997,1998,1999,2000,2001,2002,2003,2004,2005,2006,2007,2008,2009,2010,2011,2012,2013,2014,2015,2016,2017,2018,2019,2020,2021,2022,2023,2024,2025,2026,2027,2028,2029,2030,2031,2032,2033,2034,2035,2036,2037,2038,2039,2040,2041,2042,2043,2044,2045,2046,2047,2048,2049,2050]
[null,91,"Net outbound clinker per net clinker consumption",null,"[%]",null,{"$f":"IF(G46=\"\",\"\",IF(G46=0,\"n. appl.\",(G42-G41-G44-G45)/G46))","v":""},{"$f":"IF(H46=\"\",\"\",IF(H46=0,\"n. appl.\",(H42-H41-H44-H45)/H46))","v":""},"","","","","","","","","","","","","","","","","","","","","","","","","","","","","","","","","","","","","","","","","","","","","","","","","","","","","","","","","","",""]
[null,"92a","Clinker/cement (eq.) factor*",null,"[%]",null,{"$f":"IF(OR(G46=\"\",G65=\"\",G46=0,G65=0),\"n. appl.\",G46/G65)","v":"n. appl."},{"$f":"IF(OR(H46=\"\",H65=\"\",H46=0,H65=0),\"n. appl.\",H46/H65)","v":"n. appl."},"n. appl.","n. appl.","n. appl.","n. appl.","n. appl.","n. appl.","n. appl.","n. appl.","n. appl.","n. appl.","n. appl.","n. appl.","n. appl.","n. appl.","n. appl.","n. appl.","n. appl.","n. appl.","n. appl.","n. appl.","n. appl.","n. appl.","n. appl.","n. appl.","n. appl.","n. appl.","n. appl.","n. appl.","n. appl.","n. appl.","n. appl.","n. appl.","n. appl.","n. appl.","n. appl.","n. appl.","n. appl.","n. appl.","n. appl.","n. appl.","n. appl.","n. appl.","n. appl.","n. appl.","n. appl.","n. appl.","n. appl.","n. appl.","n. appl.","n. appl.","n. appl.","n. appl.","n. appl.","n. appl.","n. appl.","n. appl.","n. appl.","n. appl.","n. appl."]
[null,{"$f":"B208+1","v":92},"Clinker/cementitious factor*",null,"[%]",null,{"$f":"IF(G66=\"\",\"\",IF(G66=0,\"n. appl.\",G46/G66))","v":""},"","","","","","","","","","","","","","","","","","","","","","","","","","","","","","",{"$f":"IF(AL66=\"\",\"\",IF(AL66=0,\"n. appl.\",AL46/AL66))","v":""},{"$f":"IF(AM66=\"\",\"\",IF(AM66=0,\"n. appl.\",AM46/AM66))","v":""},{"$f":"IF(AN66=\"\",\"\",IF(AN66=0,\"n. appl.\",AN46/AN66))","v":""},{"$f":"IF(AO66=\"\",\"\",IF(AO66=0,\"n. appl.\",AO46/AO66))","v":""},{"$f":"IF(AP66=\"\",\"\",IF(AP66=0,\"n. appl.\",AP46/AP66))","v":""},{"$f":"IF(AQ66=\"\",\"\",IF(AQ66=0,\"n. appl.\",AQ46/AQ66))","v":""},"","","","","","","","","","","","","","","","","","","","","","","",""]
[]
[null,{"$f":"B210+1","v":93},"Specific heat consumption of clinker production",null,"[MJ/t cli]",null,{"$f":"IF(G40=\"\",\"\",IF(G40=0,\"n. appl.\",G76*10^6/G40))","v":""},"","","","","","","","","","","","","","","","","","","","","","","","","","","","","","",{"$f":"IF(AL40=\"\",\"\",IF(AL40=0,\"n. appl.\",AL76*10^6/AL40))","v":""},{"$f":"IF(AM40=\"\",\"\",IF(AM40=0,\"n. appl.\",AM76*10^6/AM40))","v":""},{"$f":"IF(AN40=\"\",\"\",IF(AN40=0,\"n. appl.\",AN76*10^6/AN40))","v":""},{"$f":"IF(AO40=\"\",\"\",IF(AO40=0,\"n. appl.\",AO76*10^6/AO40))","v":""},{"$f":"IF(AP40=\"\",\"\",IF(AP40=0,\"n. appl.\",AP76*10^6/AP40))","v":""},{"$f":"IF(AQ40=\"\",\"\",IF(AQ40=0,\"n. appl.\",AQ76*10^6/AQ40))","v":""},"","","","","","","","","","","","","","","","","","","","","","","",""]
[null,{"$f":"B212+1","v":94},"Conventional fossil fuel rate (kiln fuels)",null,"[%]",null,{"$f":"IF(G$76=\"\",\"\",IF(G$76=0,\"n. appl.\",G78/G$76))","v":"n. appl."},{"$f":"IF(H$76=\"\",\"\",IF(H$76=0,\"n. appl.\",H78/H$76))","v":"n. appl."},"n. appl.","n. appl.","n. appl.","n. appl.","n. appl.","n. appl.","n. appl.","n. appl.","n. appl.","n. appl.","n. appl.","n. appl.","n. appl.","n. appl.","n. appl.","n. appl.","n. appl.","n. appl.","n. appl.","n. appl.","n. appl.","n. appl.","n. appl.","n. appl.","n. appl.","n. appl.","n. appl.","n. appl.","n. appl.","n. appl.","n. appl.","n. appl.","n. appl.","n. appl.","n. appl.","n. appl.","n. appl.","n. appl.","n. appl.","n. appl.","n. appl.","n. appl.","n. appl.","n. appl.","n. appl.","n. appl.","n. appl.","n. appl.","n. appl.","n. appl.","n. appl.","n. appl.","n. appl.","n. appl.","n. appl.","n. appl.","n. appl.","n. appl.","n. appl."]
[null,{"$f":"B213+1","v":95},"Alternative fossil fuel rate (kiln fuels)",null,"[%]",null,{"$f":"IF(G$76=\"\",\"\",IF(G$76=0,\"n. appl.\",G79/G$76))","v":"n. appl."},"n. appl.","n. appl.","n. appl.","n. appl.","n. appl.","n. appl.","n. appl.","n. appl.","n. appl.","n. appl.","n. appl.","n. appl.","n. appl.","n. appl.","n. appl.","n. appl.","n. appl.","n. appl.","n. appl.","n. appl.","n. appl.","n. appl.","n. appl.","n. appl.","n. appl.","n. appl.","n. appl.","n. appl.","n. appl.","n. appl.","n. appl.","n. appl.","n. appl.","n. appl.","n. appl.","n. appl.","n. appl.","n. appl.","n. appl.","n. appl.","n. appl.","n. appl.","n. appl.","n. appl.","n. appl.","n. appl.","n. appl.","n. appl.","n. appl.","n. appl.","n. appl.","n. appl.","n. appl.","n. appl.","n. appl.","n. appl.","n. appl.","n. appl.","n. appl.","n. appl."]
[null,{"$f":"B214+1","v":96},"Biomass fuel rate (kiln fuels)",null,"[%]",null,{"$f":"IF(G$76=\"\",\"\",IF(G$76=0,\"n. appl.\",G80/G$76))","v":"n. appl."},"n. appl.","n. appl.","n. appl.","n. appl.","n. appl.","n. appl.","n. appl.","n. appl.","n. appl.","n. appl.","n. appl.","n. appl.","n. appl.","n. appl.","n. appl.","n. appl.","n. appl.","n. appl.","n. appl.","n. appl.","n. appl.","n. appl.","n. appl.","n. appl.","n. appl.","n. appl.","n. appl.","n. appl.","n. appl.","n. appl.","n. appl.","n. appl.","n. appl.","n. appl.","n. appl.","n. appl.","n. appl.","n. appl.","n. appl.","n. appl.","n. appl.","n. appl.","n. appl.","n. appl.","n. appl.","n. appl.","n. appl.","n. appl.","n. appl.","n. appl.","n. appl.","n. appl.","n. appl.","n. appl.","n. appl.","n. appl.","n. appl.","n. appl.","n. appl.","n. appl."]
[null,"96a","CO2 emission factor for kiln fuel mix ",null,"[kg CO2/GJ]",null,{"$f":"IF(G149=\"\",\"\",IF(G149=0,\"n. appl.\",G149/G76))","v":"n. appl."},{"$f":"IF(H149=\"\",\"\",IF(H149=0,\"n. appl.\",H149/H76))","v":"n. appl."},"n. appl.","n. appl.","n. appl.","n. appl.","n. appl.","n. appl.","n. appl.","n. appl.","n. appl.","n. appl.","n. appl.","n. appl.","n. appl.","n. appl.","n. appl.","n. appl.","n. appl.","n. appl.","n. appl.","n. appl.","n. appl.","n. appl.","n. appl.","n. appl.","n. appl.","n. appl.","n. appl.","n. appl.","n. appl.","n. appl.","n. appl.","n. appl.","n. appl.","n. appl.","n. appl.","n. appl.","n. appl.","n. appl.","n. appl.","n. appl.","n. appl.","n. appl.","n. appl.","n. appl.","n. appl.","n. appl.","n. appl.","n. appl.","n. appl.","n. appl.","n. appl.","n. appl.","n. appl.","n. appl.","n. appl.","n. appl.","n. appl.","n. appl.","n. appl."]
[null,"96b","Total conventional fossil fuel rate at plant level ",null,"[%]",null,{"$f":"IF(AND(G$76=0,G$502=0,G$506=0,G$508=0,G$513=0,G$520=0,G$522=0,G$525=0,G$532=0,G$534=0),\"n. appl.\",(G78+G502+(G506*(1-G375))+G508+G513+G525)/(G$76+G$502+G$506+G$508+G$513+G$520+G$522+G$525+G$532+G$534))","v":"n. appl."},"n. appl.","n. appl.","n. appl.","n. appl.","n. appl.","n. appl.","n. appl.","n. appl.","n. appl.","n. appl.","n. appl.","n. appl.","n. appl.","n. appl.","n. appl.","n. appl.","n. appl.","n. appl.","n. appl.","n. appl.","n. appl.","n. appl.","n. appl.","n. appl.","n. appl.","n. appl.","n. appl.","n. appl.","n. appl.","n. appl.",{"$f":"IF(AND(AL$76=0,AL$502=0,AL$506=0,AL$508=0,AL$513=0,AL$520=0,AL$522=0,AL$525=0,AL$532=0,AL$534=0),\"n. appl.\",(AL78+AL502+(AL506*(1-AL375))+AL508+AL513+AL525)/(AL$76+AL$502+AL$506+AL$508+AL$513+AL$520+AL$522+AL$525+AL$532+AL$534))","v":"n. appl."},{"$f":"IF(AND(AM$76=0,AM$502=0,AM$506=0,AM$508=0,AM$513=0,AM$520=0,AM$522=0,AM$525=0,AM$532=0,AM$534=0),\"n. appl.\",(AM78+AM502+(AM506*(1-AM375))+AM508+AM513+AM525)/(AM$76+AM$502+AM$506+AM$508+AM$513+AM$520+AM$522+AM$525+AM$532+AM$534))","v":"n. appl."},{"$f":"IF(AND(AN$76=0,AN$502=0,AN$506=0,AN$508=0,AN$513=0,AN$520=0,AN$522=0,AN$525=0,AN$532=0,AN$534=0),\"n. appl.\",(AN78+AN502+(AN506*(1-AN375))+AN508+AN513+AN525)/(AN$76+AN$502+AN$506+AN$508+AN$513+AN$520+AN$522+AN$525+AN$532+AN$534))","v":"n. appl."},{"$f":"IF(AND(AO$76=0,AO$502=0,AO$506=0,AO$508=0,AO$513=0,AO$520=0,AO$522=0,AO$525=0,AO$532=0,AO$534=0),\"n. appl.\",(AO78+AO502+(AO506*(1-AO375))+AO508+AO513+AO525)/(AO$76+AO$502+AO$506+AO$508+AO$513+AO$520+AO$522+AO$525+AO$532+AO$534))","v":"n. appl."},{"$f":"IF(AND(AP$76=0,AP$502=0,AP$506=0,AP$508=0,AP$513=0,AP$520=0,AP$522=0,AP$525=0,AP$532=0,AP$534=0),\"n. appl.\",(AP78+AP502+(AP506*(1-AP375))+AP508+AP513+AP525)/(AP$76+AP$502+AP$506+AP$508+AP$513+AP$520+AP$522+AP$525+AP$532+AP$534))","v":"n. appl."},{"$f":"IF(AND(AQ$76=0,AQ$502=0,AQ$506=0,AQ$508=0,AQ$513=0,AQ$520=0,AQ$522=0,AQ$525=0,AQ$532=0,AQ$534=0),\"n. appl.\",(AQ78+AQ502+(AQ506*(1-AQ375))+AQ508+AQ513+AQ525)/(AQ$76+AQ$502+AQ$506+AQ$508+AQ$513+AQ$520+AQ$522+AQ$525+AQ$532+AQ$534))","v":"n. appl."},"n. appl.","n. appl.","n. appl.","n. appl.","n. appl.","n. appl.","n. appl.","n. appl.","n. appl.","n. appl.","n. appl.","n. appl.","n. appl.","n. appl.","n. appl.","n. appl.","n. appl.","n. appl.","n. appl.","n. appl.","n. appl.","n. appl.","n. appl.","n. appl."]
[null,"96c","Total alternative fossil fuel rate at plant level ",null,"[%]",null,{"$f":"IF(AND(G$76=0,G$502=0,G$506=0,G$508=0,G$513=0,G$520=0,G$522=0,G$525=0,G$532=0,G$534=0),\"n. appl.\",(G79+G520+G532)/(G$76+G$502+G$506+G$508+G$513+G$520+G$522+G$525+G$532+G$534))","v":"n. appl."},"n. appl.","n. appl.","n. appl.","n. appl.","n. appl.","n. appl.","n. appl.","n. appl.","n. appl.","n. appl.","n. appl.","n. appl.","n. appl.","n. appl.","n. appl.","n. appl.","n. appl.","n. appl.","n. appl.","n. appl.","n. appl.","n. appl.","n. appl.","n. appl.","n. appl.","n. appl.","n. appl.","n. appl.","n. appl.","n. appl.",{"$f":"IF(AND(AL$76=0,AL$502=0,AL$506=0,AL$508=0,AL$513=0,AL$520=0,AL$522=0,AL$525=0,AL$532=0,AL$534=0),\"n. appl.\",(AL79+AL520+AL532)/(AL$76+AL$502+AL$506+AL$508+AL$513+AL$520+AL$522+AL$525+AL$532+AL$534))","v":"n. appl."},{"$f":"IF(AND(AM$76=0,AM$502=0,AM$506=0,AM$508=0,AM$513=0,AM$520=0,AM$522=0,AM$525=0,AM$532=0,AM$534=0),\"n. appl.\",(AM79+AM520+AM532)/(AM$76+AM$502+AM$506+AM$508+AM$513+AM$520+AM$522+AM$525+AM$532+AM$534))","v":"n. appl."},{"$f":"IF(AND(AN$76=0,AN$502=0,AN$506=0,AN$508=0,AN$513=0,AN$520=0,AN$522=0,AN$525=0,AN$532=0,AN$534=0),\"n. appl.\",(AN79+AN520+AN532)/(AN$76+AN$502+AN$506+AN$508+AN$513+AN$520+AN$522+AN$525+AN$532+AN$534))","v":"n. appl."},{"$f":"IF(AND(AO$76=0,AO$502=0,AO$506=0,AO$508=0,AO$513=0,AO$520=0,AO$522=0,AO$525=0,AO$532=0,AO$534=0),\"n. appl.\",(AO79+AO520+AO532)/(AO$76+AO$502+AO$506+AO$508+AO$513+AO$520+AO$522+AO$525+AO$532+AO$534))","v":"n. appl."},{"$f":"IF(AND(AP$76=0,AP$502=0,AP$506=0,AP$508=0,AP$513=0,AP$520=0,AP$522=0,AP$525=0,AP$532=0,AP$534=0),\"n. appl.\",(AP79+AP520+AP532)/(AP$76+AP$502+AP$506+AP$508+AP$513+AP$520+AP$522+AP$525+AP$532+AP$534))","v":"n. appl."},{"$f":"IF(AND(AQ$76=0,AQ$502=0,AQ$506=0,AQ$508=0,AQ$513=0,AQ$520=0,AQ$522=0,AQ$525=0,AQ$532=0,AQ$534=0),\"n. appl.\",(AQ79+AQ520+AQ532)/(AQ$76+AQ$502+AQ$506+AQ$508+AQ$513+AQ$520+AQ$522+AQ$525+AQ$532+AQ$534))","v":"n. appl."},"n. appl.","n. appl.","n. appl.","n. appl.","n. appl.","n. appl.","n. appl.","n. appl.","n. appl.","n. appl.","n. appl.","n. appl.","n. appl.","n. appl.","n. appl.","n. appl.","n. appl.","n. appl.","n. appl.","n. appl.","n. appl.","n. appl.","n. appl.","n. appl."]
[null,"96d","Total biomass fuel rate at plant level ",null,"[%]",null,{"$f":"IF(AND(G$76=0,G$502=0,G$506=0,G$508=0,G$513=0,G$520=0,G$522=0,G$525=0,G$532=0,G$534=0),\"n. appl.\",(G80+(G506*G375)+G522+G534)/(G$76+G$502+G$506+G$508+G$513+G$520+G$522+G$525+G$532+G$534))","v":"n. appl."},"n. appl.","n. appl.","n. appl.","n. appl.","n. appl.","n. appl.","n. appl.","n. appl.","n. appl.","n. appl.","n. appl.","n. appl.","n. appl.","n. appl.","n. appl.","n. appl.","n. appl.","n. appl.","n. appl.","n. appl.","n. appl.","n. appl.","n. appl.","n. appl.","n. appl.","n. appl.","n. appl.","n. appl.","n. appl.","n. appl.",{"$f":"IF(AND(AL$76=0,AL$502=0,AL$506=0,AL$508=0,AL$513=0,AL$520=0,AL$522=0,AL$525=0,AL$532=0,AL$534=0),\"n. appl.\",(AL80+(AL506*AL375)+AL522+AL534)/(AL$76+AL$502+AL$506+AL$508+AL$513+AL$520+AL$522+AL$525+AL$532+AL$534))","v":"n. appl."},{"$f":"IF(AND(AM$76=0,AM$502=0,AM$506=0,AM$508=0,AM$513=0,AM$520=0,AM$522=0,AM$525=0,AM$532=0,AM$534=0),\"n. appl.\",(AM80+(AM506*AM375)+AM522+AM534)/(AM$76+AM$502+AM$506+AM$508+AM$513+AM$520+AM$522+AM$525+AM$532+AM$534))","v":"n. appl."},{"$f":"IF(AND(AN$76=0,AN$502=0,AN$506=0,AN$508=0,AN$513=0,AN$520=0,AN$522=0,AN$525=0,AN$532=0,AN$534=0),\"n. appl.\",(AN80+(AN506*AN375)+AN522+AN534)/(AN$76+AN$502+AN$506+AN$508+AN$513+AN$520+AN$522+AN$525+AN$532+AN$534))","v":"n. appl."},{"$f":"IF(AND(AO$76=0,AO$502=0,AO$506=0,AO$508=0,AO$513=0,AO$520=0,AO$522=0,AO$525=0,AO$532=0,AO$534=0),\"n. appl.\",(AO80+(AO506*AO375)+AO522+AO534)/(AO$76+AO$502+AO$506+AO$508+AO$513+AO$520+AO$522+AO$525+AO$532+AO$534))","v":"n. appl."},{"$f":"IF(AND(AP$76=0,AP$502=0,AP$506=0,AP$508=0,AP$513=0,AP$520=0,AP$522=0,AP$525=0,AP$532=0,AP$534=0),\"n. appl.\",(AP80+(AP506*AP375)+AP522+AP534)/(AP$76+AP$502+AP$506+AP$508+AP$513+AP$520+AP$522+AP$525+AP$532+AP$534))","v":"n. appl."},{"$f":"IF(AND(AQ$76=0,AQ$502=0,AQ$506=0,AQ$508=0,AQ$513=0,AQ$520=0,AQ$522=0,AQ$525=0,AQ$532=0,AQ$534=0),\"n. appl.\",(AQ80+(AQ506*AQ375)+AQ522+AQ534)/(AQ$76+AQ$502+AQ$506+AQ$508+AQ$513+AQ$520+AQ$522+AQ$525+AQ$532+AQ$534))","v":"n. appl."},"n. appl.","n. appl.","n. appl.","n. appl.","n. appl.","n. appl.","n. appl.","n. appl.","n. appl.","n. appl.","n. appl.","n. appl.","n. appl.","n. appl.","n. appl.","n. appl.","n. appl.","n. appl.","n. appl.","n. appl.","n. appl.","n. appl.","n. appl.","n. appl."]
[]
[null,{"$f":"B215+1","v":97},"Specific total power consumption*",null,"[kWh/t cem prod]",null,{"$f":"IF(G66=\"\",\"\",IF(G66=0,\"n. appl.\",G105/G66*1000))","v":""},{"$f":"IF(H66=\"\",\"\",IF(H66=0,\"n. appl.\",H105/H66*1000))","v":""},"","","","","","","","","","","","","","","","","","","","","","","","","","","","","","","","","","","","","","","","","","","","","","","","","","","","","","","","","","",""]
[null,98,"Specific power consumption of clinker production",null,"[kWh/t cli]",null,{"$f":"IF(G40=\"\",\"\",IF(G40=0,\"n. appl.\",G104/G40*1000))","v":""},"","","","","","","","","","","","","","","","","","","","","","","","","","","","","","",{"$f":"IF(AL40=\"\",\"\",IF(AL40=0,\"n. appl.\",AL104/AL40*1000))","v":""},{"$f":"IF(AM40=\"\",\"\",IF(AM40=0,\"n. appl.\",AM104/AM40*1000))","v":""},{"$f":"IF(AN40=\"\",\"\",IF(AN40=0,\"n. appl.\",AN104/AN40*1000))","v":""},{"$f":"IF(AO40=\"\",\"\",IF(AO40=0,\"n. appl.\",AO104/AO40*1000))","v":""},{"$f":"IF(AP40=\"\",\"\",IF(AP40=0,\"n. appl.\",AP104/AP40*1000))","v":""},{"$f":"IF(AQ40=\"\",\"\",IF(AQ40=0,\"n. appl.\",AQ104/AQ40*1000))","v":""},"","","","","","","","","","","","","","","","","","","","","","","",""]
[null,"98c","Specific power consumption of cement production*",null,"[kWh/t cem prod]",null,{"$f":"IF(OR(G66=\"\",G66=0),\"n. appl.\",IF(G222<>\"n. appl.\",(G222*G210)+(G105-G104)*1000/G66,(G105-G104)*1000/G66))","v":"n. appl."},{"$f":"IF(OR(H66=\"\",H66=0),\"n. appl.\",IF(H222<>\"n. appl.\",(H222*H210)+(H105-H104)*1000/H66,(H105-H104)*1000/H66))","v":"n. appl."},"n. appl.","n. appl.","n. appl.","n. appl.","n. appl.","n. appl.","n. appl.","n. appl.","n. appl.","n. appl.","n. appl.","n. appl.","n. appl.","n. appl.","n. appl.","n. appl.","n. appl.","n. appl.","n. appl.","n. appl.","n. appl.","n. appl.","n. appl.","n. appl.","n. appl.","n. appl.","n. appl.","n. appl.","n. appl.","n. appl.","n. appl.","n. appl.","n. appl.","n. appl.","n. appl.","n. appl.","n. appl.","n. appl.","n. appl.","n. appl.","n. appl.","n. appl.","n. appl.","n. appl.","n. appl.","n. appl.","n. appl.","n. appl.","n. appl.","n. appl.","n. appl.","n. appl.","n. appl.","n. appl.","n. appl.","n. appl.","n. appl.","n. appl.","n. appl."]
[null,"98a","National energy conversion factor",null,"[MJ/kWh]"]
[null,"98b","Total energy intensity of clinker production (fuel and power)",null,"[MJ/t cli]",null,{"$f":"IF(G224<>\"\",G222*G224+G212,\"\")","v":""},"","","","","","","","","","","","","","","","","","","","","","","","","","","","","","","","","","","","","","","","","","","","","","","","","","","","","","","","","","","",""]
[]
["KILN FUELS - DETAILED INFORMATION"]
[]
[null,"Kiln Fuel Consumption in tonnes per year",null,null,null,null,{"$f":"G$7","v":1990},1991,1992,1993,1994,1995,1996,1997,1998,1999,2000,2001,2002,2003,2004,2005,2006,2007,2008,2009,2010,2011,2012,2013,2014,2015,2016,2017,2018,2019,2020,2021,2022,2023,2024,2025,2026,2027,2028,2029,2030,2031,2032,2033,2034,2035,2036,2037,2038,2039,2040,2041,2042,2043,2044,2045,2046,2047,2048,2049,2050]
[null,101,"Conventional fossil fuels (excl. drying of raw materials and fuels)"]
[null,{"$f":"B230+1","v":102},null,"coal + anthracite","[t/yr]",null,0,0,0,0,0,0,0,0,0,0,0,0,0,0,0,0,0,0,0,0,0,0,0,0,0,0,0,0,0,0,0,0,0,0,0,0,0,0,0,0,0,0,0,0,0,0,0,0,0,0,0,0,0,0,0,0,0,0,0,0,0]
[null,103,null,"petrol coke","[t/yr]",null,0,0,0,0,0,0,0,0,0,0,0,0,0,0,0,0,0,0,0,0,0,0,0,0,0,0,0,0,0,0,0,0,0,0,0,0,0,0,0,0,0,0,0,0,0,0,0,0,0,0,0,0,0,0,0,0,0,0,0,0,0]
[null,104,null,"(ultra) heavy fuel","[t/yr]",null,0,0,0,0,0,0,0,0,0,0,0,0,0,0,0,0,0,0,0,0,0,0,0,0,0,0,0,0,0,0,0,0,0,0,0,0,0,0,0,0,0,0,0,0,0,0,0,0,0,0,0,0,0,0,0,0,0,0,0,0,0]
[null,105,null,"diesel oil","[t/yr]",null,0,0,0,0,0,0,0,0,0,0,0,0,0,0,0,0,0,0,0,0,0,0,0,0,0,0,0,0,0,0,0,0,0,0,0,0,0,0,0,0,0,0,0,0,0,0,0,0,0,0,0,0,0,0,0,0,0,0,0,0,0]
[null,106,null,"natural gas ","[1'000 Nm3/yr]",null,0,0,0,0,0,0,0,0,0,0,0,0,0,0,0,0,0,0,0,0,0,0,0,0,0,0,0,0,0,0,0,0,0,0,0,0,0,0,0,0,0,0,0,0,0,0,0,0,0,0,0,0,0,0,0,0,0,0,0,0,0]
[null,107,null,"shale","[t/yr]",null,0,0,0,0,0,0,0,0,0,0,0,0,0,0,0,0,0,0,0,0,0,0,0,0,0,0,0,0,0,0,0,0,0,0,0,0,0,0,0,0,0,0,0,0,0,0,0,0,0,0,0,0,0,0,0,0,0,0,0,0,0]
[null,"107a",null,"lignite","[t/yr]",null,0,0,0,0,0,0,0,0,0,0,0,0,0,0,0,0,0,0,0,0,0,0,0,0,0,0,0,0,0,0,0,0,0,0,0,0,0,0,0,0,0,0,0,0,0,0,0,0,0,0,0,0,0,0,0,0,0,0,0,0,0]
[null,{"$f":"B236+1","v":108},"Alternative fossil and mixed fuels (excl. drying of raw materials and fuels)"]
[null,{"$f":"B238+1","v":109},null,"waste oil","[t/yr]",null,0,0,0,0,0,0,0,0,0,0,0,0,0,0,0,0,0,0,0,0,0,0,0,0,0,0,0,0,0,0,0,0,0,0,0,0,0,0,0,0,0,0,0,0,0,0,0,0,0,0,0,0,0,0,0,0,0,0,0,0,0]
[null,{"$f":"B239+1","v":110},null,"tyres ","[t/yr]",null,0,0,0,0,0,0,0,0,0,0,0,0,0,0,0,0,0,0,0,0,0,0,0,0,0,0,0,0,0,0,0,0,0,0,0,0,0,0,0,0,0,0,0,0,0,0,0,0,0,0,0,0,0,0,0,0,0,0,0,0,0]
[null,{"$f":"B240+1","v":111},null,"RDF including plastics","[t/yr]",null,0,0,0,0,0,0,0,0,0,0,0,0,0,0,0,0,0,0,0,0,0,0,0,0,0,0,0,0,0,0,0,0,0,0,0,0,0,0,0,0,0,0,0,0,0,0,0,0,0,0,0,0,0,0,0,0,0,0,0,0,0]
[null,{"$f":"B241+1","v":112},null,"solvents","[t/yr]",null,0,0,0,0,0,0,0,0,0,0,0,0,0,0,0,0,0,0,0,0,0,0,0,0,0,0,0,0,0,0,0,0,0,0,0,0,0,0,0,0,0,0,0,0,0,0,0,0,0,0,0,0,0,0,0,0,0,0,0,0,0]
[null,{"$f":"B242+1","v":113},null,"impregnated saw dust","[t/yr]",null,0,0,0,0,0,0,0,0,0,0,0,0,0,0,0,0,0,0,0,0,0,0,0,0,0,0,0,0,0,0,0,0,0,0,0,0,0,0,0,0,0,0,0,0,0,0,0,0,0,0,0,0,0,0,0,0,0,0,0,0,0]
[null,"113a",null,"mixed industrial waste","[t/yr]",null,0,0,0,0,0,0,0,0,0,0,0,0,0,0,0,0,0,0,0,0,0,0,0,0,0,0,0,0,0,0,0,0,0,0,0,0,0,0,0,0,0,0,0,0,0,0,0,0,0,0,0,0,0,0,0,0,0,0,0,0,0]
[null,114,null,"other fossil based wastes and mixed fuels","[t/yr]",null,0,0,0,0,0,0,0,0,0,0,0,0,0,0,0,0,0,0,0,0,0,0,0,0,0,0,0,0,0,0,0,0,0,0,0,0,0,0,0,0,0,0,0,0,0,0,0,0,0,0,0,0,0,0,0,0,0,0,0,0,0]
[null,{"$f":"B245+1","v":115},"Biomass fuels (excl. drying of raw materials and fuels)"]
[null,116,null,"dried sewage sludge","[t/yr]",null,0,0,0,0,0,0,0,0,0,0,0,0,0,0,0,0,0,0,0,0,0,0,0,0,0,0,0,0,0,0,0,0,0,0,0,0,0,0,0,0,0,0,0,0,0,0,0,0,0,0,0,0,0,0,0,0,0,0,0,0,0]
[null,117,null,"wood, non impregnated saw dust","[t/yr]",null,0,0,0,0,0,0,0,0,0,0,0,0,0,0,0,0,0,0,0,0,0,0,0,0,0,0,0,0,0,0,0,0,0,0,0,0,0,0,0,0,0,0,0,0,0,0,0,0,0,0,0,0,0,0,0,0,0,0,0,0,0]
[null,118,null,"paper, carton","[t/yr]",null,0,0,0,0,0,0,0,0,0,0,0,0,0,0,0,0,0,0,0,0,0,0,0,0,0,0,0,0,0,0,0,0,0,0,0,0,0,0,0,0,0,0,0,0,0,0,0,0,0,0,0,0,0,0,0,0,0,0,0,0,0]
[null,119,null,"animal meal","[t/yr]",null,0,0,0,0,0,0,0,0,0,0,0,0,0,0,0,0,0,0,0,0,0,0,0,0,0,0,0,0,0,0,0,0,0,0,0,0,0,0,0,0,0,0,0,0,0,0,0,0,0,0,0,0,0,0,0,0,0,0,0,0,0]
[null,120,null,"animal bone meal","[t/yr]",null,0,0,0,0,0,0,0,0,0,0,0,0,0,0,0,0,0,0,0,0,0,0,0,0,0,0,0,0,0,0,0,0,0,0,0,0,0,0,0,0,0,0,0,0,0,0,0,0,0,0,0,0,0,0,0,0,0,0,0,0,0]
[null,121,null,"animal fat","[t/yr]",null,0,0,0,0,0,0,0,0,0,0,0,0,0,0,0,0,0,0,0,0,0,0,0,0,0,0,0,0,0,0,0,0,0,0,0,0,0,0,0,0,0,0,0,0,0,0,0,0,0,0,0,0,0,0,0,0,0,0,0,0,0]
[null,122,null,"agricultural, organic, diaper waste, charcoal","[t/yr]",null,0,0,0,0,0,0,0,0,0,0,0,0,0,0,0,0,0,0,0,0,0,0,0,0,0,0,0,0,0,0,0,0,0,0,0,0,0,0,0,0,0,0,0,0,0,0,0,0,0,0,0,0,0,0,0,0,0,0,0,0,0]
[null,123,null,"other biomass","[t/yr]",null,0,0,0,0,0,0,0,0,0,0,0,0,0,0,0,0,0,0,0,0,0,0,0,0,0,0,0,0,0,0,0,0,0,0,0,0,0,0,0,0,0,0,0,0,0,0,0,0,0,0,0,0,0,0,0,0,0,0,0,0,0]
[null,"Drying of raw materials and fuels",null,null,null,null,{"$f":"G$7","v":1990},1991,1992,1993,1994,1995,1996,1997,1998,1999,2000,2001,2002,2003,2004,2005,2006,2007,2008,2009,2010,2011,2012,2013,2014,2015,2016,2017,2018,2019,2020,2021,2022,2023,2024,2025,2026,2027,2028,2029,2030,2031,2032,2033,2034,2035,2036,2037,2038,2039,2040,2041,2042,2043,2044,2045,2046,2047,2048,2049,2050]
[null,124,"Conventional fossil fuels"]
[null,"124a",null,"coal + anthracite + lignite","[t/yr]",null,0,0,0,0,0,0,0,0,0,0,0,0,0,0,0,0,0,0,0,0,0,0,0,0,0,0,0,0,0,0,0,0,0,0,0,0,0,0,0,0,0,0,0,0,0,0,0,0,0,0,0,0,0,0,0,0,0,0,0,0,0]
[null,"124b",null,"petrol coke","[t/yr]",null,0,0,0,0,0,0,0,0,0,0,0,0,0,0,0,0,0,0,0,0,0,0,0,0,0,0,0,0,0,0,0,0,0,0,0,0,0,0,0,0,0,0,0,0,0,0,0,0,0,0,0,0,0,0,0,0,0,0,0,0,0]
[null,"124c",null,"(ultra) heavy fuel","[t/yr]",null,0,0,0,0,0,0,0,0,0,0,0,0,0,0,0,0,0,0,0,0,0,0,0,0,0,0,0,0,0,0,0,0,0,0,0,0,0,0,0,0,0,0,0,0,0,0,0,0,0,0,0,0,0,0,0,0,0,0,0,0,0]
[null,"124d",null,"diesel oil","[t/yr]",null,0,0,0,0,0,0,0,0,0,0,0,0,0,0,0,0,0,0,0,0,0,0,0,0,0,0,0,0,0,0,0,0,0,0,0,0,0,0,0,0,0,0,0,0,0,0,0,0,0,0,0,0,0,0,0,0,0,0,0,0,0]
[null,"124e",null,"natural gas ","[1'000 Nm3/yr]",null,0,0,0,0,0,0,0,0,0,0,0,0,0,0,0,0,0,0,0,0,0,0,0,0,0,0,0,0,0,0,0,0,0,0,0,0,0,0,0,0,0,0,0,0,0,0,0,0,0,0,0,0,0,0,0,0,0,0,0,0,0]
[null,"124f",null,"shale","[t/yr]",null,0,0,0,0,0,0,0,0,0,0,0,0,0,0,0,0,0,0,0,0,0,0,0,0,0,0,0,0,0,0,0,0,0,0,0,0,0,0,0,0,0,0,0,0,0,0,0,0,0,0,0,0,0,0,0,0,0,0,0,0,0]
[null,125,"Alternative fossil and mixed fuels"]
[null,"125a",null,"other fossil based wastes and mixed fuels","[t/yr]",null,0,0,0,0,0,0,0,0,0,0,0,0,0,0,0,0,0,0,0,0,0,0,0,0,0,0,0,0,0,0,0,0,0,0,0,0,0,0,0,0,0,0,0,0,0,0,0,0,0,0,0,0,0,0,0,0,0,0,0,0,0]
[null,126,"Alternative biomass fuels"]
[null,"126a",null,"other biomass","[t/yr]",null,0,0,0,0,0,0,0,0,0,0,0,0,0,0,0,0,0,0,0,0,0,0,0,0,0,0,0,0,0,0,0,0,0,0,0,0,0,0,0,0,0,0,0,0,0,0,0,0,0,0,0,0,0,0,0,0,0,0,0,0,0]
[]
[null,"Fuel Lower Heating Values",null,null,null,null,{"$f":"G$7","v":1990},1991,1992,1993,1994,1995,1996,1997,1998,1999,2000,2001,2002,2003,2004,2005,2006,2007,2008,2009,2010,2011,2012,2013,2014,2015,2016,2017,2018,2019,2020,2021,2022,2023,2024,2025,2026,2027,2028,2029,2030,2031,2032,2033,2034,2035,2036,2037,2038,2039,2040,2041,2042,2043,2044,2045,2046,2047,2048,2049,2050]
[null,131,"Conventional fossil fuels"]
[null,{"$f":"B269+1","v":132},null,"coal + anthracite","[GJ/t]",null,0,0,0,0,0,0,0,0,0,0,0,0,0,0,0,0,0,0,0,0,0,0,0,0,0,0,0,0,0,0,0,0,0,0,0,0,0,0,0,0,0,0,0,0,0,0,0,0,0,0,0,0,0,0,0,0,0,0,0,0,0]
[null,133,null,"petrol coke","[GJ/t]",null,0,0,0,0,0,0,0,0,0,0,0,0,0,0,0,0,0,0,0,0,0,0,0,0,0,0,0,0,0,0,0,0,0,0,0,0,0,0,0,0,0,0,0,0,0,0,0,0,0,0,0,0,0,0,0,0,0,0,0,0,0]
[null,134,null,"(ultra) heavy fuel","[GJ/t]",null,0,0,0,0,0,0,0,0,0,0,0,0,0,0,0,0,0,0,0,0,0,0,0,0,0,0,0,0,0,0,0,0,0,0,0,0,0,0,0,0,0,0,0,0,0,0,0,0,0,0,0,0,0,0,0,0,0,0,0,0,0]
[null,135,null,"diesel oil","[GJ/t]",null,0,0,0,0,0,0,0,0,0,0,0,0,0,0,0,0,0,0,0,0,0,0,0,0,0,0,0,0,0,0,0,0,0,0,0,0,0,0,0,0,0,0,0,0,0,0,0,0,0,0,0,0,0,0,0,0,0,0,0,0,0]
[null,136,null,"natural gas ","[GJ/1'000 Nm3]",null,0,0,0,0,0,0,0,0,0,0,0,0,0,0,0,0,0,0,0,0,0,0,0,0,0,0,0,0,0,0,0,0,0,0,0,0,0,0,0,0,0,0,0,0,0,0,0,0,0,0,0,0,0,0,0,0,0,0,0,0,0]
[null,137,null,"shale","[GJ/t]",null,0,0,0,0,0,0,0,0,0,0,0,0,0,0,0,0,0,0,0,0,0,0,0,0,0,0,0,0,0,0,0,0,0,0,0,0,0,0,0,0,0,0,0,0,0,0,0,0,0,0,0,0,0,0,0,0,0,0,0,0,0]
[null,"137a",null,"lignite","[GJ/t]",null,0,0,0,0,0,0,0,0,0,0,0,0,0,0,0,0,0,0,0,0,0,0,0,0,0,0,0,0,0,0,0,0,0,0,0,0,0,0,0,0,0,0,0,0,0,0,0,0,0,0,0,0,0,0,0,0,0,0,0,0,0]
[null,{"$f":"B275+1","v":138},"Alternative fossil and mixed fuels"]
[null,{"$f":"B277+1","v":139},null,"waste oil","[GJ/t]",null,0,0,0,0,0,0,0,0,0,0,0,0,0,0,0,0,0,0,0,0,0,0,0,0,0,0,0,0,0,0,0,0,0,0,0,0,0,0,0,0,0,0,0,0,0,0,0,0,0,0,0,0,0,0,0,0,0,0,0,0,0]
[null,{"$f":"B278+1","v":140},null,"tyres","[GJ/t]",null,0,0,0,0,0,0,0,0,0,0,0,0,0,0,0,0,0,0,0,0,0,0,0,0,0,0,0,0,0,0,0,0,0,0,0,0,0,0,0,0,0,0,0,0,0,0,0,0,0,0,0,0,0,0,0,0,0,0,0,0,0]
[null,{"$f":"B279+1","v":141},null,"RDF including plastics","[GJ/t]",null,0,0,0,0,0,0,0,0,0,0,0,0,0,0,0,0,0,0,0,0,0,0,0,0,0,0,0,0,0,0,0,0,0,0,0,0,0,0,0,0,0,0,0,0,0,0,0,0,0,0,0,0,0,0,0,0,0,0,0,0,0]
[null,{"$f":"B280+1","v":142},null,"solvents","[GJ/t]",null,0,0,0,0,0,0,0,0,0,0,0,0,0,0,0,0,0,0,0,0,0,0,0,0,0,0,0,0,0,0,0,0,0,0,0,0,0,0,0,0,0,0,0,0,0,0,0,0,0,0,0,0,0,0,0,0,0,0,0,0,0]
[null,{"$f":"B281+1","v":143},null,"impregnated saw dust","[GJ/t]",null,0,0,0,0,0,0,0,0,0,0,0,0,0,0,0,0,0,0,0,0,0,0,0,0,0,0,0,0,0,0,0,0,0,0,0,0,0,0,0,0,0,0,0,0,0,0,0,0,0,0,0,0,0,0,0,0,0,0,0,0,0]
[null,"143a",null,"mixed industrial waste","[GJ/t]",null,0,0,0,0,0,0,0,0,0,0,0,0,0,0,0,0,0,0,0,0,0,0,0,0,0,0,0,0,0,0,0,0,0,0,0,0,0,0,0,0,0,0,0,0,0,0,0,0,0,0,0,0,0,0,0,0,0,0,0,0,0]
[null,144,null,"other fossil based wastes and mixed fuels","[GJ/t]",null,0,0,0,0,0,0,0,0,0,0,0,0,0,0,0,0,0,0,0,0,0,0,0,0,0,0,0,0,0,0,0,0,0,0,0,0,0,0,0,0,0,0,0,0,0,0,0,0,0,0,0,0,0,0,0,0,0,0,0,0,0]
[null,{"$f":"B284+1","v":145},"Biomass fuels"]
[null,146,null,"sewage sludge","[GJ/t]",null,0,0,0,0,0,0,0,0,0,0,0,0,0,0,0,0,0,0,0,0,0,0,0,0,0,0,0,0,0,0,0,0,0,0,0,0,0,0,0,0,0,0,0,0,0,0,0,0,0,0,0,0,0,0,0,0,0,0,0,0,0]
[null,147,null,"wood, non impregnated saw dust","[GJ/t]",null,0,0,0,0,0,0,0,0,0,0,0,0,0,0,0,0,0,0,0,0,0,0,0,0,0,0,0,0,0,0,0,0,0,0,0,0,0,0,0,0,0,0,0,0,0,0,0,0,0,0,0,0,0,0,0,0,0,0,0,0,0]
[null,148,null,"paper, carton","[GJ/t]",null,0,0,0,0,0,0,0,0,0,0,0,0,0,0,0,0,0,0,0,0,0,0,0,0,0,0,0,0,0,0,0,0,0,0,0,0,0,0,0,0,0,0,0,0,0,0,0,0,0,0,0,0,0,0,0,0,0,0,0,0,0]
[null,149,null,"animal meal","[GJ/t]",null,0,0,0,0,0,0,0,0,0,0,0,0,0,0,0,0,0,0,0,0,0,0,0,0,0,0,0,0,0,0,0,0,0,0,0,0,0,0,0,0,0,0,0,0,0,0,0,0,0,0,0,0,0,0,0,0,0,0,0,0,0]
[null,150,null,"animal bone meal","[GJ/t]",null,0,0,0,0,0,0,0,0,0,0,0,0,0,0,0,0,0,0,0,0,0,0,0,0,0,0,0,0,0,0,0,0,0,0,0,0,0,0,0,0,0,0,0,0,0,0,0,0,0,0,0,0,0,0,0,0,0,0,0,0,0]
[null,151,null,"animal fat","[GJ/t]",null,0,0,0,0,0,0,0,0,0,0,0,0,0,0,0,0,0,0,0,0,0,0,0,0,0,0,0,0,0,0,0,0,0,0,0,0,0,0,0,0,0,0,0,0,0,0,0,0,0,0,0,0,0,0,0,0,0,0,0,0,0]
[null,152,null,"agricultural, organic, diaper waste, charcoal","[GJ/t]",null,0,0,0,0,0,0,0,0,0,0,0,0,0,0,0,0,0,0,0,0,0,0,0,0,0,0,0,0,0,0,0,0,0,0,0,0,0,0,0,0,0,0,0,0,0,0,0,0,0,0,0,0,0,0,0,0,0,0,0,0,0]
[null,153,null,"other biomass","[GJ/t]",null,0,0,0,0,0,0,0,0,0,0,0,0,0,0,0,0,0,0,0,0,0,0,0,0,0,0,0,0,0,0,0,0,0,0,0,0,0,0,0,0,0,0,0,0,0,0,0,0,0,0,0,0,0,0,0,0,0,0,0,0,0]
[null,"Drying of raw materials and fuels",null,null,null,null,{"$f":"G$7","v":1990},1991,1992,1993,1994,1995,1996,1997,1998,1999,2000,2001,2002,2003,2004,2005,2006,2007,2008,2009,2010,2011,2012,2013,2014,2015,2016,2017,2018,2019,2020,2021,2022,2023,2024,2025,2026,2027,2028,2029,2030,2031,2032,2033,2034,2035,2036,2037,2038,2039,2040,2041,2042,2043,2044,2045,2046,2047,2048,2049,2050]
[null,154,"Conventional fossil fuels"]
[null,"154a",null,"coal + anthracite + lignite","[GJ/t]",null,{"$f":"G270","v":0},0,0,0,0,0,0,0,0,0,0,0,0,0,0,0,0,0,0,0,0,0,0,0,0,0,0,0,0,0,0,0,0,0,0,0,0,0,0,0,0,0,0,0,0,0,0,0,0,0,0,0,0,0,0,0,0,0,0,0,0]
[null,"154b",null,"petrol coke","[GJ/t]",null,0,0,0,0,0,0,0,0,0,0,0,0,0,0,0,0,0,0,0,0,0,0,0,0,0,0,0,0,0,0,0,0,0,0,0,0,0,0,0,0,0,0,0,0,0,0,0,0,0,0,0,0,0,0,0,0,0,0,0,0,0]
[null,"154c",null,"(ultra) heavy fuel","[GJ/t]",null,0,0,0,0,0,0,0,0,0,0,0,0,0,0,0,0,0,0,0,0,0,0,0,0,0,0,0,0,0,0,0,0,0,0,0,0,0,0,0,0,0,0,0,0,0,0,0,0,0,0,0,0,0,0,0,0,0,0,0,0,0]
[null,"154d",null,"diesel oil","[GJ/t]",null,0,0,0,0,0,0,0,0,0,0,0,0,0,0,0,0,0,0,0,0,0,0,0,0,0,0,0,0,0,0,0,0,0,0,0,0,0,0,0,0,0,0,0,0,0,0,0,0,0,0,0,0,0,0,0,0,0,0,0,0,0]
[null,"154e",null,"natural gas ","[GJ/1'000 Nm3]",null,0,0,0,0,0,0,0,0,0,0,0,{"$f":"R274","v":0},0,0,0,0,0,0,0,0,0,0,0,0,0,0,0,0,0,0,0,0,0,0,0,0,0,0,0,0,0,0,0,0,0,0,0,0,0,0,0,0,0,0,0,0,0,0,0,0,0]
[null,"154f",null,"shale","[GJ/t]",null,{"$f":"G275","v":0},0,0,0,0,0,0,0,0,0,0,0,0,0,0,0,0,0,0,0,0,0,0,0,0,0,0,0,0,0,0,0,0,0,0,0,0,0,0,0,0,0,0,0,0,0,0,0,0,0,0,0,0,0,0,0,0,0,0,0,0]
[null,155,"Alternative fossil and mixed fuels"]
[null,"155a",null,"other fossil based wastes and mixed fuels","[GJ/t]",null,0,0,0,0,0,0,0,0,0,0,0,0,0,0,0,0,0,0,0,0,0,0,0,0,0,0,0,0,0,0,0,0,0,0,0,0,0,0,0,0,0,0,0,0,0,0,0,0,0,0,0,0,0,0,0,0,0,0,0,0,0]
[null,156,"Alternative biomass fuels"]
[null,"156a",null,"other biomass","[GJ/t]",null,0,0,0,0,0,0,0,0,0,0,0,0,0,0,0,0,0,0,0,0,0,0,0,0,0,0,0,0,0,0,0,0,0,0,0,0,0,0,0,0,0,0,0,0,0,0,0,0,0,0,0,0,0,0,0,0,0,0,0,0,0]
[]
[null,"Kiln Fuel Consumption in terajoules (TJ) per year",null,null,null,null,{"$f":"G$7","v":1990},1991,1992,1993,1994,1995,1996,1997,1998,1999,2000,2001,2002,2003,2004,2005,2006,2007,2008,2009,2010,2011,2012,2013,2014,2015,2016,2017,2018,2019,2020,2021,2022,2023,2024,2025,2026,2027,2028,2029,2030,2031,2032,2033,2034,2035,2036,2037,2038,2039,2040,2041,2042,2043,2044,2045,2046,2047,2048,2049,2050]
[null,161,"Conventional fossil fuels",null,"[TJ/yr]",null,{"$f":"IF(COUNTBLANK(G309:G315)=7,\"\",SUM(G309:G315))","v":0},{"$f":"IF(COUNTBLANK(H309:H315)=7,\"\",SUM(H309:H315))","v":0},0,0,0,0,0,0,0,0,0,0,0,0,0,0,0,0,0,0,0,0,0,0,0,0,0,0,0,0,0,0,0,0,0,0,0,0,0,0,0,0,0,0,0,0,0,0,0,0,0,0,0,0,0,0,0,0,0,0,0]
[null,{"$f":"B308+1","v":162},null,"coal + anthracite","[TJ/yr]",null,{"$f":"IF(G231=\"\",\"\",G231*G270/1000)","v":0},0,0,0,0,0,0,0,0,0,0,0,0,0,0,0,0,0,0,0,0,0,0,0,0,0,0,0,0,0,0,0,0,0,0,0,0,0,0,0,0,0,0,0,0,0,0,0,0,0,0,0,0,0,0,0,0,0,0,0,0]
[null,163,null,"petrol coke","[TJ/yr]",null,0,0,0,0,0,0,0,0,0,0,0,0,0,0,0,0,0,0,0,0,0,0,0,0,0,0,0,0,0,0,0,0,0,0,0,0,0,0,0,0,0,0,0,0,0,0,0,0,0,0,0,0,0,0,0,0,0,0,0,0,0]
[null,164,null,"(ultra) heavy fuel","[TJ/yr]",null,0,0,0,0,0,0,0,0,0,0,0,0,0,0,0,0,0,0,0,0,0,0,0,0,0,0,0,0,0,0,0,0,0,0,0,0,0,0,0,0,0,0,0,0,0,0,0,0,0,0,0,0,0,0,0,0,0,0,0,0,0]
[null,165,null,"diesel oil","[TJ/yr]",null,0,0,0,0,0,0,0,0,0,0,0,0,0,0,0,0,0,0,0,0,0,0,0,0,0,0,0,0,0,0,0,0,0,0,0,0,0,0,0,0,0,0,0,0,0,0,0,0,0,0,0,0,0,0,0,0,0,0,0,0,0]
[null,166,null,"natural gas ","[TJ/yr]",null,0,0,0,0,0,0,0,0,0,0,0,{"$f":"IF(R235=\"\",\"\",R235*R274/1000)","v":0},0,0,0,0,0,0,0,0,0,0,0,0,0,0,0,0,0,0,0,0,0,0,0,0,0,0,0,0,0,0,0,0,0,0,0,0,0,0,0,0,0,0,0,0,0,0,0,0,0]
[null,167,null,"shale","[TJ/yr]",null,{"$f":"IF(G236=\"\",\"\",G236*G275/1000)","v":0},0,0,0,0,0,0,0,0,0,0,0,0,0,0,0,0,0,0,0,0,0,0,0,0,0,0,0,0,0,0,0,0,0,0,0,0,0,0,0,0,0,0,0,0,0,0,0,0,0,0,0,0,0,0,0,0,0,0,0,0]
[null,"167a",null,"lignite","[TJ/yr]",null,0,0,0,0,0,0,0,0,0,0,0,0,0,0,0,0,0,0,0,0,0,0,0,0,0,0,0,0,0,0,0,0,0,0,0,0,0,0,0,0,0,0,0,0,0,0,0,0,0,0,0,0,0,0,0,0,0,0,0,0,0]
[null,{"$f":"B314+1","v":168},"Alternative fossil and mixed fuels, excluding biomass fraction of mixed fuels",null,"[TJ/yr]",null,{"$f":"IF(COUNTBLANK(G317:G323)=7,\"\",SUM(G317:G323))","v":0},{"$f":"IF(COUNTBLANK(H317:H323)=7,\"\",SUM(H317:H323))","v":0},0,0,0,0,0,0,0,0,0,0,0,0,0,0,0,0,0,0,0,0,0,0,0,0,0,0,0,0,0,0,0,0,0,0,0,0,0,0,0,0,0,0,0,0,0,0,0,0,0,0,0,0,0,0,0,0,0,0,0]
[null,{"$f":"B316+1","v":169},null,"waste oil","[TJ/yr]",null,{"$f":"IF(G239=\"\",\"\",G239*(G278/1000)*(1-G369))","v":0},0,0,0,0,0,0,0,0,0,0,0,0,0,0,0,0,0,0,0,0,0,0,0,0,0,0,0,0,0,0,0,0,0,0,0,0,0,0,0,0,0,0,0,0,0,0,0,0,0,0,0,0,0,0,0,0,0,0,0,0]
[null,{"$f":"B317+1","v":170},null,"tyres","[TJ/yr]",null,0,0,0,0,0,0,0,0,0,0,0,0,0,0,0,0,0,0,0,0,0,0,0,0,0,0,0,0,0,0,0,0,0,0,0,0,0,0,0,0,0,0,0,0,0,0,0,0,0,0,0,0,0,0,0,0,0,0,0,0,0]
[null,{"$f":"B318+1","v":171},null,"RDF including plastics","[TJ/yr]",null,0,0,0,0,0,0,0,0,0,0,0,0,0,0,0,0,0,0,0,0,0,0,0,0,0,0,0,0,0,0,0,0,0,0,0,0,0,0,0,0,0,0,0,0,0,0,0,0,0,0,0,0,0,0,0,0,0,0,0,0,0]
[null,{"$f":"B319+1","v":172},null,"solvents","[TJ/yr]",null,0,0,0,0,0,0,0,0,0,0,0,0,0,0,0,0,0,0,0,0,0,0,0,0,0,0,0,0,0,0,0,0,0,0,0,0,0,0,0,0,0,0,0,0,0,0,0,0,0,0,0,0,0,0,0,0,0,0,0,0,0]
[null,{"$f":"B320+1","v":173},null,"impregnated saw dust","[TJ/yr]",null,0,0,0,0,0,0,0,0,0,0,0,{"$f":"IF(R243=\"\",\"\",R243*(R282/1000)*(1-R373))","v":0},0,0,0,0,0,0,0,0,0,0,0,0,0,0,0,0,0,0,0,0,0,0,0,0,0,0,0,0,0,0,0,0,0,0,0,0,0,0,0,0,0,0,0,0,0,0,0,0,0]
[null,"173a",null,"mixed industrial waste","[TJ/yr]",null,{"$f":"IF(G244=\"\",\"\",G244*(G283/1000)*(1-G374))","v":0},0,0,0,0,0,0,0,0,0,0,0,0,0,0,0,0,0,0,0,0,0,0,0,0,0,0,0,0,0,0,0,0,0,0,0,0,0,0,0,0,0,0,0,0,0,0,0,0,0,0,0,0,0,0,0,0,0,0,0,0]
[null,174,null,"other fossil based wastes (excl. biomass content of mixed fuels)","[TJ/yr]",null,{"$f":"IF(G245=\"\",\"\",G245*(G284/1000)*(1-G376))","v":0},{"$f":"IF(H245=\"\",\"\",H245*(H284/1000)*(1-H376))","v":0},0,0,0,0,0,0,0,0,0,0,0,0,0,0,0,0,0,0,0,0,0,0,0,0,0,0,0,0,0,0,0,0,0,0,0,0,0,0,0,0,0,0,0,0,0,0,0,0,0,0,0,0,0,0,0,0,0,0,0]
[null,{"$f":"B323+1","v":175},"Biomass fuels - total, incl. biomass cont. from alternative fossil fuels",null,"[TJ/yr]",null,{"$f":"IF(COUNTBLANK(G325:G333)=9,\"\",SUM(G325:G333))","v":0},{"$f":"IF(COUNTBLANK(H325:H333)=9,\"\",SUM(H325:H333))","v":0},0,0,0,0,0,0,0,0,0,0,0,0,0,0,0,0,0,0,0,0,0,0,0,0,0,0,0,0,0,0,0,0,0,0,0,0,0,0,0,0,0,0,0,0,0,0,0,0,0,0,0,0,0,0,0,0,0,0,0]
[null,176,null,"sewage sludge","[TJ/yr]",null,{"$f":"IF(G247=\"\",\"\",G247*G286/1000)","v":0},0,0,0,0,0,0,0,0,0,0,0,0,0,0,0,0,0,0,0,0,0,0,0,0,0,0,0,0,0,0,0,0,0,0,0,0,0,0,0,0,0,0,0,0,0,0,0,0,0,0,0,0,0,0,0,0,0,0,0,0]
[null,177,null,"wood, non impregnated saw dust","[TJ/yr]",null,0,0,0,0,0,0,0,0,0,0,0,0,0,0,0,0,0,0,0,0,0,0,0,0,0,0,0,0,0,0,0,0,0,0,0,0,0,0,0,0,0,0,0,0,0,0,0,0,0,0,0,0,0,0,0,0,0,0,0,0,0]
[null,178,null,"paper, carton","[TJ/yr]",null,0,0,0,0,0,0,0,0,0,0,0,0,0,0,0,0,0,0,0,0,0,0,0,0,0,0,0,0,0,0,0,0,0,0,0,0,0,0,0,0,0,0,0,0,0,0,0,0,0,0,0,0,0,0,0,0,0,0,0,0,0]
[null,179,null,"animal meal","[TJ/yr]",null,0,0,0,0,0,0,0,0,0,0,0,0,0,0,0,0,0,0,0,0,0,0,0,0,0,0,0,0,0,0,0,0,0,0,0,0,0,0,0,0,0,0,0,0,0,0,0,0,0,0,0,0,0,0,0,0,0,0,0,0,0]
[null,180,null,"animal bone meal","[TJ/yr]",null,0,0,0,0,0,0,0,0,0,0,0,{"$f":"IF(R251=\"\",\"\",R251*R290/1000)","v":0},0,0,0,0,0,0,0,0,0,0,0,0,0,0,0,0,0,0,0,0,0,0,0,0,0,0,0,0,0,0,0,0,0,0,0,0,0,0,0,0,0,0,0,0,0,0,0,0,0]
[null,181,null,"animal fat","[TJ/yr]",null,{"$f":"IF(G252=\"\",\"\",G252*G291/1000)","v":0},0,0,0,0,0,0,0,0,0,0,0,0,0,0,0,0,0,0,0,0,0,0,0,0,0,0,0,0,0,0,0,0,0,0,0,0,0,0,0,0,0,0,0,0,0,0,0,0,0,0,0,0,0,0,0,0,0,0,0,0]
[null,182,null,"agricultural, organic, diaper waste, charcoal","[TJ/yr]",null,0,0,0,0,0,0,0,0,0,0,0,0,0,0,0,0,0,0,0,0,0,0,0,0,0,0,0,0,0,0,0,0,0,0,0,0,0,0,0,0,0,0,0,0,0,0,0,0,0,0,0,0,0,0,0,0,0,0,0,0,0]
[null,183,null,"other biomass","[TJ/yr]",null,0,0,0,0,0,0,0,0,0,0,0,0,0,0,0,0,0,0,0,0,0,0,0,0,0,0,0,0,0,0,0,0,0,0,0,0,0,0,0,0,0,0,0,0,0,0,0,0,0,0,0,0,0,0,0,0,0,0,0,0,0]
[null,"183a",null,"biomass content from alternative fuels","[TJ/yr]",null,{"$f":"(G239*G278*G$369+G240*G279*G$370+G241*G280*G$371+G242*G281*G$372+G243*G282*G$373+G244*G283*G$374+G245*G284*G$376)/1000","v":0},{"$f":"(H239*H278*H$369+H240*H279*H$370+H241*H280*H$371+H242*H281*H$372+H243*H282*H$373+H244*H283*H$374+H245*H284*H$376)/1000","v":0},0,0,0,0,0,0,0,0,0,0,0,0,0,0,0,0,0,0,0,0,0,0,0,0,0,0,0,0,0,0,0,0,0,0,0,0,0,0,0,0,0,0,0,0,0,0,0,0,0,0,0,0,0,0,0,0,0,0,0]
[null,"Drying of raw materials and fuels",null,null,null,null,{"$f":"G$7","v":1990},1991,1992,1993,1994,1995,1996,1997,1998,1999,2000,2001,2002,2003,2004,2005,2006,2007,2008,2009,2010,2011,2012,2013,2014,2015,2016,2017,2018,2019,2020,2021,2022,2023,2024,2025,2026,2027,2028,2029,2030,2031,2032,2033,2034,2035,2036,2037,2038,2039,2040,2041,2042,2043,2044,2045,2046,2047,2048,2049,2050]
[null,184,"Conventional fossil fuels",null,"[TJ/yr]",null,{"$f":"IF(COUNTBLANK(G336:G341)=6,\"\",SUM(G336:G341))","v":0},{"$f":"IF(COUNTBLANK(H336:H341)=6,\"\",SUM(H336:H341))","v":0},0,0,0,0,0,0,0,0,0,0,0,0,0,0,0,0,0,0,0,0,0,0,0,0,0,0,0,0,0,0,0,0,0,0,0,0,0,0,0,0,0,0,0,0,0,0,0,0,0,0,0,0,0,0,0,0,0,0,0]
[null,"184a",null,"coal + anthracite + lignite","[TJ/yr]",null,{"$f":"IF(G257=\"\",\"\",G257*G296/1000)","v":0},0,0,0,0,0,0,0,0,0,0,0,0,0,0,0,0,0,0,0,0,0,0,0,0,0,0,0,0,0,0,0,0,0,0,0,0,0,0,0,0,0,0,0,0,0,0,0,0,0,0,0,0,0,0,0,0,0,0,0,0]
[null,"184b",null,"petrol coke","[TJ/yr]",null,0,0,0,0,0,0,0,0,0,0,0,0,0,0,0,0,0,0,0,0,0,0,0,0,0,0,0,0,0,0,0,0,0,0,0,0,0,0,0,0,0,0,0,0,0,0,0,0,0,0,0,0,0,0,0,0,0,0,0,0,0]
[null,"184c",null,"(ultra) heavy fuel","[TJ/yr]",null,0,0,0,0,0,0,0,0,0,0,0,0,0,0,0,0,0,0,0,0,0,0,0,0,0,0,0,0,0,0,0,0,0,0,0,0,0,0,0,0,0,0,0,0,0,0,0,0,0,0,0,0,0,0,0,0,0,0,0,0,0]
[null,"184d",null,"diesel oil","[TJ/yr]",null,0,0,0,0,0,0,0,0,0,0,0,0,0,0,0,0,0,0,0,0,0,0,0,0,0,0,0,0,0,0,0,0,0,0,0,0,0,0,0,0,0,0,0,0,0,0,0,0,0,0,0,0,0,0,0,0,0,0,0,0,0]
[null,"184e",null,"natural gas ","[TJ/yr]",null,0,0,0,0,0,0,0,0,0,0,0,{"$f":"IF(R261=\"\",\"\",R261*R300/1000)","v":0},0,0,0,0,0,0,0,0,0,0,0,0,0,0,0,0,0,0,0,0,0,0,0,0,0,0,0,0,0,0,0,0,0,0,0,0,0,0,0,0,0,0,0,0,0,0,0,0,0]
[null,"184f",null,"shale","[TJ/yr]",null,{"$f":"IF(G262=\"\",\"\",G262*G301/1000)","v":0},0,0,0,0,0,0,0,0,0,0,0,0,0,0,0,0,0,0,0,0,0,0,0,0,0,0,0,0,0,0,0,0,0,0,0,0,0,0,0,0,0,0,0,0,0,0,0,0,0,0,0,0,0,0,0,0,0,0,0,0]
[null,"184g","Alternative fossil fuels",null,"[TJ/yr]",null,{"$f":"G343","v":0},0,0,0,0,0,0,0,0,0,0,0,0,0,0,0,0,0,0,0,0,0,0,0,0,0,0,0,0,0,0,0,0,0,0,0,0,0,0,0,0,0,0,0,0,0,0,0,0,0,0,0,0,0,0,0,0,0,0,0,0]
[null,"184h",null,"other fossil based wastes (excl. biomass content of mixed fuels)","[TJ/yr]",null,{"$f":"IF(G264=\"\",\"\",G264*(G303/1000)*(1-G376))","v":0},{"$f":"IF(H264=\"\",\"\",H264*(H303/1000)*(1-H376))","v":0},0,0,0,0,0,0,0,0,0,0,0,0,0,0,0,0,0,0,0,0,0,0,0,0,0,0,0,0,0,0,0,0,0,0,0,0,0,0,0,0,0,0,0,0,0,0,0,0,0,0,0,0,0,0,0,0,0,0,0]
[null,"184i","Alternative biomass fuels",null,"[TJ/yr]",null,{"$f":"G345","v":0},0,0,0,0,0,0,0,0,0,0,0,0,0,0,0,0,0,0,0,0,0,0,0,0,0,0,0,0,0,0,0,0,0,0,0,0,0,0,0,0,0,0,0,0,0,0,0,0,0,0,0,0,0,0,0,0,0,0,0,0]
[null,"184j",null,"other biomass (incl. biomass content of mixed fuels)","[TJ/yr]",null,{"$f":"IF(G266=\"\",\"\",(G266*G305/1000)+(G264*G303/1000*G376))","v":0},{"$f":"IF(H266=\"\",\"\",(H266*H305/1000)+(H264*H303/1000*H376))","v":0},0,0,0,0,0,0,0,0,0,0,0,0,0,0,0,0,0,0,0,0,0,0,0,0,0,0,0,0,0,0,0,0,0,0,0,0,0,0,0,0,0,0,0,0,0,0,0,0,0,0,0,0,0,0,0,0,0,0,0]
[]
[null,"CO2 Emission Factors of Kiln and Non-Kiln Fuels (per lower heating value)",null,null,null,null,{"$f":"G$7","v":1990},1991,1992,1993,1994,1995,1996,1997,1998,1999,2000,2001,2002,2003,2004,2005,2006,2007,2008,2009,2010,2011,2012,2013,2014,2015,2016,2017,2018,2019,2020,2021,2022,2023,2024,2025,2026,2027,2028,2029,2030,2031,2032,2033,2034,2035,2036,2037,2038,2039,2040,2041,2042,2043,2044,2045,2046,2047,2048,2049,2050]
[null,185,"Conventional fossil fuels"]
[null,{"$f":"B348+1","v":186},null,"coal + anthracite","[kg CO2/GJ]",null,{"$f":"'Fuel CO2 Factors'!$D7","v":96},{"$f":"'Fuel CO2 Factors'!$D7","v":96},{"$f":"'Fuel CO2 Factors'!$D7","v":96},{"$f":"'Fuel CO2 Factors'!$D7","v":96},{"$f":"'Fuel CO2 Factors'!$D7","v":96},{"$f":"'Fuel CO2 Factors'!$D7","v":96},{"$f":"'Fuel CO2 Factors'!$D7","v":96},{"$f":"'Fuel CO2 Factors'!$D7","v":96},{"$f":"'Fuel CO2 Factors'!$D7","v":96},{"$f":"'Fuel CO2 Factors'!$D7","v":96},{"$f":"'Fuel CO2 Factors'!$D7","v":96},{"$f":"'Fuel CO2 Factors'!$D7","v":96},{"$f":"'Fuel CO2 Factors'!$D7","v":96},{"$f":"'Fuel CO2 Factors'!$D7","v":96},{"$f":"'Fuel CO2 Factors'!$D7","v":96},{"$f":"'Fuel CO2 Factors'!$D7","v":96},{"$f":"'Fuel CO2 Factors'!$D7","v":96},{"$f":"'Fuel CO2 Factors'!$D7","v":96},{"$f":"'Fuel CO2 Factors'!$D7","v":96},{"$f":"'Fuel CO2 Factors'!$D7","v":96},{"$f":"'Fuel CO2 Factors'!$D7","v":96},{"$f":"'Fuel CO2 Factors'!$D7","v":96},{"$f":"'Fuel CO2 Factors'!$D7","v":96},{"$f":"'Fuel CO2 Factors'!$D7","v":96},{"$f":"'Fuel CO2 Factors'!$D7","v":96},{"$f":"'Fuel CO2 Factors'!$D7","v":96},{"$f":"'Fuel CO2 Factors'!$D7","v":96},{"$f":"'Fuel CO2 Factors'!$D7","v":96},{"$f":"'Fuel CO2 Factors'!$D7","v":96},{"$f":"'Fuel CO2 Factors'!$D7","v":96},{"$f":"'Fuel CO2 Factors'!$D7","v":96},{"$f":"'Fuel CO2 Factors'!$D7","v":96},{"$f":"'Fuel CO2 Factors'!$D7","v":96},{"$f":"'Fuel CO2 Factors'!$D7","v":96},{"$f":"'Fuel CO2 Factors'!$D7","v":96},{"$f":"'Fuel CO2 Factors'!$D7","v":96},{"$f":"'Fuel CO2 Factors'!$D7","v":96},{"$f":"'Fuel CO2 Factors'!$D7","v":96},{"$f":"'Fuel CO2 Factors'!$D7","v":96},{"$f":"'Fuel CO2 Factors'!$D7","v":96},{"$f":"'Fuel CO2 Factors'!$D7","v":96},{"$f":"'Fuel CO2 Factors'!$D7","v":96},{"$f":"'Fuel CO2 Factors'!$D7","v":96},{"$f":"'Fuel CO2 Factors'!$D7","v":96},{"$f":"'Fuel CO2 Factors'!$D7","v":96},{"$f":"'Fuel CO2 Factors'!$D7","v":96},{"$f":"'Fuel CO2 Factors'!$D7","v":96},{"$f":"'Fuel CO2 Factors'!$D7","v":96},{"$f":"'Fuel CO2 Factors'!$D7","v":96},{"$f":"'Fuel CO2 Factors'!$D7","v":96},{"$f":"'Fuel CO2 Factors'!$D7","v":96},{"$f":"'Fuel CO2 Factors'!$D7","v":96},{"$f":"'Fuel CO2 Factors'!$D7","v":96},{"$f":"'Fuel CO2 Factors'!$D7","v":96},{"$f":"'Fuel CO2 Factors'!$D7","v":96},{"$f":"'Fuel CO2 Factors'!$D7","v":96},{"$f":"'Fuel CO2 Factors'!$D7","v":96},{"$f":"'Fuel CO2 Factors'!$D7","v":96},{"$f":"'Fuel CO2 Factors'!$D7","v":96},{"$f":"'Fuel CO2 Factors'!$D7","v":96},{"$f":"'Fuel CO2 Factors'!$D7","v":96}]
[null,187,null,"petrol coke","[kg CO2/GJ]",null,{"$f":"'Fuel CO2 Factors'!$E8","v":92.8},{"$f":"'Fuel CO2 Factors'!$E8","v":92.8},{"$f":"'Fuel CO2 Factors'!$E8","v":92.8},{"$f":"'Fuel CO2 Factors'!$E8","v":92.8},{"$f":"'Fuel CO2 Factors'!$E8","v":92.8},{"$f":"'Fuel CO2 Factors'!$E8","v":92.8},{"$f":"'Fuel CO2 Factors'!$E8","v":92.8},{"$f":"'Fuel CO2 Factors'!$E8","v":92.8},{"$f":"'Fuel CO2 Factors'!$E8","v":92.8},{"$f":"'Fuel CO2 Factors'!$E8","v":92.8},{"$f":"'Fuel CO2 Factors'!$E8","v":92.8},{"$f":"'Fuel CO2 Factors'!$E8","v":92.8},{"$f":"'Fuel CO2 Factors'!$E8","v":92.8},{"$f":"'Fuel CO2 Factors'!$E8","v":92.8},{"$f":"'Fuel CO2 Factors'!$E8","v":92.8},{"$f":"'Fuel CO2 Factors'!$E8","v":92.8},{"$f":"'Fuel CO2 Factors'!$E8","v":92.8},{"$f":"'Fuel CO2 Factors'!$E8","v":92.8},{"$f":"'Fuel CO2 Factors'!$E8","v":92.8},{"$f":"'Fuel CO2 Factors'!$E8","v":92.8},{"$f":"'Fuel CO2 Factors'!$E8","v":92.8},{"$f":"'Fuel CO2 Factors'!$E8","v":92.8},{"$f":"'Fuel CO2 Factors'!$E8","v":92.8},{"$f":"'Fuel CO2 Factors'!$E8","v":92.8},{"$f":"'Fuel CO2 Factors'!$E8","v":92.8},{"$f":"'Fuel CO2 Factors'!$E8","v":92.8},{"$f":"'Fuel CO2 Factors'!$E8","v":92.8},{"$f":"'Fuel CO2 Factors'!$E8","v":92.8},{"$f":"'Fuel CO2 Factors'!$E8","v":92.8},{"$f":"'Fuel CO2 Factors'!$E8","v":92.8},{"$f":"'Fuel CO2 Factors'!$E8","v":92.8},{"$f":"'Fuel CO2 Factors'!$E8","v":92.8},{"$f":"'Fuel CO2 Factors'!$E8","v":92.8},{"$f":"'Fuel CO2 Factors'!$E8","v":92.8},{"$f":"'Fuel CO2 Factors'!$E8","v":92.8},{"$f":"'Fuel CO2 Factors'!$E8","v":92.8},{"$f":"'Fuel CO2 Factors'!$E8","v":92.8},{"$f":"'Fuel CO2 Factors'!$E8","v":92.8},{"$f":"'Fuel CO2 Factors'!$E8","v":92.8},{"$f":"'Fuel CO2 Factors'!$E8","v":92.8},{"$f":"'Fuel CO2 Factors'!$E8","v":92.8},{"$f":"'Fuel CO2 Factors'!$E8","v":92.8},{"$f":"'Fuel CO2 Factors'!$E8","v":92.8},{"$f":"'Fuel CO2 Factors'!$E8","v":92.8},{"$f":"'Fuel CO2 Factors'!$E8","v":92.8},{"$f":"'Fuel CO2 Factors'!$E8","v":92.8},{"$f":"'Fuel CO2 Factors'!$E8","v":92.8},{"$f":"'Fuel CO2 Factors'!$E8","v":92.8},{"$f":"'Fuel CO2 Factors'!$E8","v":92.8},{"$f":"'Fuel CO2 Factors'!$E8","v":92.8},{"$f":"'Fuel CO2 Factors'!$E8","v":92.8},{"$f":"'Fuel CO2 Factors'!$E8","v":92.8},{"$f":"'Fuel CO2 Factors'!$E8","v":92.8},{"$f":"'Fuel CO2 Factors'!$E8","v":92.8},{"$f":"'Fuel CO2 Factors'!$E8","v":92.8},{"$f":"'Fuel CO2 Factors'!$E8","v":92.8},{"$f":"'Fuel CO2 Factors'!$E8","v":92.8},{"$f":"'Fuel CO2 Factors'!$E8","v":92.8},{"$f":"'Fuel CO2 Factors'!$E8","v":92.8},{"$f":"'Fuel CO2 Factors'!$E8","v":92.8},{"$f":"'Fuel CO2 Factors'!$E8","v":92.8}]
[null,188,null,"(ultra) heavy fuel","[kg CO2/GJ]",null,{"$f":"'Fuel CO2 Factors'!$D9","v":77.400000000000006},{"$f":"'Fuel CO2 Factors'!$D9","v":77.400000000000006},{"$f":"'Fuel CO2 Factors'!$D9","v":77.400000000000006},{"$f":"'Fuel CO2 Factors'!$D9","v":77.400000000000006},{"$f":"'Fuel CO2 Factors'!$D9","v":77.400000000000006},{"$f":"'Fuel CO2 Factors'!$D9","v":77.400000000000006},{"$f":"'Fuel CO2 Factors'!$D9","v":77.400000000000006},{"$f":"'Fuel CO2 Factors'!$D9","v":77.400000000000006},{"$f":"'Fuel CO2 Factors'!$D9","v":77.400000000000006},{"$f":"'Fuel CO2 Factors'!$D9","v":77.400000000000006},{"$f":"'Fuel CO2 Factors'!$D9","v":77.400000000000006},{"$f":"'Fuel CO2 Factors'!$D9","v":77.400000000000006},{"$f":"'Fuel CO2 Factors'!$D9","v":77.400000000000006},{"$f":"'Fuel CO2 Factors'!$D9","v":77.400000000000006},{"$f":"'Fuel CO2 Factors'!$D9","v":77.400000000000006},{"$f":"'Fuel CO2 Factors'!$D9","v":77.400000000000006},{"$f":"'Fuel CO2 Factors'!$D9","v":77.400000000000006},{"$f":"'Fuel CO2 Factors'!$D9","v":77.400000000000006},{"$f":"'Fuel CO2 Factors'!$D9","v":77.400000000000006},{"$f":"'Fuel CO2 Factors'!$D9","v":77.400000000000006},{"$f":"'Fuel CO2 Factors'!$D9","v":77.400000000000006},{"$f":"'Fuel CO2 Factors'!$D9","v":77.400000000000006},{"$f":"'Fuel CO2 Factors'!$D9","v":77.400000000000006},{"$f":"'Fuel CO2 Factors'!$D9","v":77.400000000000006},{"$f":"'Fuel CO2 Factors'!$D9","v":77.400000000000006},{"$f":"'Fuel CO2 Factors'!$D9","v":77.400000000000006},{"$f":"'Fuel CO2 Factors'!$D9","v":77.400000000000006},{"$f":"'Fuel CO2 Factors'!$D9","v":77.400000000000006},{"$f":"'Fuel CO2 Factors'!$D9","v":77.400000000000006},{"$f":"'Fuel CO2 Factors'!$D9","v":77.400000000000006},{"$f":"'Fuel CO2 Factors'!$D9","v":77.400000000000006},{"$f":"'Fuel CO2 Factors'!$D9","v":77.400000000000006},{"$f":"'Fuel CO2 Factors'!$D9","v":77.400000000000006},{"$f":"'Fuel CO2 Factors'!$D9","v":77.400000000000006},{"$f":"'Fuel CO2 Factors'!$D9","v":77.400000000000006},{"$f":"'Fuel CO2 Factors'!$D9","v":77.400000000000006},{"$f":"'Fuel CO2 Factors'!$D9","v":77.400000000000006},{"$f":"'Fuel CO2 Factors'!$D9","v":77.400000000000006},{"$f":"'Fuel CO2 Factors'!$D9","v":77.400000000000006},{"$f":"'Fuel CO2 Factors'!$D9","v":77.400000000000006},{"$f":"'Fuel CO2 Factors'!$D9","v":77.400000000000006},{"$f":"'Fuel CO2 Factors'!$D9","v":77.400000000000006},{"$f":"'Fuel CO2 Factors'!$D9","v":77.400000000000006},{"$f":"'Fuel CO2 Factors'!$D9","v":77.400000000000006},{"$f":"'Fuel CO2 Factors'!$D9","v":77.400000000000006},{"$f":"'Fuel CO2 Factors'!$D9","v":77.400000000000006},{"$f":"'Fuel CO2 Factors'!$D9","v":77.400000000000006},{"$f":"'Fuel CO2 Factors'!$D9","v":77.400000000000006},{"$f":"'Fuel CO2 Factors'!$D9","v":77.400000000000006},{"$f":"'Fuel CO2 Factors'!$D9","v":77.400000000000006},{"$f":"'Fuel CO2 Factors'!$D9","v":77.400000000000006},{"$f":"'Fuel CO2 Factors'!$D9","v":77.400000000000006},{"$f":"'Fuel CO2 Factors'!$D9","v":77.400000000000006},{"$f":"'Fuel CO2 Factors'!$D9","v":77.400000000000006},{"$f":"'Fuel CO2 Factors'!$D9","v":77.400000000000006},{"$f":"'Fuel CO2 Factors'!$D9","v":77.400000000000006},{"$f":"'Fuel CO2 Factors'!$D9","v":77.400000000000006},{"$f":"'Fuel CO2 Factors'!$D9","v":77.400000000000006},{"$f":"'Fuel CO2 Factors'!$D9","v":77.400000000000006},{"$f":"'Fuel CO2 Factors'!$D9","v":77.400000000000006},{"$f":"'Fuel CO2 Factors'!$D9","v":77.400000000000006}]
[null,189,null,"diesel oil","[kg CO2/GJ]",null,{"$f":"'Fuel CO2 Factors'!$D10","v":74.099999999999994},{"$f":"'Fuel CO2 Factors'!$D10","v":74.099999999999994},{"$f":"'Fuel CO2 Factors'!$D10","v":74.099999999999994},{"$f":"'Fuel CO2 Factors'!$D10","v":74.099999999999994},{"$f":"'Fuel CO2 Factors'!$D10","v":74.099999999999994},{"$f":"'Fuel CO2 Factors'!$D10","v":74.099999999999994},{"$f":"'Fuel CO2 Factors'!$D10","v":74.099999999999994},{"$f":"'Fuel CO2 Factors'!$D10","v":74.099999999999994},{"$f":"'Fuel CO2 Factors'!$D10","v":74.099999999999994},{"$f":"'Fuel CO2 Factors'!$D10","v":74.099999999999994},{"$f":"'Fuel CO2 Factors'!$D10","v":74.099999999999994},{"$f":"'Fuel CO2 Factors'!$D10","v":74.099999999999994},{"$f":"'Fuel CO2 Factors'!$D10","v":74.099999999999994},{"$f":"'Fuel CO2 Factors'!$D10","v":74.099999999999994},{"$f":"'Fuel CO2 Factors'!$D10","v":74.099999999999994},{"$f":"'Fuel CO2 Factors'!$D10","v":74.099999999999994},{"$f":"'Fuel CO2 Factors'!$D10","v":74.099999999999994},{"$f":"'Fuel CO2 Factors'!$D10","v":74.099999999999994},{"$f":"'Fuel CO2 Factors'!$D10","v":74.099999999999994},{"$f":"'Fuel CO2 Factors'!$D10","v":74.099999999999994},{"$f":"'Fuel CO2 Factors'!$D10","v":74.099999999999994},{"$f":"'Fuel CO2 Factors'!$D10","v":74.099999999999994},{"$f":"'Fuel CO2 Factors'!$D10","v":74.099999999999994},{"$f":"'Fuel CO2 Factors'!$D10","v":74.099999999999994},{"$f":"'Fuel CO2 Factors'!$D10","v":74.099999999999994},{"$f":"'Fuel CO2 Factors'!$D10","v":74.099999999999994},{"$f":"'Fuel CO2 Factors'!$D10","v":74.099999999999994},{"$f":"'Fuel CO2 Factors'!$D10","v":74.099999999999994},{"$f":"'Fuel CO2 Factors'!$D10","v":74.099999999999994},{"$f":"'Fuel CO2 Factors'!$D10","v":74.099999999999994},{"$f":"'Fuel CO2 Factors'!$D10","v":74.099999999999994},{"$f":"'Fuel CO2 Factors'!$D10","v":74.099999999999994},{"$f":"'Fuel CO2 Factors'!$D10","v":74.099999999999994},{"$f":"'Fuel CO2 Factors'!$D10","v":74.099999999999994},{"$f":"'Fuel CO2 Factors'!$D10","v":74.099999999999994},{"$f":"'Fuel CO2 Factors'!$D10","v":74.099999999999994},{"$f":"'Fuel CO2 Factors'!$D10","v":74.099999999999994},{"$f":"'Fuel CO2 Factors'!$D10","v":74.099999999999994},{"$f":"'Fuel CO2 Factors'!$D10","v":74.099999999999994},{"$f":"'Fuel CO2 Factors'!$D10","v":74.099999999999994},{"$f":"'Fuel CO2 Factors'!$D10","v":74.099999999999994},{"$f":"'Fuel CO2 Factors'!$D10","v":74.099999999999994},{"$f":"'Fuel CO2 Factors'!$D10","v":74.099999999999994},{"$f":"'Fuel CO2 Factors'!$D10","v":74.099999999999994},{"$f":"'Fuel CO2 Factors'!$D10","v":74.099999999999994},{"$f":"'Fuel CO2 Factors'!$D10","v":74.099999999999994},{"$f":"'Fuel CO2 Factors'!$D10","v":74.099999999999994},{"$f":"'Fuel CO2 Factors'!$D10","v":74.099999999999994},{"$f":"'Fuel CO2 Factors'!$D10","v":74.099999999999994},{"$f":"'Fuel CO2 Factors'!$D10","v":74.099999999999994},{"$f":"'Fuel CO2 Factors'!$D10","v":74.099999999999994},{"$f":"'Fuel CO2 Factors'!$D10","v":74.099999999999994},{"$f":"'Fuel CO2 Factors'!$D10","v":74.099999999999994},{"$f":"'Fuel CO2 Factors'!$D10","v":74.099999999999994},{"$f":"'Fuel CO2 Factors'!$D10","v":74.099999999999994},{"$f":"'Fuel CO2 Factors'!$D10","v":74.099999999999994},{"$f":"'Fuel CO2 Factors'!$D10","v":74.099999999999994},{"$f":"'Fuel CO2 Factors'!$D10","v":74.099999999999994},{"$f":"'Fuel CO2 Factors'!$D10","v":74.099999999999994},{"$f":"'Fuel CO2 Factors'!$D10","v":74.099999999999994},{"$f":"'Fuel CO2 Factors'!$D10","v":74.099999999999994}]
[null,190,null,"natural gas ","[kg CO2/GJ]",null,{"$f":"'Fuel CO2 Factors'!$D11","v":56.1},{"$f":"'Fuel CO2 Factors'!$D11","v":56.1},{"$f":"'Fuel CO2 Factors'!$D11","v":56.1},{"$f":"'Fuel CO2 Factors'!$D11","v":56.1},{"$f":"'Fuel CO2 Factors'!$D11","v":56.1},{"$f":"'Fuel CO2 Factors'!$D11","v":56.1},{"$f":"'Fuel CO2 Factors'!$D11","v":56.1},{"$f":"'Fuel CO2 Factors'!$D11","v":56.1},{"$f":"'Fuel CO2 Factors'!$D11","v":56.1},{"$f":"'Fuel CO2 Factors'!$D11","v":56.1},{"$f":"'Fuel CO2 Factors'!$D11","v":56.1},{"$f":"'Fuel CO2 Factors'!$D11","v":56.1},{"$f":"'Fuel CO2 Factors'!$D11","v":56.1},{"$f":"'Fuel CO2 Factors'!$D11","v":56.1},{"$f":"'Fuel CO2 Factors'!$D11","v":56.1},{"$f":"'Fuel CO2 Factors'!$D11","v":56.1},{"$f":"'Fuel CO2 Factors'!$D11","v":56.1},{"$f":"'Fuel CO2 Factors'!$D11","v":56.1},{"$f":"'Fuel CO2 Factors'!$D11","v":56.1},{"$f":"'Fuel CO2 Factors'!$D11","v":56.1},{"$f":"'Fuel CO2 Factors'!$D11","v":56.1},{"$f":"'Fuel CO2 Factors'!$D11","v":56.1},{"$f":"'Fuel CO2 Factors'!$D11","v":56.1},{"$f":"'Fuel CO2 Factors'!$D11","v":56.1},{"$f":"'Fuel CO2 Factors'!$D11","v":56.1},{"$f":"'Fuel CO2 Factors'!$D11","v":56.1},{"$f":"'Fuel CO2 Factors'!$D11","v":56.1},{"$f":"'Fuel CO2 Factors'!$D11","v":56.1},{"$f":"'Fuel CO2 Factors'!$D11","v":56.1},{"$f":"'Fuel CO2 Factors'!$D11","v":56.1},{"$f":"'Fuel CO2 Factors'!$D11","v":56.1},{"$f":"'Fuel CO2 Factors'!$D11","v":56.1},{"$f":"'Fuel CO2 Factors'!$D11","v":56.1},{"$f":"'Fuel CO2 Factors'!$D11","v":56.1},{"$f":"'Fuel CO2 Factors'!$D11","v":56.1},{"$f":"'Fuel CO2 Factors'!$D11","v":56.1},{"$f":"'Fuel CO2 Factors'!$D11","v":56.1},{"$f":"'Fuel CO2 Factors'!$D11","v":56.1},{"$f":"'Fuel CO2 Factors'!$D11","v":56.1},{"$f":"'Fuel CO2 Factors'!$D11","v":56.1},{"$f":"'Fuel CO2 Factors'!$D11","v":56.1},{"$f":"'Fuel CO2 Factors'!$D11","v":56.1},{"$f":"'Fuel CO2 Factors'!$D11","v":56.1},{"$f":"'Fuel CO2 Factors'!$D11","v":56.1},{"$f":"'Fuel CO2 Factors'!$D11","v":56.1},{"$f":"'Fuel CO2 Factors'!$D11","v":56.1},{"$f":"'Fuel CO2 Factors'!$D11","v":56.1},{"$f":"'Fuel CO2 Factors'!$D11","v":56.1},{"$f":"'Fuel CO2 Factors'!$D11","v":56.1},{"$f":"'Fuel CO2 Factors'!$D11","v":56.1},{"$f":"'Fuel CO2 Factors'!$D11","v":56.1},{"$f":"'Fuel CO2 Factors'!$D11","v":56.1},{"$f":"'Fuel CO2 Factors'!$D11","v":56.1},{"$f":"'Fuel CO2 Factors'!$D11","v":56.1},{"$f":"'Fuel CO2 Factors'!$D11","v":56.1},{"$f":"'Fuel CO2 Factors'!$D11","v":56.1},{"$f":"'Fuel CO2 Factors'!$D11","v":56.1},{"$f":"'Fuel CO2 Factors'!$D11","v":56.1},{"$f":"'Fuel CO2 Factors'!$D11","v":56.1},{"$f":"'Fuel CO2 Factors'!$D11","v":56.1},{"$f":"'Fuel CO2 Factors'!$D11","v":56.1}]
[null,191,null,"shale","[kg CO2/GJ]",null,{"$f":"'Fuel CO2 Factors'!$D12","v":107},{"$f":"'Fuel CO2 Factors'!$D12","v":107},{"$f":"'Fuel CO2 Factors'!$D12","v":107},{"$f":"'Fuel CO2 Factors'!$D12","v":107},{"$f":"'Fuel CO2 Factors'!$D12","v":107},{"$f":"'Fuel CO2 Factors'!$D12","v":107},{"$f":"'Fuel CO2 Factors'!$D12","v":107},{"$f":"'Fuel CO2 Factors'!$D12","v":107},{"$f":"'Fuel CO2 Factors'!$D12","v":107},{"$f":"'Fuel CO2 Factors'!$D12","v":107},{"$f":"'Fuel CO2 Factors'!$D12","v":107},{"$f":"'Fuel CO2 Factors'!$D12","v":107},{"$f":"'Fuel CO2 Factors'!$D12","v":107},{"$f":"'Fuel CO2 Factors'!$D12","v":107},{"$f":"'Fuel CO2 Factors'!$D12","v":107},{"$f":"'Fuel CO2 Factors'!$D12","v":107},{"$f":"'Fuel CO2 Factors'!$D12","v":107},{"$f":"'Fuel CO2 Factors'!$D12","v":107},{"$f":"'Fuel CO2 Factors'!$D12","v":107},{"$f":"'Fuel CO2 Factors'!$D12","v":107},{"$f":"'Fuel CO2 Factors'!$D12","v":107},{"$f":"'Fuel CO2 Factors'!$D12","v":107},{"$f":"'Fuel CO2 Factors'!$D12","v":107},{"$f":"'Fuel CO2 Factors'!$D12","v":107},{"$f":"'Fuel CO2 Factors'!$D12","v":107},{"$f":"'Fuel CO2 Factors'!$D12","v":107},{"$f":"'Fuel CO2 Factors'!$D12","v":107},{"$f":"'Fuel CO2 Factors'!$D12","v":107},{"$f":"'Fuel CO2 Factors'!$D12","v":107},{"$f":"'Fuel CO2 Factors'!$D12","v":107},{"$f":"'Fuel CO2 Factors'!$D12","v":107},{"$f":"'Fuel CO2 Factors'!$D12","v":107},{"$f":"'Fuel CO2 Factors'!$D12","v":107},{"$f":"'Fuel CO2 Factors'!$D12","v":107},{"$f":"'Fuel CO2 Factors'!$D12","v":107},{"$f":"'Fuel CO2 Factors'!$D12","v":107},{"$f":"'Fuel CO2 Factors'!$D12","v":107},{"$f":"'Fuel CO2 Factors'!$D12","v":107},{"$f":"'Fuel CO2 Factors'!$D12","v":107},{"$f":"'Fuel CO2 Factors'!$D12","v":107},{"$f":"'Fuel CO2 Factors'!$D12","v":107},{"$f":"'Fuel CO2 Factors'!$D12","v":107},{"$f":"'Fuel CO2 Factors'!$D12","v":107},{"$f":"'Fuel CO2 Factors'!$D12","v":107},{"$f":"'Fuel CO2 Factors'!$D12","v":107},{"$f":"'Fuel CO2 Factors'!$D12","v":107},{"$f":"'Fuel CO2 Factors'!$D12","v":107},{"$f":"'Fuel CO2 Factors'!$D12","v":107},{"$f":"'Fuel CO2 Factors'!$D12","v":107},{"$f":"'Fuel CO2 Factors'!$D12","v":107},{"$f":"'Fuel CO2 Factors'!$D12","v":107},{"$f":"'Fuel CO2 Factors'!$D12","v":107},{"$f":"'Fuel CO2 Factors'!$D12","v":107},{"$f":"'Fuel CO2 Factors'!$D12","v":107},{"$f":"'Fuel CO2 Factors'!$D12","v":107},{"$f":"'Fuel CO2 Factors'!$D12","v":107},{"$f":"'Fuel CO2 Factors'!$D12","v":107},{"$f":"'Fuel CO2 Factors'!$D12","v":107},{"$f":"'Fuel CO2 Factors'!$D12","v":107},{"$f":"'Fuel CO2 Factors'!$D12","v":107},{"$f":"'Fuel CO2 Factors'!$D12","v":107}]
[null,192,null,"lignite","[kg CO2/GJ]",null,{"$f":"'Fuel CO2 Factors'!$D13","v":101},{"$f":"'Fuel CO2 Factors'!$D13","v":101},{"$f":"'Fuel CO2 Factors'!$D13","v":101},{"$f":"'Fuel CO2 Factors'!$D13","v":101},{"$f":"'Fuel CO2 Factors'!$D13","v":101},{"$f":"'Fuel CO2 Factors'!$D13","v":101},{"$f":"'Fuel CO2 Factors'!$D13","v":101},{"$f":"'Fuel CO2 Factors'!$D13","v":101},{"$f":"'Fuel CO2 Factors'!$D13","v":101},{"$f":"'Fuel CO2 Factors'!$D13","v":101},{"$f":"'Fuel CO2 Factors'!$D13","v":101},{"$f":"'Fuel CO2 Factors'!$D13","v":101},{"$f":"'Fuel CO2 Factors'!$D13","v":101},{"$f":"'Fuel CO2 Factors'!$D13","v":101},{"$f":"'Fuel CO2 Factors'!$D13","v":101},{"$f":"'Fuel CO2 Factors'!$D13","v":101},{"$f":"'Fuel CO2 Factors'!$D13","v":101},{"$f":"'Fuel CO2 Factors'!$D13","v":101},{"$f":"'Fuel CO2 Factors'!$D13","v":101},{"$f":"'Fuel CO2 Factors'!$D13","v":101},{"$f":"'Fuel CO2 Factors'!$D13","v":101},{"$f":"'Fuel CO2 Factors'!$D13","v":101},{"$f":"'Fuel CO2 Factors'!$D13","v":101},{"$f":"'Fuel CO2 Factors'!$D13","v":101},{"$f":"'Fuel CO2 Factors'!$D13","v":101},{"$f":"'Fuel CO2 Factors'!$D13","v":101},{"$f":"'Fuel CO2 Factors'!$D13","v":101},{"$f":"'Fuel CO2 Factors'!$D13","v":101},{"$f":"'Fuel CO2 Factors'!$D13","v":101},{"$f":"'Fuel CO2 Factors'!$D13","v":101},{"$f":"'Fuel CO2 Factors'!$D13","v":101},{"$f":"'Fuel CO2 Factors'!$D13","v":101},{"$f":"'Fuel CO2 Factors'!$D13","v":101},{"$f":"'Fuel CO2 Factors'!$D13","v":101},{"$f":"'Fuel CO2 Factors'!$D13","v":101},{"$f":"'Fuel CO2 Factors'!$D13","v":101},{"$f":"'Fuel CO2 Factors'!$D13","v":101},{"$f":"'Fuel CO2 Factors'!$D13","v":101},{"$f":"'Fuel CO2 Factors'!$D13","v":101},{"$f":"'Fuel CO2 Factors'!$D13","v":101},{"$f":"'Fuel CO2 Factors'!$D13","v":101},{"$f":"'Fuel CO2 Factors'!$D13","v":101},{"$f":"'Fuel CO2 Factors'!$D13","v":101},{"$f":"'Fuel CO2 Factors'!$D13","v":101},{"$f":"'Fuel CO2 Factors'!$D13","v":101},{"$f":"'Fuel CO2 Factors'!$D13","v":101},{"$f":"'Fuel CO2 Factors'!$D13","v":101},{"$f":"'Fuel CO2 Factors'!$D13","v":101},{"$f":"'Fuel CO2 Factors'!$D13","v":101},{"$f":"'Fuel CO2 Factors'!$D13","v":101},{"$f":"'Fuel CO2 Factors'!$D13","v":101},{"$f":"'Fuel CO2 Factors'!$D13","v":101},{"$f":"'Fuel CO2 Factors'!$D13","v":101},{"$f":"'Fuel CO2 Factors'!$D13","v":101},{"$f":"'Fuel CO2 Factors'!$D13","v":101},{"$f":"'Fuel CO2 Factors'!$D13","v":101},{"$f":"'Fuel CO2 Factors'!$D13","v":101},{"$f":"'Fuel CO2 Factors'!$D13","v":101},{"$f":"'Fuel CO2 Factors'!$D13","v":101},{"$f":"'Fuel CO2 Factors'!$D13","v":101},{"$f":"'Fuel CO2 Factors'!$D13","v":101}]
[null,"192a",null,"gasoline","[kg CO2/GJ]",null,{"$f":"'Fuel CO2 Factors'!$D14","v":69.3},{"$f":"'Fuel CO2 Factors'!$D14","v":69.3},{"$f":"'Fuel CO2 Factors'!$D14","v":69.3},{"$f":"'Fuel CO2 Factors'!$D14","v":69.3},{"$f":"'Fuel CO2 Factors'!$D14","v":69.3},{"$f":"'Fuel CO2 Factors'!$D14","v":69.3},{"$f":"'Fuel CO2 Factors'!$D14","v":69.3},{"$f":"'Fuel CO2 Factors'!$D14","v":69.3},{"$f":"'Fuel CO2 Factors'!$D14","v":69.3},{"$f":"'Fuel CO2 Factors'!$D14","v":69.3},{"$f":"'Fuel CO2 Factors'!$D14","v":69.3},{"$f":"'Fuel CO2 Factors'!$D14","v":69.3},{"$f":"'Fuel CO2 Factors'!$D14","v":69.3},{"$f":"'Fuel CO2 Factors'!$D14","v":69.3},{"$f":"'Fuel CO2 Factors'!$D14","v":69.3},{"$f":"'Fuel CO2 Factors'!$D14","v":69.3},{"$f":"'Fuel CO2 Factors'!$D14","v":69.3},{"$f":"'Fuel CO2 Factors'!$D14","v":69.3},{"$f":"'Fuel CO2 Factors'!$D14","v":69.3},{"$f":"'Fuel CO2 Factors'!$D14","v":69.3},{"$f":"'Fuel CO2 Factors'!$D14","v":69.3},{"$f":"'Fuel CO2 Factors'!$D14","v":69.3},{"$f":"'Fuel CO2 Factors'!$D14","v":69.3},{"$f":"'Fuel CO2 Factors'!$D14","v":69.3},{"$f":"'Fuel CO2 Factors'!$D14","v":69.3},{"$f":"'Fuel CO2 Factors'!$D14","v":69.3},{"$f":"'Fuel CO2 Factors'!$D14","v":69.3},{"$f":"'Fuel CO2 Factors'!$D14","v":69.3},{"$f":"'Fuel CO2 Factors'!$D14","v":69.3},{"$f":"'Fuel CO2 Factors'!$D14","v":69.3},{"$f":"'Fuel CO2 Factors'!$D14","v":69.3},{"$f":"'Fuel CO2 Factors'!$D14","v":69.3},{"$f":"'Fuel CO2 Factors'!$D14","v":69.3},{"$f":"'Fuel CO2 Factors'!$D14","v":69.3},{"$f":"'Fuel CO2 Factors'!$D14","v":69.3},{"$f":"'Fuel CO2 Factors'!$D14","v":69.3},{"$f":"'Fuel CO2 Factors'!$D14","v":69.3},{"$f":"'Fuel CO2 Factors'!$D14","v":69.3},{"$f":"'Fuel CO2 Factors'!$D14","v":69.3},{"$f":"'Fuel CO2 Factors'!$D14","v":69.3},{"$f":"'Fuel CO2 Factors'!$D14","v":69.3},{"$f":"'Fuel CO2 Factors'!$D14","v":69.3},{"$f":"'Fuel CO2 Factors'!$D14","v":69.3},{"$f":"'Fuel CO2 Factors'!$D14","v":69.3},{"$f":"'Fuel CO2 Factors'!$D14","v":69.3},{"$f":"'Fuel CO2 Factors'!$D14","v":69.3},{"$f":"'Fuel CO2 Factors'!$D14","v":69.3},{"$f":"'Fuel CO2 Factors'!$D14","v":69.3},{"$f":"'Fuel CO2 Factors'!$D14","v":69.3},{"$f":"'Fuel CO2 Factors'!$D14","v":69.3},{"$f":"'Fuel CO2 Factors'!$D14","v":69.3},{"$f":"'Fuel CO2 Factors'!$D14","v":69.3},{"$f":"'Fuel CO2 Factors'!$D14","v":69.3},{"$f":"'Fuel CO2 Factors'!$D14","v":69.3},{"$f":"'Fuel CO2 Factors'!$D14","v":69.3},{"$f":"'Fuel CO2 Factors'!$D14","v":69.3},{"$f":"'Fuel CO2 Factors'!$D14","v":69.3},{"$f":"'Fuel CO2 Factors'!$D14","v":69.3},{"$f":"'Fuel CO2 Factors'!$D14","v":69.3},{"$f":"'Fuel CO2 Factors'!$D14","v":69.3},{"$f":"'Fuel CO2 Factors'!$D14","v":69.3}]
[null,"192d",null,"other fossil fuels (Equipment and On-Site Vehicles)","[kg CO2/GJ]",null,0,0,0,0,0,0,0,0,0,0,0,0,0,0,0,0,0,0,0,0,0,0,0,0,0,0,0,0,0,0,0,0,0,0,0,0,0,0,0,0,0,0,0,0,0,0,0,0,0,0,0,0,0,0,0,0,0,0,0,0,0]
[null,"192b",null,"other fossil fuels (Room Heating and Cooling)","[kg CO2/GJ]",null,0,0,0,0,0,0,0,0,0,0,0,0,0,0,0,0,0,0,0,0,0,0,0,0,0,0,0,0,0,0,0,0,0,0,0,0,0,0,0,0,0,0,0,0,0,0,0,0,0,0,0,0,0,0,0,0,0,0,0,0,0]
[null,"192c",null,"other fossil fuels (On-Site Power Generation)","[kg CO2/GJ]",null,0,0,0,0,0,0,0,0,0,0,0,0,0,0,0,0,0,0,0,0,0,0,0,0,0,0,0,0,0,0,0,0,0,0,0,0,0,0,0,0,0,0,0,0,0,0,0,0,0,0,0,0,0,0,0,0,0,0,0,0,0]
[null,{"$f":"B355+1","v":193},"Alternative fossil fuels, including mixed fuels"]
[null,194,null,"waste oil","[kg CO2/GJ]",null,{"$f":"'Fuel CO2 Factors'!$E16","v":74},{"$f":"'Fuel CO2 Factors'!$E16","v":74},74,{"$f":"'Fuel CO2 Factors'!$E16","v":74},{"$f":"'Fuel CO2 Factors'!$E16","v":74},{"$f":"'Fuel CO2 Factors'!$E16","v":74},{"$f":"'Fuel CO2 Factors'!$E16","v":74},{"$f":"'Fuel CO2 Factors'!$E16","v":74},{"$f":"'Fuel CO2 Factors'!$E16","v":74},{"$f":"'Fuel CO2 Factors'!$E16","v":74},{"$f":"'Fuel CO2 Factors'!$E16","v":74},{"$f":"'Fuel CO2 Factors'!$E16","v":74},{"$f":"'Fuel CO2 Factors'!$E16","v":74},{"$f":"'Fuel CO2 Factors'!$E16","v":74},{"$f":"'Fuel CO2 Factors'!$E16","v":74},{"$f":"'Fuel CO2 Factors'!$E16","v":74},{"$f":"'Fuel CO2 Factors'!$E16","v":74},{"$f":"'Fuel CO2 Factors'!$E16","v":74},{"$f":"'Fuel CO2 Factors'!$E16","v":74},{"$f":"'Fuel CO2 Factors'!$E16","v":74},{"$f":"'Fuel CO2 Factors'!$E16","v":74},{"$f":"'Fuel CO2 Factors'!$E16","v":74},{"$f":"'Fuel CO2 Factors'!$E16","v":74},{"$f":"'Fuel CO2 Factors'!$E16","v":74},{"$f":"'Fuel CO2 Factors'!$E16","v":74},{"$f":"'Fuel CO2 Factors'!$E16","v":74},{"$f":"'Fuel CO2 Factors'!$E16","v":74},{"$f":"'Fuel CO2 Factors'!$E16","v":74},{"$f":"'Fuel CO2 Factors'!$E16","v":74},{"$f":"'Fuel CO2 Factors'!$E16","v":74},{"$f":"'Fuel CO2 Factors'!$E16","v":74},{"$f":"'Fuel CO2 Factors'!$E16","v":74},{"$f":"'Fuel CO2 Factors'!$E16","v":74},{"$f":"'Fuel CO2 Factors'!$E16","v":74},{"$f":"'Fuel CO2 Factors'!$E16","v":74},{"$f":"'Fuel CO2 Factors'!$E16","v":74},{"$f":"'Fuel CO2 Factors'!$E16","v":74},{"$f":"'Fuel CO2 Factors'!$E16","v":74},{"$f":"'Fuel CO2 Factors'!$E16","v":74},{"$f":"'Fuel CO2 Factors'!$E16","v":74},{"$f":"'Fuel CO2 Factors'!$E16","v":74},{"$f":"'Fuel CO2 Factors'!$E16","v":74},{"$f":"'Fuel CO2 Factors'!$E16","v":74},{"$f":"'Fuel CO2 Factors'!$E16","v":74},{"$f":"'Fuel CO2 Factors'!$E16","v":74},{"$f":"'Fuel CO2 Factors'!$E16","v":74},{"$f":"'Fuel CO2 Factors'!$E16","v":74},{"$f":"'Fuel CO2 Factors'!$E16","v":74},{"$f":"'Fuel CO2 Factors'!$E16","v":74},{"$f":"'Fuel CO2 Factors'!$E16","v":74},{"$f":"'Fuel CO2 Factors'!$E16","v":74},{"$f":"'Fuel CO2 Factors'!$E16","v":74},{"$f":"'Fuel CO2 Factors'!$E16","v":74},{"$f":"'Fuel CO2 Factors'!$E16","v":74},{"$f":"'Fuel CO2 Factors'!$E16","v":74},{"$f":"'Fuel CO2 Factors'!$E16","v":74},{"$f":"'Fuel CO2 Factors'!$E16","v":74},{"$f":"'Fuel CO2 Factors'!$E16","v":74},{"$f":"'Fuel CO2 Factors'!$E16","v":74},{"$f":"'Fuel CO2 Factors'!$E16","v":74},{"$f":"'Fuel CO2 Factors'!$E16","v":74}]
[null,195,null,"tyres","[kg CO2/GJ]",null,{"$f":"'Fuel CO2 Factors'!$E17","v":85},{"$f":"'Fuel CO2 Factors'!$E17","v":85},{"$f":"'Fuel CO2 Factors'!$E17","v":85},{"$f":"'Fuel CO2 Factors'!$E17","v":85},{"$f":"'Fuel CO2 Factors'!$E17","v":85},{"$f":"'Fuel CO2 Factors'!$E17","v":85},{"$f":"'Fuel CO2 Factors'!$E17","v":85},{"$f":"'Fuel CO2 Factors'!$E17","v":85},{"$f":"'Fuel CO2 Factors'!$E17","v":85},{"$f":"'Fuel CO2 Factors'!$E17","v":85},{"$f":"'Fuel CO2 Factors'!$E17","v":85},{"$f":"'Fuel CO2 Factors'!$E17","v":85},{"$f":"'Fuel CO2 Factors'!$E17","v":85},{"$f":"'Fuel CO2 Factors'!$E17","v":85},{"$f":"'Fuel CO2 Factors'!$E17","v":85},{"$f":"'Fuel CO2 Factors'!$E17","v":85},{"$f":"'Fuel CO2 Factors'!$E17","v":85},{"$f":"'Fuel CO2 Factors'!$E17","v":85},{"$f":"'Fuel CO2 Factors'!$E17","v":85},{"$f":"'Fuel CO2 Factors'!$E17","v":85},{"$f":"'Fuel CO2 Factors'!$E17","v":85},{"$f":"'Fuel CO2 Factors'!$E17","v":85},{"$f":"'Fuel CO2 Factors'!$E17","v":85},{"$f":"'Fuel CO2 Factors'!$E17","v":85},{"$f":"'Fuel CO2 Factors'!$E17","v":85},{"$f":"'Fuel CO2 Factors'!$E17","v":85},{"$f":"'Fuel CO2 Factors'!$E17","v":85},{"$f":"'Fuel CO2 Factors'!$E17","v":85},{"$f":"'Fuel CO2 Factors'!$E17","v":85},{"$f":"'Fuel CO2 Factors'!$E17","v":85},{"$f":"'Fuel CO2 Factors'!$E17","v":85},{"$f":"'Fuel CO2 Factors'!$E17","v":85},{"$f":"'Fuel CO2 Factors'!$E17","v":85},{"$f":"'Fuel CO2 Factors'!$E17","v":85},{"$f":"'Fuel CO2 Factors'!$E17","v":85},{"$f":"'Fuel CO2 Factors'!$E17","v":85},{"$f":"'Fuel CO2 Factors'!$E17","v":85},{"$f":"'Fuel CO2 Factors'!$E17","v":85},{"$f":"'Fuel CO2 Factors'!$E17","v":85},{"$f":"'Fuel CO2 Factors'!$E17","v":85},{"$f":"'Fuel CO2 Factors'!$E17","v":85},{"$f":"'Fuel CO2 Factors'!$E17","v":85},{"$f":"'Fuel CO2 Factors'!$E17","v":85},{"$f":"'Fuel CO2 Factors'!$E17","v":85},{"$f":"'Fuel CO2 Factors'!$E17","v":85},{"$f":"'Fuel CO2 Factors'!$E17","v":85},{"$f":"'Fuel CO2 Factors'!$E17","v":85},{"$f":"'Fuel CO2 Factors'!$E17","v":85},{"$f":"'Fuel CO2 Factors'!$E17","v":85},{"$f":"'Fuel CO2 Factors'!$E17","v":85},{"$f":"'Fuel CO2 Factors'!$E17","v":85},{"$f":"'Fuel CO2 Factors'!$E17","v":85},{"$f":"'Fuel CO2 Factors'!$E17","v":85},{"$f":"'Fuel CO2 Factors'!$E17","v":85},{"$f":"'Fuel CO2 Factors'!$E17","v":85},{"$f":"'Fuel CO2 Factors'!$E17","v":85},{"$f":"'Fuel CO2 Factors'!$E17","v":85},{"$f":"'Fuel CO2 Factors'!$E17","v":85},{"$f":"'Fuel CO2 Factors'!$E17","v":85},{"$f":"'Fuel CO2 Factors'!$E17","v":85},{"$f":"'Fuel CO2 Factors'!$E17","v":85}]
[null,196,null,"RDF including plastics","[kg CO2/GJ]",null,{"$f":"'Fuel CO2 Factors'!$E18","v":75},{"$f":"'Fuel CO2 Factors'!$E18","v":75},{"$f":"'Fuel CO2 Factors'!$E18","v":75},{"$f":"'Fuel CO2 Factors'!$E18","v":75},{"$f":"'Fuel CO2 Factors'!$E18","v":75},{"$f":"'Fuel CO2 Factors'!$E18","v":75},{"$f":"'Fuel CO2 Factors'!$E18","v":75},{"$f":"'Fuel CO2 Factors'!$E18","v":75},{"$f":"'Fuel CO2 Factors'!$E18","v":75},{"$f":"'Fuel CO2 Factors'!$E18","v":75},{"$f":"'Fuel CO2 Factors'!$E18","v":75},{"$f":"'Fuel CO2 Factors'!$E18","v":75},{"$f":"'Fuel CO2 Factors'!$E18","v":75},{"$f":"'Fuel CO2 Factors'!$E18","v":75},{"$f":"'Fuel CO2 Factors'!$E18","v":75},{"$f":"'Fuel CO2 Factors'!$E18","v":75},{"$f":"'Fuel CO2 Factors'!$E18","v":75},{"$f":"'Fuel CO2 Factors'!$E18","v":75},{"$f":"'Fuel CO2 Factors'!$E18","v":75},{"$f":"'Fuel CO2 Factors'!$E18","v":75},{"$f":"'Fuel CO2 Factors'!$E18","v":75},{"$f":"'Fuel CO2 Factors'!$E18","v":75},{"$f":"'Fuel CO2 Factors'!$E18","v":75},{"$f":"'Fuel CO2 Factors'!$E18","v":75},{"$f":"'Fuel CO2 Factors'!$E18","v":75},{"$f":"'Fuel CO2 Factors'!$E18","v":75},{"$f":"'Fuel CO2 Factors'!$E18","v":75},{"$f":"'Fuel CO2 Factors'!$E18","v":75},{"$f":"'Fuel CO2 Factors'!$E18","v":75},{"$f":"'Fuel CO2 Factors'!$E18","v":75},{"$f":"'Fuel CO2 Factors'!$E18","v":75},{"$f":"'Fuel CO2 Factors'!$E18","v":75},{"$f":"'Fuel CO2 Factors'!$E18","v":75},{"$f":"'Fuel CO2 Factors'!$E18","v":75},{"$f":"'Fuel CO2 Factors'!$E18","v":75},{"$f":"'Fuel CO2 Factors'!$E18","v":75},{"$f":"'Fuel CO2 Factors'!$E18","v":75},{"$f":"'Fuel CO2 Factors'!$E18","v":75},{"$f":"'Fuel CO2 Factors'!$E18","v":75},{"$f":"'Fuel CO2 Factors'!$E18","v":75},{"$f":"'Fuel CO2 Factors'!$E18","v":75},{"$f":"'Fuel CO2 Factors'!$E18","v":75},{"$f":"'Fuel CO2 Factors'!$E18","v":75},{"$f":"'Fuel CO2 Factors'!$E18","v":75},{"$f":"'Fuel CO2 Factors'!$E18","v":75},{"$f":"'Fuel CO2 Factors'!$E18","v":75},{"$f":"'Fuel CO2 Factors'!$E18","v":75},{"$f":"'Fuel CO2 Factors'!$E18","v":75},{"$f":"'Fuel CO2 Factors'!$E18","v":75},{"$f":"'Fuel CO2 Factors'!$E18","v":75},{"$f":"'Fuel CO2 Factors'!$E18","v":75},{"$f":"'Fuel CO2 Factors'!$E18","v":75},{"$f":"'Fuel CO2 Factors'!$E18","v":75},{"$f":"'Fuel CO2 Factors'!$E18","v":75},{"$f":"'Fuel CO2 Factors'!$E18","v":75},{"$f":"'Fuel CO2 Factors'!$E18","v":75},{"$f":"'Fuel CO2 Factors'!$E18","v":75},{"$f":"'Fuel CO2 Factors'!$E18","v":75},{"$f":"'Fuel CO2 Factors'!$E18","v":75},{"$f":"'Fuel CO2 Factors'!$E18","v":75},{"$f":"'Fuel CO2 Factors'!$E18","v":75}]
[null,197,null,"solvents","[kg CO2/GJ]",null,{"$f":"'Fuel CO2 Factors'!$E19","v":74},{"$f":"'Fuel CO2 Factors'!$E19","v":74},{"$f":"'Fuel CO2 Factors'!$E19","v":74},{"$f":"'Fuel CO2 Factors'!$E19","v":74},{"$f":"'Fuel CO2 Factors'!$E19","v":74},{"$f":"'Fuel CO2 Factors'!$E19","v":74},{"$f":"'Fuel CO2 Factors'!$E19","v":74},{"$f":"'Fuel CO2 Factors'!$E19","v":74},{"$f":"'Fuel CO2 Factors'!$E19","v":74},{"$f":"'Fuel CO2 Factors'!$E19","v":74},{"$f":"'Fuel CO2 Factors'!$E19","v":74},{"$f":"'Fuel CO2 Factors'!$E19","v":74},{"$f":"'Fuel CO2 Factors'!$E19","v":74},{"$f":"'Fuel CO2 Factors'!$E19","v":74},{"$f":"'Fuel CO2 Factors'!$E19","v":74},{"$f":"'Fuel CO2 Factors'!$E19","v":74},{"$f":"'Fuel CO2 Factors'!$E19","v":74},{"$f":"'Fuel CO2 Factors'!$E19","v":74},{"$f":"'Fuel CO2 Factors'!$E19","v":74},{"$f":"'Fuel CO2 Factors'!$E19","v":74},{"$f":"'Fuel CO2 Factors'!$E19","v":74},{"$f":"'Fuel CO2 Factors'!$E19","v":74},{"$f":"'Fuel CO2 Factors'!$E19","v":74},{"$f":"'Fuel CO2 Factors'!$E19","v":74},{"$f":"'Fuel CO2 Factors'!$E19","v":74},{"$f":"'Fuel CO2 Factors'!$E19","v":74},{"$f":"'Fuel CO2 Factors'!$E19","v":74},{"$f":"'Fuel CO2 Factors'!$E19","v":74},{"$f":"'Fuel CO2 Factors'!$E19","v":74},{"$f":"'Fuel CO2 Factors'!$E19","v":74},{"$f":"'Fuel CO2 Factors'!$E19","v":74},{"$f":"'Fuel CO2 Factors'!$E19","v":74},{"$f":"'Fuel CO2 Factors'!$E19","v":74},{"$f":"'Fuel CO2 Factors'!$E19","v":74},{"$f":"'Fuel CO2 Factors'!$E19","v":74},{"$f":"'Fuel CO2 Factors'!$E19","v":74},{"$f":"'Fuel CO2 Factors'!$E19","v":74},{"$f":"'Fuel CO2 Factors'!$E19","v":74},{"$f":"'Fuel CO2 Factors'!$E19","v":74},{"$f":"'Fuel CO2 Factors'!$E19","v":74},{"$f":"'Fuel CO2 Factors'!$E19","v":74},{"$f":"'Fuel CO2 Factors'!$E19","v":74},{"$f":"'Fuel CO2 Factors'!$E19","v":74},{"$f":"'Fuel CO2 Factors'!$E19","v":74},{"$f":"'Fuel CO2 Factors'!$E19","v":74},{"$f":"'Fuel CO2 Factors'!$E19","v":74},{"$f":"'Fuel CO2 Factors'!$E19","v":74},{"$f":"'Fuel CO2 Factors'!$E19","v":74},{"$f":"'Fuel CO2 Factors'!$E19","v":74},{"$f":"'Fuel CO2 Factors'!$E19","v":74},{"$f":"'Fuel CO2 Factors'!$E19","v":74},{"$f":"'Fuel CO2 Factors'!$E19","v":74},{"$f":"'Fuel CO2 Factors'!$E19","v":74},{"$f":"'Fuel CO2 Factors'!$E19","v":74},{"$f":"'Fuel CO2 Factors'!$E19","v":74},{"$f":"'Fuel CO2 Factors'!$E19","v":74},{"$f":"'Fuel CO2 Factors'!$E19","v":74},{"$f":"'Fuel CO2 Factors'!$E19","v":74},{"$f":"'Fuel CO2 Factors'!$E19","v":74},{"$f":"'Fuel CO2 Factors'!$E19","v":74},{"$f":"'Fuel CO2 Factors'!$E19","v":74}]
[null,198,null,"impregnated saw dust","[kg CO2/GJ]",null,{"$f":"'Fuel CO2 Factors'!$E20","v":75},{"$f":"'Fuel CO2 Factors'!$E20","v":75},{"$f":"'Fuel CO2 Factors'!$E20","v":75},{"$f":"'Fuel CO2 Factors'!$E20","v":75},{"$f":"'Fuel CO2 Factors'!$E20","v":75},{"$f":"'Fuel CO2 Factors'!$E20","v":75},{"$f":"'Fuel CO2 Factors'!$E20","v":75},{"$f":"'Fuel CO2 Factors'!$E20","v":75},{"$f":"'Fuel CO2 Factors'!$E20","v":75},{"$f":"'Fuel CO2 Factors'!$E20","v":75},{"$f":"'Fuel CO2 Factors'!$E20","v":75},{"$f":"'Fuel CO2 Factors'!$E20","v":75},{"$f":"'Fuel CO2 Factors'!$E20","v":75},{"$f":"'Fuel CO2 Factors'!$E20","v":75},{"$f":"'Fuel CO2 Factors'!$E20","v":75},{"$f":"'Fuel CO2 Factors'!$E20","v":75},{"$f":"'Fuel CO2 Factors'!$E20","v":75},{"$f":"'Fuel CO2 Factors'!$E20","v":75},{"$f":"'Fuel CO2 Factors'!$E20","v":75},{"$f":"'Fuel CO2 Factors'!$E20","v":75},{"$f":"'Fuel CO2 Factors'!$E20","v":75},{"$f":"'Fuel CO2 Factors'!$E20","v":75},{"$f":"'Fuel CO2 Factors'!$E20","v":75},{"$f":"'Fuel CO2 Factors'!$E20","v":75},{"$f":"'Fuel CO2 Factors'!$E20","v":75},{"$f":"'Fuel CO2 Factors'!$E20","v":75},{"$f":"'Fuel CO2 Factors'!$E20","v":75},{"$f":"'Fuel CO2 Factors'!$E20","v":75},{"$f":"'Fuel CO2 Factors'!$E20","v":75},{"$f":"'Fuel CO2 Factors'!$E20","v":75},{"$f":"'Fuel CO2 Factors'!$E20","v":75},{"$f":"'Fuel CO2 Factors'!$E20","v":75},{"$f":"'Fuel CO2 Factors'!$E20","v":75},{"$f":"'Fuel CO2 Factors'!$E20","v":75},{"$f":"'Fuel CO2 Factors'!$E20","v":75},{"$f":"'Fuel CO2 Factors'!$E20","v":75},{"$f":"'Fuel CO2 Factors'!$E20","v":75},{"$f":"'Fuel CO2 Factors'!$E20","v":75},{"$f":"'Fuel CO2 Factors'!$E20","v":75},{"$f":"'Fuel CO2 Factors'!$E20","v":75},{"$f":"'Fuel CO2 Factors'!$E20","v":75},{"$f":"'Fuel CO2 Factors'!$E20","v":75},{"$f":"'Fuel CO2 Factors'!$E20","v":75},{"$f":"'Fuel CO2 Factors'!$E20","v":75},{"$f":"'Fuel CO2 Factors'!$E20","v":75},{"$f":"'Fuel CO2 Factors'!$E20","v":75},{"$f":"'Fuel CO2 Factors'!$E20","v":75},{"$f":"'Fuel CO2 Factors'!$E20","v":75},{"$f":"'Fuel CO2 Factors'!$E20","v":75},{"$f":"'Fuel CO2 Factors'!$E20","v":75},{"$f":"'Fuel CO2 Factors'!$E20","v":75},{"$f":"'Fuel CO2 Factors'!$E20","v":75},{"$f":"'Fuel CO2 Factors'!$E20","v":75},{"$f":"'Fuel CO2 Factors'!$E20","v":75},{"$f":"'Fuel CO2 Factors'!$E20","v":75},{"$f":"'Fuel CO2 Factors'!$E20","v":75},{"$f":"'Fuel CO2 Factors'!$E20","v":75},{"$f":"'Fuel CO2 Factors'!$E20","v":75},{"$f":"'Fuel CO2 Factors'!$E20","v":75},{"$f":"'Fuel CO2 Factors'!$E20","v":75},{"$f":"'Fuel CO2 Factors'!$E20","v":75}]
[null,199,null,"mixed industrial waste","[kg CO2/GJ]",null,{"$f":"'Fuel CO2 Factors'!$E21","v":83},{"$f":"'Fuel CO2 Factors'!$E21","v":83},{"$f":"'Fuel CO2 Factors'!$E21","v":83},{"$f":"'Fuel CO2 Factors'!$E21","v":83},{"$f":"'Fuel CO2 Factors'!$E21","v":83},{"$f":"'Fuel CO2 Factors'!$E21","v":83},{"$f":"'Fuel CO2 Factors'!$E21","v":83},{"$f":"'Fuel CO2 Factors'!$E21","v":83},{"$f":"'Fuel CO2 Factors'!$E21","v":83},{"$f":"'Fuel CO2 Factors'!$E21","v":83},{"$f":"'Fuel CO2 Factors'!$E21","v":83},{"$f":"'Fuel CO2 Factors'!$E21","v":83},{"$f":"'Fuel CO2 Factors'!$E21","v":83},{"$f":"'Fuel CO2 Factors'!$E21","v":83},{"$f":"'Fuel CO2 Factors'!$E21","v":83},{"$f":"'Fuel CO2 Factors'!$E21","v":83},{"$f":"'Fuel CO2 Factors'!$E21","v":83},{"$f":"'Fuel CO2 Factors'!$E21","v":83},{"$f":"'Fuel CO2 Factors'!$E21","v":83},{"$f":"'Fuel CO2 Factors'!$E21","v":83},{"$f":"'Fuel CO2 Factors'!$E21","v":83},{"$f":"'Fuel CO2 Factors'!$E21","v":83},{"$f":"'Fuel CO2 Factors'!$E21","v":83},{"$f":"'Fuel CO2 Factors'!$E21","v":83},{"$f":"'Fuel CO2 Factors'!$E21","v":83},{"$f":"'Fuel CO2 Factors'!$E21","v":83},{"$f":"'Fuel CO2 Factors'!$E21","v":83},{"$f":"'Fuel CO2 Factors'!$E21","v":83},{"$f":"'Fuel CO2 Factors'!$E21","v":83},{"$f":"'Fuel CO2 Factors'!$E21","v":83},{"$f":"'Fuel CO2 Factors'!$E21","v":83},{"$f":"'Fuel CO2 Factors'!$E21","v":83},{"$f":"'Fuel CO2 Factors'!$E21","v":83},{"$f":"'Fuel CO2 Factors'!$E21","v":83},{"$f":"'Fuel CO2 Factors'!$E21","v":83},{"$f":"'Fuel CO2 Factors'!$E21","v":83},{"$f":"'Fuel CO2 Factors'!$E21","v":83},{"$f":"'Fuel CO2 Factors'!$E21","v":83},{"$f":"'Fuel CO2 Factors'!$E21","v":83},{"$f":"'Fuel CO2 Factors'!$E21","v":83},{"$f":"'Fuel CO2 Factors'!$E21","v":83},{"$f":"'Fuel CO2 Factors'!$E21","v":83},{"$f":"'Fuel CO2 Factors'!$E21","v":83},{"$f":"'Fuel CO2 Factors'!$E21","v":83},{"$f":"'Fuel CO2 Factors'!$E21","v":83},{"$f":"'Fuel CO2 Factors'!$E21","v":83},{"$f":"'Fuel CO2 Factors'!$E21","v":83},{"$f":"'Fuel CO2 Factors'!$E21","v":83},{"$f":"'Fuel CO2 Factors'!$E21","v":83},{"$f":"'Fuel CO2 Factors'!$E21","v":83},{"$f":"'Fuel CO2 Factors'!$E21","v":83},{"$f":"'Fuel CO2 Factors'!$E21","v":83},{"$f":"'Fuel CO2 Factors'!$E21","v":83},{"$f":"'Fuel CO2 Factors'!$E21","v":83},{"$f":"'Fuel CO2 Factors'!$E21","v":83},{"$f":"'Fuel CO2 Factors'!$E21","v":83},{"$f":"'Fuel CO2 Factors'!$E21","v":83},{"$f":"'Fuel CO2 Factors'!$E21","v":83},{"$f":"'Fuel CO2 Factors'!$E21","v":83},{"$f":"'Fuel CO2 Factors'!$E21","v":83},{"$f":"'Fuel CO2 Factors'!$E21","v":83}]
[null,"199a",null,"bio and mixed diesel","[kg CO2/GJ]",null,74,74,74,74,74,74,74,74,74,74,74,74,74,74,74,74,74,74,74,74,74,74,74,74,74,74,74,74,74,74,74,74,74,74,74,74,75,76,77,78,79,80,81,82,83,84,85,86,87,88,89,90,91,92,93,94,95,96,97,98,99]
[null,{"$f":"B366+1","v":200},null,"other fossil based wastes and mixed fuels","[kg CO2/GJ]",null,80,{"$f":"'Fuel CO2 Factors'!$E22","v":80},{"$f":"'Fuel CO2 Factors'!$E22","v":80},{"$f":"'Fuel CO2 Factors'!$E22","v":80},{"$f":"'Fuel CO2 Factors'!$E22","v":80},{"$f":"'Fuel CO2 Factors'!$E22","v":80},{"$f":"'Fuel CO2 Factors'!$E22","v":80},{"$f":"'Fuel CO2 Factors'!$E22","v":80},{"$f":"'Fuel CO2 Factors'!$E22","v":80},{"$f":"'Fuel CO2 Factors'!$E22","v":80},{"$f":"'Fuel CO2 Factors'!$E22","v":80},{"$f":"'Fuel CO2 Factors'!$E22","v":80},{"$f":"'Fuel CO2 Factors'!$E22","v":80},{"$f":"'Fuel CO2 Factors'!$E22","v":80},{"$f":"'Fuel CO2 Factors'!$E22","v":80},{"$f":"'Fuel CO2 Factors'!$E22","v":80},{"$f":"'Fuel CO2 Factors'!$E22","v":80},{"$f":"'Fuel CO2 Factors'!$E22","v":80},{"$f":"'Fuel CO2 Factors'!$E22","v":80},{"$f":"'Fuel CO2 Factors'!$E22","v":80},{"$f":"'Fuel CO2 Factors'!$E22","v":80},{"$f":"'Fuel CO2 Factors'!$E22","v":80},{"$f":"'Fuel CO2 Factors'!$E22","v":80},{"$f":"'Fuel CO2 Factors'!$E22","v":80},{"$f":"'Fuel CO2 Factors'!$E22","v":80},{"$f":"'Fuel CO2 Factors'!$E22","v":80},{"$f":"'Fuel CO2 Factors'!$E22","v":80},{"$f":"'Fuel CO2 Factors'!$E22","v":80},{"$f":"'Fuel CO2 Factors'!$E22","v":80},{"$f":"'Fuel CO2 Factors'!$E22","v":80},{"$f":"'Fuel CO2 Factors'!$E22","v":80},{"$f":"'Fuel CO2 Factors'!$E22","v":80},{"$f":"'Fuel CO2 Factors'!$E22","v":80},{"$f":"'Fuel CO2 Factors'!$E22","v":80},{"$f":"'Fuel CO2 Factors'!$E22","v":80},{"$f":"'Fuel CO2 Factors'!$E22","v":80},{"$f":"'Fuel CO2 Factors'!$E22","v":80},{"$f":"'Fuel CO2 Factors'!$E22","v":80},{"$f":"'Fuel CO2 Factors'!$E22","v":80},{"$f":"'Fuel CO2 Factors'!$E22","v":80},{"$f":"'Fuel CO2 Factors'!$E22","v":80},{"$f":"'Fuel CO2 Factors'!$E22","v":80},{"$f":"'Fuel CO2 Factors'!$E22","v":80},{"$f":"'Fuel CO2 Factors'!$E22","v":80},{"$f":"'Fuel CO2 Factors'!$E22","v":80},{"$f":"'Fuel CO2 Factors'!$E22","v":80},{"$f":"'Fuel CO2 Factors'!$E22","v":80},{"$f":"'Fuel CO2 Factors'!$E22","v":80},{"$f":"'Fuel CO2 Factors'!$E22","v":80},{"$f":"'Fuel CO2 Factors'!$E22","v":80},{"$f":"'Fuel CO2 Factors'!$E22","v":80},{"$f":"'Fuel CO2 Factors'!$E22","v":80},{"$f":"'Fuel CO2 Factors'!$E22","v":80},{"$f":"'Fuel CO2 Factors'!$E22","v":80},{"$f":"'Fuel CO2 Factors'!$E22","v":80},{"$f":"'Fuel CO2 Factors'!$E22","v":80},{"$f":"'Fuel CO2 Factors'!$E22","v":80},{"$f":"'Fuel CO2 Factors'!$E22","v":80},{"$f":"'Fuel CO2 Factors'!$E22","v":80},{"$f":"'Fuel CO2 Factors'!$E22","v":80},{"$f":"'Fuel CO2 Factors'!$E22","v":80}]
[null,"200a",null,"biomass in waste oil","[ % Cbio/TC]",null,0,0,0,0,0,0,0,0,0,0,0,0,0,0,0,0,0,0,0,0,0,0,0,0,0,0,0,0,0,0,0,0,0,0,0,0,0,0,0,0,0,0,0,0,0,0,0,0,0,0,0,0,0,0,0,0,0,0,0,0,0]
[null,"200b",null,"biomass in tyres","[ % Cbio/TC]",null,{"$f":"'Fuel CO2 Factors'!$F17","v":0.27},{"$f":"'Fuel CO2 Factors'!$F17","v":0.27},{"$f":"'Fuel CO2 Factors'!$F17","v":0.27},{"$f":"'Fuel CO2 Factors'!$F17","v":0.27},{"$f":"'Fuel CO2 Factors'!$F17","v":0.27},{"$f":"'Fuel CO2 Factors'!$F17","v":0.27},{"$f":"'Fuel CO2 Factors'!$F17","v":0.27},{"$f":"'Fuel CO2 Factors'!$F17","v":0.27},{"$f":"'Fuel CO2 Factors'!$F17","v":0.27},{"$f":"'Fuel CO2 Factors'!$F17","v":0.27},{"$f":"'Fuel CO2 Factors'!$F17","v":0.27},{"$f":"'Fuel CO2 Factors'!$F17","v":0.27},{"$f":"'Fuel CO2 Factors'!$F17","v":0.27},{"$f":"'Fuel CO2 Factors'!$F17","v":0.27},{"$f":"'Fuel CO2 Factors'!$F17","v":0.27},{"$f":"'Fuel CO2 Factors'!$F17","v":0.27},{"$f":"'Fuel CO2 Factors'!$F17","v":0.27},{"$f":"'Fuel CO2 Factors'!$F17","v":0.27},{"$f":"'Fuel CO2 Factors'!$F17","v":0.27},{"$f":"'Fuel CO2 Factors'!$F17","v":0.27},{"$f":"'Fuel CO2 Factors'!$F17","v":0.27},{"$f":"'Fuel CO2 Factors'!$F17","v":0.27},{"$f":"'Fuel CO2 Factors'!$F17","v":0.27},{"$f":"'Fuel CO2 Factors'!$F17","v":0.27},{"$f":"'Fuel CO2 Factors'!$F17","v":0.27},{"$f":"'Fuel CO2 Factors'!$F17","v":0.27},{"$f":"'Fuel CO2 Factors'!$F17","v":0.27},{"$f":"'Fuel CO2 Factors'!$F17","v":0.27},{"$f":"'Fuel CO2 Factors'!$F17","v":0.27},{"$f":"'Fuel CO2 Factors'!$F17","v":0.27},{"$f":"'Fuel CO2 Factors'!$F17","v":0.27},{"$f":"'Fuel CO2 Factors'!$F17","v":0.27},{"$f":"'Fuel CO2 Factors'!$F17","v":0.27},{"$f":"'Fuel CO2 Factors'!$F17","v":0.27},{"$f":"'Fuel CO2 Factors'!$F17","v":0.27},{"$f":"'Fuel CO2 Factors'!$F17","v":0.27},{"$f":"'Fuel CO2 Factors'!$F17","v":0.27},{"$f":"'Fuel CO2 Factors'!$F17","v":0.27},{"$f":"'Fuel CO2 Factors'!$F17","v":0.27},{"$f":"'Fuel CO2 Factors'!$F17","v":0.27},{"$f":"'Fuel CO2 Factors'!$F17","v":0.27},{"$f":"'Fuel CO2 Factors'!$F17","v":0.27},{"$f":"'Fuel CO2 Factors'!$F17","v":0.27},{"$f":"'Fuel CO2 Factors'!$F17","v":0.27},{"$f":"'Fuel CO2 Factors'!$F17","v":0.27},{"$f":"'Fuel CO2 Factors'!$F17","v":0.27},{"$f":"'Fuel CO2 Factors'!$F17","v":0.27},{"$f":"'Fuel CO2 Factors'!$F17","v":0.27},{"$f":"'Fuel CO2 Factors'!$F17","v":0.27},{"$f":"'Fuel CO2 Factors'!$F17","v":0.27},{"$f":"'Fuel CO2 Factors'!$F17","v":0.27},{"$f":"'Fuel CO2 Factors'!$F17","v":0.27},{"$f":"'Fuel CO2 Factors'!$F17","v":0.27},{"$f":"'Fuel CO2 Factors'!$F17","v":0.27},{"$f":"'Fuel CO2 Factors'!$F17","v":0.27},{"$f":"'Fuel CO2 Factors'!$F17","v":0.27},{"$f":"'Fuel CO2 Factors'!$F17","v":0.27},{"$f":"'Fuel CO2 Factors'!$F17","v":0.27},{"$f":"'Fuel CO2 Factors'!$F17","v":0.27},{"$f":"'Fuel CO2 Factors'!$F17","v":0.27},{"$f":"'Fuel CO2 Factors'!$F17","v":0.27}]
[null,"200c",null,"biomass in RDF including plastics","[ % Cbio/TC]",null,0,0,0,0,0,0,0,0,0,0,0,0,0,0,0,0,0,0,0,0,0,0,0,0,0,0,0,0,0,0,0,0,0,0,0,0,0,0,0,0,0,0,0,0,0,0,0,0,0,0,0,0,0,0,0,0,0,0,0,0,0]
[null,"200d",null,"biomass in solvents","[ % Cbio/TC]",null,0,0,0,0,0,0,0,0,0,0,0,0,0,0,0,0,0,0,0,0,0,0,0,0,0,0,0,0,0,0,0,0,0,0,0,0,0,0,0,0,0,0,0,0,0,0,0,0,0,0,0,0,0,0,0,0,0,0,0,0,0]
[null,"200e",null,"biomass in impregnated saw dust","[ % Cbio/TC]",null,0,0,0,0,0,0,0,0,0,0,0,0,0,0,0,0,0,0,0,0,0,0,0,0,0,0,0,0,0,0,0,0,0,0,0,0,0,0,0,0,0,0,0,0,0,0,0,0,0,0,0,0,0,0,0,0,0,0,0,0,0]
[null,"200f",null,"biomass in mixed industrial waste","[ % Cbio/TC]",null,0,0,0,0,0,0,0,0,0,0,0,0,0,0,0,0,0,0,0,0,0,0,0,0,0,0,0,0,0,0,0,0,0,0,0,0,0,0,0,0,0,0,0,0,0,0,0,0,0,0,0,0,0,0,0,0,0,0,0,0,0]
[null,"200g",null,"biomass in bio and mixed diesel","[ % Cbio/TC]",null,0,0,0,0,0,0,0,0,0,0,0,0,0,0,0,0,0,0,0,0,0,0,0,0,0,0,0,0,0,0,0,0,0,0,0,0,0,0,0,0,0,0,0,0,0,0,0,0,0,0,0,0,0,0,0,0,0,0,0,0,0]
[null,"200h",null,"biomass in other fossil based wastes and mixed fuels","[ % Cbio/TC]",null,0,0,0,0,0,0,0,0,0,0,0,0,0,0,0,0,0,0,0,0,0,0,0,0,0,0,0,0,0,0,0,0,0,0,0,0,0,0,0,0,0,0,0,0,0,0,0,0,0,0,0,0,0,0,0,0,0,0,0,0,0]
[null,{"$f":"B368+1","v":201},"Biomass fuels"]
[null,{"$f":"B377+1","v":202},null,"sewage sludge","[kg CO2/GJ]",null,{"$f":"'Fuel CO2 Factors'!$E24","v":110},{"$f":"'Fuel CO2 Factors'!$E24","v":110},{"$f":"'Fuel CO2 Factors'!$E24","v":110},{"$f":"'Fuel CO2 Factors'!$E24","v":110},{"$f":"'Fuel CO2 Factors'!$E24","v":110},{"$f":"'Fuel CO2 Factors'!$E24","v":110},{"$f":"'Fuel CO2 Factors'!$E24","v":110},{"$f":"'Fuel CO2 Factors'!$E24","v":110},{"$f":"'Fuel CO2 Factors'!$E24","v":110},{"$f":"'Fuel CO2 Factors'!$E24","v":110},{"$f":"'Fuel CO2 Factors'!$E24","v":110},{"$f":"'Fuel CO2 Factors'!$E24","v":110},{"$f":"'Fuel CO2 Factors'!$E24","v":110},{"$f":"'Fuel CO2 Factors'!$E24","v":110},{"$f":"'Fuel CO2 Factors'!$E24","v":110},{"$f":"'Fuel CO2 Factors'!$E24","v":110},{"$f":"'Fuel CO2 Factors'!$E24","v":110},{"$f":"'Fuel CO2 Factors'!$E24","v":110},{"$f":"'Fuel CO2 Factors'!$E24","v":110},{"$f":"'Fuel CO2 Factors'!$E24","v":110},{"$f":"'Fuel CO2 Factors'!$E24","v":110},{"$f":"'Fuel CO2 Factors'!$E24","v":110},{"$f":"'Fuel CO2 Factors'!$E24","v":110},{"$f":"'Fuel CO2 Factors'!$E24","v":110},{"$f":"'Fuel CO2 Factors'!$E24","v":110},{"$f":"'Fuel CO2 Factors'!$E24","v":110},{"$f":"'Fuel CO2 Factors'!$E24","v":110},{"$f":"'Fuel CO2 Factors'!$E24","v":110},{"$f":"'Fuel CO2 Factors'!$E24","v":110},{"$f":"'Fuel CO2 Factors'!$E24","v":110},{"$f":"'Fuel CO2 Factors'!$E24","v":110},{"$f":"'Fuel CO2 Factors'!$E24","v":110},{"$f":"'Fuel CO2 Factors'!$E24","v":110},{"$f":"'Fuel CO2 Factors'!$E24","v":110},{"$f":"'Fuel CO2 Factors'!$E24","v":110},{"$f":"'Fuel CO2 Factors'!$E24","v":110},{"$f":"'Fuel CO2 Factors'!$E24","v":110},{"$f":"'Fuel CO2 Factors'!$E24","v":110},{"$f":"'Fuel CO2 Factors'!$E24","v":110},{"$f":"'Fuel CO2 Factors'!$E24","v":110},{"$f":"'Fuel CO2 Factors'!$E24","v":110},{"$f":"'Fuel CO2 Factors'!$E24","v":110},{"$f":"'Fuel CO2 Factors'!$E24","v":110},{"$f":"'Fuel CO2 Factors'!$E24","v":110},{"$f":"'Fuel CO2 Factors'!$E24","v":110},{"$f":"'Fuel CO2 Factors'!$E24","v":110},{"$f":"'Fuel CO2 Factors'!$E24","v":110},{"$f":"'Fuel CO2 Factors'!$E24","v":110},{"$f":"'Fuel CO2 Factors'!$E24","v":110},{"$f":"'Fuel CO2 Factors'!$E24","v":110},{"$f":"'Fuel CO2 Factors'!$E24","v":110},{"$f":"'Fuel CO2 Factors'!$E24","v":110},{"$f":"'Fuel CO2 Factors'!$E24","v":110},{"$f":"'Fuel CO2 Factors'!$E24","v":110},{"$f":"'Fuel CO2 Factors'!$E24","v":110},{"$f":"'Fuel CO2 Factors'!$E24","v":110},{"$f":"'Fuel CO2 Factors'!$E24","v":110},{"$f":"'Fuel CO2 Factors'!$E24","v":110},{"$f":"'Fuel CO2 Factors'!$E24","v":110},{"$f":"'Fuel CO2 Factors'!$E24","v":110},{"$f":"'Fuel CO2 Factors'!$E24","v":110}]
[null,203,null,"wood, non impregnated saw dust","[kg CO2/GJ]",null,{"$f":"'Fuel CO2 Factors'!$E25","v":110},{"$f":"'Fuel CO2 Factors'!$E25","v":110},{"$f":"'Fuel CO2 Factors'!$E25","v":110},{"$f":"'Fuel CO2 Factors'!$E25","v":110},{"$f":"'Fuel CO2 Factors'!$E25","v":110},{"$f":"'Fuel CO2 Factors'!$E25","v":110},{"$f":"'Fuel CO2 Factors'!$E25","v":110},{"$f":"'Fuel CO2 Factors'!$E25","v":110},{"$f":"'Fuel CO2 Factors'!$E25","v":110},{"$f":"'Fuel CO2 Factors'!$E25","v":110},{"$f":"'Fuel CO2 Factors'!$E25","v":110},{"$f":"'Fuel CO2 Factors'!$E25","v":110},{"$f":"'Fuel CO2 Factors'!$E25","v":110},{"$f":"'Fuel CO2 Factors'!$E25","v":110},{"$f":"'Fuel CO2 Factors'!$E25","v":110},{"$f":"'Fuel CO2 Factors'!$E25","v":110},{"$f":"'Fuel CO2 Factors'!$E25","v":110},{"$f":"'Fuel CO2 Factors'!$E25","v":110},{"$f":"'Fuel CO2 Factors'!$E25","v":110},{"$f":"'Fuel CO2 Factors'!$E25","v":110},{"$f":"'Fuel CO2 Factors'!$E25","v":110},{"$f":"'Fuel CO2 Factors'!$E25","v":110},{"$f":"'Fuel CO2 Factors'!$E25","v":110},{"$f":"'Fuel CO2 Factors'!$E25","v":110},{"$f":"'Fuel CO2 Factors'!$E25","v":110},{"$f":"'Fuel CO2 Factors'!$E25","v":110},{"$f":"'Fuel CO2 Factors'!$E25","v":110},{"$f":"'Fuel CO2 Factors'!$E25","v":110},{"$f":"'Fuel CO2 Factors'!$E25","v":110},{"$f":"'Fuel CO2 Factors'!$E25","v":110},{"$f":"'Fuel CO2 Factors'!$E25","v":110},{"$f":"'Fuel CO2 Factors'!$E25","v":110},{"$f":"'Fuel CO2 Factors'!$E25","v":110},{"$f":"'Fuel CO2 Factors'!$E25","v":110},{"$f":"'Fuel CO2 Factors'!$E25","v":110},{"$f":"'Fuel CO2 Factors'!$E25","v":110},{"$f":"'Fuel CO2 Factors'!$E25","v":110},{"$f":"'Fuel CO2 Factors'!$E25","v":110},{"$f":"'Fuel CO2 Factors'!$E25","v":110},{"$f":"'Fuel CO2 Factors'!$E25","v":110},{"$f":"'Fuel CO2 Factors'!$E25","v":110},{"$f":"'Fuel CO2 Factors'!$E25","v":110},{"$f":"'Fuel CO2 Factors'!$E25","v":110},{"$f":"'Fuel CO2 Factors'!$E25","v":110},{"$f":"'Fuel CO2 Factors'!$E25","v":110},{"$f":"'Fuel CO2 Factors'!$E25","v":110},{"$f":"'Fuel CO2 Factors'!$E25","v":110},{"$f":"'Fuel CO2 Factors'!$E25","v":110},{"$f":"'Fuel CO2 Factors'!$E25","v":110},{"$f":"'Fuel CO2 Factors'!$E25","v":110},{"$f":"'Fuel CO2 Factors'!$E25","v":110},{"$f":"'Fuel CO2 Factors'!$E25","v":110},{"$f":"'Fuel CO2 Factors'!$E25","v":110},{"$f":"'Fuel CO2 Factors'!$E25","v":110},{"$f":"'Fuel CO2 Factors'!$E25","v":110},{"$f":"'Fuel CO2 Factors'!$E25","v":110},{"$f":"'Fuel CO2 Factors'!$E25","v":110},{"$f":"'Fuel CO2 Factors'!$E25","v":110},{"$f":"'Fuel CO2 Factors'!$E25","v":110},{"$f":"'Fuel CO2 Factors'!$E25","v":110},{"$f":"'Fuel CO2 Factors'!$E25","v":110}]
[null,204,null,"paper, carton","[kg CO2/GJ]",null,{"$f":"'Fuel CO2 Factors'!$E26","v":110},{"$f":"'Fuel CO2 Factors'!$E26","v":110},{"$f":"'Fuel CO2 Factors'!$E26","v":110},{"$f":"'Fuel CO2 Factors'!$E26","v":110},{"$f":"'Fuel CO2 Factors'!$E26","v":110},{"$f":"'Fuel CO2 Factors'!$E26","v":110},{"$f":"'Fuel CO2 Factors'!$E26","v":110},{"$f":"'Fuel CO2 Factors'!$E26","v":110},{"$f":"'Fuel CO2 Factors'!$E26","v":110},{"$f":"'Fuel CO2 Factors'!$E26","v":110},{"$f":"'Fuel CO2 Factors'!$E26","v":110},{"$f":"'Fuel CO2 Factors'!$E26","v":110},{"$f":"'Fuel CO2 Factors'!$E26","v":110},{"$f":"'Fuel CO2 Factors'!$E26","v":110},{"$f":"'Fuel CO2 Factors'!$E26","v":110},{"$f":"'Fuel CO2 Factors'!$E26","v":110},{"$f":"'Fuel CO2 Factors'!$E26","v":110},{"$f":"'Fuel CO2 Factors'!$E26","v":110},{"$f":"'Fuel CO2 Factors'!$E26","v":110},{"$f":"'Fuel CO2 Factors'!$E26","v":110},{"$f":"'Fuel CO2 Factors'!$E26","v":110},{"$f":"'Fuel CO2 Factors'!$E26","v":110},{"$f":"'Fuel CO2 Factors'!$E26","v":110},{"$f":"'Fuel CO2 Factors'!$E26","v":110},{"$f":"'Fuel CO2 Factors'!$E26","v":110},{"$f":"'Fuel CO2 Factors'!$E26","v":110},{"$f":"'Fuel CO2 Factors'!$E26","v":110},{"$f":"'Fuel CO2 Factors'!$E26","v":110},{"$f":"'Fuel CO2 Factors'!$E26","v":110},{"$f":"'Fuel CO2 Factors'!$E26","v":110},{"$f":"'Fuel CO2 Factors'!$E26","v":110},{"$f":"'Fuel CO2 Factors'!$E26","v":110},{"$f":"'Fuel CO2 Factors'!$E26","v":110},{"$f":"'Fuel CO2 Factors'!$E26","v":110},{"$f":"'Fuel CO2 Factors'!$E26","v":110},{"$f":"'Fuel CO2 Factors'!$E26","v":110},{"$f":"'Fuel CO2 Factors'!$E26","v":110},{"$f":"'Fuel CO2 Factors'!$E26","v":110},{"$f":"'Fuel CO2 Factors'!$E26","v":110},{"$f":"'Fuel CO2 Factors'!$E26","v":110},{"$f":"'Fuel CO2 Factors'!$E26","v":110},{"$f":"'Fuel CO2 Factors'!$E26","v":110},{"$f":"'Fuel CO2 Factors'!$E26","v":110},{"$f":"'Fuel CO2 Factors'!$E26","v":110},{"$f":"'Fuel CO2 Factors'!$E26","v":110},{"$f":"'Fuel CO2 Factors'!$E26","v":110},{"$f":"'Fuel CO2 Factors'!$E26","v":110},{"$f":"'Fuel CO2 Factors'!$E26","v":110},{"$f":"'Fuel CO2 Factors'!$E26","v":110},{"$f":"'Fuel CO2 Factors'!$E26","v":110},{"$f":"'Fuel CO2 Factors'!$E26","v":110},{"$f":"'Fuel CO2 Factors'!$E26","v":110},{"$f":"'Fuel CO2 Factors'!$E26","v":110},{"$f":"'Fuel CO2 Factors'!$E26","v":110},{"$f":"'Fuel CO2 Factors'!$E26","v":110},{"$f":"'Fuel CO2 Factors'!$E26","v":110},{"$f":"'Fuel CO2 Factors'!$E26","v":110},{"$f":"'Fuel CO2 Factors'!$E26","v":110},{"$f":"'Fuel CO2 Factors'!$E26","v":110},{"$f":"'Fuel CO2 Factors'!$E26","v":110},{"$f":"'Fuel CO2 Factors'!$E26","v":110}]
[null,205,null,"animal meal","[kg CO2/GJ]",null,{"$f":"'Fuel CO2 Factors'!$E27","v":89},{"$f":"'Fuel CO2 Factors'!$E27","v":89},{"$f":"'Fuel CO2 Factors'!$E27","v":89},{"$f":"'Fuel CO2 Factors'!$E27","v":89},{"$f":"'Fuel CO2 Factors'!$E27","v":89},{"$f":"'Fuel CO2 Factors'!$E27","v":89},{"$f":"'Fuel CO2 Factors'!$E27","v":89},{"$f":"'Fuel CO2 Factors'!$E27","v":89},{"$f":"'Fuel CO2 Factors'!$E27","v":89},{"$f":"'Fuel CO2 Factors'!$E27","v":89},{"$f":"'Fuel CO2 Factors'!$E27","v":89},{"$f":"'Fuel CO2 Factors'!$E27","v":89},{"$f":"'Fuel CO2 Factors'!$E27","v":89},{"$f":"'Fuel CO2 Factors'!$E27","v":89},{"$f":"'Fuel CO2 Factors'!$E27","v":89},{"$f":"'Fuel CO2 Factors'!$E27","v":89},{"$f":"'Fuel CO2 Factors'!$E27","v":89},{"$f":"'Fuel CO2 Factors'!$E27","v":89},{"$f":"'Fuel CO2 Factors'!$E27","v":89},{"$f":"'Fuel CO2 Factors'!$E27","v":89},{"$f":"'Fuel CO2 Factors'!$E27","v":89},{"$f":"'Fuel CO2 Factors'!$E27","v":89},{"$f":"'Fuel CO2 Factors'!$E27","v":89},{"$f":"'Fuel CO2 Factors'!$E27","v":89},{"$f":"'Fuel CO2 Factors'!$E27","v":89},{"$f":"'Fuel CO2 Factors'!$E27","v":89},{"$f":"'Fuel CO2 Factors'!$E27","v":89},{"$f":"'Fuel CO2 Factors'!$E27","v":89},{"$f":"'Fuel CO2 Factors'!$E27","v":89},{"$f":"'Fuel CO2 Factors'!$E27","v":89},{"$f":"'Fuel CO2 Factors'!$E27","v":89},{"$f":"'Fuel CO2 Factors'!$E27","v":89},{"$f":"'Fuel CO2 Factors'!$E27","v":89},{"$f":"'Fuel CO2 Factors'!$E27","v":89},{"$f":"'Fuel CO2 Factors'!$E27","v":89},{"$f":"'Fuel CO2 Factors'!$E27","v":89},{"$f":"'Fuel CO2 Factors'!$E27","v":89},{"$f":"'Fuel CO2 Factors'!$E27","v":89},{"$f":"'Fuel CO2 Factors'!$E27","v":89},{"$f":"'Fuel CO2 Factors'!$E27","v":89},{"$f":"'Fuel CO2 Factors'!$E27","v":89},{"$f":"'Fuel CO2 Factors'!$E27","v":89},{"$f":"'Fuel CO2 Factors'!$E27","v":89},{"$f":"'Fuel CO2 Factors'!$E27","v":89},{"$f":"'Fuel CO2 Factors'!$E27","v":89},{"$f":"'Fuel CO2 Factors'!$E27","v":89},{"$f":"'Fuel CO2 Factors'!$E27","v":89},{"$f":"'Fuel CO2 Factors'!$E27","v":89},{"$f":"'Fuel CO2 Factors'!$E27","v":89},{"$f":"'Fuel CO2 Factors'!$E27","v":89},{"$f":"'Fuel CO2 Factors'!$E27","v":89},{"$f":"'Fuel CO2 Factors'!$E27","v":89},{"$f":"'Fuel CO2 Factors'!$E27","v":89},{"$f":"'Fuel CO2 Factors'!$E27","v":89},{"$f":"'Fuel CO2 Factors'!$E27","v":89},{"$f":"'Fuel CO2 Factors'!$E27","v":89},{"$f":"'Fuel CO2 Factors'!$E27","v":89},{"$f":"'Fuel CO2 Factors'!$E27","v":89},{"$f":"'Fuel CO2 Factors'!$E27","v":89},{"$f":"'Fuel CO2 Factors'!$E27","v":89},{"$f":"'Fuel CO2 Factors'!$E27","v":89}]
[null,206,null,"animal bone meal","[kg CO2/GJ]",null,{"$f":"'Fuel CO2 Factors'!$E28","v":89},{"$f":"'Fuel CO2 Factors'!$E28","v":89},{"$f":"'Fuel CO2 Factors'!$E28","v":89},{"$f":"'Fuel CO2 Factors'!$E28","v":89},{"$f":"'Fuel CO2 Factors'!$E28","v":89},{"$f":"'Fuel CO2 Factors'!$E28","v":89},{"$f":"'Fuel CO2 Factors'!$E28","v":89},{"$f":"'Fuel CO2 Factors'!$E28","v":89},{"$f":"'Fuel CO2 Factors'!$E28","v":89},{"$f":"'Fuel CO2 Factors'!$E28","v":89},{"$f":"'Fuel CO2 Factors'!$E28","v":89},{"$f":"'Fuel CO2 Factors'!$E28","v":89},{"$f":"'Fuel CO2 Factors'!$E28","v":89},{"$f":"'Fuel CO2 Factors'!$E28","v":89},{"$f":"'Fuel CO2 Factors'!$E28","v":89},{"$f":"'Fuel CO2 Factors'!$E28","v":89},{"$f":"'Fuel CO2 Factors'!$E28","v":89},{"$f":"'Fuel CO2 Factors'!$E28","v":89},{"$f":"'Fuel CO2 Factors'!$E28","v":89},{"$f":"'Fuel CO2 Factors'!$E28","v":89},{"$f":"'Fuel CO2 Factors'!$E28","v":89},{"$f":"'Fuel CO2 Factors'!$E28","v":89},{"$f":"'Fuel CO2 Factors'!$E28","v":89},{"$f":"'Fuel CO2 Factors'!$E28","v":89},{"$f":"'Fuel CO2 Factors'!$E28","v":89},{"$f":"'Fuel CO2 Factors'!$E28","v":89},{"$f":"'Fuel CO2 Factors'!$E28","v":89},{"$f":"'Fuel CO2 Factors'!$E28","v":89},{"$f":"'Fuel CO2 Factors'!$E28","v":89},{"$f":"'Fuel CO2 Factors'!$E28","v":89},{"$f":"'Fuel CO2 Factors'!$E28","v":89},{"$f":"'Fuel CO2 Factors'!$E28","v":89},{"$f":"'Fuel CO2 Factors'!$E28","v":89},{"$f":"'Fuel CO2 Factors'!$E28","v":89},{"$f":"'Fuel CO2 Factors'!$E28","v":89},{"$f":"'Fuel CO2 Factors'!$E28","v":89},{"$f":"'Fuel CO2 Factors'!$E28","v":89},{"$f":"'Fuel CO2 Factors'!$E28","v":89},{"$f":"'Fuel CO2 Factors'!$E28","v":89},{"$f":"'Fuel CO2 Factors'!$E28","v":89},{"$f":"'Fuel CO2 Factors'!$E28","v":89},{"$f":"'Fuel CO2 Factors'!$E28","v":89},{"$f":"'Fuel CO2 Factors'!$E28","v":89},{"$f":"'Fuel CO2 Factors'!$E28","v":89},{"$f":"'Fuel CO2 Factors'!$E28","v":89},{"$f":"'Fuel CO2 Factors'!$E28","v":89},{"$f":"'Fuel CO2 Factors'!$E28","v":89},{"$f":"'Fuel CO2 Factors'!$E28","v":89},{"$f":"'Fuel CO2 Factors'!$E28","v":89},{"$f":"'Fuel CO2 Factors'!$E28","v":89},{"$f":"'Fuel CO2 Factors'!$E28","v":89},{"$f":"'Fuel CO2 Factors'!$E28","v":89},{"$f":"'Fuel CO2 Factors'!$E28","v":89},{"$f":"'Fuel CO2 Factors'!$E28","v":89},{"$f":"'Fuel CO2 Factors'!$E28","v":89},{"$f":"'Fuel CO2 Factors'!$E28","v":89},{"$f":"'Fuel CO2 Factors'!$E28","v":89},{"$f":"'Fuel CO2 Factors'!$E28","v":89},{"$f":"'Fuel CO2 Factors'!$E28","v":89},{"$f":"'Fuel CO2 Factors'!$E28","v":89},{"$f":"'Fuel CO2 Factors'!$E28","v":89}]
[null,207,null,"animal fat","[kg CO2/GJ]",null,{"$f":"'Fuel CO2 Factors'!$E29","v":89},{"$f":"'Fuel CO2 Factors'!$E29","v":89},{"$f":"'Fuel CO2 Factors'!$E29","v":89},{"$f":"'Fuel CO2 Factors'!$E29","v":89},{"$f":"'Fuel CO2 Factors'!$E29","v":89},{"$f":"'Fuel CO2 Factors'!$E29","v":89},{"$f":"'Fuel CO2 Factors'!$E29","v":89},{"$f":"'Fuel CO2 Factors'!$E29","v":89},{"$f":"'Fuel CO2 Factors'!$E29","v":89},{"$f":"'Fuel CO2 Factors'!$E29","v":89},{"$f":"'Fuel CO2 Factors'!$E29","v":89},{"$f":"'Fuel CO2 Factors'!$E29","v":89},{"$f":"'Fuel CO2 Factors'!$E29","v":89},{"$f":"'Fuel CO2 Factors'!$E29","v":89},{"$f":"'Fuel CO2 Factors'!$E29","v":89},{"$f":"'Fuel CO2 Factors'!$E29","v":89},{"$f":"'Fuel CO2 Factors'!$E29","v":89},{"$f":"'Fuel CO2 Factors'!$E29","v":89},{"$f":"'Fuel CO2 Factors'!$E29","v":89},{"$f":"'Fuel CO2 Factors'!$E29","v":89},{"$f":"'Fuel CO2 Factors'!$E29","v":89},{"$f":"'Fuel CO2 Factors'!$E29","v":89},{"$f":"'Fuel CO2 Factors'!$E29","v":89},{"$f":"'Fuel CO2 Factors'!$E29","v":89},{"$f":"'Fuel CO2 Factors'!$E29","v":89},{"$f":"'Fuel CO2 Factors'!$E29","v":89},{"$f":"'Fuel CO2 Factors'!$E29","v":89},{"$f":"'Fuel CO2 Factors'!$E29","v":89},{"$f":"'Fuel CO2 Factors'!$E29","v":89},{"$f":"'Fuel CO2 Factors'!$E29","v":89},{"$f":"'Fuel CO2 Factors'!$E29","v":89},{"$f":"'Fuel CO2 Factors'!$E29","v":89},{"$f":"'Fuel CO2 Factors'!$E29","v":89},{"$f":"'Fuel CO2 Factors'!$E29","v":89},{"$f":"'Fuel CO2 Factors'!$E29","v":89},{"$f":"'Fuel CO2 Factors'!$E29","v":89},{"$f":"'Fuel CO2 Factors'!$E29","v":89},{"$f":"'Fuel CO2 Factors'!$E29","v":89},{"$f":"'Fuel CO2 Factors'!$E29","v":89},{"$f":"'Fuel CO2 Factors'!$E29","v":89},{"$f":"'Fuel CO2 Factors'!$E29","v":89},{"$f":"'Fuel CO2 Factors'!$E29","v":89},{"$f":"'Fuel CO2 Factors'!$E29","v":89},{"$f":"'Fuel CO2 Factors'!$E29","v":89},{"$f":"'Fuel CO2 Factors'!$E29","v":89},{"$f":"'Fuel CO2 Factors'!$E29","v":89},{"$f":"'Fuel CO2 Factors'!$E29","v":89},{"$f":"'Fuel CO2 Factors'!$E29","v":89},{"$f":"'Fuel CO2 Factors'!$E29","v":89},{"$f":"'Fuel CO2 Factors'!$E29","v":89},{"$f":"'Fuel CO2 Factors'!$E29","v":89},{"$f":"'Fuel CO2 Factors'!$E29","v":89},{"$f":"'Fuel CO2 Factors'!$E29","v":89},{"$f":"'Fuel CO2 Factors'!$E29","v":89},{"$f":"'Fuel CO2 Factors'!$E29","v":89},{"$f":"'Fuel CO2 Factors'!$E29","v":89},{"$f":"'Fuel CO2 Factors'!$E29","v":89},{"$f":"'Fuel CO2 Factors'!$E29","v":89},{"$f":"'Fuel CO2 Factors'!$E29","v":89},{"$f":"'Fuel CO2 Factors'!$E29","v":89},{"$f":"'Fuel CO2 Factors'!$E29","v":89}]
[null,208,null,"agricultural, organic, diaper waste, charcoal","[kg CO2/GJ]",null,{"$f":"'Fuel CO2 Factors'!$E30","v":110},{"$f":"'Fuel CO2 Factors'!$E30","v":110},{"$f":"'Fuel CO2 Factors'!$E30","v":110},{"$f":"'Fuel CO2 Factors'!$E30","v":110},{"$f":"'Fuel CO2 Factors'!$E30","v":110},{"$f":"'Fuel CO2 Factors'!$E30","v":110},{"$f":"'Fuel CO2 Factors'!$E30","v":110},{"$f":"'Fuel CO2 Factors'!$E30","v":110},{"$f":"'Fuel CO2 Factors'!$E30","v":110},{"$f":"'Fuel CO2 Factors'!$E30","v":110},{"$f":"'Fuel CO2 Factors'!$E30","v":110},{"$f":"'Fuel CO2 Factors'!$E30","v":110},{"$f":"'Fuel CO2 Factors'!$E30","v":110},{"$f":"'Fuel CO2 Factors'!$E30","v":110},{"$f":"'Fuel CO2 Factors'!$E30","v":110},{"$f":"'Fuel CO2 Factors'!$E30","v":110},{"$f":"'Fuel CO2 Factors'!$E30","v":110},{"$f":"'Fuel CO2 Factors'!$E30","v":110},{"$f":"'Fuel CO2 Factors'!$E30","v":110},{"$f":"'Fuel CO2 Factors'!$E30","v":110},{"$f":"'Fuel CO2 Factors'!$E30","v":110},{"$f":"'Fuel CO2 Factors'!$E30","v":110},{"$f":"'Fuel CO2 Factors'!$E30","v":110},{"$f":"'Fuel CO2 Factors'!$E30","v":110},{"$f":"'Fuel CO2 Factors'!$E30","v":110},{"$f":"'Fuel CO2 Factors'!$E30","v":110},{"$f":"'Fuel CO2 Factors'!$E30","v":110},{"$f":"'Fuel CO2 Factors'!$E30","v":110},{"$f":"'Fuel CO2 Factors'!$E30","v":110},{"$f":"'Fuel CO2 Factors'!$E30","v":110},{"$f":"'Fuel CO2 Factors'!$E30","v":110},{"$f":"'Fuel CO2 Factors'!$E30","v":110},{"$f":"'Fuel CO2 Factors'!$E30","v":110},{"$f":"'Fuel CO2 Factors'!$E30","v":110},{"$f":"'Fuel CO2 Factors'!$E30","v":110},{"$f":"'Fuel CO2 Factors'!$E30","v":110},{"$f":"'Fuel CO2 Factors'!$E30","v":110},{"$f":"'Fuel CO2 Factors'!$E30","v":110},{"$f":"'Fuel CO2 Factors'!$E30","v":110},{"$f":"'Fuel CO2 Factors'!$E30","v":110},{"$f":"'Fuel CO2 Factors'!$E30","v":110},{"$f":"'Fuel CO2 Factors'!$E30","v":110},{"$f":"'Fuel CO2 Factors'!$E30","v":110},{"$f":"'Fuel CO2 Factors'!$E30","v":110},{"$f":"'Fuel CO2 Factors'!$E30","v":110},{"$f":"'Fuel CO2 Factors'!$E30","v":110},{"$f":"'Fuel CO2 Factors'!$E30","v":110},{"$f":"'Fuel CO2 Factors'!$E30","v":110},{"$f":"'Fuel CO2 Factors'!$E30","v":110},{"$f":"'Fuel CO2 Factors'!$E30","v":110},{"$f":"'Fuel CO2 Factors'!$E30","v":110},{"$f":"'Fuel CO2 Factors'!$E30","v":110},{"$f":"'Fuel CO2 Factors'!$E30","v":110},{"$f":"'Fuel CO2 Factors'!$E30","v":110},{"$f":"'Fuel CO2 Factors'!$E30","v":110},{"$f":"'Fuel CO2 Factors'!$E30","v":110},{"$f":"'Fuel CO2 Factors'!$E30","v":110},{"$f":"'Fuel CO2 Factors'!$E30","v":110},{"$f":"'Fuel CO2 Factors'!$E30","v":110},{"$f":"'Fuel CO2 Factors'!$E30","v":110},{"$f":"'Fuel CO2 Factors'!$E30","v":110}]
[null,209,null,"other biomass","[kg CO2/GJ]",null,{"$f":"'Fuel CO2 Factors'!$E31","v":110},{"$f":"'Fuel CO2 Factors'!$E31","v":110},{"$f":"'Fuel CO2 Factors'!$E31","v":110},{"$f":"'Fuel CO2 Factors'!$E31","v":110},{"$f":"'Fuel CO2 Factors'!$E31","v":110},{"$f":"'Fuel CO2 Factors'!$E31","v":110},{"$f":"'Fuel CO2 Factors'!$E31","v":110},{"$f":"'Fuel CO2 Factors'!$E31","v":110},{"$f":"'Fuel CO2 Factors'!$E31","v":110},{"$f":"'Fuel CO2 Factors'!$E31","v":110},{"$f":"'Fuel CO2 Factors'!$E31","v":110},{"$f":"'Fuel CO2 Factors'!$E31","v":110},{"$f":"'Fuel CO2 Factors'!$E31","v":110},{"$f":"'Fuel CO2 Factors'!$E31","v":110},{"$f":"'Fuel CO2 Factors'!$E31","v":110},{"$f":"'Fuel CO2 Factors'!$E31","v":110},{"$f":"'Fuel CO2 Factors'!$E31","v":110},{"$f":"'Fuel CO2 Factors'!$E31","v":110},{"$f":"'Fuel CO2 Factors'!$E31","v":110},{"$f":"'Fuel CO2 Factors'!$E31","v":110},{"$f":"'Fuel CO2 Factors'!$E31","v":110},{"$f":"'Fuel CO2 Factors'!$E31","v":110},{"$f":"'Fuel CO2 Factors'!$E31","v":110},{"$f":"'Fuel CO2 Factors'!$E31","v":110},{"$f":"'Fuel CO2 Factors'!$E31","v":110},{"$f":"'Fuel CO2 Factors'!$E31","v":110},{"$f":"'Fuel CO2 Factors'!$E31","v":110},{"$f":"'Fuel CO2 Factors'!$E31","v":110},{"$f":"'Fuel CO2 Factors'!$E31","v":110},{"$f":"'Fuel CO2 Factors'!$E31","v":110},{"$f":"'Fuel CO2 Factors'!$E31","v":110},{"$f":"'Fuel CO2 Factors'!$E31","v":110},{"$f":"'Fuel CO2 Factors'!$E31","v":110},{"$f":"'Fuel CO2 Factors'!$E31","v":110},{"$f":"'Fuel CO2 Factors'!$E31","v":110},{"$f":"'Fuel CO2 Factors'!$E31","v":110},{"$f":"'Fuel CO2 Factors'!$E31","v":110},{"$f":"'Fuel CO2 Factors'!$E31","v":110},{"$f":"'Fuel CO2 Factors'!$E31","v":110},{"$f":"'Fuel CO2 Factors'!$E31","v":110},{"$f":"'Fuel CO2 Factors'!$E31","v":110},{"$f":"'Fuel CO2 Factors'!$E31","v":110},{"$f":"'Fuel CO2 Factors'!$E31","v":110},{"$f":"'Fuel CO2 Factors'!$E31","v":110},{"$f":"'Fuel CO2 Factors'!$E31","v":110},{"$f":"'Fuel CO2 Factors'!$E31","v":110},{"$f":"'Fuel CO2 Factors'!$E31","v":110},{"$f":"'Fuel CO2 Factors'!$E31","v":110},{"$f":"'Fuel CO2 Factors'!$E31","v":110},{"$f":"'Fuel CO2 Factors'!$E31","v":110},{"$f":"'Fuel CO2 Factors'!$E31","v":110},{"$f":"'Fuel CO2 Factors'!$E31","v":110},{"$f":"'Fuel CO2 Factors'!$E31","v":110},{"$f":"'Fuel CO2 Factors'!$E31","v":110},{"$f":"'Fuel CO2 Factors'!$E31","v":110},{"$f":"'Fuel CO2 Factors'!$E31","v":110},{"$f":"'Fuel CO2 Factors'!$E31","v":110},{"$f":"'Fuel CO2 Factors'!$E31","v":110},{"$f":"'Fuel CO2 Factors'!$E31","v":110},{"$f":"'Fuel CO2 Factors'!$E31","v":110},{"$f":"'Fuel CO2 Factors'!$E31","v":110}]
[]
[null,"CO2 Emissions from Kiln Fuels",null,null,null,null,{"$f":"G$7","v":1990},1991,1992,1993,1994,1995,1996,1997,1998,1999,2000,2001,2002,2003,2004,2005,2006,2007,2008,2009,2010,2011,2012,2013,2014,2015,2016,2017,2018,2019,2020,2021,2022,2023,2024,2025,2026,2027,2028,2029,2030,2031,2032,2033,2034,2035,2036,2037,2038,2039,2040,2041,2042,2043,2044,2045,2046,2047,2048,2049,2050]
[null,211,"Conventional fossil fuels - total emissions",null,"[t CO2/yr]",null,{"$f":"IF(COUNTBLANK(G389:G395)=7,\"\",SUM(G389:G395))","v":0},{"$f":"IF(COUNTBLANK(H389:H395)=7,\"\",SUM(H389:H395))","v":0},0,0,0,0,0,0,0,0,0,0,0,0,0,0,0,0,0,0,0,0,0,0,0,0,0,0,0,0,0,0,0,0,0,0,0,0,0,0,0,0,0,0,0,0,0,0,0,0,0,0,0,0,0,0,0,0,0,0,0]
[null,{"$f":"B388+1","v":212},null,"coal + anthracite","[t CO2/yr]",null,{"$f":"IF(G309=\"\",\"\",G309*G349)","v":0},0,0,0,0,0,0,0,0,0,0,0,0,0,0,0,0,0,0,0,0,0,0,0,0,0,0,0,0,0,0,0,0,0,0,0,0,0,0,0,0,0,0,0,0,0,0,0,0,0,0,0,0,0,0,0,0,0,0,0,0]
[null,213,null,"petrol coke","[t CO2/yr]",null,0,0,0,0,0,0,0,0,0,0,0,0,0,0,0,0,0,0,0,0,0,0,0,0,0,0,0,0,0,0,0,0,0,0,0,0,0,0,0,0,0,0,0,0,0,0,0,0,0,0,0,0,0,0,0,0,0,0,0,0,0]
[null,214,null,"(ultra) heavy fuel","[t CO2/yr]",null,0,0,0,0,0,0,0,0,0,0,0,0,0,0,0,0,0,0,0,0,0,0,0,0,0,0,0,0,0,0,0,0,0,0,0,0,0,0,0,0,0,0,0,0,0,0,0,0,0,0,0,0,0,0,0,0,0,0,0,0,0]
[null,215,null,"diesel oil","[t CO2/yr]",null,0,0,0,0,0,0,0,0,0,0,0,0,0,0,0,0,0,0,0,0,0,0,0,0,0,0,0,0,0,0,0,0,0,0,0,0,0,0,0,0,0,0,0,0,0,0,0,0,0,0,0,0,0,0,0,0,0,0,0,0,0]
[null,216,null,"natural gas ","[t CO2/yr]",null,0,0,0,0,0,0,0,0,0,0,0,{"$f":"IF(R313=\"\",\"\",R313*R353)","v":0},0,0,0,0,0,0,0,0,0,0,0,0,0,0,0,0,0,0,0,0,0,0,0,0,0,0,0,0,0,0,0,0,0,0,0,0,0,0,0,0,0,0,0,0,0,0,0,0,0]
[null,217,null,"shale","[t CO2/yr]",null,{"$f":"IF(G314=\"\",\"\",G314*G354)","v":0},0,0,0,0,0,0,0,0,0,0,0,0,0,0,0,0,0,0,0,0,0,0,0,0,0,0,0,0,0,0,0,0,0,0,0,0,0,0,0,0,0,0,0,0,0,0,0,0,0,0,0,0,0,0,0,0,0,0,0,0]
[null,"217a",null,"lignite","[t CO2/yr]",null,0,0,0,0,0,0,0,0,0,0,0,0,0,0,0,0,0,0,0,0,0,0,0,0,0,0,0,0,0,0,0,0,0,0,0,0,0,0,0,0,0,0,0,0,0,0,0,0,0,0,0,0,0,0,0,0,0,0,0,0,0]
[null,{"$f":"B394+1","v":218},"Alternative fossil and mixed fuels - total fossil emissions",null,"[t CO2/yr]",null,{"$f":"IF(COUNTBLANK(G397:G403)=7,\"\",SUM(G397:G403))","v":0},{"$f":"IF(COUNTBLANK(H397:H403)=7,\"\",SUM(H397:H403))","v":0},0,0,0,0,0,0,0,0,0,0,0,0,0,0,0,0,0,0,0,0,0,0,0,0,0,0,0,0,0,0,0,0,0,0,0,0,0,0,0,0,0,0,0,0,0,0,0,0,0,0,0,0,0,0,0,0,0,0,0]
[null,{"$f":"B396+1","v":219},null,"waste oil / fossil content","[t CO2/yr]",null,{"$f":"IF(G317=\"\",\"\",G317*G361)","v":0},0,0,0,0,0,0,0,0,0,0,0,0,0,0,0,0,0,0,0,0,0,0,0,0,0,0,0,0,0,0,0,0,0,0,0,0,0,0,0,0,0,0,0,0,0,0,0,0,0,0,0,0,0,0,0,0,0,0,0,0]
[null,{"$f":"B397+1","v":220},null,"waste tyres / fossil content","[t CO2/yr]",null,{"$f":"IF(G318=\"\",\"\",G318*G362)","v":0},0,0,0,0,0,0,0,0,0,0,0,0,0,0,0,0,0,0,0,0,0,0,0,0,0,0,0,0,0,0,0,0,0,0,0,0,0,0,0,0,0,0,0,0,0,0,0,0,0,0,0,0,0,0,0,0,0,0,0,0]
[null,{"$f":"B398+1","v":221},null,"RDF including plastics / fossil content","[t CO2/yr]",null,{"$f":"IF(G319=\"\",\"\",G319*G363)","v":0},0,0,0,0,0,0,0,0,0,0,0,0,0,0,0,0,0,0,0,0,0,0,0,0,0,0,0,0,0,0,0,0,0,0,0,0,0,0,0,0,0,0,0,0,0,0,0,0,0,0,0,0,0,0,0,0,0,0,0,0]
[null,{"$f":"B399+1","v":222},null,"solvents / fossil content","[t CO2/yr]",null,{"$f":"IF(G320=\"\",\"\",G320*G364)","v":0},0,0,0,0,0,0,0,0,0,0,0,0,0,0,0,0,0,0,0,0,0,0,0,0,0,0,0,0,0,0,0,0,0,0,0,0,0,0,0,0,0,0,0,0,0,0,0,0,0,0,0,0,0,0,0,0,0,0,0,0]
[null,{"$f":"B400+1","v":223},null,"impregnated saw dust / fossil content","[t CO2/yr]",null,{"$f":"IF(G321=\"\",\"\",G321*G365)","v":0},0,0,0,0,0,0,0,0,0,0,0,0,0,0,{"$f":"IF(V321=\"\",\"\",V321*V365)","v":0},0,0,0,0,0,0,0,0,0,0,0,0,0,0,0,0,0,0,0,0,0,0,0,0,0,0,0,0,0,0,0,0,0,0,0,0,0,0,0,0,0,0,0,0,0]
[null,"223a",null,"mixed industrial waste / fossil content","[t CO2/yr]",null,{"$f":"IF(G322=\"\",\"\",G322*G366)","v":0},0,0,0,0,0,0,0,0,0,0,0,0,0,0,0,0,0,0,0,0,0,0,0,0,0,0,0,0,0,0,0,0,0,0,0,0,0,0,0,0,0,0,0,0,0,0,0,0,0,0,0,0,0,0,0,0,0,0,0,0]
[null,224,null,"other fossil based wastes / fossil content","[t CO2/yr]",null,{"$f":"IF(G323=\"\",\"\",G323*G368)","v":0},{"$f":"IF(H323=\"\",\"\",H323*H368)","v":0},0,0,0,0,0,0,0,0,0,0,0,0,0,0,0,0,0,0,0,0,0,0,0,0,0,0,0,0,0,0,0,0,0,0,0,0,0,0,0,0,0,0,0,0,0,0,0,0,0,0,0,0,0,0,0,0,0,0,0]
[null,{"$f":"B403+1","v":225},"Biomass fuels - total, incl. biomass cont. from alternative mixed fuels",null,"[t CO2/yr]",null,{"$f":"IF(COUNTBLANK(G405:G413)=9,\"\",SUM(G405:G413))","v":0},{"$f":"IF(COUNTBLANK(H405:H413)=9,\"\",SUM(H405:H413))","v":0},0,0,0,0,0,0,0,0,0,0,0,0,0,0,0,0,0,0,0,0,0,0,0,0,0,0,0,0,0,0,0,0,0,0,0,0,0,0,0,0,0,0,0,0,0,0,0,0,0,0,0,0,0,0,0,0,0,0,0]
[null,226,null,"sewage sludge","[t CO2/yr]",null,{"$f":"IF(G325=\"\",\"\",G325*G378)","v":0},0,0,0,0,0,0,0,0,0,0,0,0,0,0,0,0,0,0,0,0,0,0,0,0,0,0,0,0,0,0,0,0,0,0,0,0,0,0,0,0,0,0,0,0,0,0,0,0,0,0,0,0,0,0,0,0,0,0,0,0]
[null,227,null,"wood, non impregnated saw dust","[t CO2/yr]",null,0,0,0,0,0,0,0,0,0,0,0,0,0,0,0,0,0,0,0,0,0,0,0,0,0,0,0,0,0,0,0,0,0,0,0,0,0,0,0,0,0,0,0,0,0,0,0,0,0,0,0,0,0,0,0,0,0,0,0,0,0]
[null,228,null,"paper, carton","[t CO2/yr]",null,0,0,0,0,0,0,0,0,0,0,0,0,0,0,0,0,0,0,0,0,0,0,0,0,0,0,0,0,0,0,0,0,0,0,0,0,0,0,0,0,0,0,0,0,0,0,0,0,0,0,0,0,0,0,0,0,0,0,0,0,0]
[null,229,null,"animal meal","[t CO2/yr]",null,0,0,0,0,0,0,0,0,0,0,0,0,0,0,0,0,0,0,0,0,0,0,0,0,0,0,0,0,0,0,0,0,0,0,0,0,0,0,0,0,0,0,0,0,0,0,0,0,0,0,0,0,0,0,0,0,0,0,0,0,0]
[null,230,null,"animal bone meal","[t CO2/yr]",null,0,0,0,0,0,0,0,0,0,0,0,{"$f":"IF(R329=\"\",\"\",R329*R382)","v":0},0,0,0,0,0,0,0,0,0,0,0,0,0,0,0,0,0,0,0,0,0,0,0,0,0,0,0,0,0,0,0,0,0,0,0,0,0,0,0,0,0,0,0,0,0,0,0,0,0]
[null,231,null,"animal fat","[t CO2/yr]",null,{"$f":"IF(G330=\"\",\"\",G330*G383)","v":0},0,0,0,0,0,0,0,0,0,0,0,0,0,0,0,0,0,0,0,0,0,0,0,0,0,0,0,0,0,0,0,0,0,0,0,0,0,0,0,0,0,0,0,0,0,0,0,0,0,0,0,0,0,0,0,0,0,0,0,0]
[null,232,null,"agricultural, organic, diaper waste, charcoal","[t CO2/yr]",null,0,0,0,0,0,0,0,0,0,0,0,0,0,0,0,0,0,0,0,0,0,0,0,0,0,0,0,0,0,0,0,0,0,0,0,0,0,0,0,0,0,0,0,0,0,0,0,0,0,0,0,0,0,0,0,0,0,0,0,0,0]
[null,233,null,"other biomass","[t CO2/yr]",null,0,0,0,0,0,0,0,0,0,0,0,0,0,0,0,0,0,0,0,0,0,0,0,0,0,0,0,0,0,0,0,0,0,0,0,0,0,0,0,0,0,0,0,0,0,0,0,0,0,0,0,0,0,0,0,0,0,0,0,0,0]
[null,"233a",null,"biomass content from alternative fuels","[t CO2/yr]",null,{"$f":"(G239*G278*G$369*G361+G240*G279*G$370*G362+G241*G280*G$371*G363+G242*G281*G$372*G364+G243*G282*G$373*G365+G244*G283*G$374*G366+G245*G284*G$376*G368)/1000","v":0},{"$f":"(H239*H278*H$369*H361+H240*H279*H$370*H362+H241*H280*H$371*H363+H242*H281*H$372*H364+H243*H282*H$373*H365+H244*H283*H$374*H366+H245*H284*H$376*H368)/1000","v":0},0,0,0,0,0,0,0,0,0,0,0,0,0,0,0,0,0,0,0,0,0,0,0,0,0,0,0,0,0,0,0,0,0,0,0,0,0,0,0,0,0,0,0,0,0,0,0,0,0,0,0,0,0,0,0,0,0,0,0]
[null,"Drying of raw materials and fuels",null,null,null,null,{"$f":"G$7","v":1990},1991,1992,1993,1994,1995,1996,1997,1998,1999,2000,2001,2002,2003,2004,2005,2006,2007,2008,2009,2010,2011,2012,2013,2014,2015,2016,2017,2018,2019,2020,2021,2022,2023,2024,2025,2026,2027,2028,2029,2030,2031,2032,2033,2034,2035,2036,2037,2038,2039,2040,2041,2042,2043,2044,2045,2046,2047,2048,2049,2050]
[null,234,"Conventional fossil fuels - total emissions",null,"[t CO2/yr]",null,{"$f":"IF(COUNTBLANK(G416:G421)=6,\"\",SUM(G416:G421))","v":0},{"$f":"IF(COUNTBLANK(H416:H421)=6,\"\",SUM(H416:H421))","v":0},0,0,0,0,0,0,0,0,0,0,0,0,0,0,0,0,0,0,0,0,0,0,0,0,0,0,0,0,0,0,0,0,0,0,0,0,0,0,0,0,0,0,0,0,0,0,0,0,0,0,0,0,0,0,0,0,0,0,0]
[null,"234a",null,"coal + anthracite + lignite","[t CO2/yr]",null,{"$f":"IF(G336=\"\",\"\",G336*G349)","v":0},0,0,0,0,0,0,0,0,0,0,0,0,0,0,0,0,0,0,0,0,0,0,0,0,0,0,0,0,0,0,0,0,0,0,0,0,0,0,0,0,0,0,0,0,0,0,0,0,0,0,0,0,0,0,0,0,0,0,0,0]
[null,"234b",null,"petrol coke","[t CO2/yr]",null,0,0,0,0,0,0,0,0,0,0,0,0,0,0,0,0,0,0,0,0,0,0,0,0,0,0,0,0,0,0,0,0,0,0,0,0,0,0,0,0,0,0,0,0,0,0,0,0,0,0,0,0,0,0,0,0,0,0,0,0,0]
[null,"234c",null,"(ultra) heavy fuel","[t CO2/yr]",null,0,0,0,0,0,0,0,0,0,0,0,0,0,0,0,0,0,0,0,0,0,0,0,0,0,0,0,0,0,0,0,0,0,0,0,0,0,0,0,0,0,0,0,0,0,0,0,0,0,0,0,0,0,0,0,0,0,0,0,0,0]
[null,"234d",null,"diesel oil","[t CO2/yr]",null,0,0,0,0,0,0,0,0,0,0,0,0,0,0,0,0,0,0,0,0,0,0,0,0,0,0,0,0,0,0,0,0,0,0,0,0,0,0,0,0,0,0,0,0,0,0,0,0,0,0,0,0,0,0,0,0,0,0,0,0,0]
[null,"234e",null,"natural gas ","[t CO2/yr]",null,0,0,0,0,0,0,0,0,0,0,0,{"$f":"IF(R340=\"\",\"\",R340*R353)","v":0},0,0,0,0,0,0,0,0,0,0,0,0,0,0,0,0,0,0,0,0,0,0,0,0,0,0,0,0,0,0,0,0,0,0,0,0,0,0,0,0,0,0,0,0,0,0,0,0,0]
[null,"234f",null,"shale","[t CO2/yr]",null,{"$f":"IF(G341=\"\",\"\",G341*G354)","v":0},0,0,0,0,0,0,0,0,0,0,0,0,0,0,0,0,0,0,0,0,0,0,0,0,0,0,0,0,0,0,0,0,0,0,0,0,0,0,0,0,0,0,0,0,0,0,0,0,0,0,0,0,0,0,0,0,0,0,0,0]
[null,235,"Alternative fossil fuels - fossil total emissions",null,"[t CO2/yr]",null,{"$f":"G423","v":0},0,0,0,0,0,0,0,0,0,0,0,0,0,0,0,0,0,0,0,0,0,0,0,0,0,0,0,0,0,0,0,0,0,0,0,0,0,0,0,0,0,0,0,0,0,0,0,0,0,0,0,0,0,0,0,0,0,0,0,0]
[null,"235a",null,"other fossil based wastes / fossil content","[t CO2/yr]",null,{"$f":"IF(G343=\"\",\"\",G343*G368)","v":0},{"$f":"IF(H343=\"\",\"\",H343*H368)","v":0},0,0,0,0,0,0,0,0,0,0,0,0,0,0,0,0,0,0,0,0,0,0,0,0,0,0,0,0,0,0,0,0,0,0,0,0,0,0,0,0,0,0,0,0,0,0,0,0,0,0,0,0,0,0,0,0,0,0,0]
[null,236,"Alternative biomass fuels - biomass total emissions",null,"[t CO2/yr]",null,{"$f":"G425","v":0},0,0,0,0,0,0,0,0,0,0,0,0,0,0,0,0,0,0,0,0,0,0,0,0,0,0,0,0,0,0,0,0,0,0,0,0,0,0,0,0,0,0,0,0,0,0,0,0,0,0,0,0,0,0,0,0,0,0,0,0]
[null,"236a",null,"other biomass (incl. biomass content of mixed fuels)","[t CO2/yr]",null,{"$f":"IF(G345=\"\",\"\",(G266*G305/1000*G385)+(G264*G303/1000*G368*G376))","v":0},{"$f":"IF(H345=\"\",\"\",(H266*H305/1000*H385)+(H264*H303/1000*H368*H376))","v":0},0,0,0,0,0,0,0,0,0,0,0,0,0,0,0,0,0,0,0,0,0,0,0,0,0,0,0,0,0,{"$f":"IF(AL345=\"\",\"\",(AL266*AL305/1000*AL385)+(AL264*AL303/1000*AL368*AL376))","v":0},{"$f":"IF(AM345=\"\",\"\",(AM266*AM305/1000*AM385)+(AM264*AM303/1000*AM368*AM376))","v":0},{"$f":"IF(AN345=\"\",\"\",(AN266*AN305/1000*AN385)+(AN264*AN303/1000*AN368*AN376))","v":0},{"$f":"IF(AO345=\"\",\"\",(AO266*AO305/1000*AO385)+(AO264*AO303/1000*AO368*AO376))","v":0},{"$f":"IF(AP345=\"\",\"\",(AP266*AP305/1000*AP385)+(AP264*AP303/1000*AP368*AP376))","v":0},{"$f":"IF(AQ345=\"\",\"\",(AQ266*AQ305/1000*AQ385)+(AQ264*AQ303/1000*AQ368*AQ376))","v":0},0,0,0,0,0,0,0,0,0,0,0,0,0,0,0,0,0,0,0,0,0,0,0,0]
[]
["NON-KILN FUELS - DETAILED INFORMATION"]
[]
[null,"Non-Kiln Fuel Consumption in tonnes per year",null,null,null,null,{"$f":"G$7","v":1990},1991,1992,1993,1994,1995,1996,1997,1998,1999,2000,2001,2002,2003,2004,2005,2006,2007,2008,2009,2010,2011,2012,2013,2014,2015,2016,2017,2018,2019,2020,2021,2022,2023,2024,2025,2026,2027,2028,2029,2030,2031,2032,2033,2034,2035,2036,2037,2038,2039,2040,2041,2042,2043,2044,2045,2046,2047,2048,2049,2050]
[null,301,"Equipment and On-Site Vehicles fossil fuels"]
[null,"301a",null,"diesel oil","[t/yr]",null,0,0,0,0,0,0,0,0,0,0,0,0,0,0,0,0,0,0,0,0,0,0,0,0,0,0,0,0,0,0,0,0,0,0,0,0,0,0,0,0,0,0,0,0,0,0,0,0,0,0,0,0,0,0,0,0,0,0,0,0,0]
[null,"301b",null,"gasoline","[t/yr]",null,0,0,0,0,0,0,0,0,0,0,0,0,0,0,0,0,0,0,0,0,0,0,0,0,0,0,0,0,0,0,0,0,0,0,0,0,0,0,0,0,0,0,0,0,0,0,0,0,0,0,0,0,0,0,0,0,0,0,0,0,0]
[null,"301ba",null,"other fossil fuels","[t/yr]",null,0,0,0,0,0,0,0,0,0,0,0,0,0,0,0,0,0,0,0,0,0,0,0,0,0,0,0,0,0,0,0,0,0,0,0,0,0,0,0,0,0,0,0,0,0,0,0,0,0,0,0,0,0,0,0,0,0,0,0,0,0]
[null,"301c","Equipment and On-Site Vehicles fuels (containing biomass)"]
[null,"301d",null,"bio and mixed diesel ","[t/yr]",null,0,0,0,0,0,0,0,0,0,0,0,0,0,0,0,0,0,0,0,0,0,0,0,0,0,0,0,0,0,0,0,0,0,0,0,0,0,0,0,0,0,0,0,0,0,0,0,0,0,0,0,0,0,0,0,0,0,0,0,0,0]
[null,302,"Room Heating and Cooling"]
[null,"302a",null,"diesel oil","[t/yr]",null,0,0,0,0,0,0,0,0,0,0,0,0,0,0,0,0,0,0,0,0,0,0,0,0,0,0,0,0,0,0,0,0,0,0,0,0,0,0,0,0,0,0,0,0,0,0,0,0,0,0,0,0,0,0,0,0,0,0,0,0,0]
[null,"302b",null,"natural gas","[1'000 Nm3/yr]",null,0,0,0,0,0,0,0,0,0,0,0,0,0,0,0,0,0,0,0,0,0,0,0,0,0,0,0,0,0,0,0,0,0,0,0,0,0,0,0,0,0,0,0,0,0,0,0,0,0,0,0,0,0,0,0,0,0,0,0,0,0]
[null,"302c",null,"other fossil fuels","[t/yr]",null,0,0,0,0,0,0,0,0,0,0,0,0,0,0,0,0,0,0,0,0,0,0,0,0,0,0,0,0,0,0,0,0,0,0,0,0,0,0,0,0,0,0,0,0,0,0,0,0,0,0,0,0,0,0,0,0,0,0,0,0,0]
[null,303,"Drying of mineral components"]
[null,"303k","     Conventional fossil fuels"]
[null,"303a",null,"coal + anthracite+ lignite","[t/yr]",null,0,0,0,0,0,0,0,0,0,0,0,0,0,0,0,0,0,0,0,0,0,0,0,0,0,0,0,0,0,0,0,0,0,0,0,0,0,0,0,0,0,0,0,0,0,0,0,0,0,0,0,0,0,0,0,0,0,0,0,0,0]
[null,"303b",null,"petrol coke","[t/yr]",null,0,0,0,0,0,0,0,0,0,0,0,0,0,0,0,0,0,0,0,0,0,0,0,0,0,0,0,0,0,0,0,0,0,0,0,0,0,0,0,0,0,0,0,0,0,0,0,0,0,0,0,0,0,0,0,0,0,0,0,0,0]
[null,"303c",null,"(ultra) heavy fuel","[t/yr]",null,0,0,0,0,0,0,0,0,0,0,0,0,0,0,0,0,0,0,0,0,0,0,0,0,0,0,0,0,0,0,0,0,0,0,0,0,0,0,0,0,0,0,0,0,0,0,0,0,0,0,0,0,0,0,0,0,0,0,0,0,0]
[null,"303d",null,"diesel oil","[t/yr]",null,0,0,0,0,0,0,0,0,0,0,0,0,0,0,0,0,0,0,0,0,0,0,0,0,0,0,0,0,0,0,0,0,0,0,0,0,0,0,0,0,0,0,0,0,0,0,0,0,0,0,0,0,0,0,0,0,0,0,0,0,0]
[null,"303e",null,"natural gas ","[1'000 Nm3/yr]",null,0,0,0,0,0,0,0,0,0,0,0,0,0,0,0,0,0,0,0,0,0,0,0,0,0,0,0,0,0,0,0,0,0,0,0,0,0,0,0,0,0,0,0,0,0,0,0,0,0,0,0,0,0,0,0,0,0,0,0,0,0]
[null,"303f",null,"shale","[t/yr]",null,0,0,0,0,0,0,0,0,0,0,0,0,0,0,0,0,0,0,0,0,0,0,0,0,0,0,0,0,0,0,0,0,0,0,0,0,0,0,0,0,0,0,0,0,0,0,0,0,0,0,0,0,0,0,0,0,0,0,0,0,0]
[null,"303g","     Alternative fossil and mixed fuels"]
[null,"303h",null,"other fossil based wastes and mixed fuels","[t/yr]",null,0,0,0,0,0,0,0,0,0,0,0,0,0,0,0,0,0,0,0,0,0,0,0,0,0,0,0,0,0,0,0,0,0,0,0,0,0,0,0,0,0,0,0,0,0,0,0,0,0,0,0,0,0,0,0,0,0,0,0,0,0]
[null,"303i","     Alternative biomass fuels"]
[null,"303j",null,"other biomass","[t/yr]",null,0,0,0,0,0,0,0,0,0,0,0,0,0,0,0,0,0,0,0,0,0,0,0,0,0,0,0,0,0,0,0,0,0,0,0,0,0,0,0,0,0,0,0,0,0,0,0,0,0,0,0,0,0,0,0,0,0,0,0,0,0]
[null,304,"On-site power generation"]
[null,"304aa","     Conventional fossil fuels"]
[null,"304a",null,"coal + anthracite + lignite","[t/yr]",null,0,0,0,0,0,0,0,0,0,0,0,0,0,0,0,0,0,0,0,0,0,0,0,0,0,0,0,0,0,0,0,0,0,0,0,0,0,0,0,0,0,0,0,0,0,0,0,0,0,0,0,0,0,0,0,0,0,0,0,0,0]
[null,"304b",null,"(ultra) heavy fuel","[t/yr]",null,0,0,0,0,0,0,0,0,0,0,0,0,0,0,0,0,0,0,0,0,0,0,0,0,0,0,0,0,0,0,0,0,0,0,0,0,0,0,0,0,0,0,0,0,0,0,0,0,0,0,0,0,0,0,0,0,0,0,0,0,0]
[null,"304c",null,"diesel oil","[t/yr]",null,0,0,0,0,0,0,0,0,0,0,0,0,0,0,0,0,0,0,0,0,0,0,0,0,0,0,0,0,0,0,0,0,0,0,0,0,0,0,0,0,0,0,0,0,0,0,0,0,0,0,0,0,0,0,0,0,0,0,0,0,0]
[null,"304d",null,"natural gas ","[1'000 Nm3/yr]",null,0,0,0,0,0,0,0,0,0,0,0,0,0,0,0,0,0,0,0,0,0,0,0,0,0,0,0,0,0,0,0,0,0,0,0,0,0,0,0,0,0,0,0,0,0,0,0,0,0,0,0,0,0,0,0,0,0,0,0,0,0]
[null,"304i",null,"petrol coke","[t/yr]",null,0,0,0,0,0,0,0,0,0,0,0,0,0,0,0,0,0,0,0,0,0,0,0,0,0,0,0,0,0,0,0,0,0,0,0,0,0,0,0,0,0,0,0,0,0,0,0,0,0,0,0,0,0,0,0,0,0,0,0,0,0]
[null,"304j",null,"other fossil fuels","[t/yr]",null,0,0,0,0,0,0,0,0,0,0,0,0,0,0,0,0,0,0,0,0,0,0,0,0,0,0,0,0,0,0,0,0,0,0,0,0,0,0,0,0,0,0,0,0,0,0,0,0,0,0,0,0,0,0,0,0,0,0,0,0,0]
[null,"304f","     Alternative fossil and mixed fuels"]
[null,"304g",null,"other fossil based wastes and mixed fuels","[t/yr]",null,0,0,0,0,0,0,0,0,0,0,0,0,0,0,0,0,0,0,0,0,0,0,0,0,0,0,0,0,0,0,0,0,0,0,0,0,0,0,0,0,0,0,0,0,0,0,0,0,0,0,0,0,0,0,0,0,0,0,0,0,0]
[null,"304h","     Alternative biomass fuels"]
[null,"304e",null,"other biomass","[t/yr]",null,0,0,0,0,0,0,0,0,0,0,0,0,0,0,0,0,0,0,0,0,0,0,0,0,0,0,0,0,0,0,0,0,0,0,0,0,0,0,0,0,0,0,0,0,0,0,0,0,0,0,0,0,0,0,0,0,0,0,0,0,0]
[]
[null,"Non-Kiln Fuel Lower Heating Values ",null,null,null,null,{"$f":"G$7","v":1990},1991,1992,1993,1994,1995,1996,1997,1998,1999,2000,2001,2002,2003,2004,2005,2006,2007,2008,2009,2010,2011,2012,2013,2014,2015,2016,2017,2018,2019,2020,2021,2022,2023,2024,2025,2026,2027,2028,2029,2030,2031,2032,2033,2034,2035,2036,2037,2038,2039,2040,2041,2042,2043,2044,2045,2046,2047,2048,2049,2050]
[null,311,"Equipment and On-Site Vehicles fossil fuels"]
[null,"311a",null,"diesel oil","[GJ/t]",null,{"$f":"G299","v":0},0,0,0,0,0,0,0,0,0,0,0,0,0,0,0,0,0,0,0,0,0,0,0,0,0,0,0,0,0,0,{"$f":"AL299","v":0},{"$f":"AM299","v":0},{"$f":"AN299","v":0},{"$f":"AO299","v":0},{"$f":"AP299","v":0},{"$f":"AQ299","v":0},0,0,0,0,0,0,0,0,0,0,0,0,0,0,0,0,0,0,0,0,0,0,0,0]
[null,"311b",null,"gasoline","[GJ/t]",null,0,0,0,0,0,0,0,0,0,0,0,0,0,0,0,0,0,0,0,0,0,0,0,0,0,0,0,0,0,0,0,0,0,0,0,0,0,0,0,0,0,0,0,0,0,0,0,0,0,0,0,0,0,0,0,0,0,0,0,0,0]
[null,"311ba",null,"other fossil fuels","[GJ/t]",null,0,0,0,0,0,0,0,0,0,0,0,0,0,0,0,0,0,0,0,0,0,0,0,0,0,0,0,0,0,0,0,0,0,0,0,0,0,0,0,0,0,0,0,0,0,0,0,0,0,0,0,0,0,0,0,0,0,0,0,0,0]
[null,"311c","Equipment and On-Site Vehicles fuels (containing biomass)"]
[null,"311d",null,"bio and mixed diesel ","[GJ/t]",null,0,0,0,0,0,0,0,0,0,0,0,0,0,0,0,0,0,0,0,0,0,0,0,0,0,0,0,0,0,0,0,0,0,0,0,0,0,0,0,0,0,0,0,0,0,0,0,0,0,0,0,0,0,0,0,0,0,0,0,0,0]
[null,312,"Room Heating and Cooling"]
[null,"312a",null,"diesel oil","[GJ/t]",null,{"$f":"G299","v":0},0,0,0,0,0,0,0,0,0,0,0,0,0,0,0,0,0,0,0,0,0,0,0,0,0,0,0,0,0,0,0,0,0,0,0,0,0,0,0,0,0,0,0,0,0,0,0,0,0,0,0,0,0,0,0,0,0,0,0,0]
[null,"312b",null,"natural gas","[GJ/1'000 Nm3]",null,0,0,0,0,0,0,0,0,0,0,0,0,0,0,0,0,0,0,0,0,0,0,0,0,0,0,0,0,0,0,0,0,0,0,0,0,0,0,0,0,0,0,0,0,0,0,0,0,0,0,0,0,0,0,0,0,0,0,0,0,0]
[null,"312c",null,"other fossil fuels","[GJ/t]",null,0,0,0,0,0,0,0,0,0,0,0,0,0,0,0,0,0,0,0,0,0,0,0,0,0,0,0,0,0,0,0,0,0,0,0,0,1,2,3,4,5,6,7,8,9,10,11,12,13,14,15,16,17,18,19,20,21,22,23,24,25]
[null,313,"Drying of mineral components"]
[null,"313k","     Conventional fossil fuels"]
[null,"313a",null,"coal + anthracite + lignite","[GJ/t]",null,{"$f":"G270","v":0},0,0,0,0,0,0,0,0,0,0,0,0,0,0,0,0,0,0,0,0,0,0,0,0,0,0,0,0,0,0,0,0,0,0,0,0,0,0,0,0,0,0,0,0,0,0,0,0,0,0,0,0,0,0,0,0,0,0,0,0]
[null,"313b",null,"petrol coke","[GJ/t]",null,0,0,0,0,0,0,0,0,0,0,0,0,0,0,0,0,0,0,0,0,0,0,0,0,0,0,0,0,0,0,0,0,0,0,0,0,0,0,0,0,0,0,0,0,0,0,0,0,0,0,0,0,0,0,0,0,0,0,0,0,0]
[null,"313c",null,"(ultra) heavy fuel","[GJ/t]",null,0,0,0,0,0,0,0,0,0,0,0,0,0,0,0,0,0,0,0,0,0,0,0,0,0,0,0,0,0,0,0,0,0,0,0,0,0,0,0,0,0,0,0,0,0,0,0,0,0,0,0,0,0,0,0,0,0,0,0,0,0]
[null,"313d",null,"diesel oil","[GJ/t]",null,0,0,0,0,0,0,0,0,0,0,0,0,0,0,0,0,0,0,0,0,0,0,0,0,0,0,0,0,0,0,0,0,0,0,0,0,0,0,0,0,0,0,0,0,0,0,0,0,0,0,0,0,0,0,0,0,0,0,0,0,0]
[null,"313e",null,"natural gas ","[GJ/1'000 Nm3]",null,0,0,0,0,0,0,0,0,0,0,0,{"$f":"R274","v":0},0,0,0,0,0,0,0,0,0,0,0,0,0,0,0,0,0,0,0,0,0,0,0,0,0,0,0,0,0,0,0,0,0,0,0,0,0,0,0,0,0,0,0,0,0,0,0,0,0]
[null,"313f",null,"shale","[GJ/t]",null,{"$f":"G275","v":0},0,0,0,0,0,0,0,0,0,0,0,0,0,0,0,0,0,0,0,0,0,0,0,0,0,0,0,0,0,0,0,0,0,0,0,0,0,0,0,0,0,0,0,0,0,0,0,0,0,0,0,0,0,0,0,0,0,0,0,0]
[null,"313g","     Alternative fossil and mixed fuels"]
[null,"313h",null,"other fossil based wastes and mixed fuels","[GJ/t]",null,0,0,0,0,0,0,0,0,0,0,0,0,0,0,0,0,0,0,0,0,0,0,0,0,0,0,0,0,0,0,0,0,0,0,0,0,0,0,0,0,0,0,0,0,0,0,0,0,0,0,0,0,0,0,0,0,0,0,0,0,0]
[null,"313i","     Alternative biomass fuels"]
[null,"313j",null,"other biomass","[GJ/t]",null,0,0,0,0,0,0,0,0,0,0,0,0,0,0,0,0,0,0,0,0,0,0,0,0,0,0,0,0,0,0,0,0,0,0,0,0,0,0,0,0,0,0,0,0,0,0,0,0,0,0,0,0,0,0,0,0,0,0,0,0,0]
[null,314,"On-site power generation"]
[null,"314aa","     Conventional fossil fuels"]
[null,"314a",null,"coal + anthracite + lignite","[GJ/t]",null,{"$f":"G270","v":0},0,0,0,0,0,0,0,0,0,0,0,0,0,0,0,0,0,0,0,0,0,0,0,0,0,0,0,0,0,0,{"$f":"AL270","v":0},{"$f":"AM270","v":0},{"$f":"AN270","v":0},{"$f":"AO270","v":0},{"$f":"AP270","v":0},{"$f":"AQ270","v":0},0,0,0,0,0,0,0,0,0,0,0,0,0,0,0,0,0,0,0,0,0,0,0,0]
[null,"314b",null,"(ultra) heavy fuel","[GJ/t]",null,{"$f":"G272","v":0},0,0,0,0,0,0,0,0,0,0,0,0,0,0,0,0,0,0,0,0,0,0,0,0,0,0,0,0,0,0,0,0,0,0,0,0,0,0,0,0,0,0,0,0,0,0,0,0,0,0,0,0,0,0,0,0,0,0,0,0]
[null,"314c",null,"diesel oil","[GJ/t]",null,0,0,0,0,0,0,0,0,0,0,0,0,0,0,0,0,0,0,0,0,0,0,0,0,0,0,0,0,0,0,0,0,0,0,0,0,0,0,0,0,0,0,0,0,0,0,0,0,0,0,0,0,0,0,0,0,0,0,0,0,0]
[null,"314d",null,"natural gas ","[GJ/1'000 Nm3]",null,0,0,0,0,0,0,0,0,0,0,0,0,0,0,0,0,0,0,0,0,0,0,0,0,0,0,0,0,0,0,0,0,0,0,0,0,0,0,0,0,0,0,0,0,0,0,0,0,0,0,0,0,0,0,0,0,0,0,0,0,0]
[null,"314i",null,"petrol coke","[GJ/t]",null,{"$f":"G271","v":0},0,0,0,0,0,0,0,0,0,0,0,0,0,0,0,0,0,0,0,0,0,0,0,0,0,0,0,0,0,0,{"$f":"AL271","v":0},{"$f":"AM271","v":0},{"$f":"AN271","v":0},{"$f":"AO271","v":0},{"$f":"AP271","v":0},{"$f":"AQ271","v":0},0,0,0,0,0,0,0,0,0,0,0,0,0,0,0,0,0,0,0,0,0,0,0,0]
[null,"314j",null,"other fossil fuels","[GJ/t]",null,0,0,0,0,0,0,0,0,0,0,0,0,0,0,0,0,0,0,0,0,0,0,0,0,0,0,0,0,0,0,0,0,0,0,0,0,0,0,0,0,0,0,0,0,0,0,0,0,0,0,0,0,0,0,0,0,0,0,0,0,0]
[null,"314f","     Alternative fossil and mixed fuels"]
[null,"314g",null,"other fossil based wastes and mixed fuels","[GJ/t]",null,0,0,0,0,0,0,0,0,0,0,0,0,0,0,0,0,0,0,0,0,0,0,0,0,0,0,0,0,0,0,0,0,0,0,0,0,0,0,0,0,0,0,0,0,0,0,0,0,0,0,0,0,0,0,0,0,0,0,0,0,0]
[null,"314h","     Alternative biomass fuels"]
[null,"314e",null,"other biomass","[GJ/t]",null,0,0,0,0,0,0,0,0,0,0,0,0,0,0,0,0,0,0,0,0,0,0,0,0,0,0,0,0,0,0,0,0,0,0,0,0,0,0,0,0,0,0,0,0,0,0,0,0,0,0,0,0,0,0,0,0,0,0,0,0,0]
[]
[null,"Non-Kiln Fuel Consumption in terajoules (TJ) per year",null,null,null,null,{"$f":"G$7","v":1990},1991,1992,1993,1994,1995,1996,1997,1998,1999,2000,2001,2002,2003,2004,2005,2006,2007,2008,2009,2010,2011,2012,2013,2014,2015,2016,2017,2018,2019,2020,2021,2022,2023,2024,2025,2026,2027,2028,2029,2030,2031,2032,2033,2034,2035,2036,2037,2038,2039,2040,2041,2042,2043,2044,2045,2046,2047,2048,2049,2050]
[null,321,"Equipment and On-Site Vehicles fossil fuels",null,"[TJ/yr]",null,{"$f":"IF(COUNTBLANK(G503:G505)=3,\"\",SUM(G503:G505))","v":0},{"$f":"IF(COUNTBLANK(H503:H505)=3,\"\",SUM(H503:H505))","v":0},0,0,0,0,0,0,0,0,0,0,0,0,0,0,0,0,0,0,0,0,0,0,0,0,0,0,0,0,0,0,0,0,0,0,0,0,0,0,0,0,0,0,0,0,0,0,0,0,0,0,0,0,0,0,0,0,0,0,0]
[null,"321a",null,"diesel oil","[TJ/yr]",null,{"$f":"IF(G431=\"\",\"\",G431*G467/1000)","v":0},0,0,0,0,0,0,0,0,0,0,0,0,0,0,0,0,0,0,0,0,0,0,0,0,0,0,0,0,0,0,0,0,0,0,0,0,0,0,0,0,0,0,0,0,0,0,0,0,0,0,0,0,0,0,0,0,0,0,0,0]
[null,"321b",null,"gasoline","[TJ/yr]",null,0,0,0,0,0,0,0,0,0,0,0,0,0,0,0,0,0,0,0,0,0,0,0,0,0,0,0,0,0,0,0,0,0,0,0,0,0,0,0,0,0,0,0,0,0,0,0,0,0,0,0,0,0,0,0,0,0,0,0,0,0]
[null,"321ba",null,"other fossil fuels","[TJ/yr]",null,0,0,0,0,0,0,0,0,0,0,0,0,0,0,0,0,0,0,0,0,0,0,0,0,0,0,0,0,0,0,0,0,0,0,0,0,0,0,0,0,0,0,0,0,0,0,0,0,0,0,0,0,0,0,0,0,0,0,0,0,0]
[null,"321c","Equipment and On-Site Vehicles fuels (containing biomass)",null,"[TJ/yr]",null,{"$f":"G507","v":0},0,0,0,0,0,0,0,0,0,0,0,0,0,0,0,0,0,0,0,0,0,0,0,0,0,0,0,0,0,0,0,0,0,0,0,0,0,0,0,0,0,0,0,0,0,0,0,0,0,0,0,0,0,0,0,0,0,0,0,0]
[null,"321d",null,"bio and mixed diesel ","[TJ/yr]",null,{"$f":"IF(G435=\"\",\"\",G435*G471/1000)","v":0},0,0,0,0,0,0,0,0,0,0,0,0,0,0,0,0,0,0,0,0,0,0,0,0,0,0,0,0,0,0,{"$f":"IF(AL435=\"\",\"\",AL435*AL471/1000)","v":0},{"$f":"IF(AM435=\"\",\"\",AM435*AM471/1000)","v":0},{"$f":"IF(AN435=\"\",\"\",AN435*AN471/1000)","v":0},{"$f":"IF(AO435=\"\",\"\",AO435*AO471/1000)","v":0},{"$f":"IF(AP435=\"\",\"\",AP435*AP471/1000)","v":0},{"$f":"IF(AQ435=\"\",\"\",AQ435*AQ471/1000)","v":0},0,0,0,0,0,0,0,0,0,0,0,0,0,0,0,0,0,0,0,0,0,0,0,0]
[null,322,"Room Heating and Cooling",null,"[TJ/yr]",null,{"$f":"IF(COUNTBLANK(G509:G511)=3,\"\",SUM(G509:G511))","v":0},{"$f":"IF(COUNTBLANK(H509:H511)=3,\"\",SUM(H509:H511))","v":0},0,0,0,0,0,0,0,0,0,0,0,0,0,0,0,0,0,0,0,0,0,0,0,0,0,0,0,0,0,0,0,0,0,0,0,0,0,0,0,0,0,0,0,0,0,0,0,0,0,0,0,0,0,0,0,0,0,0,0]
[null,"322a",null,"diesel oil","[TJ/yr]",null,{"$f":"IF(G437=\"\",\"\",G437*G473/1000)","v":0},0,0,0,0,0,0,0,0,0,0,0,0,0,0,0,0,0,0,0,0,0,0,0,0,0,0,0,0,0,0,0,0,0,0,0,0,0,0,0,0,0,0,0,0,0,0,0,0,0,0,0,0,0,0,0,0,0,0,0,0]
[null,"322b",null,"natural gas","[TJ/yr]",null,0,0,0,0,0,0,0,0,0,0,0,0,0,0,0,0,0,0,0,0,0,0,0,0,0,0,0,0,0,0,0,0,0,0,0,0,0,0,0,0,0,0,0,0,0,0,0,0,0,0,0,0,0,0,0,0,0,0,0,0,0]
[null,"322c",null,"other fossil fuels","[TJ/yr]",null,0,0,0,0,0,0,0,0,0,0,0,0,0,0,0,0,0,0,0,0,0,0,0,0,0,0,0,0,0,0,0,0,0,0,0,0,0,0,0,0,0,0,0,0,0,0,0,0,0,0,0,0,0,0,0,0,0,0,0,0,0]
[null,323,"Drying of mineral components"]
[null,"323k","     Conventional fossil fuels",null,"[TJ/yr]",null,{"$f":"IF(COUNTBLANK(G514:G519)=6,\"\",SUM(G514:G519))","v":0},{"$f":"IF(COUNTBLANK(H514:H519)=6,\"\",SUM(H514:H519))","v":0},0,0,0,0,0,0,0,0,0,0,0,0,0,0,0,0,0,0,0,0,0,0,0,0,0,0,0,0,0,0,0,0,0,0,0,0,0,0,0,0,0,0,0,0,0,0,0,0,0,0,0,0,0,0,0,0,0,0,0]
[null,"323a",null,"coal + anthracite + lignite","[TJ/yr]",null,{"$f":"IF(G442=\"\",\"\",G442*G478/1000)","v":0},0,0,0,0,0,0,0,0,0,0,0,0,0,0,0,0,0,0,0,0,0,0,0,0,0,0,0,0,0,0,0,0,0,0,0,0,0,0,0,0,0,0,0,0,0,0,0,0,0,0,0,0,0,0,0,0,0,0,0,0]
[null,"323b",null,"petrol coke","[TJ/yr]",null,0,0,0,0,0,0,0,0,0,0,0,0,0,0,0,0,0,0,0,0,0,0,0,0,0,0,0,0,0,0,0,0,0,0,0,0,0,0,0,0,0,0,0,0,0,0,0,0,0,0,0,0,0,0,0,0,0,0,0,0,0]
[null,"323c",null,"(ultra) heavy fuel","[TJ/yr]",null,0,0,0,0,0,0,0,0,0,0,0,0,0,0,0,0,0,0,0,0,0,0,0,0,0,0,0,0,0,0,0,0,0,0,0,0,0,0,0,0,0,0,0,0,0,0,0,0,0,0,0,0,0,0,0,0,0,0,0,0,0]
[null,"323d",null,"diesel oil","[TJ/yr]",null,0,0,0,0,0,0,0,0,0,0,0,0,0,0,0,0,0,0,0,0,0,0,0,0,0,0,0,0,0,0,0,0,0,0,0,0,0,0,0,0,0,0,0,0,0,0,0,0,0,0,0,0,0,0,0,0,0,0,0,0,0]
[null,"323e",null,"natural gas ","[TJ/yr]",null,0,0,0,0,0,0,0,0,0,0,0,{"$f":"IF(R446=\"\",\"\",R446*R482/1000)","v":0},0,0,0,0,0,0,0,0,0,0,0,0,0,0,0,0,0,0,0,0,0,0,0,0,0,0,0,0,0,0,0,0,0,0,0,0,0,0,0,0,0,0,0,0,0,0,0,0,0]
[null,"323f",null,"shale","[TJ/yr]",null,{"$f":"IF(G447=\"\",\"\",G447*G483/1000)","v":0},0,0,0,0,0,0,0,0,0,0,0,0,0,0,0,0,0,0,0,0,0,0,0,0,0,0,0,0,0,0,0,0,0,0,0,0,0,0,0,0,0,0,0,0,0,0,0,0,0,0,0,0,0,0,0,0,0,0,0,0]
[null,"323g","     Alternative fossil and mixed fuels",null,"[TJ/yr]",null,{"$f":"G521","v":0},0,0,0,0,0,0,0,0,0,0,0,0,0,0,0,0,0,0,0,0,0,0,0,0,0,0,0,0,0,0,0,0,0,0,0,0,0,0,0,0,0,0,0,0,0,0,0,0,0,0,0,0,0,0,0,0,0,0,0,0]
[null,"323h",null,"other fossil based wastes and mixed fuels","[TJ/yr]",null,{"$f":"IF(G449=\"\",\"\",G449*G485/1000)","v":0},0,0,0,0,0,0,0,0,0,0,0,0,0,0,0,0,0,0,0,0,0,0,0,0,0,0,0,0,0,0,{"$f":"IF(AL449=\"\",\"\",AL449*AL485/1000)","v":0},{"$f":"IF(AM449=\"\",\"\",AM449*AM485/1000)","v":0},{"$f":"IF(AN449=\"\",\"\",AN449*AN485/1000)","v":0},{"$f":"IF(AO449=\"\",\"\",AO449*AO485/1000)","v":0},{"$f":"IF(AP449=\"\",\"\",AP449*AP485/1000)","v":0},{"$f":"IF(AQ449=\"\",\"\",AQ449*AQ485/1000)","v":0},0,0,0,0,0,0,0,0,0,0,0,0,0,0,0,0,0,0,0,0,0,0,0,0]
[null,"323i","     Alternative biomass fuels",null,"[TJ/yr]",null,{"$f":"G523","v":0},0,0,0,0,0,0,0,0,0,0,0,0,0,0,0,0,0,0,0,0,0,0,0,0,0,0,0,0,0,0,0,0,0,0,0,0,0,0,0,0,0,0,0,0,0,0,0,0,0,0,0,0,0,0,0,0,0,0,0,0]
[null,"323j",null,"other biomass","[TJ/yr]",null,{"$f":"IF(G451=\"\",\"\",G451*G487/1000)","v":0},0,0,0,0,0,0,0,0,0,0,0,0,0,0,0,0,0,0,0,0,0,0,0,0,0,0,0,0,0,0,{"$f":"IF(AL451=\"\",\"\",AL451*AL487/1000)","v":0},{"$f":"IF(AM451=\"\",\"\",AM451*AM487/1000)","v":0},{"$f":"IF(AN451=\"\",\"\",AN451*AN487/1000)","v":0},{"$f":"IF(AO451=\"\",\"\",AO451*AO487/1000)","v":0},{"$f":"IF(AP451=\"\",\"\",AP451*AP487/1000)","v":0},{"$f":"IF(AQ451=\"\",\"\",AQ451*AQ487/1000)","v":0},0,0,0,0,0,0,0,0,0,0,0,0,0,0,0,0,0,0,0,0,0,0,0,0]
[null,324,"On-site power generation"]
[null,"324aa","     Conventional fossil fuels",null,"[TJ/yr]",null,{"$f":"IF(COUNTBLANK(G526:G531)=6,\"\",SUM(G526:G531))","v":0},{"$f":"IF(COUNTBLANK(H526:H531)=6,\"\",SUM(H526:H531))","v":0},0,0,0,0,0,0,0,0,0,0,0,0,0,0,0,0,0,0,0,0,0,0,0,0,0,0,0,0,0,0,0,0,0,0,0,0,0,0,0,0,0,0,0,0,0,0,0,0,0,0,0,0,0,0,0,0,0,0,0]
[null,"324a",null,"coal + anthracite + lignite","[TJ/yr]",null,{"$f":"IF(G454=\"\",\"\",G454*G490/1000)","v":0},0,0,0,0,0,0,0,0,0,0,0,0,0,0,0,0,0,0,0,0,0,0,0,0,0,0,0,0,0,0,0,0,0,0,0,0,0,0,0,0,0,0,0,0,0,0,0,0,0,0,0,0,0,0,0,0,0,0,0,0]
[null,"324b",null,"(ultra) heavy fuel","[TJ/yr]",null,0,0,0,0,0,0,0,0,0,0,0,0,0,0,0,0,0,0,0,0,0,0,0,0,0,0,0,0,0,0,0,0,0,0,0,0,0,0,0,0,0,0,0,0,0,0,0,0,0,0,0,0,0,0,0,0,0,0,0,0,0]
[null,"324c",null,"diesel oil","[TJ/yr]",null,0,0,0,0,0,0,0,0,0,0,0,0,0,0,0,0,0,0,0,0,0,0,0,0,0,0,0,0,0,0,0,0,0,0,0,0,0,0,0,0,0,0,0,0,0,0,0,0,0,0,0,0,0,0,0,0,0,0,0,0,0]
[null,"324d",null,"natural gas ","[TJ/yr]",null,0,0,0,0,0,0,0,0,0,0,0,0,0,0,0,0,0,0,0,0,0,0,0,0,0,0,0,0,0,0,0,0,0,0,0,0,0,0,0,0,0,0,0,0,0,0,0,0,0,0,0,0,0,0,0,0,0,0,0,0,0]
[null,"324i",null,"petrol coke","[TJ/yr]",null,0,0,0,0,0,0,0,0,0,0,0,{"$f":"IF(R458=\"\",\"\",R458*R494/1000)","v":0},0,0,0,0,0,0,0,0,0,0,0,0,0,0,0,0,0,0,0,0,0,0,0,0,0,0,0,0,0,0,0,0,0,0,0,0,0,0,0,0,0,0,0,0,0,0,0,0,0]
[null,"324j",null,"other fossil fuels","[TJ/yr]",null,{"$f":"IF(G459=\"\",\"\",G459*G495/1000)","v":0},0,0,0,0,0,0,0,0,0,0,0,0,0,0,0,0,0,0,0,0,0,0,0,0,0,0,0,0,0,0,0,0,0,0,0,0,0,0,0,0,0,0,0,0,0,0,0,0,0,0,0,0,0,0,0,0,0,0,0,0]
[null,"324f","     Alternative fossil and mixed fuels",null,"[TJ/yr]",null,{"$f":"G533","v":0},0,0,0,0,0,0,0,0,0,0,0,0,0,0,0,0,0,0,0,0,0,0,0,0,0,0,0,0,0,0,0,0,0,0,0,0,0,0,0,0,0,0,0,0,0,0,0,0,0,0,0,0,0,0,0,0,0,0,0,0]
[null,"324g",null,"other fossil based wastes and mixed fuels","[TJ/yr]",null,{"$f":"IF(G461=\"\",\"\",G461*G497/1000)","v":0},0,0,0,0,0,0,0,0,0,0,0,0,0,0,0,0,0,0,0,0,0,0,0,0,0,0,0,0,0,0,{"$f":"IF(AL461=\"\",\"\",AL461*AL497/1000)","v":0},{"$f":"IF(AM461=\"\",\"\",AM461*AM497/1000)","v":0},{"$f":"IF(AN461=\"\",\"\",AN461*AN497/1000)","v":0},{"$f":"IF(AO461=\"\",\"\",AO461*AO497/1000)","v":0},{"$f":"IF(AP461=\"\",\"\",AP461*AP497/1000)","v":0},{"$f":"IF(AQ461=\"\",\"\",AQ461*AQ497/1000)","v":0},0,0,0,0,0,0,0,0,0,0,0,0,0,0,0,0,0,0,0,0,0,0,0,0]
[null,"324h","     Alternative biomass fuels",null,"[TJ/yr]",null,{"$f":"G535","v":0},0,0,0,0,0,0,0,0,0,0,0,0,0,0,0,0,0,0,0,0,0,0,0,0,0,0,0,0,0,0,0,0,0,0,0,0,0,0,0,0,0,0,0,0,0,0,0,0,0,0,0,0,0,0,0,0,0,0,0,0]
[null,"324e",null,"other biomass","[TJ/yr]",null,{"$f":"IF(G463=\"\",\"\",G463*G499/1000)","v":0},0,0,0,0,0,0,0,0,0,0,0,0,0,0,0,0,0,0,0,0,0,0,0,0,0,0,0,0,0,0,{"$f":"IF(AL463=\"\",\"\",AL463*AL499/1000)","v":0},{"$f":"IF(AM463=\"\",\"\",AM463*AM499/1000)","v":0},{"$f":"IF(AN463=\"\",\"\",AN463*AN499/1000)","v":0},{"$f":"IF(AO463=\"\",\"\",AO463*AO499/1000)","v":0},{"$f":"IF(AP463=\"\",\"\",AP463*AP499/1000)","v":0},{"$f":"IF(AQ463=\"\",\"\",AQ463*AQ499/1000)","v":0},0,0,0,0,0,0,0,0,0,0,0,0,0,0,0,0,0,0,0,0,0,0,0,0]
[]
[null,"CO2 Emissions from Non-Kiln fuels",null,null,null,null,{"$f":"G$7","v":1990},1991,1992,1993,1994,1995,1996,1997,1998,1999,2000,2001,2002,2003,2004,2005,2006,2007,2008,2009,2010,2011,2012,2013,2014,2015,2016,2017,2018,2019,2020,2021,2022,2023,2024,2025,2026,2027,2028,2029,2030,2031,2032,2033,2034,2035,2036,2037,2038,2039,2040,2041,2042,2043,2044,2045,2046,2047,2048,2049,2050]
[null,331,"Equipment and On-Site Vehicles",null,"[t CO2/yr]",null,{"$f":"IF(COUNTBLANK(G539:G541)=3,\"\",SUM(G539:G541))","v":0},{"$f":"IF(COUNTBLANK(H539:H541)=3,\"\",SUM(H539:H541))","v":0},0,0,0,0,0,0,0,0,0,0,0,0,0,0,0,0,0,0,0,0,0,0,0,0,0,0,0,0,0,0,0,0,0,0,0,0,0,0,0,0,0,0,0,0,0,0,0,0,0,0,0,0,0,0,0,0,0,0,0]
[null,"331a",null,"diesel oil (incl. fossil CO2 of mixed diesel)","[t CO2/yr]",null,{"$f":"IF(OR(G503=\"\",G506=\"\"),\"\",G503*G$352+G507*G367*(1-G375))","v":0},0,0,0,0,0,0,0,0,0,0,0,0,0,0,0,0,0,0,0,0,0,0,0,0,0,0,0,0,0,0,{"$f":"IF(OR(AL503=\"\",AL506=\"\"),\"\",AL503*AL$352+AL507*AL367*(1-AL375))","v":0},{"$f":"IF(OR(AM503=\"\",AM506=\"\"),\"\",AM503*AM$352+AM507*AM367*(1-AM375))","v":0},{"$f":"IF(OR(AN503=\"\",AN506=\"\"),\"\",AN503*AN$352+AN507*AN367*(1-AN375))","v":0},{"$f":"IF(OR(AO503=\"\",AO506=\"\"),\"\",AO503*AO$352+AO507*AO367*(1-AO375))","v":0},{"$f":"IF(OR(AP503=\"\",AP506=\"\"),\"\",AP503*AP$352+AP507*AP367*(1-AP375))","v":0},{"$f":"IF(OR(AQ503=\"\",AQ506=\"\"),\"\",AQ503*AQ$352+AQ507*AQ367*(1-AQ375))","v":0},0,0,0,0,0,0,0,0,0,0,0,0,0,0,0,0,0,0,0,0,0,0,0,0]
[null,"331b",null,"gasoline","[t CO2/yr]",null,{"$f":"IF(G504=\"\",\"\",G504*G356)","v":0},0,0,0,0,0,0,0,0,0,0,0,0,0,0,0,0,0,0,0,0,0,0,0,0,0,0,0,0,0,0,{"$f":"IF(AL504=\"\",\"\",AL504*AL356)","v":0},{"$f":"IF(AM504=\"\",\"\",AM504*AM356)","v":0},{"$f":"IF(AN504=\"\",\"\",AN504*AN356)","v":0},{"$f":"IF(AO504=\"\",\"\",AO504*AO356)","v":0},{"$f":"IF(AP504=\"\",\"\",AP504*AP356)","v":0},{"$f":"IF(AQ504=\"\",\"\",AQ504*AQ356)","v":0},0,0,0,0,0,0,0,0,0,0,0,0,0,0,0,0,0,0,0,0,0,0,0,0]
[null,"331ba",null,"other fossil fuels","[t CO2/yr]",null,{"$f":"IF(G505=\"\",\"\",G505*G$357)","v":0},{"$f":"IF(H505=\"\",\"\",H505*H$357)","v":0},0,0,0,0,0,0,0,0,0,0,0,0,0,0,0,0,0,0,0,0,0,0,0,0,0,0,0,0,0,0,0,0,0,0,0,0,0,0,0,0,0,0,0,0,0,0,0,0,0,0,0,0,0,0,0,0,0,0,0]
[null,"331c","Equipment and On-Site Vehicles biomass fuels",null,"[t CO2/yr]",null,{"$f":"G543","v":0},0,0,0,0,0,0,0,0,0,0,0,0,0,0,0,0,0,0,0,0,0,0,0,0,0,0,0,0,0,0,0,0,0,0,0,0,0,0,0,0,0,0,0,0,0,0,0,0,0,0,0,0,0,0,0,0,0,0,0,0]
[null,"331d",null,"bio diesel (biogenic CO2 of bio or mixed diesel)","[t CO2/yr]",null,{"$f":"IF(G507=\"\",\"\",G507*G367*G375)","v":0},0,0,0,0,0,0,0,0,0,0,0,0,0,0,0,0,0,0,0,0,0,0,0,0,0,0,0,0,0,0,{"$f":"IF(AL507=\"\",\"\",AL507*AL367*AL375)","v":0},{"$f":"IF(AM507=\"\",\"\",AM507*AM367*AM375)","v":0},{"$f":"IF(AN507=\"\",\"\",AN507*AN367*AN375)","v":0},{"$f":"IF(AO507=\"\",\"\",AO507*AO367*AO375)","v":0},{"$f":"IF(AP507=\"\",\"\",AP507*AP367*AP375)","v":0},{"$f":"IF(AQ507=\"\",\"\",AQ507*AQ367*AQ375)","v":0},0,0,0,0,0,0,0,0,0,0,0,0,0,0,0,0,0,0,0,0,0,0,0,0]
[null,332,"Room Heating and Cooling",null,"[t CO2/yr]",null,{"$f":"IF(COUNTBLANK(G545:G547)=3,\"\",SUM(G545:G547))","v":0},{"$f":"IF(COUNTBLANK(H545:H547)=3,\"\",SUM(H545:H547))","v":0},0,0,0,0,0,0,0,0,0,0,0,0,0,0,0,0,0,0,0,0,0,0,0,0,0,0,0,0,0,0,0,0,0,0,0,0,0,0,0,0,0,0,0,0,0,0,0,0,0,0,0,0,0,0,0,0,0,0,0]
[null,"332a",null,"diesel oil","[t CO2/yr]",null,{"$f":"IF(G509=\"\",\"\",G509*G$352)","v":0},{"$f":"IF(H509=\"\",\"\",H509*H$352)","v":0},0,0,0,0,0,0,0,0,0,0,0,0,0,0,0,0,0,0,0,0,0,0,0,0,0,0,0,0,0,0,0,0,0,0,0,0,0,0,0,0,0,0,0,0,0,0,0,0,0,0,0,0,0,0,0,0,0,0,0]
[null,"332b",null,"natural gas","[t CO2/yr]",null,{"$f":"IF(G510=\"\",\"\",G510*G$353)","v":0},{"$f":"IF(H510=\"\",\"\",H510*H$353)","v":0},0,0,0,0,0,0,0,0,0,0,0,0,0,0,0,0,0,0,0,0,0,0,0,0,0,0,0,0,0,0,0,0,0,0,0,0,0,0,0,0,0,0,0,0,0,0,0,0,0,0,0,0,0,0,0,0,0,0,0]
[null,"332c",null,"other fossil fuels","[t CO2/yr]",null,{"$f":"IF(G511=\"\",\"\",G511*G$358)","v":0},{"$f":"IF(H511=\"\",\"\",H511*H$358)","v":0},0,0,0,0,0,0,0,0,0,0,0,0,0,0,0,0,0,0,0,0,0,0,0,0,0,0,0,0,0,0,0,0,0,0,0,0,0,0,0,0,0,0,0,0,0,0,0,0,0,0,0,0,0,0,0,0,0,0,0]
[null,333,"Drying of mineral components"]
[null,"333k","     Conventional fossil fuels",null,"[t CO2/yr]",null,{"$f":"IF(COUNTBLANK(G550:G555)=6,\"\",SUM(G550:G555))","v":0},{"$f":"IF(COUNTBLANK(H550:H555)=6,\"\",SUM(H550:H555))","v":0},0,0,0,0,0,0,0,0,0,0,0,0,0,0,0,0,0,0,0,0,0,0,0,0,0,0,0,0,0,0,0,0,0,0,0,0,0,0,0,0,0,0,0,0,0,0,0,0,0,0,0,0,0,0,0,0,0,0,0]
[null,"333a",null,"coal + anthracite + lignite","[t CO2/yr]",null,{"$f":"IF(G514=\"\",\"\",G514*G$349)","v":0},{"$f":"IF(H514=\"\",\"\",H514*H$349)","v":0},0,0,0,0,0,0,0,0,0,0,0,0,0,0,0,0,0,0,0,0,0,0,0,0,0,0,0,0,0,0,0,0,0,0,0,0,0,0,0,0,0,0,0,0,0,0,0,0,0,0,0,0,0,0,0,0,0,0,0]
[null,"333b",null,"petrol coke","[t CO2/yr]",null,{"$f":"IF(G515=\"\",\"\",G515*G$350)","v":0},{"$f":"IF(H515=\"\",\"\",H515*H$350)","v":0},0,0,0,0,0,0,0,0,0,0,0,0,0,0,0,0,0,0,0,0,0,0,0,0,0,0,0,0,0,0,0,0,0,0,0,0,0,0,0,0,0,0,0,0,0,0,0,0,0,0,0,0,0,0,0,0,0,0,0]
[null,"333c",null,"(ultra) heavy fuel","[t CO2/yr]",null,{"$f":"IF(G516=\"\",\"\",G516*G$351)","v":0},{"$f":"IF(H516=\"\",\"\",H516*H$351)","v":0},0,0,0,0,0,0,0,0,0,0,0,0,0,0,0,0,0,0,0,0,0,0,0,0,0,0,0,0,0,0,0,0,0,0,0,0,0,0,0,0,0,0,0,0,0,0,0,0,0,0,0,0,0,0,0,0,0,0,0]
[null,"333d",null,"diesel oil","[t CO2/yr]",null,{"$f":"IF(G517=\"\",\"\",G517*G$352)","v":0},{"$f":"IF(H517=\"\",\"\",H517*H$352)","v":0},0,0,0,0,0,0,0,0,0,0,0,0,0,0,0,0,0,0,0,0,0,0,0,0,0,0,0,0,0,0,0,0,0,0,0,0,0,0,0,0,0,0,0,0,0,0,0,0,0,0,0,0,0,0,0,0,0,0,0]
[null,"333e",null,"natural gas ","[t CO2/yr]",null,{"$f":"IF(G518=\"\",\"\",G518*G$353)","v":0},{"$f":"IF(H518=\"\",\"\",H518*H$353)","v":0},0,0,0,0,0,0,0,0,0,0,0,0,0,0,0,0,0,0,0,0,0,0,0,0,0,0,0,0,0,0,0,0,0,0,0,0,0,0,0,0,0,0,0,0,0,0,0,0,0,0,0,0,0,0,0,0,0,0,0]
[null,"333f",null,"shale","[t CO2/yr]",null,{"$f":"IF(G519=\"\",\"\",G519*G$354)","v":0},{"$f":"IF(H519=\"\",\"\",H519*H$354)","v":0},0,0,0,0,0,0,0,0,0,0,0,0,0,0,0,0,0,0,0,0,0,0,0,0,0,0,0,0,0,0,0,0,0,0,0,0,0,0,0,0,0,0,0,0,0,0,0,0,0,0,0,0,0,0,0,0,0,0,0]
[null,"333g","     Alternative fossil fuels - fossil total emissions",null,"[t CO2/yr]",null,{"$f":"G557","v":0},0,0,0,0,0,0,0,0,0,0,0,0,0,0,0,0,0,0,0,0,0,0,0,0,0,0,0,0,0,0,0,0,0,0,0,0,0,0,0,0,0,0,0,0,0,0,0,0,0,0,0,0,0,0,0,0,0,0,0,0]
[null,"333h",null,"other fossil based wastes / fossil content","[t CO2/yr]",null,{"$f":"IF(G521=\"\",\"\",G521*G$368*(1-G376))","v":0},0,0,0,0,0,0,0,0,0,0,0,0,0,0,0,0,0,0,0,0,0,0,0,0,0,0,0,0,0,0,{"$f":"IF(AL521=\"\",\"\",AL521*AL$368*(1-AL376))","v":0},{"$f":"IF(AM521=\"\",\"\",AM521*AM$368*(1-AM376))","v":0},{"$f":"IF(AN521=\"\",\"\",AN521*AN$368*(1-AN376))","v":0},{"$f":"IF(AO521=\"\",\"\",AO521*AO$368*(1-AO376))","v":0},{"$f":"IF(AP521=\"\",\"\",AP521*AP$368*(1-AP376))","v":0},{"$f":"IF(AQ521=\"\",\"\",AQ521*AQ$368*(1-AQ376))","v":0},0,0,0,0,0,0,0,0,0,0,0,0,0,0,0,0,0,0,0,0,0,0,0,0]
[null,"333i","     Alternative biomass fuels - biomass total emissions",null,"[t CO2/yr]",null,{"$f":"G559","v":0},0,0,0,0,0,0,0,0,0,0,0,0,0,0,0,0,0,0,0,0,0,0,0,0,0,0,0,0,0,0,0,0,0,0,0,0,0,0,0,0,0,0,0,0,0,0,0,0,0,0,0,0,0,0,0,0,0,0,0,0]
[null,"333j",null,"other biomass (incl. biomass content of mixed fuels)","[t CO2/yr]",null,{"$f":"IF(G523=\"\",\"\",(G523*G385)+(G521*G368*G376))","v":0},0,0,0,0,0,0,0,0,0,0,0,0,0,0,0,0,0,0,0,0,0,0,0,0,0,0,0,0,0,0,{"$f":"IF(AL523=\"\",\"\",(AL523*AL385)+(AL521*AL368*AL376))","v":0},{"$f":"IF(AM523=\"\",\"\",(AM523*AM385)+(AM521*AM368*AM376))","v":0},{"$f":"IF(AN523=\"\",\"\",(AN523*AN385)+(AN521*AN368*AN376))","v":0},{"$f":"IF(AO523=\"\",\"\",(AO523*AO385)+(AO521*AO368*AO376))","v":0},{"$f":"IF(AP523=\"\",\"\",(AP523*AP385)+(AP521*AP368*AP376))","v":0},{"$f":"IF(AQ523=\"\",\"\",(AQ523*AQ385)+(AQ521*AQ368*AQ376))","v":0},0,0,0,0,0,0,0,0,0,0,0,0,0,0,0,0,0,0,0,0,0,0,0,0]
[null,334,"On-site power generation"]
[null,"334aa","     Conventional fossil fuels",null,"[t CO2/yr]",null,{"$f":"IF(COUNTBLANK(G562:G567)=6,\"\",SUM(G562:G567))","v":0},{"$f":"IF(COUNTBLANK(H562:H567)=6,\"\",SUM(H562:H567))","v":0},0,0,0,0,0,0,0,0,0,0,0,0,0,0,0,0,0,0,0,0,0,0,0,0,0,0,0,0,0,0,0,0,0,0,0,0,0,0,0,0,0,0,0,0,0,0,0,0,0,0,0,0,0,0,0,0,0,0,0]
[null,"334a",null,"coal + anthracite + lignite","[t CO2/yr]",null,{"$f":"IF(G526=\"\",\"\",G526*G$349)","v":0},{"$f":"IF(H526=\"\",\"\",H526*H$349)","v":0},0,0,0,0,0,0,0,0,0,0,0,0,0,0,0,0,0,0,0,0,0,0,0,0,0,0,0,0,0,0,0,0,0,0,0,0,0,0,0,0,0,0,0,0,0,0,0,0,0,0,0,0,0,0,0,0,0,0,0]
[null,"334b",null,"(ultra) heavy fuel","[t CO2/yr]",null,{"$f":"IF(G527=\"\",\"\",G527*G$351)","v":0},{"$f":"IF(H527=\"\",\"\",H527*H$351)","v":0},0,0,0,0,0,0,0,0,0,0,0,0,0,0,0,0,0,0,0,0,0,0,0,0,0,0,0,0,0,0,0,0,0,0,0,0,0,0,0,0,0,0,0,0,0,0,0,0,0,0,0,0,0,0,0,0,0,0,0]
[null,"334c",null,"diesel oil","[t CO2/yr]",null,{"$f":"IF(G528=\"\",\"\",G528*G$352)","v":0},{"$f":"IF(H528=\"\",\"\",H528*H$352)","v":0},0,0,0,0,0,0,0,0,0,0,0,0,0,0,0,0,0,0,0,0,0,0,0,0,0,0,0,0,0,0,0,0,0,0,0,0,0,0,0,0,0,0,0,0,0,0,0,0,0,0,0,0,0,0,0,0,0,0,0]
[null,"334d",null,"natural gas ","[t CO2/yr]",null,{"$f":"IF(G529=\"\",\"\",G529*G$353)","v":0},{"$f":"IF(H529=\"\",\"\",H529*H$353)","v":0},0,0,0,0,0,0,0,0,0,0,0,0,0,0,0,0,0,0,0,0,0,0,0,0,0,0,0,0,0,0,0,0,0,0,0,0,0,0,0,0,0,0,0,0,0,0,0,0,0,0,0,0,0,0,0,0,0,0,0]
[null,"334i",null,"petrol coke","[t CO2/yr]",null,{"$f":"IF(G530=\"\",\"\",G530*G$350)","v":0},{"$f":"IF(H530=\"\",\"\",H530*H$350)","v":0},0,0,0,0,0,0,0,0,0,0,0,0,0,0,0,0,0,0,0,0,0,0,0,0,0,0,0,0,0,0,0,0,0,0,0,0,0,0,0,0,0,0,0,0,0,0,0,0,0,0,0,0,0,0,0,0,0,0,0]
[null,"334j",null,"other fossil fuels","[t CO2/yr]",null,{"$f":"IF(G531=\"\",\"\",G531*G$359)","v":0},{"$f":"IF(H531=\"\",\"\",H531*H$359)","v":0},0,0,0,0,0,0,0,0,0,0,0,0,0,0,0,0,0,0,0,0,0,0,0,0,0,0,0,0,0,0,0,0,0,0,0,0,0,0,0,0,0,0,0,0,0,0,0,0,0,0,0,0,0,0,0,0,0,0,0]
[null,"334f","     Alternative fossil fuels - fossil total emissions",null,"[t CO2/yr]",null,{"$f":"G569","v":0},0,0,0,0,0,0,0,0,0,0,0,0,0,0,0,0,0,0,0,0,0,0,0,0,0,0,0,0,0,0,0,0,0,0,0,0,0,0,0,0,0,0,0,0,0,0,0,0,0,0,0,0,0,0,0,0,0,0,0,0]
[null,"334g",null,"other fossil based wastes / fossil content","[t CO2/yr]",null,{"$f":"IF(G533=\"\",\"\",G533*G$368*(1-G376))","v":0},0,0,0,0,0,0,0,0,0,0,0,0,0,0,0,0,0,0,0,0,0,0,0,0,0,0,0,0,0,0,{"$f":"IF(AL533=\"\",\"\",AL533*AL$368*(1-AL376))","v":0},{"$f":"IF(AM533=\"\",\"\",AM533*AM$368*(1-AM376))","v":0},{"$f":"IF(AN533=\"\",\"\",AN533*AN$368*(1-AN376))","v":0},{"$f":"IF(AO533=\"\",\"\",AO533*AO$368*(1-AO376))","v":0},{"$f":"IF(AP533=\"\",\"\",AP533*AP$368*(1-AP376))","v":0},{"$f":"IF(AQ533=\"\",\"\",AQ533*AQ$368*(1-AQ376))","v":0},0,0,0,0,0,0,0,0,0,0,0,0,0,0,0,0,0,0,0,0,0,0,0,0]
[null,"334h","     Alternative biomass fuels - biomass total emissions",null,"[t CO2/yr]",null,{"$f":"G571","v":0},0,0,0,0,0,0,0,0,0,0,0,0,0,0,0,0,0,0,0,0,0,0,0,0,0,0,0,0,0,0,0,0,0,0,0,0,0,0,0,0,0,0,0,0,0,0,0,0,0,0,0,0,0,0,0,0,0,0,0,0]
[null,"334e",null,"other biomass (incl. biomass content of mixed fuels)","[t CO2/yr]",null,{"$f":"IF(G535=\"\",\"\",(G535*G$385)+(G533*G368*G376))","v":0},0,0,0,0,0,0,0,0,0,0,0,0,0,0,0,0,0,0,0,0,0,0,0,0,0,0,0,0,0,0,{"$f":"IF(AL535=\"\",\"\",(AL535*AL$385)+(AL533*AL368*AL376))","v":0},{"$f":"IF(AM535=\"\",\"\",(AM535*AM$385)+(AM533*AM368*AM376))","v":0},{"$f":"IF(AN535=\"\",\"\",(AN535*AN$385)+(AN533*AN368*AN376))","v":0},{"$f":"IF(AO535=\"\",\"\",(AO535*AO$385)+(AO533*AO368*AO376))","v":0},{"$f":"IF(AP535=\"\",\"\",(AP535*AP$385)+(AP533*AP368*AP376))","v":0},{"$f":"IF(AQ535=\"\",\"\",(AQ535*AQ$385)+(AQ533*AQ368*AQ376))","v":0},0,0,0,0,0,0,0,0,0,0,0,0,0,0,0,0,0,0,0,0,0,0,0,0]

{"sheet":"Plant_new_Transfer","index":8,"n_rows":571,"n_cols":134,"rows_kept":571,"cut":false,"hidden":true,"merged":[[0,0,0,3],[0,4,0,15],[35,2,35,3],[31,2,31,3],[32,4,32,5],[194,1,194,5],[188,1,188,5],[171,1,171,5],[182,1,182,5],[179,1,179,5]]}
["GCCA (Global Cement and Concret Association)\nCement CO2 and Energy Protocol, Version 3.1, CO2 Emissions and Energy Inventory. \nDeveloped by the WBCSD Cement Sustainability Initiative (CSI) and European Cement Research Academy (ECRA).",null,null,null,null,null,null,null,null,null,null,null,null,null,null,null,null,null,null,null,null,null,null,null,null,null,null,null,null,null,null,null,null,null,null,null,null,null,null,null,null,null,null,null,null,null,null,null,null,null,null,null,null,null,null,null,null,null,null,null,null,null,null,null,null,null,null,null,null,null,null,null,null,"Paste here"]
[]
[null,"Date of latest update",null,null,{"$f":"'Read Me'!B4","v":"2013-12-09"}]
[]
["INFORMATION"]
[]
[null,"General Plant Information",null,null,null,null,1990,1991,1992,1993,1994,1995,1996,1997,1998,1999,2000,2001,2002,2003,2004,2005,2006,2007,2008,2009,2010,2011,2012,2013,2014,2015,2016,2017,2018,2019,2020,2021,2022,2023,2024,2025,2026,2027,2028,2029,2030,2031,2032,2033,2034,2035,2036,2037,2038,2039,2040,2041,2042,2043,2044,2045,2046,2047,2048,2049,2050,null,null,null,null,null,null,1990,1991,1992,1993,1994,1995,1996,1997,1998,1999,2000,2001,2002,2003,2004,2005,2006,2007,2008,2009,2010,2011,2012,2013,2014,2015,2016,2017,2018,2019,2020,2021,2022,2023,2024,2025,2026,2027,2028,2029,2030,2031,2032,2033,2034,2035,2036,2037,2038,2039,2040,2041,2042,2043,2044,2045,2046,2047,2048,2049,2050]
[null,1,"Plant",null,null,null,{"$f":"IF(BV8=\"\",\"\",BV8)","v":""},"","","","","","","","","",{"$f":"IF(CF8=\"\",\"\",CF8)","v":""},"","","","","","","","","",{"$f":"IF(CP8=\"\",\"\",CP8)","v":""},"","","","","","","","",{"$f":"IF(CY8=\"\",\"\",CY8)","v":""},{"$f":"IF(CZ8=\"\",\"\",CZ8)","v":""},{"$f":"IF(DA8=\"\",\"\",DA8)","v":""},{"$f":"IF(DB8=\"\",\"\",DB8)","v":""},{"$f":"IF(DC8=\"\",\"\",DC8)","v":""},{"$f":"IF(DD8=\"\",\"\",DD8)","v":""},{"$f":"IF(DE8=\"\",\"\",DE8)","v":""},{"$f":"IF(DF8=\"\",\"\",DF8)","v":""},{"$f":"IF(DG8=\"\",\"\",DG8)","v":""},{"$f":"IF(DH8=\"\",\"\",DH8)","v":""},{"$f":"IF(DI8=\"\",\"\",DI8)","v":""},{"$f":"IF(DJ8=\"\",\"\",DJ8)","v":""},{"$f":"IF(DK8=\"\",\"\",DK8)","v":""},{"$f":"IF(DL8=\"\",\"\",DL8)","v":""},{"$f":"IF(DM8=\"\",\"\",DM8)","v":""},{"$f":"IF(DN8=\"\",\"\",DN8)","v":""},{"$f":"IF(DO8=\"\",\"\",DO8)","v":""},{"$f":"IF(DP8=\"\",\"\",DP8)","v":""},{"$f":"IF(DQ8=\"\",\"\",DQ8)","v":""},{"$f":"IF(DR8=\"\",\"\",DR8)","v":""},{"$f":"IF(DS8=\"\",\"\",DS8)","v":""},{"$f":"IF(DT8=\"\",\"\",DT8)","v":""},{"$f":"IF(DU8=\"\",\"\",DU8)","v":""},{"$f":"IF(DV8=\"\",\"\",DV8)","v":""},{"$f":"IF(DW8=\"\",\"\",DW8)","v":""},{"$f":"IF(DX8=\"\",\"\",DX8)","v":""},{"$f":"IF(DY8=\"\",\"\",DY8)","v":""},{"$f":"IF(DZ8=\"\",\"\",DZ8)","v":""},{"$f":"IF(EA8=\"\",\"\",EA8)","v":""},{"$f":"IF(EB8=\"\",\"\",EB8)","v":""},{"$f":"IF(EC8=\"\",\"\",EC8)","v":""},{"$f":"IF(ED8=\"\",\"\",ED8)","v":""}]
[null,2,"Company",null,null,null,"","","","","","","","","","","","","","","","","","","","","","","","","","","","","","","","","","","","","","","","","","","","","","","","","","","","","","","","","","","","",""]
[null,3,"Country",null,null,null,"","","","","","","","","","","","","","","","","","","","","","","","","","","","","","","","","","","","","","","","","","","","","","","","","","","","","","","","","","","","",""]
[null,4,"Continent",null,null,null,"","","","","","","","","","","","","","","","","","","","","","","","","","","","","","","","","","","","","","","","","","","","","","","","","","","","","","","","","","","","",""]
[null,5,"\"Kyoto\" Region (Annex 1 or non-Annex 1)",null,null,null,"","","","","","","","","","","","","","","","","","","","","","","","","","","","","","","","","","","","","","","","","","","","","","","","","","","","","","","","","","","","",""]
[null,6,"Kiln types",null,null,null,"","","","","","","","","","","","","","","","","","","","","","","","","","","","","","","","","","","","","","","","","","","","","","","","","","","","","","","","","","","","",""]
[null,"6a","Nominal clinker capacity",null,"[t/d]",null,{"$f":"IF(BV14=\"\",\"\",BV14)","v":""},"","","","","","","","","",{"$f":"IF(CF14=\"\",\"\",CF14)","v":""},"","","","","","","","","",{"$f":"IF(CP14=\"\",\"\",CP14)","v":""},"","","",null,{"$f":"IF(CU14=\"\",\"\",CU14)","v":""},"","","","","","","","","","","","","","","","","","","","","","","","","","","","","","","","","","",""]
[null,"6b","Plant type",null,null,null,"","","","","","","","","","","","","","","","","","","","","","","","",{"$f":"IF(CT15=\"\",\"\",CT15)","v":""},"","","","","","","","","","","","","","","","","","","","","","","","","","","","","","","","","","","",""]
[null,7,"Shares owned by Company",null,"[%]",null,"","","","","","","","","","","","","","","","","","","","","","","","",{"$f":"IF(CT16=\"\",\"\",CT16)","v":""},"","","","","","","","","","","","","","","","","","","","","","","","","","","","","","","","","","","",""]
[null,"7aa","Third party verification",null,null,null,"","","","","","","","","","","","","","","","","","","","","","","","",{"$f":"IF(CT17=\"\",\"\",CT17)","v":""},"","","","","","","","","","","","","","","","","","","","","","","","","","","","","","","","","","","",""]
[null,"7ab","Used Cement CO2 and Energy Protocol version ",null,null,null,{"$f":"IF(BV18=\"\",\"V3.1\",BV18)","v":"V3.1"},"V3.1","V3.1","V3.1","V3.1","V3.1","V3.1","V3.1","V3.1","V3.1","V3.1","V3.1","V3.1","V3.1","V3.1","V3.1","V3.1","V3.1","V3.1","V3.1","V3.1","V3.1","V3.1","V3.1","V3.1","V3.1","V3.1","V3.1","V3.1",{"$f":"IF(CY18=\"\",\"V3.1\",CY18)","v":"V3.1"},{"$f":"IF(CZ18=\"\",\"V3.1\",CZ18)","v":"V3.1"},{"$f":"IF(DA18=\"\",\"V3.1\",DA18)","v":"V3.1"},{"$f":"IF(DB18=\"\",\"V3.1\",DB18)","v":"V3.1"},{"$f":"IF(DC18=\"\",\"V3.1\",DC18)","v":"V3.1"},{"$f":"IF(DD18=\"\",\"V3.1\",DD18)","v":"V3.1"},{"$f":"IF(DE18=\"\",\"V3.1\",DE18)","v":"V3.1"},{"$f":"IF(DF18=\"\",\"V3.1\",DF18)","v":"V3.1"},{"$f":"IF(DG18=\"\",\"V3.1\",DG18)","v":"V3.1"},{"$f":"IF(DH18=\"\",\"V3.1\",DH18)","v":"V3.1"},{"$f":"IF(DI18=\"\",\"V3.1\",DI18)","v":"V3.1"},{"$f":"IF(DJ18=\"\",\"V3.1\",DJ18)","v":"V3.1"},{"$f":"IF(DK18=\"\",\"V3.1\",DK18)","v":"V3.1"},{"$f":"IF(DL18=\"\",\"V3.1\",DL18)","v":"V3.1"},{"$f":"IF(DM18=\"\",\"V3.1\",DM18)","v":"V3.1"},{"$f":"IF(DN18=\"\",\"V3.1\",DN18)","v":"V3.1"},{"$f":"IF(DO18=\"\",\"V3.1\",DO18)","v":"V3.1"},{"$f":"IF(DP18=\"\",\"V3.1\",DP18)","v":"V3.1"},{"$f":"IF(DQ18=\"\",\"V3.1\",DQ18)","v":"V3.1"},{"$f":"IF(DR18=\"\",\"V3.1\",DR18)","v":"V3.1"},{"$f":"IF(DS18=\"\",\"V3.1\",DS18)","v":"V3.1"},{"$f":"IF(DT18=\"\",\"V3.1\",DT18)","v":"V3.1"},{"$f":"IF(DU18=\"\",\"V3.1\",DU18)","v":"V3.1"},{"$f":"IF(DV18=\"\",\"V3.1\",DV18)","v":"V3.1"},{"$f":"IF(DW18=\"\",\"V3.1\",DW18)","v":"V3.1"},{"$f":"IF(DX18=\"\",\"V3.1\",DX18)","v":"V3.1"},{"$f":"IF(DY18=\"\",\"V3.1\",DY18)","v":"V3.1"},{"$f":"IF(DZ18=\"\",\"V3.1\",DZ18)","v":"V3.1"},{"$f":"IF(EA18=\"\",\"V3.1\",EA18)","v":"V3.1"},{"$f":"IF(EB18=\"\",\"V3.1\",EB18)","v":"V3.1"},{"$f":"IF(EC18=\"\",\"V3.1\",EC18)","v":"V3.1"},{"$f":"IF(ED18=\"\",\"V3.1\",ED18)","v":"V3.1"}]
[null,"7ac","Short notes or user comment (max. 250 characters)",null,null,null,"Recalculation with protocol V3 (GNR data until 2010 according to V2)","Recalculation with protocol V3 (GNR data until 2010 according to V2)",null,null,null,null,null,null,null,null,"Recalculation with protocol V3 (GNR data until 2010 according to V2)",null,null,null,null,"Recalculation with protocol V3 (GNR data until 2010 according to V2)","Recalculation with protocol V3 (GNR data until 2010 according to V2)","Recalculation with protocol V3 (GNR data until 2010 according to V2)","Recalculation with protocol V3 (GNR data until 2010 according to V2)","Recalculation with protocol V3 (GNR data until 2010 according to V2)","Recalculation with protocol V3 (GNR data until 2010 according to V2)",{"$f":"IF(CQ19=\"\",\"\",CQ19)","v":""},"","","","","","","",{"$f":"IF(CY19=\"\",\"\",CY19)","v":""},{"$f":"IF(CZ19=\"\",\"\",CZ19)","v":""},{"$f":"IF(DA19=\"\",\"\",DA19)","v":""},{"$f":"IF(DB19=\"\",\"\",DB19)","v":""},{"$f":"IF(DC19=\"\",\"\",DC19)","v":""},{"$f":"IF(DD19=\"\",\"\",DD19)","v":""},{"$f":"IF(DE19=\"\",\"\",DE19)","v":""},{"$f":"IF(DF19=\"\",\"\",DF19)","v":""},{"$f":"IF(DG19=\"\",\"\",DG19)","v":""},{"$f":"IF(DH19=\"\",\"\",DH19)","v":""},{"$f":"IF(DI19=\"\",\"\",DI19)","v":""},{"$f":"IF(DJ19=\"\",\"\",DJ19)","v":""},{"$f":"IF(DK19=\"\",\"\",DK19)","v":""},{"$f":"IF(DL19=\"\",\"\",DL19)","v":""},{"$f":"IF(DM19=\"\",\"\",DM19)","v":""},{"$f":"IF(DN19=\"\",\"\",DN19)","v":""},{"$f":"IF(DO19=\"\",\"\",DO19)","v":""},{"$f":"IF(DP19=\"\",\"\",DP19)","v":""},{"$f":"IF(DQ19=\"\",\"\",DQ19)","v":""},{"$f":"IF(DR19=\"\",\"\",DR19)","v":""},{"$f":"IF(DS19=\"\",\"\",DS19)","v":""},{"$f":"IF(DT19=\"\",\"\",DT19)","v":""},{"$f":"IF(DU19=\"\",\"\",DU19)","v":""},{"$f":"IF(DV19=\"\",\"\",DV19)","v":""},{"$f":"IF(DW19=\"\",\"\",DW19)","v":""},{"$f":"IF(DX19=\"\",\"\",DX19)","v":""},{"$f":"IF(DY19=\"\",\"\",DY19)","v":""},{"$f":"IF(DZ19=\"\",\"\",DZ19)","v":""},{"$f":"IF(EA19=\"\",\"\",EA19)","v":""},{"$f":"IF(EB19=\"\",\"\",EB19)","v":""},{"$f":"IF(EC19=\"\",\"\",EC19)","v":""},{"$f":"IF(ED19=\"\",\"\",ED19)","v":""}]
[null,null,null,null,null,null,"."]
[null,"Inventory Boundaries: Coverage of Main Process Steps",null,null,"[yes, no or n.a.]",null,{"$f":"G$7","v":1990},1991,1992,1993,1994,1995,1996,1997,1998,1999,2000,2001,2002,2003,2004,2005,2006,2007,2008,2009,2010,2011,2012,2013,2014,2015,2016,2017,2018,2019,2020,2021,2022,2023,2024,2025,2026,2027,2028,2029,2030,2031,2032,2033,2034,2035,2036,2037,2038,2039,2040,2041,2042,2043,2044,2045,2046,2047,2048,2049,2050]
[null,"7a","Raw material supply (quarrying, mining, crushing)",null,"no",null,{"$f":"IF(BV22=\"\",\"\",BV22)","v":""},{"$f":"IF(BW22=\"\",\"\",BW22)","v":""},{"$f":"IF(BX22=\"\",\"\",BX22)","v":""},{"$f":"IF(BY22=\"\",\"\",BY22)","v":""},{"$f":"IF(BZ22=\"\",\"\",BZ22)","v":""},{"$f":"IF(CA22=\"\",\"\",CA22)","v":""},{"$f":"IF(CB22=\"\",\"\",CB22)","v":""},{"$f":"IF(CC22=\"\",\"\",CC22)","v":""},{"$f":"IF(CD22=\"\",\"\",CD22)","v":""},{"$f":"IF(CE22=\"\",\"\",CE22)","v":""},{"$f":"IF(CF22=\"\",\"\",CF22)","v":""},{"$f":"IF(CG22=\"\",\"\",CG22)","v":""},{"$f":"IF(CH22=\"\",\"\",CH22)","v":""},{"$f":"IF(CI22=\"\",\"\",CI22)","v":""},{"$f":"IF(CJ22=\"\",\"\",CJ22)","v":""},{"$f":"IF(CK22=\"\",\"\",CK22)","v":""},{"$f":"IF(CL22=\"\",\"\",CL22)","v":""},{"$f":"IF(CM22=\"\",\"\",CM22)","v":""},{"$f":"IF(CN22=\"\",\"\",CN22)","v":""},{"$f":"IF(CO22=\"\",\"\",CO22)","v":""},{"$f":"IF(CP22=\"\",\"\",CP22)","v":""},{"$f":"IF(CQ22=\"\",\"\",CQ22)","v":""},{"$f":"IF(CR22=\"\",\"\",CR22)","v":""},{"$f":"IF(CS22=\"\",\"\",CS22)","v":""},{"$f":"IF(CT22=\"\",\"\",CT22)","v":""},{"$f":"IF(CU22=\"\",\"\",CU22)","v":""},{"$f":"IF(CV22=\"\",\"\",CV22)","v":""},{"$f":"IF(CW22=\"\",\"\",CW22)","v":""},{"$f":"IF(CX22=\"\",\"\",CX22)","v":""},{"$f":"IF(CY22=\"\",\"\",CY22)","v":""},{"$f":"IF(CZ22=\"\",\"\",CZ22)","v":""},{"$f":"IF(DA22=\"\",\"\",DA22)","v":""},{"$f":"IF(DB22=\"\",\"\",DB22)","v":""},{"$f":"IF(DC22=\"\",\"\",DC22)","v":""},{"$f":"IF(DD22=\"\",\"\",DD22)","v":""},{"$f":"IF(DE22=\"\",\"\",DE22)","v":""},{"$f":"IF(DF22=\"\",\"\",DF22)","v":""},{"$f":"IF(DG22=\"\",\"\",DG22)","v":""},{"$f":"IF(DH22=\"\",\"\",DH22)","v":""},{"$f":"IF(DI22=\"\",\"\",DI22)","v":""},{"$f":"IF(DJ22=\"\",\"\",DJ22)","v":""},{"$f":"IF(DK22=\"\",\"\",DK22)","v":""},{"$f":"IF(DL22=\"\",\"\",DL22)","v":""},{"$f":"IF(DM22=\"\",\"\",DM22)","v":""},{"$f":"IF(DN22=\"\",\"\",DN22)","v":""},{"$f":"IF(DO22=\"\",\"\",DO22)","v":""},{"$f":"IF(DP22=\"\",\"\",DP22)","v":""},{"$f":"IF(DQ22=\"\",\"\",DQ22)","v":""},{"$f":"IF(DR22=\"\",\"\",DR22)","v":""},{"$f":"IF(DS22=\"\",\"\",DS22)","v":""},{"$f":"IF(DT22=\"\",\"\",DT22)","v":""},{"$f":"IF(DU22=\"\",\"\",DU22)","v":""},{"$f":"IF(DV22=\"\",\"\",DV22)","v":""},{"$f":"IF(DW22=\"\",\"\",DW22)","v":""},{"$f":"IF(DX22=\"\",\"\",DX22)","v":""},{"$f":"IF(DY22=\"\",\"\",DY22)","v":""},{"$f":"IF(DZ22=\"\",\"\",DZ22)","v":""},{"$f":"IF(EA22=\"\",\"\",EA22)","v":""},{"$f":"IF(EB22=\"\",\"\",EB22)","v":""},{"$f":"IF(EC22=\"\",\"\",EC22)","v":""},{"$f":"IF(ED22=\"\",\"\",ED22)","v":""}]
[null,"7b","Preparation of raw materials, fuels and additives",null,"no",null,"","","","","","","","","","","","","","","","","","","","","","","","","","","","","","","","","","","","","","","","","","","","","","","","","","","","","","","","","","","","",""]
[null,"7c","Kiln operation (pyro-processing)",null,"no",null,"","","","","","","","","","","","","","","","","","","","","","","","","","","","","","","","","","","","","","","","","","","","","","","","","","","","","","","","","","","","",""]
[null,"7d","Cement grinding, blending",null,"no",null,"","","","","","","","","","","","","","","","","","","","","","","","","","","","","","","","","","","","","","","","","","","","","","","","","","","","","","","","","","","","",""]
[null,"7e","On-site (internal) transport",null,"no",null,"","","","","","","","","","","","","","","","","","","","","","","","","","","","","","","","","","","","","","","","","","","","","","","","","","","","","","","","","","","","",""]
[null,"7f","Off-site transport with company-owned fleets",null,"no",null,"","","","","","","","","","","","","","","","","","","","","","","","","","","","","","","","","","","","","","","","","","","","","","","","","","","","","","","","","","","","",""]
[null,"7g","On-site power generation",null,"no",null,"","","","","","","","","","","","","","","","","","","","","","","","","","","","","","","","","","","","","","","","","","","","","","","","","","","","","","","","","","","","",""]
[null,"7h","Room heating and cooling",null,"no",null,"","","","","","","","","","","","","","","","","","","","","","","","","","","","","","","","","","","","","","","","","","","","","","","","","","","","","","","","","","","","",""]
[null,"7i","(add other processes as appropriate)",null,"no",null,"","","","","","","","","","","","","","","","","","","","","","","","","","","","","","","","","","","","","","","","","","","","","","","","","","","","","","","","","","","","",""]
[null,"7j","use of internal cement transfer for blending",null,"no",null,"","","","","","","","","","","","","","","","","","","","","","","","","","","","","","","","","","","","","","","","","","","","","","","","","","","","","","","","","","","","",""]
[null,"7k","Select year to copy and apply inventory boundaries (7a - 7j) "]
[]
[null,"7n","1.) Select calcination CO2 method (A1; A2; B1; B2)  B1=Standard (no seperate calcination sheet needed).",null,null,null,{"$f":"IF(BV34=\"\",\"\",BV34)","v":"B1"},"B1","B1","B1","B1","B1","B1","B1","B1","B1","B1","B1","B1","B1","B1","B1","B1","B1","B1","B1","B1","B1","B1","B1","B1","B1","B1","B1","B1",{"$f":"IF(CY34=\"\",\"\",CY34)","v":"B1"},{"$f":"IF(CZ34=\"\",\"\",CZ34)","v":"B1"},{"$f":"IF(DA34=\"\",\"\",DA34)","v":"B1"},{"$f":"IF(DB34=\"\",\"\",DB34)","v":"B1"},{"$f":"IF(DC34=\"\",\"\",DC34)","v":"B1"},{"$f":"IF(DD34=\"\",\"\",DD34)","v":"B1"},{"$f":"IF(DE34=\"\",\"\",DE34)","v":"B1"},{"$f":"IF(DF34=\"\",\"\",DF34)","v":"B1"},{"$f":"IF(DG34=\"\",\"\",DG34)","v":"B1"},{"$f":"IF(DH34=\"\",\"\",DH34)","v":"B1"},{"$f":"IF(DI34=\"\",\"\",DI34)","v":"B1"},{"$f":"IF(DJ34=\"\",\"\",DJ34)","v":"B1"},{"$f":"IF(DK34=\"\",\"\",DK34)","v":"B1"},{"$f":"IF(DL34=\"\",\"\",DL34)","v":"B1"},{"$f":"IF(DM34=\"\",\"\",DM34)","v":"B1"},{"$f":"IF(DN34=\"\",\"\",DN34)","v":"B1"},{"$f":"IF(DO34=\"\",\"\",DO34)","v":"B1"},{"$f":"IF(DP34=\"\",\"\",DP34)","v":"B1"},{"$f":"IF(DQ34=\"\",\"\",DQ34)","v":"B1"},{"$f":"IF(DR34=\"\",\"\",DR34)","v":"B1"},{"$f":"IF(DS34=\"\",\"\",DS34)","v":"B1"},{"$f":"IF(DT34=\"\",\"\",DT34)","v":"B1"},{"$f":"IF(DU34=\"\",\"\",DU34)","v":"B1"},{"$f":"IF(DV34=\"\",\"\",DV34)","v":"B1"},{"$f":"IF(DW34=\"\",\"\",DW34)","v":"B1"},{"$f":"IF(DX34=\"\",\"\",DX34)","v":"B1"},{"$f":"IF(DY34=\"\",\"\",DY34)","v":"B1"},{"$f":"IF(DZ34=\"\",\"\",DZ34)","v":"B1"},{"$f":"IF(EA34=\"\",\"\",EA34)","v":"B1"},{"$f":"IF(EB34=\"\",\"\",EB34)","v":"B1"},{"$f":"IF(EC34=\"\",\"\",EC34)","v":"B1"},{"$f":"IF(ED34=\"\",\"\",ED34)","v":"B1"},null,null,null,null,null,null,"B1","B1","B1","B1","B1","B1","B1","B1","B1","B1","B1","B1","B1","B1","B1","B1","B1","B1","B1","B1","B1","B1","B1","B1","B1","B1","B1","B1","B1","B1","B1","B1","B1","B1","B1","B1","B1","B1","B1","B1","B1","B1","B1","B1","B1","B1","B1","B1","B1","B1","B1","B1","B1","B1","B1","B1","B1","B1","B1","B1","B1"]
[null,null,"2.) For A1; A2; B2 check if appropriate calcination sheet (CalcA1; CalcA2 or CalcB2) is already availabe next to plant sheet."]
[null,null,"3.) If not, press the 'create' button one time in order to create one new calcination sheet."]
[]
[null,"Clinker and Cement Production",null,null,null,null,{"$f":"G$7","v":1990},1991,1992,1993,1994,1995,1996,1997,1998,1999,2000,2001,2002,2003,2004,2005,2006,2007,2008,2009,2010,2011,2012,2013,2014,2015,2016,2017,2018,2019,2020,2021,2022,2023,2024,2025,2026,2027,2028,2029,2030,2031,2032,2033,2034,2035,2036,2037,2038,2039,2040,2041,2042,2043,2044,2045,2046,2047,2048,2049,2050]
[null,null,"Clinker:"]
[null,{"$f":"B16+1","v":8},"Clinker production",null,"[t/yr]",null,{"$f":"IF(BV40=\"\",\"\",BV40)","v":""},"","","","","","","","","",{"$f":"IF(CF40=\"\",\"\",CF40)","v":""},"","","","","","","","","",{"$f":"IF(CP40=\"\",\"\",CP40)","v":""},"","","","","","","","",{"$f":"IF(CY40=\"\",\"\",CY40)","v":""},{"$f":"IF(CZ40=\"\",\"\",CZ40)","v":""},{"$f":"IF(DA40=\"\",\"\",DA40)","v":""},{"$f":"IF(DB40=\"\",\"\",DB40)","v":""},{"$f":"IF(DC40=\"\",\"\",DC40)","v":""},{"$f":"IF(DD40=\"\",\"\",DD40)","v":""},{"$f":"IF(DE40=\"\",\"\",DE40)","v":""},{"$f":"IF(DF40=\"\",\"\",DF40)","v":""},{"$f":"IF(DG40=\"\",\"\",DG40)","v":""},{"$f":"IF(DH40=\"\",\"\",DH40)","v":""},{"$f":"IF(DI40=\"\",\"\",DI40)","v":""},{"$f":"IF(DJ40=\"\",\"\",DJ40)","v":""},{"$f":"IF(DK40=\"\",\"\",DK40)","v":""},{"$f":"IF(DL40=\"\",\"\",DL40)","v":""},{"$f":"IF(DM40=\"\",\"\",DM40)","v":""},{"$f":"IF(DN40=\"\",\"\",DN40)","v":""},{"$f":"IF(DO40=\"\",\"\",DO40)","v":""},{"$f":"IF(DP40=\"\",\"\",DP40)","v":""},{"$f":"IF(DQ40=\"\",\"\",DQ40)","v":""},{"$f":"IF(DR40=\"\",\"\",DR40)","v":""},{"$f":"IF(DS40=\"\",\"\",DS40)","v":""},{"$f":"IF(DT40=\"\",\"\",DT40)","v":""},{"$f":"IF(DU40=\"\",\"\",DU40)","v":""},{"$f":"IF(DV40=\"\",\"\",DV40)","v":""},{"$f":"IF(DW40=\"\",\"\",DW40)","v":""},{"$f":"IF(DX40=\"\",\"\",DX40)","v":""},{"$f":"IF(DY40=\"\",\"\",DY40)","v":""},{"$f":"IF(DZ40=\"\",\"\",DZ40)","v":""},{"$f":"IF(EA40=\"\",\"\",EA40)","v":""},{"$f":"IF(EB40=\"\",\"\",EB40)","v":""},{"$f":"IF(EC40=\"\",\"\",EC40)","v":""},{"$f":"IF(ED40=\"\",\"\",ED40)","v":""}]
[null,{"$f":"B40+1","v":9},"Clinker bought from other companies and from cross-border transfer",null,"[t/yr]",null,"","","","","","","","","","","","","","","","","","","","","","","","","","","","","","","","","","","","","","","","","","","","","","","","","","","","","","","","","","","","",""]
[null,{"$f":"B41+1","v":10},"Clinker sold to other companies and from cross-border transfer",null,"[t/yr]",null,"","","","","","","","","","","","","","","","","","","","","","","","","","","","","","","","","","","","","","","","","","","","","","","","","","","","","","","","","","","","",""]
[null,"10a","Change in clinker stocks (+ = increase; - = reduction)",null,"[t/yr]",null,"","","","","","","","","","","","","","","","","","","","","","","","","","","","","","","","","","","","","","","","","","","","","","","","","","","","","","","","","","","","",""]
[null,"10b","Internal clinker transfer (+ = clinker received; - = clinker sent)",null,"[t/yr]",null,"","","","","","","","","","","","","","","","","","","","","","","","","","","","","","","","","","","","","","","","","","","","","","","","","","","","","","","","","","","","",""]
[null,"10c","Clinker from internal transfer of processed cement (+ = cement received; - = cement sent)",null,"[t/yr]",null,"","","","","","","","","","","","","","","","","","","","","","","","","","","","","","","","","","","","","","","","","","","","","","","","","","","","","","","","","","","","",""]
[null,{"$f":"B42+1","v":11},"Total clinker consumed",null,"[t/yr]",null,{"$f":"IF(COUNTBLANK(G40:G45)=6,\"\",G40+G41-G42-G43+G44+G45)","v":""},"","","","","","","","","","","","","","","","","","","","","","","","","","","","","","","","","","","","","","","","","","","","","","","","","","","","","","","","","","","",""]
[]
[null,null,"Mineral components (MIC) used to produce Portland and blended cements:"]
[null,{"$f":"B46+1","v":12},"Gypsum",null,"[t/yr, dry weight]",null,{"$f":"IF(BV49=\"\",\"\",BV49)","v":""},"","","","","","","","","",{"$f":"IF(CF49=\"\",\"\",CF49)","v":""},"","","","","","","","","",{"$f":"IF(CP49=\"\",\"\",CP49)","v":""},"","","","","","","","",{"$f":"IF(CY49=\"\",\"\",CY49)","v":""},{"$f":"IF(CZ49=\"\",\"\",CZ49)","v":""},{"$f":"IF(DA49=\"\",\"\",DA49)","v":""},{"$f":"IF(DB49=\"\",\"\",DB49)","v":""},{"$f":"IF(DC49=\"\",\"\",DC49)","v":""},{"$f":"IF(DD49=\"\",\"\",DD49)","v":""},{"$f":"IF(DE49=\"\",\"\",DE49)","v":""},{"$f":"IF(DF49=\"\",\"\",DF49)","v":""},{"$f":"IF(DG49=\"\",\"\",DG49)","v":""},{"$f":"IF(DH49=\"\",\"\",DH49)","v":""},{"$f":"IF(DI49=\"\",\"\",DI49)","v":""},{"$f":"IF(DJ49=\"\",\"\",DJ49)","v":""},{"$f":"IF(DK49=\"\",\"\",DK49)","v":""},{"$f":"IF(DL49=\"\",\"\",DL49)","v":""},{"$f":"IF(DM49=\"\",\"\",DM49)","v":""},{"$f":"IF(DN49=\"\",\"\",DN49)","v":""},{"$f":"IF(DO49=\"\",\"\",DO49)","v":""},{"$f":"IF(DP49=\"\",\"\",DP49)","v":""},{"$f":"IF(DQ49=\"\",\"\",DQ49)","v":""},{"$f":"IF(DR49=\"\",\"\",DR49)","v":""},{"$f":"IF(DS49=\"\",\"\",DS49)","v":""},{"$f":"IF(DT49=\"\",\"\",DT49)","v":""},{"$f":"IF(DU49=\"\",\"\",DU49)","v":""},{"$f":"IF(DV49=\"\",\"\",DV49)","v":""},{"$f":"IF(DW49=\"\",\"\",DW49)","v":""},{"$f":"IF(DX49=\"\",\"\",DX49)","v":""},{"$f":"IF(DY49=\"\",\"\",DY49)","v":""},{"$f":"IF(DZ49=\"\",\"\",DZ49)","v":""},{"$f":"IF(EA49=\"\",\"\",EA49)","v":""},{"$f":"IF(EB49=\"\",\"\",EB49)","v":""},{"$f":"IF(EC49=\"\",\"\",EC49)","v":""},{"$f":"IF(ED49=\"\",\"\",ED49)","v":""}]
[null,{"$f":"B49+1","v":13},"Limestone",null,"[t/yr, dry weight]",null,"","","","","","","","","","","","","","","","","","","","","","","","","","","","","","","","","","","","","","","","","","","","","","","","","","","","","","","","","","","","",""]
[null,{"$f":"B50+1","v":14},"Slag",null,"[t/yr, dry weight]",null,"","","","","","","","","","","","","","","","","","","","","","","","","","","","","","","","","","","","","","","","","","","","","","","","","","","","","","","","","","","","",""]
[null,{"$f":"B51+1","v":15},"Fly ash (for blending)",null,"[t/yr, dry weight]",null,"","","","","","","","","","","","","","","","","","","","","","","","","","","","","","","","","","","","","","","","","","","","","","","","","","","","","","","","","","","","",""]
[null,{"$f":"B52+1","v":16},"Puzzolana",null,"[t/yr, dry weight]",null,"","","","","","","","","","","","","","","","","","","","","","","","","","","","","","","","","","","","","","","","","","","","","","","","","","","","","","","","","","","","",""]
[null,{"$f":"B53+1","v":17},"Others (e.g., CKD added to cement mill)",null,"[t/yr, dry weight]",null,"","","","","","","","","","","","","","","","","","","","","","","","","","","","","","","","","","","","","","","","","","","","","","","","","","","","","","","","","","","","",""]
[null,"17a","MIC from internal transfer of processed cement (+ = cement received; - = cement sent)",null,"[t/yr, dry weight]",null,"","","","","","","","","","","","","","","","","","","","","","","","","","","","","","","","","","","","","","","","","","","","","","","","","","","","","","","","","","","","",""]
[null,{"$f":"B54+1","v":18},"Total MIC consumed for Portland and blended cements (dry weight)",null,"[t/yr, dry weight]",null,{"$f":"IF(COUNTBLANK(G49:G55)=7,\"\",SUM(G49:G55))","v":""},"","","","","","","","","","","","","","","","","","","","","","","","","","","","","","","","","","","","","","","","","","","","","","","","","","","","","","","","","","","",""]
[]
[null,null,"Processed mineral components (MIC) sold externally or transferred internally (dry weight):"]
[null,"19a","Processed slag sold externally",null,"[t/yr, dry weight]",null,{"$f":"IF(BV59=\"\",\"\",BV59)","v":""},"","","","","","","","","",{"$f":"IF(CF59=\"\",\"\",CF59)","v":""},"","","","","","","","","",{"$f":"IF(CP59=\"\",\"\",CP59)","v":""},"","","","","","","","",{"$f":"IF(CY59=\"\",\"\",CY59)","v":""},{"$f":"IF(CZ59=\"\",\"\",CZ59)","v":""},{"$f":"IF(DA59=\"\",\"\",DA59)","v":""},{"$f":"IF(DB59=\"\",\"\",DB59)","v":""},{"$f":"IF(DC59=\"\",\"\",DC59)","v":""},{"$f":"IF(DD59=\"\",\"\",DD59)","v":""},{"$f":"IF(DE59=\"\",\"\",DE59)","v":""},{"$f":"IF(DF59=\"\",\"\",DF59)","v":""},{"$f":"IF(DG59=\"\",\"\",DG59)","v":""},{"$f":"IF(DH59=\"\",\"\",DH59)","v":""},{"$f":"IF(DI59=\"\",\"\",DI59)","v":""},{"$f":"IF(DJ59=\"\",\"\",DJ59)","v":""},{"$f":"IF(DK59=\"\",\"\",DK59)","v":""},{"$f":"IF(DL59=\"\",\"\",DL59)","v":""},{"$f":"IF(DM59=\"\",\"\",DM59)","v":""},{"$f":"IF(DN59=\"\",\"\",DN59)","v":""},{"$f":"IF(DO59=\"\",\"\",DO59)","v":""},{"$f":"IF(DP59=\"\",\"\",DP59)","v":""},{"$f":"IF(DQ59=\"\",\"\",DQ59)","v":""},{"$f":"IF(DR59=\"\",\"\",DR59)","v":""},{"$f":"IF(DS59=\"\",\"\",DS59)","v":""},{"$f":"IF(DT59=\"\",\"\",DT59)","v":""},{"$f":"IF(DU59=\"\",\"\",DU59)","v":""},{"$f":"IF(DV59=\"\",\"\",DV59)","v":""},{"$f":"IF(DW59=\"\",\"\",DW59)","v":""},{"$f":"IF(DX59=\"\",\"\",DX59)","v":""},{"$f":"IF(DY59=\"\",\"\",DY59)","v":""},{"$f":"IF(DZ59=\"\",\"\",DZ59)","v":""},{"$f":"IF(EA59=\"\",\"\",EA59)","v":""},{"$f":"IF(EB59=\"\",\"\",EB59)","v":""},{"$f":"IF(EC59=\"\",\"\",EC59)","v":""},{"$f":"IF(ED59=\"\",\"\",ED59)","v":""}]
[null,"19b","Processed fly ash and other puzzolana sold externally",null,"[t/yr, dry weight]",null,"","","","","","","","","","","","","","","","","","","","","","","","","","","","","","","","","","","","","","","","","","","","","","","","","","","","","","","","","","","","",""]
[null,"19c","Total internal processed MIC transfer (+ = received; - = sent)",null,"[t/yr, dry weight]",null,"","","","","","","","","","","","","","","","","","","","","","","","","","","","","","","","","","","","","","","","","","","","","","","","","","","","","","","","","","","","",""]
[null,19,"Total processed MIC's used as clinker or cement substitute sold externally",null,"[t/yr, dry weight]",null,{"$f":"IF(COUNTBLANK(G59:G61)=3,\"\",SUM(G59:G61))","v":""},"","","","","","","","","","","","","","","","","","","","","","","","","","","","","","","","","","","","","","","","","","","","","","","","","","","","","","","","","","","",""]
[]
[null,null,"Production totals:"]
[null,{"$f":"B62+1","v":20},"Total Portland and Blended cements ",null,"[t/yr]",null,{"$f":"IF(OR(G46=\"\",G56=\"\"),\"\",G46+G56)","v":""},"","","","","","","","","","","","","","","","","","","","","","","","","","","","","","","","","","",{"$f":"IF(OR(AP46=\"\",AP56=\"\"),\"\",AP46+AP56)","v":""},"","","","","","","","","","","","","","","","","","","","","","","","",""]
[null,{"$f":"B65+1","v":21},"Total cements + substitutes: Portland, Blended, Slag, etc.",null,"[t/yr]",null,{"$f":"IF(OR(G46=\"\",G56=\"\",G62=\"\"),\"\",G46+G56+G62)","v":""},"","","","","","","","","","","","","","","","","","","","","","","","","","","","","","","","","","",{"$f":"IF(OR(AP46=\"\",AP56=\"\",AP62=\"\"),\"\",AP46+AP56+AP62)","v":""},"","","","","","","","","","","","","","","","","","","","","","","","",""]
[null,"21a","Total cementitious products",null,"[t/yr]",null,{"$f":"IF(OR(G40=\"\",G56=\"\",G62=\"\"),\"\",G40+G56+G62)","v":""},"","","","","","","","","","","","","","","","","","","","","","","","","","","","","","","","","","",{"$f":"IF(OR(AP40=\"\",AP56=\"\",AP62=\"\"),\"\",AP40+AP56+AP62)","v":""},"","","","","","","","","","","","","","","","","","","","","","","","",""]
[null,"21b","Total cement equivalent",null,"[t/yr]",null,{"$f":"IF(OR(G40=\"\",G40=0,G209=\"n. appl.\"),\"n. appl.\",G40/G209)","v":"n. appl."},{"$f":"IF(OR(H40=\"\",H40=0,H209=\"n. appl.\"),\"n. appl.\",H40/H209)","v":"n. appl."},"n. appl.","n. appl.","n. appl.","n. appl.","n. appl.","n. appl.","n. appl.","n. appl.","n. appl.","n. appl.","n. appl.","n. appl.","n. appl.","n. appl.","n. appl.","n. appl.","n. appl.","n. appl.","n. appl.","n. appl.","n. appl.","n. appl.","n. appl.","n. appl.","n. appl.","n. appl.","n. appl.","n. appl.","n. appl.","n. appl.","n. appl.","n. appl.","n. appl.",{"$f":"IF(OR(AP40=\"\",AP40=0,AP209=\"n. appl.\"),\"n. appl.\",AP40/AP209)","v":"n. appl."},"n. appl.","n. appl.","n. appl.","n. appl.","n. appl.","n. appl.","n. appl.","n. appl.","n. appl.","n. appl.","n. appl.","n. appl.","n. appl.","n. appl.","n. appl.","n. appl.","n. appl.","n. appl.","n. appl.","n. appl.","n. appl.","n. appl.","n. appl.","n. appl.","n. appl."]
[]
[null,"Dust Production (dry weight)",null,null,null,null,{"$f":"G$7","v":1990},1991,1992,1993,1994,1995,1996,1997,1998,1999,2000,2001,2002,2003,2004,2005,2006,2007,2008,2009,2010,2011,2012,2013,2014,2015,2016,2017,2018,2019,2020,2021,2022,2023,2024,2025,2026,2027,2028,2029,2030,2031,2032,2033,2034,2035,2036,2037,2038,2039,2040,2041,2042,2043,2044,2045,2046,2047,2048,2049,2050]
[null,22,"Bypass dust leaving kiln system",null,"[t/yr, dry weight]",null,{"$f":"IF(BV71=\"\",0,BV71)","v":0},0,0,0,0,0,0,0,0,0,{"$f":"IF(CF71=\"\",0,CF71)","v":0},0,0,0,0,0,0,0,0,0,{"$f":"IF(CP71=\"\",0,CP71)","v":0},0,0,0,0,0,0,0,0,{"$f":"IF(CY71=\"\",0,CY71)","v":0},{"$f":"IF(CZ71=\"\",0,CZ71)","v":0},{"$f":"IF(DA71=\"\",0,DA71)","v":0},{"$f":"IF(DB71=\"\",0,DB71)","v":0},{"$f":"IF(DC71=\"\",0,DC71)","v":0},{"$f":"IF(DD71=\"\",0,DD71)","v":0},{"$f":"IF(DE71=\"\",0,DE71)","v":0},{"$f":"IF(DF71=\"\",0,DF71)","v":0},{"$f":"IF(DG71=\"\",0,DG71)","v":0},{"$f":"IF(DH71=\"\",0,DH71)","v":0},{"$f":"IF(DI71=\"\",0,DI71)","v":0},{"$f":"IF(DJ71=\"\",0,DJ71)","v":0},{"$f":"IF(DK71=\"\",0,DK71)","v":0},{"$f":"IF(DL71=\"\",0,DL71)","v":0},{"$f":"IF(DM71=\"\",0,DM71)","v":0},{"$f":"IF(DN71=\"\",0,DN71)","v":0},{"$f":"IF(DO71=\"\",0,DO71)","v":0},{"$f":"IF(DP71=\"\",0,DP71)","v":0},{"$f":"IF(DQ71=\"\",0,DQ71)","v":0},{"$f":"IF(DR71=\"\",0,DR71)","v":0},{"$f":"IF(DS71=\"\",0,DS71)","v":0},{"$f":"IF(DT71=\"\",0,DT71)","v":0},{"$f":"IF(DU71=\"\",0,DU71)","v":0},{"$f":"IF(DV71=\"\",0,DV71)","v":0},{"$f":"IF(DW71=\"\",0,DW71)","v":0},{"$f":"IF(DX71=\"\",0,DX71)","v":0},{"$f":"IF(DY71=\"\",0,DY71)","v":0},{"$f":"IF(DZ71=\"\",0,DZ71)","v":0},{"$f":"IF(EA71=\"\",0,EA71)","v":0},{"$f":"IF(EB71=\"\",0,EB71)","v":0},{"$f":"IF(EC71=\"\",0,EC71)","v":0},{"$f":"IF(ED71=\"\",0,ED71)","v":0}]
[null,{"$f":"B71+1","v":23},"CKD leaving the kiln system",null,"[t/yr, dry weight]",null,0,0,0,0,0,0,0,0,0,0,0,0,0,0,0,0,0,0,0,0,0,0,0,0,0,0,0,0,0,0,0,0,0,0,0,0,0,0,0,0,0,0,0,0,0,0,0,0,0,0,0,0,0,0,0,0,0,0,0,0,0]
[null,{"$f":"B72+1","v":24},"CKD calcination rate d (Plant specific value or default 0%= dry kilns, 100%= for other kiln types)",null,"[%]",null,{"$f":"IF(BV73=\"\",0%,BV73)","v":0},0,0,0,0,0,0,0,0,0,0,0,0,0,0,0,0,0,0,0,0,0,0,0,0,0,0,0,0,{"$f":"IF(CY73=\"\",0%,CY73)","v":0},{"$f":"IF(CZ73=\"\",0%,CZ73)","v":0},{"$f":"IF(DA73=\"\",0%,DA73)","v":0},{"$f":"IF(DB73=\"\",0%,DB73)","v":0},{"$f":"IF(DC73=\"\",0%,DC73)","v":0},{"$f":"IF(DD73=\"\",0%,DD73)","v":0},{"$f":"IF(DE73=\"\",0%,DE73)","v":0},{"$f":"IF(DF73=\"\",0%,DF73)","v":0},{"$f":"IF(DG73=\"\",0%,DG73)","v":0},{"$f":"IF(DH73=\"\",0%,DH73)","v":0},{"$f":"IF(DI73=\"\",0%,DI73)","v":0},{"$f":"IF(DJ73=\"\",0%,DJ73)","v":0},{"$f":"IF(DK73=\"\",0%,DK73)","v":0},{"$f":"IF(DL73=\"\",0%,DL73)","v":0},{"$f":"IF(DM73=\"\",0%,DM73)","v":0},{"$f":"IF(DN73=\"\",0%,DN73)","v":0},{"$f":"IF(DO73=\"\",0%,DO73)","v":0},{"$f":"IF(DP73=\"\",0%,DP73)","v":0},{"$f":"IF(DQ73=\"\",0%,DQ73)","v":0},{"$f":"IF(DR73=\"\",0%,DR73)","v":0},{"$f":"IF(DS73=\"\",0%,DS73)","v":0},{"$f":"IF(DT73=\"\",0%,DT73)","v":0},{"$f":"IF(DU73=\"\",0%,DU73)","v":0},{"$f":"IF(DV73=\"\",0%,DV73)","v":0},{"$f":"IF(DW73=\"\",0%,DW73)","v":0},{"$f":"IF(DX73=\"\",0%,DX73)","v":0},{"$f":"IF(DY73=\"\",0%,DY73)","v":0},{"$f":"IF(DZ73=\"\",0%,DZ73)","v":0},{"$f":"IF(EA73=\"\",0%,EA73)","v":0},{"$f":"IF(EB73=\"\",0%,EB73)","v":0},{"$f":"IF(EC73=\"\",0%,EC73)","v":0},{"$f":"IF(ED73=\"\",0%,ED73)","v":0}]
[]
[null,"Kiln Fuel Consumption incl. raw material and fuel drying",null,null,null,null,{"$f":"G$7","v":1990},1991,1992,1993,1994,1995,1996,1997,1998,1999,2000,2001,2002,2003,2004,2005,2006,2007,2008,2009,2010,2011,2012,2013,2014,2015,2016,2017,2018,2019,2020,2021,2022,2023,2024,2025,2026,2027,2028,2029,2030,2031,2032,2033,2034,2035,2036,2037,2038,2039,2040,2041,2042,2043,2044,2045,2046,2047,2048,2049,2050]
[null,25,"Total heat consumption of kilns",null,"[TJ/yr]",null,{"$f":"IF(COUNTBLANK(G78:G80)=3,\"\",SUM(G78:G80))","v":0},0,0,0,0,0,0,0,0,0,0,0,0,0,0,0,0,0,0,0,0,0,0,0,0,0,0,0,0,0,0,0,0,0,0,{"$f":"IF(COUNTBLANK(AP78:AP80)=3,\"\",SUM(AP78:AP80))","v":0},0,0,0,0,0,0,0,0,0,0,0,0,0,0,0,0,0,0,0,0,0,0,0,0,0]
[null,"25a","Total heat consumption of kilns excluding drying of fuels and raw materials",null,"[TJ/yr]",null,{"$f":"IF(OR(G76=\"\",G335=\"\",G342=\"\",G344=\"\"),\"\",G76-G335-G342-G344)","v":0},0,0,0,0,0,0,0,0,0,0,0,0,0,0,0,0,0,0,0,0,0,0,0,0,0,0,0,0,0,0,0,0,0,0,{"$f":"IF(OR(AP76=\"\",AP335=\"\",AP342=\"\",AP344=\"\"),\"\",AP76-AP335-AP342-AP344)","v":0},0,0,0,0,0,0,0,0,0,0,0,0,0,0,0,0,0,0,0,0,0,0,0,0,0]
[null,{"$f":"B76+1","v":26},"Conventional fossil fuels",null,"[TJ/yr]",null,{"$f":"IF(OR(G308=\"\",G335=\"\"),\"\",G308+G335)","v":0},0,0,0,0,0,0,0,0,0,0,0,0,0,0,0,0,0,0,0,0,0,0,0,0,0,0,0,0,0,0,0,0,0,0,{"$f":"IF(OR(AP308=\"\",AP335=\"\"),\"\",AP308+AP335)","v":0},0,0,0,0,0,0,0,0,0,0,0,0,0,0,0,0,0,0,0,0,0,0,0,0,0]
[null,{"$f":"B78+1","v":27},"Alternative fuels, fossil content; excluding biomass fraction of mixed fuels",null,"[TJ/yr]",null,{"$f":"IF(OR(G316=\"\",G342=\"\"),\"\",G316+G342)","v":0},0,0,0,0,0,0,0,0,0,0,0,0,0,0,0,0,0,0,0,0,0,0,0,0,0,0,0,0,0,0,0,0,0,0,{"$f":"IF(OR(AP316=\"\",AP342=\"\"),\"\",AP316+AP342)","v":0},0,0,0,0,0,0,0,0,0,0,0,0,0,0,0,0,0,0,0,0,0,0,0,0,0]
[null,{"$f":"B79+1","v":28},"Biomass fuels, incl. biomass content of alternative fuels",null,"[TJ/yr]",null,{"$f":"IF(OR(G324=\"\",G344=\"\"),\"\",G324+G344)","v":0},0,0,0,0,0,0,0,0,0,0,0,0,0,0,0,0,0,0,0,0,0,0,0,0,0,0,0,0,0,0,0,0,0,0,{"$f":"IF(OR(AP324=\"\",AP344=\"\"),\"\",AP324+AP344)","v":0},0,0,0,0,0,0,0,0,0,0,0,0,0,0,0,0,0,0,0,0,0,0,0,0,0]
[]
[null,"Non-Kiln Fuel Consumption",null,null,null,null,{"$f":"G$7","v":1990},1991,1992,1993,1994,1995,1996,1997,1998,1999,2000,2001,2002,2003,2004,2005,2006,2007,2008,2009,2010,2011,2012,2013,2014,2015,2016,2017,2018,2019,2020,2021,2022,2023,2024,2025,2026,2027,2028,2029,2030,2031,2032,2033,2034,2035,2036,2037,2038,2039,2040,2041,2042,2043,2044,2045,2046,2047,2048,2049,2050]
[null,30,"Equipment and on-site vehicles",null,"[TJ/yr]",null,{"$f":"G502+G506","v":0},0,0,0,0,0,0,0,0,0,0,0,0,0,0,0,0,0,0,0,0,0,0,0,0,0,0,0,0,0,0,0,0,0,0,{"$f":"AP502+AP506","v":0},0,0,0,0,0,0,0,0,0,0,0,0,0,0,0,0,0,0,0,0,0,0,0,0,0]
[null,"31a","Room heating and cooling",null,"[TJ/yr]",null,{"$f":"G508","v":0},0,0,0,0,0,0,0,0,0,0,0,0,0,0,0,0,0,0,0,0,0,0,0,0,0,0,0,0,0,0,0,0,0,0,{"$f":"AP508","v":0},0,0,0,0,0,0,0,0,0,0,0,0,0,0,0,0,0,0,0,0,0,0,0,0,0]
[null,"31b","Drying of mineral components",null,"[TJ/yr]",null,{"$f":"IF(OR(G513=\"\",G520=\"\",G522=\"\"),\"\",G513+G520+G522)","v":0},0,0,0,0,0,0,0,0,0,0,0,0,0,0,0,0,0,0,0,0,0,0,0,0,0,0,0,0,0,0,0,0,0,0,{"$f":"IF(OR(AP513=\"\",AP520=\"\",AP522=\"\"),\"\",AP513+AP520+AP522)","v":0},0,0,0,0,0,0,0,0,0,0,0,0,0,0,0,0,0,0,0,0,0,0,0,0,0]
[null,"31c","On-site power generation",null,"[TJ/yr]",null,{"$f":"IF(OR(G525=\"\",G532=\"\",G534=\"\"),\"\",G525+G532+G534)","v":0},0,0,0,0,0,0,0,0,0,0,0,0,0,0,0,0,0,0,0,0,0,0,0,0,0,0,0,0,0,0,0,0,0,0,{"$f":"IF(OR(AP525=\"\",AP532=\"\",AP534=\"\"),\"\",AP525+AP532+AP534)","v":0},0,0,0,0,0,0,0,0,0,0,0,0,0,0,0,0,0,0,0,0,0,0,0,0,0]
[null,32,"Total non-kiln fuel consumption",null,"[TJ/yr]",null,{"$f":"IF(COUNTBLANK(G83:G86)=4,\"\",SUM(G83:G86))","v":0},0,0,0,0,0,0,0,0,0,0,0,0,0,0,0,0,0,0,0,0,0,0,0,0,0,0,0,0,0,0,0,0,0,0,{"$f":"IF(COUNTBLANK(AP83:AP86)=4,\"\",SUM(AP83:AP86))","v":0},0,0,0,0,0,0,0,0,0,0,0,0,0,0,0,0,0,0,0,0,0,0,0,0,0]
[]
[null,"Power Balance",null,null,null,null,{"$f":"G$7","v":1990},1991,1992,1993,1994,1995,1996,1997,1998,1999,2000,2001,2002,2003,2004,2005,2006,2007,2008,2009,2010,2011,2012,2013,2014,2015,2016,2017,2018,2019,2020,2021,2022,2023,2024,2025,2026,2027,2028,2029,2030,2031,2032,2033,2034,2035,2036,2037,2038,2039,2040,2041,2042,2043,2044,2045,2046,2047,2048,2049,2050]
[null,"33a","Total power production from separate on-site power generation",null,"[MWh/yr]",null,{"$f":"IF(BV90=\"\",0,BV90)","v":0},0,0,0,0,0,0,0,0,0,{"$f":"IF(CF90=\"\",0,CF90)","v":0},0,0,0,0,0,0,0,0,0,{"$f":"IF(CP90=\"\",0,CP90)","v":0},0,0,0,0,0,0,0,0,{"$f":"IF(CY90=\"\",0,CY90)","v":0},{"$f":"IF(CZ90=\"\",0,CZ90)","v":0},{"$f":"IF(DA90=\"\",0,DA90)","v":0},{"$f":"IF(DB90=\"\",0,DB90)","v":0},{"$f":"IF(DC90=\"\",0,DC90)","v":0},{"$f":"IF(DD90=\"\",0,DD90)","v":0},{"$f":"IF(DE90=\"\",0,DE90)","v":0},{"$f":"IF(DF90=\"\",0,DF90)","v":0},{"$f":"IF(DG90=\"\",0,DG90)","v":0},{"$f":"IF(DH90=\"\",0,DH90)","v":0},{"$f":"IF(DI90=\"\",0,DI90)","v":0},{"$f":"IF(DJ90=\"\",0,DJ90)","v":0},{"$f":"IF(DK90=\"\",0,DK90)","v":0},{"$f":"IF(DL90=\"\",0,DL90)","v":0},{"$f":"IF(DM90=\"\",0,DM90)","v":0},{"$f":"IF(DN90=\"\",0,DN90)","v":0},{"$f":"IF(DO90=\"\",0,DO90)","v":0},{"$f":"IF(DP90=\"\",0,DP90)","v":0},{"$f":"IF(DQ90=\"\",0,DQ90)","v":0},{"$f":"IF(DR90=\"\",0,DR90)","v":0},{"$f":"IF(DS90=\"\",0,DS90)","v":0},{"$f":"IF(DT90=\"\",0,DT90)","v":0},{"$f":"IF(DU90=\"\",0,DU90)","v":0},{"$f":"IF(DV90=\"\",0,DV90)","v":0},{"$f":"IF(DW90=\"\",0,DW90)","v":0},{"$f":"IF(DX90=\"\",0,DX90)","v":0},{"$f":"IF(DY90=\"\",0,DY90)","v":0},{"$f":"IF(DZ90=\"\",0,DZ90)","v":0},{"$f":"IF(EA90=\"\",0,EA90)","v":0},{"$f":"IF(EB90=\"\",0,EB90)","v":0},{"$f":"IF(EC90=\"\",0,EC90)","v":0},{"$f":"IF(ED90=\"\",0,ED90)","v":0}]
[null,"33aa","       Power delivered to cement plant",null,"[MWh/yr]",null,0,0,0,0,0,0,0,0,0,0,0,0,0,0,0,0,0,0,0,0,0,0,0,0,0,0,0,0,0,0,0,0,0,0,0,0,0,0,0,0,0,0,0,0,0,0,0,0,0,0,0,0,0,0,0,0,0,0,0,0,0]
[null,"33ab","       Power delivered externally",null,"[MWh/yr]",null,0,0,0,0,0,0,0,0,0,0,0,0,0,0,0,0,0,0,0,0,0,0,0,0,0,0,0,0,0,0,0,0,0,0,0,0,0,0,0,0,0,0,0,0,0,0,0,0,0,0,0,0,0,0,0,0,0,0,0,0,0]
[null,"33ac","       Power consumed by on-site power generation equipment",null,"[MWh/yr]",null,{"$f":"IF(OR(G90=\"\",G91=\"\",G92=\"\"),\"\",G90-G91-G92)","v":0},0,0,0,0,0,0,0,0,0,0,0,0,0,0,0,0,0,0,0,0,0,0,0,0,0,0,0,0,0,0,0,0,0,0,{"$f":"IF(OR(AP90=\"\",AP91=\"\",AP92=\"\"),\"\",AP90-AP91-AP92)","v":0},0,0,0,0,0,0,0,0,0,0,0,0,0,0,0,0,0,0,0,0,0,0,0,0,0]
[null,"33ad","       CO2 per power unit produced by separate on-site power generation",null,"[kg CO2/MWh]",null,{"$f":"IF(G90=0,\"\",G155/G90*1000)","v":""},"","","","","","","","","","","","","","","","","","","","","","","","","","","","","","","","","","",{"$f":"IF(AP90=0,\"\",AP155/AP90*1000)","v":""},"","","","","","","","","","","","","","","","","","","","","","","","",""]
[null,"33b","Total power production from waste heat recovery",null,"[MWh/yr]",null,{"$f":"IF(BV95=\"\",0,BV95)","v":0},0,0,0,0,0,0,0,0,0,{"$f":"IF(CF95=\"\",0,CF95)","v":0},0,0,0,0,0,0,0,0,0,{"$f":"IF(CP95=\"\",0,CP95)","v":0},0,0,0,0,0,0,0,0,{"$f":"IF(CY95=\"\",0,CY95)","v":0},{"$f":"IF(CZ95=\"\",0,CZ95)","v":0},{"$f":"IF(DA95=\"\",0,DA95)","v":0},{"$f":"IF(DB95=\"\",0,DB95)","v":0},{"$f":"IF(DC95=\"\",0,DC95)","v":0},{"$f":"IF(DD95=\"\",0,DD95)","v":0},{"$f":"IF(DE95=\"\",0,DE95)","v":0},{"$f":"IF(DF95=\"\",0,DF95)","v":0},{"$f":"IF(DG95=\"\",0,DG95)","v":0},{"$f":"IF(DH95=\"\",0,DH95)","v":0},{"$f":"IF(DI95=\"\",0,DI95)","v":0},{"$f":"IF(DJ95=\"\",0,DJ95)","v":0},{"$f":"IF(DK95=\"\",0,DK95)","v":0},{"$f":"IF(DL95=\"\",0,DL95)","v":0},{"$f":"IF(DM95=\"\",0,DM95)","v":0},{"$f":"IF(DN95=\"\",0,DN95)","v":0},{"$f":"IF(DO95=\"\",0,DO95)","v":0},{"$f":"IF(DP95=\"\",0,DP95)","v":0},{"$f":"IF(DQ95=\"\",0,DQ95)","v":0},{"$f":"IF(DR95=\"\",0,DR95)","v":0},{"$f":"IF(DS95=\"\",0,DS95)","v":0},{"$f":"IF(DT95=\"\",0,DT95)","v":0},{"$f":"IF(DU95=\"\",0,DU95)","v":0},{"$f":"IF(DV95=\"\",0,DV95)","v":0},{"$f":"IF(DW95=\"\",0,DW95)","v":0},{"$f":"IF(DX95=\"\",0,DX95)","v":0},{"$f":"IF(DY95=\"\",0,DY95)","v":0},{"$f":"IF(DZ95=\"\",0,DZ95)","v":0},{"$f":"IF(EA95=\"\",0,EA95)","v":0},{"$f":"IF(EB95=\"\",0,EB95)","v":0},{"$f":"IF(EC95=\"\",0,EC95)","v":0},{"$f":"IF(ED95=\"\",0,ED95)","v":0}]
[null,"33ba","       Power delivered to cement plant",null,"[MWh/yr]",null,0,0,0,0,0,0,0,0,0,0,0,0,0,0,0,0,0,0,0,0,0,0,0,0,0,0,0,0,0,0,0,0,0,0,0,0,0,0,0,0,0,0,0,0,0,0,0,0,0,0,0,0,0,0,0,0,0,0,0,0,0]
[null,"33bb","       Power delivered externally",null,"[MWh/yr]",null,0,0,0,0,0,0,0,0,0,0,0,0,0,0,0,0,0,0,0,0,0,0,0,0,0,0,0,0,0,0,0,0,0,0,0,0,0,0,0,0,0,0,0,0,0,0,0,0,0,0,0,0,0,0,0,0,0,0,0,0,0]
[null,"33bc","       Power consumed by waste heat recovery equipment",null,"[MWh/yr]",null,{"$f":"IF(OR(G95=\"\",G96=\"\",G97=\"\"),\"\",G95-G96-G97)","v":0},0,0,0,0,0,0,0,0,0,0,0,0,0,0,0,0,0,0,0,0,0,0,0,0,0,0,0,0,0,0,0,0,0,0,{"$f":"IF(OR(AP95=\"\",AP96=\"\",AP97=\"\"),\"\",AP95-AP96-AP97)","v":0},0,0,0,0,0,0,0,0,0,0,0,0,0,0,0,0,0,0,0,0,0,0,0,0,0]
[null,"33c","Total external power consumption for cement manufacturing",null,"[MWh/yr]",null,{"$f":"IF(COUNTBLANK(G100:G102)=3,\"\",SUM(G100:G102))","v":0},0,0,0,0,0,0,0,0,0,0,0,0,0,0,0,0,0,0,0,0,0,0,0,0,0,0,0,0,0,0,0,0,0,0,{"$f":"IF(COUNTBLANK(AP100:AP102)=3,\"\",SUM(AP100:AP102))","v":0},0,0,0,0,0,0,0,0,0,0,0,0,0,0,0,0,0,0,0,0,0,0,0,0,0]
[null,"33ca","      External power delivered to cement plant",null,"[MWh/yr]",null,{"$f":"IF(BV100=\"\",\"\",BV100)","v":""},"","","","","","","","","","","","","","","","","","","","","","","","","","","","",{"$f":"IF(CY100=\"\",\"\",CY100)","v":""},{"$f":"IF(CZ100=\"\",\"\",CZ100)","v":""},{"$f":"IF(DA100=\"\",\"\",DA100)","v":""},{"$f":"IF(DB100=\"\",\"\",DB100)","v":""},{"$f":"IF(DC100=\"\",\"\",DC100)","v":""},{"$f":"IF(DD100=\"\",\"\",DD100)","v":""},{"$f":"IF(DE100=\"\",\"\",DE100)","v":""},{"$f":"IF(DF100=\"\",\"\",DF100)","v":""},{"$f":"IF(DG100=\"\",\"\",DG100)","v":""},{"$f":"IF(DH100=\"\",\"\",DH100)","v":""},{"$f":"IF(DI100=\"\",\"\",DI100)","v":""},{"$f":"IF(DJ100=\"\",\"\",DJ100)","v":""},{"$f":"IF(DK100=\"\",\"\",DK100)","v":""},{"$f":"IF(DL100=\"\",\"\",DL100)","v":""},{"$f":"IF(DM100=\"\",\"\",DM100)","v":""},{"$f":"IF(DN100=\"\",\"\",DN100)","v":""},{"$f":"IF(DO100=\"\",\"\",DO100)","v":""},{"$f":"IF(DP100=\"\",\"\",DP100)","v":""},{"$f":"IF(DQ100=\"\",\"\",DQ100)","v":""},{"$f":"IF(DR100=\"\",\"\",DR100)","v":""},{"$f":"IF(DS100=\"\",\"\",DS100)","v":""},{"$f":"IF(DT100=\"\",\"\",DT100)","v":""},{"$f":"IF(DU100=\"\",\"\",DU100)","v":""},{"$f":"IF(DV100=\"\",\"\",DV100)","v":""},{"$f":"IF(DW100=\"\",\"\",DW100)","v":""},{"$f":"IF(DX100=\"\",\"\",DX100)","v":""},{"$f":"IF(DY100=\"\",\"\",DY100)","v":""},{"$f":"IF(DZ100=\"\",\"\",DZ100)","v":""},{"$f":"IF(EA100=\"\",\"\",EA100)","v":""},{"$f":"IF(EB100=\"\",\"\",EB100)","v":""},{"$f":"IF(EC100=\"\",\"\",EC100)","v":""},{"$f":"IF(ED100=\"\",\"\",ED100)","v":""}]
[null,"33cb","      Cement-related external power delivered to on-site power generation plant",null,"[MWh/yr]",null,{"$f":"IF(BV101=\"\",0,BV101)","v":0},0,0,0,0,0,0,0,0,0,{"$f":"IF(CF101=\"\",0,CF101)","v":0},0,0,0,0,0,0,0,0,0,{"$f":"IF(CP101=\"\",0,CP101)","v":0},0,0,0,0,0,0,0,0,{"$f":"IF(CY101=\"\",0,CY101)","v":0},{"$f":"IF(CZ101=\"\",0,CZ101)","v":0},{"$f":"IF(DA101=\"\",0,DA101)","v":0},{"$f":"IF(DB101=\"\",0,DB101)","v":0},{"$f":"IF(DC101=\"\",0,DC101)","v":0},{"$f":"IF(DD101=\"\",0,DD101)","v":0},{"$f":"IF(DE101=\"\",0,DE101)","v":0},{"$f":"IF(DF101=\"\",0,DF101)","v":0},{"$f":"IF(DG101=\"\",0,DG101)","v":0},{"$f":"IF(DH101=\"\",0,DH101)","v":0},{"$f":"IF(DI101=\"\",0,DI101)","v":0},{"$f":"IF(DJ101=\"\",0,DJ101)","v":0},{"$f":"IF(DK101=\"\",0,DK101)","v":0},{"$f":"IF(DL101=\"\",0,DL101)","v":0},{"$f":"IF(DM101=\"\",0,DM101)","v":0},{"$f":"IF(DN101=\"\",0,DN101)","v":0},{"$f":"IF(DO101=\"\",0,DO101)","v":0},{"$f":"IF(DP101=\"\",0,DP101)","v":0},{"$f":"IF(DQ101=\"\",0,DQ101)","v":0},{"$f":"IF(DR101=\"\",0,DR101)","v":0},{"$f":"IF(DS101=\"\",0,DS101)","v":0},{"$f":"IF(DT101=\"\",0,DT101)","v":0},{"$f":"IF(DU101=\"\",0,DU101)","v":0},{"$f":"IF(DV101=\"\",0,DV101)","v":0},{"$f":"IF(DW101=\"\",0,DW101)","v":0},{"$f":"IF(DX101=\"\",0,DX101)","v":0},{"$f":"IF(DY101=\"\",0,DY101)","v":0},{"$f":"IF(DZ101=\"\",0,DZ101)","v":0},{"$f":"IF(EA101=\"\",0,EA101)","v":0},{"$f":"IF(EB101=\"\",0,EB101)","v":0},{"$f":"IF(EC101=\"\",0,EC101)","v":0},{"$f":"IF(ED101=\"\",0,ED101)","v":0}]
[null,"33cc","      Cement-related external power delivered to waste heat recovery plant",null,"[MWh/yr]",null,0,0,0,0,0,0,0,0,0,0,0,0,0,0,0,0,0,0,0,0,0,0,0,0,0,0,0,0,0,0,0,0,0,0,0,0,0,0,0,0,0,0,0,0,0,0,0,0,0,0,0,0,0,0,0,0,0,0,0,0,0]
[null,"33d","      CO2 per power unit produced externally",null,"[kg CO2/MWh]",null,{"$f":"IF(BV103=\"\",\"\",BV103)","v":""},"","","","","","","","","",{"$f":"IF(CF103=\"\",\"\",CF103)","v":""},"","","","","","","","","",{"$f":"IF(CP103=\"\",\"\",CP103)","v":""},"","","","","","","","",{"$f":"IF(CY103=\"\",\"\",CY103)","v":""},{"$f":"IF(CZ103=\"\",\"\",CZ103)","v":""},{"$f":"IF(DA103=\"\",\"\",DA103)","v":""},{"$f":"IF(DB103=\"\",\"\",DB103)","v":""},{"$f":"IF(DC103=\"\",\"\",DC103)","v":""},{"$f":"IF(DD103=\"\",\"\",DD103)","v":""},{"$f":"IF(DE103=\"\",\"\",DE103)","v":""},{"$f":"IF(DF103=\"\",\"\",DF103)","v":""},{"$f":"IF(DG103=\"\",\"\",DG103)","v":""},{"$f":"IF(DH103=\"\",\"\",DH103)","v":""},{"$f":"IF(DI103=\"\",\"\",DI103)","v":""},{"$f":"IF(DJ103=\"\",\"\",DJ103)","v":""},{"$f":"IF(DK103=\"\",\"\",DK103)","v":""},{"$f":"IF(DL103=\"\",\"\",DL103)","v":""},{"$f":"IF(DM103=\"\",\"\",DM103)","v":""},{"$f":"IF(DN103=\"\",\"\",DN103)","v":""},{"$f":"IF(DO103=\"\",\"\",DO103)","v":""},{"$f":"IF(DP103=\"\",\"\",DP103)","v":""},{"$f":"IF(DQ103=\"\",\"\",DQ103)","v":""},{"$f":"IF(DR103=\"\",\"\",DR103)","v":""},{"$f":"IF(DS103=\"\",\"\",DS103)","v":""},{"$f":"IF(DT103=\"\",\"\",DT103)","v":""},{"$f":"IF(DU103=\"\",\"\",DU103)","v":""},{"$f":"IF(DV103=\"\",\"\",DV103)","v":""},{"$f":"IF(DW103=\"\",\"\",DW103)","v":""},{"$f":"IF(DX103=\"\",\"\",DX103)","v":""},{"$f":"IF(DY103=\"\",\"\",DY103)","v":""},{"$f":"IF(DZ103=\"\",\"\",DZ103)","v":""},{"$f":"IF(EA103=\"\",\"\",EA103)","v":""},{"$f":"IF(EB103=\"\",\"\",EB103)","v":""},{"$f":"IF(EC103=\"\",\"\",EC103)","v":""},{"$f":"IF(ED103=\"\",\"\",ED103)","v":""}]
[null,"33e","Power consumption up to and including clinker production",null,"[MWh/yr]",null,"","","","","","","","","","","","","","","","","","","","","","","","","","","","","","","","","","","","","","","","","","","","","","","","","","","","","","","","","","","","",""]
[null,33,"Total cement plant power consumption",null,"[MWh/yr]",null,{"$f":"IF(AND(G91=0,G96=0,G100=\"\"),\"\",G91+G96+G100)","v":""},"","","","","","","","","","","","","","","","","","","","","","","","","","","","","","","","","","","","","","","","","","","","","","","","","","","","","","","","","","","",""]
[]
[null,"Waste Heat Use",null,null,null,null,{"$f":"G$7","v":1990},1991,1992,1993,1994,1995,1996,1997,1998,1999,2000,2001,2002,2003,2004,2005,2006,2007,2008,2009,2010,2011,2012,2013,2014,2015,2016,2017,2018,2019,2020,2021,2022,2023,2024,2025,2026,2027,2028,2029,2030,2031,2032,2033,2034,2035,2036,2037,2038,2039,2040,2041,2042,2043,2044,2045,2046,2047,2048,2049,2050]
[null,34,"Waste heat supplied to external consumers",null,"[GJ/yr]",null,{"$f":"IF(BV108=\"\",0,BV108)","v":0},0,0,0,0,0,0,0,0,0,0,0,0,0,0,0,0,0,0,0,0,0,0,0,0,0,0,0,0,{"$f":"IF(CY108=\"\",0,CY108)","v":0},{"$f":"IF(CZ108=\"\",0,CZ108)","v":0},{"$f":"IF(DA108=\"\",0,DA108)","v":0},{"$f":"IF(DB108=\"\",0,DB108)","v":0},{"$f":"IF(DC108=\"\",0,DC108)","v":0},{"$f":"IF(DD108=\"\",0,DD108)","v":0},{"$f":"IF(DE108=\"\",0,DE108)","v":0},{"$f":"IF(DF108=\"\",0,DF108)","v":0},{"$f":"IF(DG108=\"\",0,DG108)","v":0},{"$f":"IF(DH108=\"\",0,DH108)","v":0},{"$f":"IF(DI108=\"\",0,DI108)","v":0},{"$f":"IF(DJ108=\"\",0,DJ108)","v":0},{"$f":"IF(DK108=\"\",0,DK108)","v":0},{"$f":"IF(DL108=\"\",0,DL108)","v":0},{"$f":"IF(DM108=\"\",0,DM108)","v":0},{"$f":"IF(DN108=\"\",0,DN108)","v":0},{"$f":"IF(DO108=\"\",0,DO108)","v":0},{"$f":"IF(DP108=\"\",0,DP108)","v":0},{"$f":"IF(DQ108=\"\",0,DQ108)","v":0},{"$f":"IF(DR108=\"\",0,DR108)","v":0},{"$f":"IF(DS108=\"\",0,DS108)","v":0},{"$f":"IF(DT108=\"\",0,DT108)","v":0},{"$f":"IF(DU108=\"\",0,DU108)","v":0},{"$f":"IF(DV108=\"\",0,DV108)","v":0},{"$f":"IF(DW108=\"\",0,DW108)","v":0},{"$f":"IF(DX108=\"\",0,DX108)","v":0},{"$f":"IF(DY108=\"\",0,DY108)","v":0},{"$f":"IF(DZ108=\"\",0,DZ108)","v":0},{"$f":"IF(EA108=\"\",0,EA108)","v":0},{"$f":"IF(EB108=\"\",0,EB108)","v":0},{"$f":"IF(EC108=\"\",0,EC108)","v":0},{"$f":"IF(ED108=\"\",0,ED108)","v":0}]
[null,"34a","Waste heat used internally (incl. power generation)",null,"[GJ/yr]",null,{"$f":"IF(BV109=\"\",\"\",BV109)","v":""},"","","","","","","","","","","","","","","","","","","","","","","","","","","","",{"$f":"IF(CY109=\"\",\"\",CY109)","v":""},{"$f":"IF(CZ109=\"\",\"\",CZ109)","v":""},{"$f":"IF(DA109=\"\",\"\",DA109)","v":""},{"$f":"IF(DB109=\"\",\"\",DB109)","v":""},{"$f":"IF(DC109=\"\",\"\",DC109)","v":""},{"$f":"IF(DD109=\"\",\"\",DD109)","v":""},{"$f":"IF(DE109=\"\",\"\",DE109)","v":""},{"$f":"IF(DF109=\"\",\"\",DF109)","v":""},{"$f":"IF(DG109=\"\",\"\",DG109)","v":""},{"$f":"IF(DH109=\"\",\"\",DH109)","v":""},{"$f":"IF(DI109=\"\",\"\",DI109)","v":""},{"$f":"IF(DJ109=\"\",\"\",DJ109)","v":""},{"$f":"IF(DK109=\"\",\"\",DK109)","v":""},{"$f":"IF(DL109=\"\",\"\",DL109)","v":""},{"$f":"IF(DM109=\"\",\"\",DM109)","v":""},{"$f":"IF(DN109=\"\",\"\",DN109)","v":""},{"$f":"IF(DO109=\"\",\"\",DO109)","v":""},{"$f":"IF(DP109=\"\",\"\",DP109)","v":""},{"$f":"IF(DQ109=\"\",\"\",DQ109)","v":""},{"$f":"IF(DR109=\"\",\"\",DR109)","v":""},{"$f":"IF(DS109=\"\",\"\",DS109)","v":""},{"$f":"IF(DT109=\"\",\"\",DT109)","v":""},{"$f":"IF(DU109=\"\",\"\",DU109)","v":""},{"$f":"IF(DV109=\"\",\"\",DV109)","v":""},{"$f":"IF(DW109=\"\",\"\",DW109)","v":""},{"$f":"IF(DX109=\"\",\"\",DX109)","v":""},{"$f":"IF(DY109=\"\",\"\",DY109)","v":""},{"$f":"IF(DZ109=\"\",\"\",DZ109)","v":""},{"$f":"IF(EA109=\"\",\"\",EA109)","v":""},{"$f":"IF(EB109=\"\",\"\",EB109)","v":""},{"$f":"IF(EC109=\"\",\"\",EC109)","v":""},{"$f":"IF(ED109=\"\",\"\",ED109)","v":""}]
[]
["CO2 EMISSIONS "]
[]
[null,"Calculation method in calcination sheet",null,null,null,null,{"$f":"G$7","v":1990},1991,1992,1993,1994,1995,1996,1997,1998,1999,2000,2001,2002,2003,2004,2005,2006,2007,2008,2009,2010,2011,2012,2013,2014,2015,2016,2017,2018,2019,2020,2021,2022,2023,2024,2025,2026,2027,2028,2029,2030,2031,2032,2033,2034,2035,2036,2037,2038,2039,2040,2041,2042,2043,2044,2045,2046,2047,2048,2049,2050]
[null,"34d","Calculation method in calcination sheet",null,"A1; A2; B1; B2",null,{"$f":"IF(G34=\"\",\"\",G34)","v":"B1"},"B1","B1","B1","B1","B1","B1","B1","B1","B1","B1","B1","B1","B1","B1","B1","B1","B1","B1","B1","B1","B1","B1","B1","B1","B1","B1","B1","B1","B1","B1","B1","B1","B1","B1","B1","B1","B1","B1","B1","B1","B1","B1","B1","B1","B1","B1","B1","B1","B1","B1","B1","B1","B1","B1","B1","B1","B1","B1","B1","B1"]
[]
[null,"Data for Simple Input Method (A1)",null,null,null,null,{"$f":"G$7","v":1990},1991,1992,1993,1994,1995,1996,1997,1998,1999,2000,2001,2002,2003,2004,2005,2006,2007,2008,2009,2010,2011,2012,2013,2014,2015,2016,2017,2018,2019,2020,2021,2022,2023,2024,2025,2026,2027,2028,2029,2030,2031,2032,2033,2034,2035,2036,2037,2038,2039,2040,2041,2042,2043,2044,2045,2046,2047,2048,2049,2050]
[null,"34e","Input CalcA1: Raw meal consumption (Line 525)",null,"[t/yr, dry weight]",null,{"$f":"IF(BV117=\"\",\"\",BV117)","v":""},"","","","","","","","","",{"$f":"IF(CF117=\"\",\"\",CF117)","v":""},"","","","","","","","","",{"$f":"IF(CP117=\"\",\"\",CP117)","v":""},"","","","","","","","",{"$f":"IF(CY117=\"\",\"\",CY117)","v":""},{"$f":"IF(CZ117=\"\",\"\",CZ117)","v":""},{"$f":"IF(DA117=\"\",\"\",DA117)","v":""},{"$f":"IF(DB117=\"\",\"\",DB117)","v":""},{"$f":"IF(DC117=\"\",\"\",DC117)","v":""},{"$f":"IF(DD117=\"\",\"\",DD117)","v":""},{"$f":"IF(DE117=\"\",\"\",DE117)","v":""},{"$f":"IF(DF117=\"\",\"\",DF117)","v":""},{"$f":"IF(DG117=\"\",\"\",DG117)","v":""},{"$f":"IF(DH117=\"\",\"\",DH117)","v":""},{"$f":"IF(DI117=\"\",\"\",DI117)","v":""},{"$f":"IF(DJ117=\"\",\"\",DJ117)","v":""},{"$f":"IF(DK117=\"\",\"\",DK117)","v":""},{"$f":"IF(DL117=\"\",\"\",DL117)","v":""},{"$f":"IF(DM117=\"\",\"\",DM117)","v":""},{"$f":"IF(DN117=\"\",\"\",DN117)","v":""},{"$f":"IF(DO117=\"\",\"\",DO117)","v":""},{"$f":"IF(DP117=\"\",\"\",DP117)","v":""},{"$f":"IF(DQ117=\"\",\"\",DQ117)","v":""},{"$f":"IF(DR117=\"\",\"\",DR117)","v":""},{"$f":"IF(DS117=\"\",\"\",DS117)","v":""},{"$f":"IF(DT117=\"\",\"\",DT117)","v":""},{"$f":"IF(DU117=\"\",\"\",DU117)","v":""},{"$f":"IF(DV117=\"\",\"\",DV117)","v":""},{"$f":"IF(DW117=\"\",\"\",DW117)","v":""},{"$f":"IF(DX117=\"\",\"\",DX117)","v":""},{"$f":"IF(DY117=\"\",\"\",DY117)","v":""},{"$f":"IF(DZ117=\"\",\"\",DZ117)","v":""},{"$f":"IF(EA117=\"\",\"\",EA117)","v":""},{"$f":"IF(EB117=\"\",\"\",EB117)","v":""},{"$f":"IF(EC117=\"\",\"\",EC117)","v":""},{"$f":"IF(ED117=\"\",\"\",ED117)","v":""}]
[null,"34f","Input CalcA1: Total CO2 from raw materials (Line 526)",null,"[t CO2/yr]",null,"","","","","","","","","","","","","","","","","","","","","","","","","","","","","","","","","","","","","","","","","","","","","","","","","","","","","","","","","","","","",""]
[]
[null,"Data for Detailed Input Method (A2)",null,null,null,null,{"$f":"G$7","v":1990},1991,1992,1993,1994,1995,1996,1997,1998,1999,2000,2001,2002,2003,2004,2005,2006,2007,2008,2009,2010,2011,2012,2013,2014,2015,2016,2017,2018,2019,2020,2021,2022,2023,2024,2025,2026,2027,2028,2029,2030,2031,2032,2033,2034,2035,2036,2037,2038,2039,2040,2041,2042,2043,2044,2045,2046,2047,2048,2049,2050]
[null,"34i","Input CalcA2: Raw meal consumption (Line 681)",null,"[t/yr, dry weight]",null,{"$f":"IF(BV121=\"\",\"\",BV121)","v":""},"","","","","","","","","",{"$f":"IF(CF121=\"\",\"\",CF121)","v":""},"","","","","","","","","",{"$f":"IF(CP121=\"\",\"\",CP121)","v":""},"","","","","","","","",{"$f":"IF(CY121=\"\",\"\",CY121)","v":""},{"$f":"IF(CZ121=\"\",\"\",CZ121)","v":""},{"$f":"IF(DA121=\"\",\"\",DA121)","v":""},{"$f":"IF(DB121=\"\",\"\",DB121)","v":""},{"$f":"IF(DC121=\"\",\"\",DC121)","v":""},{"$f":"IF(DD121=\"\",\"\",DD121)","v":""},{"$f":"IF(DE121=\"\",\"\",DE121)","v":""},{"$f":"IF(DF121=\"\",\"\",DF121)","v":""},{"$f":"IF(DG121=\"\",\"\",DG121)","v":""},{"$f":"IF(DH121=\"\",\"\",DH121)","v":""},{"$f":"IF(DI121=\"\",\"\",DI121)","v":""},{"$f":"IF(DJ121=\"\",\"\",DJ121)","v":""},{"$f":"IF(DK121=\"\",\"\",DK121)","v":""},{"$f":"IF(DL121=\"\",\"\",DL121)","v":""},{"$f":"IF(DM121=\"\",\"\",DM121)","v":""},{"$f":"IF(DN121=\"\",\"\",DN121)","v":""},{"$f":"IF(DO121=\"\",\"\",DO121)","v":""},{"$f":"IF(DP121=\"\",\"\",DP121)","v":""},{"$f":"IF(DQ121=\"\",\"\",DQ121)","v":""},{"$f":"IF(DR121=\"\",\"\",DR121)","v":""},{"$f":"IF(DS121=\"\",\"\",DS121)","v":""},{"$f":"IF(DT121=\"\",\"\",DT121)","v":""},{"$f":"IF(DU121=\"\",\"\",DU121)","v":""},{"$f":"IF(DV121=\"\",\"\",DV121)","v":""},{"$f":"IF(DW121=\"\",\"\",DW121)","v":""},{"$f":"IF(DX121=\"\",\"\",DX121)","v":""},{"$f":"IF(DY121=\"\",\"\",DY121)","v":""},{"$f":"IF(DZ121=\"\",\"\",DZ121)","v":""},{"$f":"IF(EA121=\"\",\"\",EA121)","v":""},{"$f":"IF(EB121=\"\",\"\",EB121)","v":""},{"$f":"IF(EC121=\"\",\"\",EC121)","v":""},{"$f":"IF(ED121=\"\",\"\",ED121)","v":""}]
[null,"34j","Input CalcA2: Total CO2 from raw materials (Line 682)",null,"[t CO2/yr]",null,"","","","","","","","","","","","","","","","","","","","","","","","","","","","","","","","","","","","","","","","","","","","","","","","","","","","","","","","","","","","",""]
[]
[null,"Data for Simple Output Method (B1)",null,null,null,null,{"$f":"G$7","v":1990},1991,1992,1993,1994,1995,1996,1997,1998,1999,2000,2001,2002,2003,2004,2005,2006,2007,2008,2009,2010,2011,2012,2013,2014,2015,2016,2017,2018,2019,2020,2021,2022,2023,2024,2025,2026,2027,2028,2029,2030,2031,2032,2033,2034,2035,2036,2037,2038,2039,2040,2041,2042,2043,2044,2045,2046,2047,2048,2049,2050]
[null,"34m","Standard calcination emission factor [default 525 kg CO2/t clinker]",null,"[kg CO2/t cli]",null,{"$f":"IF(BV125=\"\",525,BV125)","v":525},525,525,525,525,525,525,525,525,525,525,525,525,525,525,525,525,525,525,525,525,525,525,525,525,525,525,525,525,{"$f":"IF(CY125=\"\",525,CY125)","v":525},{"$f":"IF(CZ125=\"\",525,CZ125)","v":525},{"$f":"IF(DA125=\"\",525,DA125)","v":525},{"$f":"IF(DB125=\"\",525,DB125)","v":525},{"$f":"IF(DC125=\"\",525,DC125)","v":525},{"$f":"IF(DD125=\"\",525,DD125)","v":525},{"$f":"IF(DE125=\"\",525,DE125)","v":525},{"$f":"IF(DF125=\"\",525,DF125)","v":525},{"$f":"IF(DG125=\"\",525,DG125)","v":525},{"$f":"IF(DH125=\"\",525,DH125)","v":525},{"$f":"IF(DI125=\"\",525,DI125)","v":525},{"$f":"IF(DJ125=\"\",525,DJ125)","v":525},{"$f":"IF(DK125=\"\",525,DK125)","v":525},{"$f":"IF(DL125=\"\",525,DL125)","v":525},{"$f":"IF(DM125=\"\",525,DM125)","v":525},{"$f":"IF(DN125=\"\",525,DN125)","v":525},{"$f":"IF(DO125=\"\",525,DO125)","v":525},{"$f":"IF(DP125=\"\",525,DP125)","v":525},{"$f":"IF(DQ125=\"\",525,DQ125)","v":525},{"$f":"IF(DR125=\"\",525,DR125)","v":525},{"$f":"IF(DS125=\"\",525,DS125)","v":525},{"$f":"IF(DT125=\"\",525,DT125)","v":525},{"$f":"IF(DU125=\"\",525,DU125)","v":525},{"$f":"IF(DV125=\"\",525,DV125)","v":525},{"$f":"IF(DW125=\"\",525,DW125)","v":525},{"$f":"IF(DX125=\"\",525,DX125)","v":525},{"$f":"IF(DY125=\"\",525,DY125)","v":525},{"$f":"IF(DZ125=\"\",525,DZ125)","v":525},{"$f":"IF(EA125=\"\",525,EA125)","v":525},{"$f":"IF(EB125=\"\",525,EB125)","v":525},{"$f":"IF(EC125=\"\",525,EC125)","v":525},{"$f":"IF(ED125=\"\",525,ED125)","v":525}]
[null,"34n","Organic carbon content of raw meal (average), default value 0.2%, or set plant specific value",null,"[%, dry weight]",null,{"$f":"IF(BV126=\"\",0.2%,BV126)","v":2E-3},2E-3,2E-3,2E-3,2E-3,2E-3,2E-3,2E-3,2E-3,2E-3,2E-3,2E-3,2E-3,2E-3,2E-3,2E-3,2E-3,2E-3,2E-3,2E-3,2E-3,2E-3,2E-3,2E-3,2E-3,2E-3,2E-3,2E-3,2E-3,{"$f":"IF(CY126=\"\",0.2%,CY126)","v":2E-3},{"$f":"IF(CZ126=\"\",0.2%,CZ126)","v":2E-3},{"$f":"IF(DA126=\"\",0.2%,DA126)","v":2E-3},{"$f":"IF(DB126=\"\",0.2%,DB126)","v":2E-3},{"$f":"IF(DC126=\"\",0.2%,DC126)","v":2E-3},{"$f":"IF(DD126=\"\",0.2%,DD126)","v":2E-3},{"$f":"IF(DE126=\"\",0.2%,DE126)","v":2E-3},{"$f":"IF(DF126=\"\",0.2%,DF126)","v":2E-3},{"$f":"IF(DG126=\"\",0.2%,DG126)","v":2E-3},{"$f":"IF(DH126=\"\",0.2%,DH126)","v":2E-3},{"$f":"IF(DI126=\"\",0.2%,DI126)","v":2E-3},{"$f":"IF(DJ126=\"\",0.2%,DJ126)","v":2E-3},{"$f":"IF(DK126=\"\",0.2%,DK126)","v":2E-3},{"$f":"IF(DL126=\"\",0.2%,DL126)","v":2E-3},{"$f":"IF(DM126=\"\",0.2%,DM126)","v":2E-3},{"$f":"IF(DN126=\"\",0.2%,DN126)","v":2E-3},{"$f":"IF(DO126=\"\",0.2%,DO126)","v":2E-3},{"$f":"IF(DP126=\"\",0.2%,DP126)","v":2E-3},{"$f":"IF(DQ126=\"\",0.2%,DQ126)","v":2E-3},{"$f":"IF(DR126=\"\",0.2%,DR126)","v":2E-3},{"$f":"IF(DS126=\"\",0.2%,DS126)","v":2E-3},{"$f":"IF(DT126=\"\",0.2%,DT126)","v":2E-3},{"$f":"IF(DU126=\"\",0.2%,DU126)","v":2E-3},{"$f":"IF(DV126=\"\",0.2%,DV126)","v":2E-3},{"$f":"IF(DW126=\"\",0.2%,DW126)","v":2E-3},{"$f":"IF(DX126=\"\",0.2%,DX126)","v":2E-3},{"$f":"IF(DY126=\"\",0.2%,DY126)","v":2E-3},{"$f":"IF(DZ126=\"\",0.2%,DZ126)","v":2E-3},{"$f":"IF(EA126=\"\",0.2%,EA126)","v":2E-3},{"$f":"IF(EB126=\"\",0.2%,EB126)","v":2E-3},{"$f":"IF(EC126=\"\",0.2%,EC126)","v":2E-3},{"$f":"IF(ED126=\"\",0.2%,ED126)","v":2E-3}]
[null,"34o","Raw meal : clinker ratio, default value 1.55, or set plant specific value",null,"[--, dry weight]",null,{"$f":"IF(BV127=\"\",1.55,BV127)","v":1.55},1.55,1.55,1.55,1.55,1.55,1.55,1.55,1.55,1.55,1.55,1.55,1.55,1.55,1.55,1.55,1.55,1.55,1.55,1.55,1.55,1.55,1.55,1.55,1.55,1.55,1.55,1.55,1.55,{"$f":"IF(CY127=\"\",1.55,CY127)","v":1.55},{"$f":"IF(CZ127=\"\",1.55,CZ127)","v":1.55},{"$f":"IF(DA127=\"\",1.55,DA127)","v":1.55},{"$f":"IF(DB127=\"\",1.55,DB127)","v":1.55},{"$f":"IF(DC127=\"\",1.55,DC127)","v":1.55},{"$f":"IF(DD127=\"\",1.55,DD127)","v":1.55},{"$f":"IF(DE127=\"\",1.55,DE127)","v":1.55},{"$f":"IF(DF127=\"\",1.55,DF127)","v":1.55},{"$f":"IF(DG127=\"\",1.55,DG127)","v":1.55},{"$f":"IF(DH127=\"\",1.55,DH127)","v":1.55},{"$f":"IF(DI127=\"\",1.55,DI127)","v":1.55},{"$f":"IF(DJ127=\"\",1.55,DJ127)","v":1.55},{"$f":"IF(DK127=\"\",1.55,DK127)","v":1.55},{"$f":"IF(DL127=\"\",1.55,DL127)","v":1.55},{"$f":"IF(DM127=\"\",1.55,DM127)","v":1.55},{"$f":"IF(DN127=\"\",1.55,DN127)","v":1.55},{"$f":"IF(DO127=\"\",1.55,DO127)","v":1.55},{"$f":"IF(DP127=\"\",1.55,DP127)","v":1.55},{"$f":"IF(DQ127=\"\",1.55,DQ127)","v":1.55},{"$f":"IF(DR127=\"\",1.55,DR127)","v":1.55},{"$f":"IF(DS127=\"\",1.55,DS127)","v":1.55},{"$f":"IF(DT127=\"\",1.55,DT127)","v":1.55},{"$f":"IF(DU127=\"\",1.55,DU127)","v":1.55},{"$f":"IF(DV127=\"\",1.55,DV127)","v":1.55},{"$f":"IF(DW127=\"\",1.55,DW127)","v":1.55},{"$f":"IF(DX127=\"\",1.55,DX127)","v":1.55},{"$f":"IF(DY127=\"\",1.55,DY127)","v":1.55},{"$f":"IF(DZ127=\"\",1.55,DZ127)","v":1.55},{"$f":"IF(EA127=\"\",1.55,EA127)","v":1.55},{"$f":"IF(EB127=\"\",1.55,EB127)","v":1.55},{"$f":"IF(EC127=\"\",1.55,EC127)","v":1.55},{"$f":"IF(ED127=\"\",1.55,ED127)","v":1.55}]
[]
[null,"Data for Detailed Output Method (B2)",null,null,null,null,{"$f":"G$7","v":1990},1991,1992,1993,1994,1995,1996,1997,1998,1999,2000,2001,2002,2003,2004,2005,2006,2007,2008,2009,2010,2011,2012,2013,2014,2015,2016,2017,2018,2019,2020,2021,2022,2023,2024,2025,2026,2027,2028,2029,2030,2031,2032,2033,2034,2035,2036,2037,2038,2039,2040,2041,2042,2043,2044,2045,2046,2047,2048,2049,2050]
[null,"34q","Input CalcB2: Calcination emission factor corrected for CaO,MgO, Ca-Si, Mg-Si imports (Line 820)",null,"[kg CO2/t cli]",null,{"$f":"IF(BV130=\"\",\"\",BV130)","v":""},"","","","","","","","","","","","","","","","","","","","","","","","","","","","",{"$f":"IF(CY130=\"\",\"\",CY130)","v":""},{"$f":"IF(CZ130=\"\",\"\",CZ130)","v":""},{"$f":"IF(DA130=\"\",\"\",DA130)","v":""},{"$f":"IF(DB130=\"\",\"\",DB130)","v":""},{"$f":"IF(DC130=\"\",\"\",DC130)","v":""},{"$f":"IF(DD130=\"\",\"\",DD130)","v":""},{"$f":"IF(DE130=\"\",\"\",DE130)","v":""},{"$f":"IF(DF130=\"\",\"\",DF130)","v":""},{"$f":"IF(DG130=\"\",\"\",DG130)","v":""},{"$f":"IF(DH130=\"\",\"\",DH130)","v":""},{"$f":"IF(DI130=\"\",\"\",DI130)","v":""},{"$f":"IF(DJ130=\"\",\"\",DJ130)","v":""},{"$f":"IF(DK130=\"\",\"\",DK130)","v":""},{"$f":"IF(DL130=\"\",\"\",DL130)","v":""},{"$f":"IF(DM130=\"\",\"\",DM130)","v":""},{"$f":"IF(DN130=\"\",\"\",DN130)","v":""},{"$f":"IF(DO130=\"\",\"\",DO130)","v":""},{"$f":"IF(DP130=\"\",\"\",DP130)","v":""},{"$f":"IF(DQ130=\"\",\"\",DQ130)","v":""},{"$f":"IF(DR130=\"\",\"\",DR130)","v":""},{"$f":"IF(DS130=\"\",\"\",DS130)","v":""},{"$f":"IF(DT130=\"\",\"\",DT130)","v":""},{"$f":"IF(DU130=\"\",\"\",DU130)","v":""},{"$f":"IF(DV130=\"\",\"\",DV130)","v":""},{"$f":"IF(DW130=\"\",\"\",DW130)","v":""},{"$f":"IF(DX130=\"\",\"\",DX130)","v":""},{"$f":"IF(DY130=\"\",\"\",DY130)","v":""},{"$f":"IF(DZ130=\"\",\"\",DZ130)","v":""},{"$f":"IF(EA130=\"\",\"\",EA130)","v":""},{"$f":"IF(EB130=\"\",\"\",EB130)","v":""},{"$f":"IF(EC130=\"\",\"\",EC130)","v":""},{"$f":"IF(ED130=\"\",\"\",ED130)","v":""}]
[null,"34r","Organic carbon content of raw meal (average), default value 0.2%, or set plant specific value",null,"[%, dry weight]",null,{"$f":"IF(BV131=\"\",0.2%,BV131)","v":2E-3},2E-3,2E-3,2E-3,2E-3,2E-3,2E-3,2E-3,2E-3,2E-3,2E-3,2E-3,2E-3,2E-3,2E-3,2E-3,2E-3,2E-3,2E-3,2E-3,2E-3,2E-3,2E-3,2E-3,2E-3,2E-3,2E-3,2E-3,2E-3,{"$f":"IF(CY131=\"\",0.2%,CY131)","v":2E-3},{"$f":"IF(CZ131=\"\",0.2%,CZ131)","v":2E-3},{"$f":"IF(DA131=\"\",0.2%,DA131)","v":2E-3},{"$f":"IF(DB131=\"\",0.2%,DB131)","v":2E-3},{"$f":"IF(DC131=\"\",0.2%,DC131)","v":2E-3},{"$f":"IF(DD131=\"\",0.2%,DD131)","v":2E-3},{"$f":"IF(DE131=\"\",0.2%,DE131)","v":2E-3},{"$f":"IF(DF131=\"\",0.2%,DF131)","v":2E-3},{"$f":"IF(DG131=\"\",0.2%,DG131)","v":2E-3},{"$f":"IF(DH131=\"\",0.2%,DH131)","v":2E-3},{"$f":"IF(DI131=\"\",0.2%,DI131)","v":2E-3},{"$f":"IF(DJ131=\"\",0.2%,DJ131)","v":2E-3},{"$f":"IF(DK131=\"\",0.2%,DK131)","v":2E-3},{"$f":"IF(DL131=\"\",0.2%,DL131)","v":2E-3},{"$f":"IF(DM131=\"\",0.2%,DM131)","v":2E-3},{"$f":"IF(DN131=\"\",0.2%,DN131)","v":2E-3},{"$f":"IF(DO131=\"\",0.2%,DO131)","v":2E-3},{"$f":"IF(DP131=\"\",0.2%,DP131)","v":2E-3},{"$f":"IF(DQ131=\"\",0.2%,DQ131)","v":2E-3},{"$f":"IF(DR131=\"\",0.2%,DR131)","v":2E-3},{"$f":"IF(DS131=\"\",0.2%,DS131)","v":2E-3},{"$f":"IF(DT131=\"\",0.2%,DT131)","v":2E-3},{"$f":"IF(DU131=\"\",0.2%,DU131)","v":2E-3},{"$f":"IF(DV131=\"\",0.2%,DV131)","v":2E-3},{"$f":"IF(DW131=\"\",0.2%,DW131)","v":2E-3},{"$f":"IF(DX131=\"\",0.2%,DX131)","v":2E-3},{"$f":"IF(DY131=\"\",0.2%,DY131)","v":2E-3},{"$f":"IF(DZ131=\"\",0.2%,DZ131)","v":2E-3},{"$f":"IF(EA131=\"\",0.2%,EA131)","v":2E-3},{"$f":"IF(EB131=\"\",0.2%,EB131)","v":2E-3},{"$f":"IF(EC131=\"\",0.2%,EC131)","v":2E-3},{"$f":"IF(ED131=\"\",0.2%,ED131)","v":2E-3}]
[null,"34s","Raw meal : clinker ratio, default value 1.55, or set plant specific value",null,"[--, dry weight]",null,{"$f":"IF(BV132=\"\",1.55,BV132)","v":1.55},1.55,1.55,1.55,1.55,1.55,1.55,1.55,1.55,1.55,1.55,1.55,1.55,1.55,1.55,1.55,1.55,1.55,1.55,1.55,1.55,1.55,1.55,1.55,1.55,1.55,1.55,1.55,1.55,{"$f":"IF(CY132=\"\",1.55,CY132)","v":1.55},{"$f":"IF(CZ132=\"\",1.55,CZ132)","v":1.55},{"$f":"IF(DA132=\"\",1.55,DA132)","v":1.55},{"$f":"IF(DB132=\"\",1.55,DB132)","v":1.55},{"$f":"IF(DC132=\"\",1.55,DC132)","v":1.55},{"$f":"IF(DD132=\"\",1.55,DD132)","v":1.55},{"$f":"IF(DE132=\"\",1.55,DE132)","v":1.55},{"$f":"IF(DF132=\"\",1.55,DF132)","v":1.55},{"$f":"IF(DG132=\"\",1.55,DG132)","v":1.55},{"$f":"IF(DH132=\"\",1.55,DH132)","v":1.55},{"$f":"IF(DI132=\"\",1.55,DI132)","v":1.55},{"$f":"IF(DJ132=\"\",1.55,DJ132)","v":1.55},{"$f":"IF(DK132=\"\",1.55,DK132)","v":1.55},{"$f":"IF(DL132=\"\",1.55,DL132)","v":1.55},{"$f":"IF(DM132=\"\",1.55,DM132)","v":1.55},{"$f":"IF(DN132=\"\",1.55,DN132)","v":1.55},{"$f":"IF(DO132=\"\",1.55,DO132)","v":1.55},{"$f":"IF(DP132=\"\",1.55,DP132)","v":1.55},{"$f":"IF(DQ132=\"\",1.55,DQ132)","v":1.55},{"$f":"IF(DR132=\"\",1.55,DR132)","v":1.55},{"$f":"IF(DS132=\"\",1.55,DS132)","v":1.55},{"$f":"IF(DT132=\"\",1.55,DT132)","v":1.55},{"$f":"IF(DU132=\"\",1.55,DU132)","v":1.55},{"$f":"IF(DV132=\"\",1.55,DV132)","v":1.55},{"$f":"IF(DW132=\"\",1.55,DW132)","v":1.55},{"$f":"IF(DX132=\"\",1.55,DX132)","v":1.55},{"$f":"IF(DY132=\"\",1.55,DY132)","v":1.55},{"$f":"IF(DZ132=\"\",1.55,DZ132)","v":1.55},{"$f":"IF(EA132=\"\",1.55,EA132)","v":1.55},{"$f":"IF(EB132=\"\",1.55,EB132)","v":1.55},{"$f":"IF(EC132=\"\",1.55,EC132)","v":1.55},{"$f":"IF(ED132=\"\",1.55,ED132)","v":1.55}]
[]
["Direct CO2 Emissions"]
[null,"CO2 from Raw Materials",null,null,null,null,{"$f":"G$7","v":1990},1991,1992,1993,1994,1995,1996,1997,1998,1999,2000,2001,2002,2003,2004,2005,2006,2007,2008,2009,2010,2011,2012,2013,2014,2015,2016,2017,2018,2019,2020,2021,2022,2023,2024,2025,2026,2027,2028,2029,2030,2031,2032,2033,2034,2035,2036,2037,2038,2039,2040,2041,2042,2043,2044,2045,2046,2047,2048,2049,2050]
[null,"35a","Calcination emission factor, corrected for CaO- and MgO imports",null,"[kg CO2/t cli]",null,{"$f":"IF(G114=\"B2\",G130,IF(G114=\"B1\",G125,\"n. appl.\"))","v":525},525,525,525,525,525,525,525,525,525,525,525,525,525,525,525,525,525,525,525,525,525,525,525,525,525,525,525,525,525,525,525,525,525,525,{"$f":"IF(AP114=\"B2\",AP130,IF(AP114=\"B1\",AP125,\"n. appl.\"))","v":525},525,525,525,525,525,525,525,525,525,525,525,525,525,525,525,525,525,525,525,525,525,525,525,525,525]
[null,"35b","Organic carbon content of raw meal (average)",null,"[%, dry weight]",null,{"$f":"IF(G114=\"B1\",G126,IF(G114=\"B2\",G131,\"n. appl.\"))","v":2E-3},2E-3,2E-3,2E-3,2E-3,2E-3,2E-3,2E-3,2E-3,2E-3,2E-3,2E-3,2E-3,2E-3,2E-3,2E-3,2E-3,2E-3,2E-3,2E-3,2E-3,2E-3,2E-3,2E-3,2E-3,2E-3,2E-3,2E-3,2E-3,2E-3,2E-3,2E-3,2E-3,2E-3,2E-3,{"$f":"IF(AP114=\"B1\",AP126,IF(AP114=\"B2\",AP131,\"n. appl.\"))","v":2E-3},2E-3,2E-3,2E-3,2E-3,2E-3,2E-3,2E-3,2E-3,2E-3,2E-3,2E-3,2E-3,2E-3,2E-3,2E-3,2E-3,2E-3,2E-3,2E-3,2E-3,2E-3,2E-3,2E-3,2E-3,2E-3]
[null,"35c","Raw meal : clinker ratio",null,"[--, dry weight]",null,{"$f":"IF(G114=\"B1\",G127,IF(G114=\"B2\",G132,\"n. appl.\"))","v":1.55},1.55,1.55,1.55,1.55,1.55,1.55,1.55,1.55,1.55,1.55,1.55,1.55,1.55,1.55,1.55,1.55,1.55,1.55,1.55,1.55,1.55,1.55,1.55,1.55,1.55,1.55,1.55,1.55,1.55,1.55,1.55,1.55,1.55,1.55,{"$f":"IF(AP114=\"B1\",AP127,IF(AP114=\"B2\",AP132,\"n. appl.\"))","v":1.55},1.55,1.55,1.55,1.55,1.55,1.55,1.55,1.55,1.55,1.55,1.55,1.55,1.55,1.55,1.55,1.55,1.55,1.55,1.55,1.55,1.55,1.55,1.55,1.55,1.55]
[null,"35d","Raw meal consumption",null,"[t/yr, dry weight]",null,{"$f":"IF(G114=\"A1\",G117,IF(G114=\"A2\",G121,IF(G40=\"\",\"\",G40*G138)))","v":""},"","","","","","","","","","","","","","","","","","","","","","","","","","","","","","","","","","",{"$f":"IF(AP114=\"A1\",AP117,IF(AP114=\"A2\",AP121,IF(AP40=\"\",\"\",AP40*AP138)))","v":""},"","","","","","","","","","","","","","","","","","","","","","","","",""]
[null,36,"CO2 from calcination of raw materials consumed for clinker production",null,"[t CO2/yr]",null,{"$f":"IF(OR(G114=\"A1\",G114=\"A2\"),\"n. appl.\",IF(G40=\"\",\"\",G$136/1000*G40))","v":""},"","","","","","","","","","","","","","","","","","","","","","","","","","","","","","","","","","",{"$f":"IF(OR(AP114=\"A1\",AP114=\"A2\"),\"n. appl.\",IF(AP40=\"\",\"\",AP$136/1000*AP40))","v":""},"","","","","","","","","","","","","","","","","","","","","","","","",""]
[null,{"$f":"B140+1","v":37},"CO2 from calcination of bypass dust leaving the kiln system",null,"[t CO2/yr]",null,{"$f":"IF(OR(G114=\"A1\",G114=\"A2\"),\"n. appl.\",IF(G71=\"\",\"\",G$136/1000*G71))","v":0},0,0,0,0,0,0,0,0,0,0,0,0,0,0,0,0,0,0,0,0,0,0,0,0,0,0,0,0,0,0,0,0,0,0,{"$f":"IF(OR(AP114=\"A1\",AP114=\"A2\"),\"n. appl.\",IF(AP71=\"\",\"\",AP$136/1000*AP71))","v":0},0,0,0,0,0,0,0,0,0,0,0,0,0,0,0,0,0,0,0,0,0,0,0,0,0]
[null,"38a","CO2 from calcination of CKD leaving the kiln system",null,"[t CO2/yr]",null,{"$f":"IF(OR(G114=\"A1\",G114=\"A2\"),\"n. appl.\",IF(G72=\"\",\"\",G72*G136/1000/(1+G136/1000)*G73/(1-G136/1000/(1+G136/1000)*G73)))","v":0},0,0,0,0,0,0,0,0,0,0,0,0,0,0,0,0,0,0,0,0,0,0,0,0,0,0,0,0,0,0,0,0,0,0,{"$f":"IF(OR(AP114=\"A1\",AP114=\"A2\"),\"n. appl.\",IF(AP72=\"\",\"\",AP72*AP136/1000/(1+AP136/1000)*AP73/(1-AP136/1000/(1+AP136/1000)*AP73)))","v":0},0,0,0,0,0,0,0,0,0,0,0,0,0,0,0,0,0,0,0,0,0,0,0,0,0]
[null,"38b","CO2 from organic carbon content of raw meal",null,"[t CO2/yr]",null,{"$f":"IF(OR(G114=\"A1\",G114=\"A2\"),\"n. appl.\",IF(G139=\"\",\"\",G137*G139*3.664))","v":""},"","","","","","","","","","","","","","","","","","","","","","","","","","","","","","","","","","",{"$f":"IF(OR(AP114=\"A1\",AP114=\"A2\"),\"n. appl.\",IF(AP139=\"\",\"\",AP137*AP139*3.664))","v":""},"","","","","","","","","","","","","","","","","","","","","","","","",""]
[null,39,"Total CO2 from raw materials",null,"[t CO2/yr]",null,{"$f":"IF(G114=\"A1\",G118,IF(G114=\"A2\",G122,SUM(G140:G143)))","v":0},0,0,0,0,0,0,0,0,0,0,0,0,0,0,0,0,0,0,0,0,0,0,0,0,0,0,0,0,0,0,0,0,0,0,{"$f":"IF(AP114=\"A1\",AP118,IF(AP114=\"A2\",AP122,SUM(AP140:AP143)))","v":0},0,0,0,0,0,0,0,0,0,0,0,0,0,0,0,0,0,0,0,0,0,0,0,0,0]
[]
[null,"CO2 from Kiln Fuels (incl. drying of fuels and raw materials)",null,null,null,null,{"$f":"G$7","v":1990},1991,1992,1993,1994,1995,1996,1997,1998,1999,2000,2001,2002,2003,2004,2005,2006,2007,2008,2009,2010,2011,2012,2013,2014,2015,2016,2017,2018,2019,2020,2021,2022,2023,2024,2025,2026,2027,2028,2029,2030,2031,2032,2033,2034,2035,2036,2037,2038,2039,2040,2041,2042,2043,2044,2045,2046,2047,2048,2049,2050]
[null,{"$f":"B144+1","v":40},"CO2 from conventional fossil fuels",null,"[t CO2/yr]",null,{"$f":"IF(OR(G388=\"\",G415=\"\"),\"\",G388+G415)","v":0},0,0,0,0,0,0,0,0,0,0,0,0,0,0,0,0,0,0,0,0,0,0,0,0,0,0,0,0,0,0,0,0,0,0,{"$f":"IF(OR(AP388=\"\",AP415=\"\"),\"\",AP388+AP415)","v":0},0,0,0,0,0,0,0,0,0,0,0,0,0,0,0,0,0,0,0,0,0,0,0,0,0]
[null,{"$f":"B147+1","v":41},"CO2 from alternative fossil fuels",null,"[t CO2/yr]",null,{"$f":"IF(OR(G396=\"\",G422=\"\"),\"\",G396+G422)","v":0},0,0,0,0,0,0,0,0,0,0,0,0,0,0,0,0,0,0,0,0,0,0,0,0,0,0,0,0,0,0,0,0,0,0,{"$f":"IF(OR(AP396=\"\",AP422=\"\"),\"\",AP396+AP422)","v":0},0,0,0,0,0,0,0,0,0,0,0,0,0,0,0,0,0,0,0,0,0,0,0,0,0]
[null,43,"Total CO2 from fossil-based kiln fuels",null,"[t CO2/yr]",null,{"$f":"IF(COUNTBLANK(G147:G148)=2,\"\",SUM(G147:G148))","v":0},0,0,0,0,0,0,0,0,0,0,0,0,0,0,0,0,0,0,0,0,0,0,0,0,0,0,0,0,0,0,0,0,0,0,{"$f":"IF(COUNTBLANK(AP147:AP148)=2,\"\",SUM(AP147:AP148))","v":0},0,0,0,0,0,0,0,0,0,0,0,0,0,0,0,0,0,0,0,0,0,0,0,0,0]
[]
[null,"CO2 from Non-Kiln Fuels",null,null,null,null,{"$f":"G$7","v":1990},1991,1992,1993,1994,1995,1996,1997,1998,1999,2000,2001,2002,2003,2004,2005,2006,2007,2008,2009,2010,2011,2012,2013,2014,2015,2016,2017,2018,2019,2020,2021,2022,2023,2024,2025,2026,2027,2028,2029,2030,2031,2032,2033,2034,2035,2036,2037,2038,2039,2040,2041,2042,2043,2044,2045,2046,2047,2048,2049,2050]
[null,44,"CO2 from equipment and on-site vehicles (fossil fuels)",null,"[t CO2/yr]",null,{"$f":"G538","v":0},0,0,0,0,0,0,0,0,0,0,0,0,0,0,0,0,0,0,0,0,0,0,0,0,0,0,0,0,0,0,0,0,0,0,{"$f":"AP538","v":0},0,0,0,0,0,0,0,0,0,0,0,0,0,0,0,0,0,0,0,0,0,0,0,0,0]
[null,"45a","CO2 from room heating and cooling (fossil fuels)",null,"[t CO2/yr]",null,{"$f":"G544","v":0},0,0,0,0,0,0,0,0,0,0,0,0,0,0,0,0,0,0,0,0,0,0,0,0,0,0,0,0,0,0,0,0,0,0,{"$f":"AP544","v":0},0,0,0,0,0,0,0,0,0,0,0,0,0,0,0,0,0,0,0,0,0,0,0,0,0]
[null,"45b","CO2 from drying of mineral components (fossil fuels)",null,"[t CO2/yr]",null,{"$f":"IF(OR(G549=\"\",G556=\"\"),\"\",G549+G556)","v":0},0,0,0,0,0,0,0,0,0,0,0,0,0,0,0,0,0,0,0,0,0,0,0,0,0,0,0,0,0,0,0,0,0,0,{"$f":"IF(OR(AP549=\"\",AP556=\"\"),\"\",AP549+AP556)","v":0},0,0,0,0,0,0,0,0,0,0,0,0,0,0,0,0,0,0,0,0,0,0,0,0,0]
[null,"45c","CO2 from seperate on-site power generation (fossil fuels)",null,"[t CO2/yr]",null,{"$f":"IF(OR(G561=\"\",G568=\"\"),\"\",G561+G568)","v":0},0,0,0,0,0,0,0,0,0,0,0,0,0,0,0,0,0,0,0,0,0,0,0,0,0,0,0,0,0,0,0,0,0,0,{"$f":"IF(OR(AP561=\"\",AP568=\"\"),\"\",AP561+AP568)","v":0},0,0,0,0,0,0,0,0,0,0,0,0,0,0,0,0,0,0,0,0,0,0,0,0,0]
[null,46,"Total CO2 from non-kiln fossil fuels",null,"[t CO2/yr]",null,{"$f":"IF(COUNTBLANK(G152:G155)=4,\"\",SUM(G152:G155))","v":0},0,0,0,0,0,0,0,0,0,0,0,0,0,0,0,0,0,0,0,0,0,0,0,0,0,0,0,0,0,0,0,0,0,0,{"$f":"IF(COUNTBLANK(AP152:AP155)=4,\"\",SUM(AP152:AP155))","v":0},0,0,0,0,0,0,0,0,0,0,0,0,0,0,0,0,0,0,0,0,0,0,0,0,0]
[]
[null,"Total Direct CO2 Emissions ",null,null,null,null,{"$f":"G$7","v":1990},1991,1992,1993,1994,1995,1996,1997,1998,1999,2000,2001,2002,2003,2004,2005,2006,2007,2008,2009,2010,2011,2012,2013,2014,2015,2016,2017,2018,2019,2020,2021,2022,2023,2024,2025,2026,2027,2028,2029,2030,2031,2032,2033,2034,2035,2036,2037,2038,2039,2040,2041,2042,2043,2044,2045,2046,2047,2048,2049,2050]
[null,48,"Total direct CO2: all fossil CO2 sources",null,"[t CO2/yr]",null,{"$f":"IF(OR(G144=\"\",G149=\"\",G156=\"\"),\"\",G144+G149+G156)","v":0},0,0,0,0,0,0,0,0,0,0,0,0,0,0,0,0,0,0,0,0,0,0,0,0,0,0,0,0,0,0,0,0,0,0,0,0,0,0,0,0,0,0,0,0,0,0,0,0,0,0,0,0,0,0,0,0,0,0,0,0]
[]
["Indirect CO2 Emissions (Main Sources)",null,null,null,null,null,{"$f":"G$7","v":1990},1991,1992,1993,1994,1995,1996,1997,1998,1999,2000,2001,2002,2003,2004,2005,2006,2007,2008,2009,2010,2011,2012,2013,2014,2015,2016,2017,2018,2019,2020,2021,2022,2023,2024,2025,2026,2027,2028,2029,2030,2031,2032,2033,2034,2035,2036,2037,2038,2039,2040,2041,2042,2043,2044,2045,2046,2047,2048,2049,2050]
[null,"49a","CO2 from external power generation",null,"[t CO2/yr]",null,{"$f":"IF(G99=0,\"\",G99*G103/1000)","v":""},"","","","","","","","","","","","","","","","","","","","","","","","","","","","","","","","","","","","","","","","","","","","","","","","","","","","","","","","","","","",""]
[null,"49b","Emission factor for inbound clinker",null,"[kg CO2/t cli]",null,865,865,865,865,865,865,865,865,865,865,865,865,865,865,865,865,865,865,865,865,865,865,865,865,865,865,865,865,865,865,865,865,865,865,865,865,865,865,865,865,865,865,865,865,865,865,865,865,865,865,865,865,865,865,865,865,865,865,865,865,865]
[null,"49c","CO2 from net inbound (+) / outbound (-) clinker",null,"[t CO2/yr]",null,{"$f":"IF(OR(G41=\"\",G44=\"\",G45=\"\",G42=\"\"),\"\",IF(G184<>\"n. appl.\",(((G41+G44+G45)*G163)-(G42*G184))/1000,(G41+G44+G45)*G163/1000))","v":""},"","","","","","","","","","","","","","","","","","","","","","","","","","","","","","","","","","",{"$f":"IF(OR(AP41=\"\",AP44=\"\",AP45=\"\",AP42=\"\"),\"\",IF(AP184<>\"n. appl.\",(((AP41+AP44+AP45)*AP163)-(AP42*AP184))/1000,(AP41+AP44+AP45)*AP163/1000))","v":""},"","","","","","","","","","","","","","","","","","","","","","","","",""]
[null,"49d","Total indirect CO2 (main sources)",null,"[t CO2/yr]",null,{"$f":"IF(OR(G162=\"\",G164=\"\"),\"\",G162+G164)","v":""},"","","","","","","","","","","","","","","","","","","","","","","","","","","","","","","","","","",{"$f":"IF(OR(AP162=\"\",AP164=\"\"),\"\",AP162+AP164)","v":""},"","","","","","","","","","","","","","","","","","","","","","","","",""]
[]
["Direct CO2 from Biomass (Memo Item)",null,null,null,null,null,{"$f":"G$7","v":1990},1991,1992,1993,1994,1995,1996,1997,1998,1999,2000,2001,2002,2003,2004,2005,2006,2007,2008,2009,2010,2011,2012,2013,2014,2015,2016,2017,2018,2019,2020,2021,2022,2023,2024,2025,2026,2027,2028,2029,2030,2031,2032,2033,2034,2035,2036,2037,2038,2039,2040,2041,2042,2043,2044,2045,2046,2047,2048,2049,2050]
[null,50,"CO2 from combustion of biomass (kiln and non-kiln fuels, incl. biomass content of mixed fuels)",null,"[t CO2/yr]",null,{"$f":"IF(OR(G404=\"\",G424=\"\",G542=\"\",G558=\"\",G570=\"\"),\"\",G404+G424+G542+G558+G570)","v":0},0,0,0,0,0,0,0,0,0,0,0,0,0,0,0,0,0,0,0,0,0,0,0,0,0,0,0,0,0,0,0,0,0,0,0,0,0,0,0,0,0,0,0,0,0,0,0,0,0,0,0,0,0,0,0,0,0,0,0,0]
[]
["PERFORMANCE INDICATORS"]
[]
[null,"Absolute Direct CO2 Emissions",null,null,null,null,{"$f":"G$7","v":1990},1991,1992,1993,1994,1995,1996,1997,1998,1999,2000,2001,2002,2003,2004,2005,2006,2007,2008,2009,2010,2011,2012,2013,2014,2015,2016,2017,2018,2019,2020,2021,2022,2023,2024,2025,2026,2027,2028,2029,2030,2031,2032,2033,2034,2035,2036,2037,2038,2039,2040,2041,2042,2043,2044,2045,2046,2047,2048,2049,2050]
[null,59,"Absolute gross CO2 including CO2 from on-site power generation",null,"[t CO2/yr]",null,{"$f":"IF(OR(G144=\"\",G149=\"\",G156=\"\"),\"\",G144+G149+G156)","v":0},0,0,0,0,0,0,0,0,0,0,0,0,0,0,0,0,0,0,0,0,0,0,0,0,0,0,0,0,0,0,0,0,0,0,0,0,0,0,0,0,0,0,0,0,0,0,0,0,0,0,0,0,0,0,0,0,0,0,0,0]
[null,"Gross CO2 Emissions (=direct fossil CO2 excluding CO2 from on-site power generation)",null,null,null,null,{"$f":"G$7","v":1990},1991,1992,1993,1994,1995,1996,1997,1998,1999,2000,2001,2002,2003,2004,2005,2006,2007,2008,2009,2010,2011,2012,2013,2014,2015,2016,2017,2018,2019,2020,2021,2022,2023,2024,2025,2026,2027,2028,2029,2030,2031,2032,2033,2034,2035,2036,2037,2038,2039,2040,2041,2042,2043,2044,2045,2046,2047,2048,2049,2050]
[null,"59c","Absolute gross CO2",null,"[t CO2/yr]",null,{"$f":"IF(OR(G173=\"\",G155=\"\"),\"\",G173-G155)","v":0},0,0,0,0,0,0,0,0,0,0,0,0,0,0,0,0,0,0,0,0,0,0,0,0,0,0,0,0,0,0,0,0,0,0,{"$f":"IF(OR(AP173=\"\",AP155=\"\"),\"\",AP173-AP155)","v":0},0,0,0,0,0,0,0,0,0,0,0,0,0,0,0,0,0,0,0,0,0,0,0,0,0]
[null,"59a",null,"calcination component","[t CO2/yr]",null,{"$f":"G144","v":0},0,0,0,0,0,0,0,0,0,0,0,0,0,0,0,0,0,0,0,0,0,0,0,0,0,0,0,0,0,0,0,0,0,0,{"$f":"AP144","v":0},0,0,0,0,0,0,0,0,0,0,0,0,0,0,0,0,0,0,0,0,0,0,0,0,0]
[null,"59b",null,"fuel component","[t CO2/yr]",null,{"$f":"IF(OR(G149=\"\",G152=\"\",G153=\"\",G154=\"\"),\"\",G149+G152+G153+G154)","v":0},0,0,0,0,0,0,0,0,0,0,0,0,0,0,0,0,0,0,0,0,0,0,0,0,0,0,0,0,0,0,0,0,0,0,{"$f":"IF(OR(AP149=\"\",AP152=\"\",AP153=\"\",AP154=\"\"),\"\",AP149+AP152+AP153+AP154)","v":0},0,0,0,0,0,0,0,0,0,0,0,0,0,0,0,0,0,0,0,0,0,0,0,0,0]
[null,"Net CO2 Emissions (= gross CO2 minus alternative fossil fuels CO2; excluding CO2 from on-site power generation)",null,null,null,null,{"$f":"G$7","v":1990},1991,1992,1993,1994,1995,1996,1997,1998,1999,2000,2001,2002,2003,2004,2005,2006,2007,2008,2009,2010,2011,2012,2013,2014,2015,2016,2017,2018,2019,2020,2021,2022,2023,2024,2025,2026,2027,2028,2029,2030,2031,2032,2033,2034,2035,2036,2037,2038,2039,2040,2041,2042,2043,2044,2045,2046,2047,2048,2049,2050]
[null,71,"Absolute net CO2",null,"[t CO2/yr]",null,{"$f":"IF(OR(G175=\"\",G148=\"\"),\"\",G175-G148)","v":0},0,0,0,0,0,0,0,0,0,0,0,0,0,0,0,0,0,0,0,0,0,0,0,0,0,0,0,0,0,0,0,0,0,0,0,0,0,0,0,0,0,0,0,0,0,0,0,0,0,0,0,0,0,0,0,0,0,0,0,0]
[null,"Biomass CO2 Emissions (Memo Item)",null,null,null,null,{"$f":"G$7","v":1990},1991,1992,1993,1994,1995,1996,1997,1998,1999,2000,2001,2002,2003,2004,2005,2006,2007,2008,2009,2010,2011,2012,2013,2014,2015,2016,2017,2018,2019,2020,2021,2022,2023,2024,2025,2026,2027,2028,2029,2030,2031,2032,2033,2034,2035,2036,2037,2038,2039,2040,2041,2042,2043,2044,2045,2046,2047,2048,2049,2050]
[null,"83a","Absolute CO2 from biomass sources (including biomass content of mixed fuels)",null,"[t CO2/yr]",null,{"$f":"G168","v":0},0,0,0,0,0,0,0,0,0,0,0,0,0,0,0,0,0,0,0,0,0,0,0,0,0,0,0,0,0,0,0,0,0,0,0,0,0,0,0,0,0,0,0,0,0,0,0,0,0,0,0,0,0,0,0,0,0,0,0,0]
[]
[null,"Specific Gross and Net CO2 Emissions per Clinker Produced",null,null,null,null,{"$f":"G$7","v":1990},1991,1992,1993,1994,1995,1996,1997,1998,1999,2000,2001,2002,2003,2004,2005,2006,2007,2008,2009,2010,2011,2012,2013,2014,2015,2016,2017,2018,2019,2020,2021,2022,2023,2024,2025,2026,2027,2028,2029,2030,2031,2032,2033,2034,2035,2036,2037,2038,2039,2040,2041,2042,2043,2044,2045,2046,2047,2048,2049,2050]
[null,60,"Specific gross CO2 ","per tonne of clinker produced","[kg CO2/t cli]",null,{"$f":"IF(G$40=\"\",\"\",IF(G$40=0,\"n. appl.\",G175/G$40*1000))","v":""},"","","","","","","","","","","","","","","","","","","","","","","","","","","","","","","","","","",{"$f":"IF(AP$40=\"\",\"\",IF(AP$40=0,\"n. appl.\",AP175/AP$40*1000))","v":""},"","","","","","","","","","","","","","","","","","","","","","","","",""]
[null,"60a",null,"calcination component","[kg CO2/t cli]",null,{"$f":"IF(G$40=\"\",\"\",IF(G$40=0,\"n. appl.\",G176/G$40*1000))","v":""},"","","","","","","","","","","","","","","","","","","","","","","","","","","","","","","","","","",{"$f":"IF(AP$40=\"\",\"\",IF(AP$40=0,\"n. appl.\",AP176/AP$40*1000))","v":""},"","","","","","","","","","","","","","","","","","","","","","","","",""]
[null,"60b",null,"fuel component","[kg CO2/t cli]",null,{"$f":"IF(G$40=\"\",\"\",IF(G$40=0,\"n. appl.\",G177/G$40*1000))","v":""},"","","","","","","","","","","","","","","","","","","","","","","","","","","","","","","","","","",{"$f":"IF(AP$40=\"\",\"\",IF(AP$40=0,\"n. appl.\",AP177/AP$40*1000))","v":""},"","","","","","","","","","","","","","","","","","","","","","","","",""]
[null,73,"Specific net CO2 ","per tonne of clinker produced","[kg CO2/t cli]",null,{"$f":"IF(G$40=\"\",\"\",IF(G$40=0,\"n. appl.\",G179/G$40*1000))","v":""},"","","","","","","","","","","","","","","","","","","","","","","","","","","","","","","","","","",{"$f":"IF(AP$40=\"\",\"\",IF(AP$40=0,\"n. appl.\",AP179/AP$40*1000))","v":""},"","","","","","","","","","","","","","","","","","","","","","","","",""]
[]
[null,"Specific Gross and Net CO2 Emissions per Cement (equivalent)",null,null,null,null,{"$f":"G$7","v":1990},1991,1992,1993,1994,1995,1996,1997,1998,1999,2000,2001,2002,2003,2004,2005,2006,2007,2008,2009,2010,2011,2012,2013,2014,2015,2016,2017,2018,2019,2020,2021,2022,2023,2024,2025,2026,2027,2028,2029,2030,2031,2032,2033,2034,2035,2036,2037,2038,2039,2040,2041,2042,2043,2044,2045,2046,2047,2048,2049,2050]
[null,63,"Specific gross CO2","per tonne of cement (eq.)","[kg CO2/t cem eq.]",null,{"$f":"IF(OR(G175=\"\",G68=\"n. appl.\"),\"n. appl.\",G175/G68*1000)","v":"n. appl."},{"$f":"IF(OR(H175=\"\",H68=\"n. appl.\"),\"n. appl.\",H175/H68*1000)","v":"n. appl."},"n. appl.","n. appl.","n. appl.","n. appl.","n. appl.","n. appl.","n. appl.","n. appl.","n. appl.","n. appl.","n. appl.","n. appl.","n. appl.","n. appl.","n. appl.","n. appl.","n. appl.","n. appl.","n. appl.","n. appl.","n. appl.","n. appl.","n. appl.","n. appl.","n. appl.","n. appl.","n. appl.","n. appl.","n. appl.","n. appl.","n. appl.","n. appl.","n. appl.",{"$f":"IF(OR(AP175=\"\",AP68=\"n. appl.\"),\"n. appl.\",AP175/AP68*1000)","v":"n. appl."},"n. appl.","n. appl.","n. appl.","n. appl.","n. appl.","n. appl.","n. appl.","n. appl.","n. appl.","n. appl.","n. appl.","n. appl.","n. appl.","n. appl.","n. appl.","n. appl.","n. appl.","n. appl.","n. appl.","n. appl.","n. appl.","n. appl.","n. appl.","n. appl.","n. appl."]
[null,"63a",null,"calcination component","[kg CO2/t cem eq.]",null,{"$f":"IF(G$40=\"\",\"\",IF(OR(G$40=0,G46=0),\"n. appl.\",G176/G$68*1000))","v":""},{"$f":"IF(H$40=\"\",\"\",IF(OR(H$40=0,H46=0),\"n. appl.\",H176/H$68*1000))","v":""},"","","","","","","","","","","","","","","","","","","","","","","","","","","","","","","","","",{"$f":"IF(AP$40=\"\",\"\",IF(OR(AP$40=0,AP46=0),\"n. appl.\",AP176/AP$68*1000))","v":""},"","","","","","","","","","","","","","","","","","","","","","","","",""]
[null,"63b",null,"fuel component","[kg CO2/t cem eq.]",null,{"$f":"IF(G$40=\"\",\"\",IF(OR(G$40=0,G46=0),\"n. appl.\",G177/G$68*1000))","v":""},{"$f":"IF(H$40=\"\",\"\",IF(OR(H$40=0,H46=0),\"n. appl.\",H177/H$68*1000))","v":""},"","","","","","","","","","","","","","","","","","","","","","","","","","","","","","","","","",{"$f":"IF(AP$40=\"\",\"\",IF(OR(AP$40=0,AP46=0),\"n. appl.\",AP177/AP$68*1000))","v":""},"","","","","","","","","","","","","","","","","","","","","","","","",""]
[null,{"$f":"B199+1","v":75},"Specific net CO2 ","per tonne of cement (eq.)","[kg CO2/t cem eq.]",null,{"$f":"IF(OR(G$68=\"n. appl.\",G$68=0),\"n. appl.\",G179/G$68*1000)","v":"n. appl."},{"$f":"IF(OR(H$68=\"n. appl.\",H$68=0),\"n. appl.\",H179/H$68*1000)","v":"n. appl."},"n. appl.","n. appl.","n. appl.","n. appl.","n. appl.","n. appl.","n. appl.","n. appl.","n. appl.","n. appl.","n. appl.","n. appl.","n. appl.","n. appl.","n. appl.","n. appl.","n. appl.","n. appl.","n. appl.","n. appl.","n. appl.","n. appl.","n. appl.","n. appl.","n. appl.","n. appl.","n. appl.","n. appl.","n. appl.","n. appl.","n. appl.","n. appl.","n. appl.",{"$f":"IF(OR(AP$68=\"n. appl.\",AP$68=0),\"n. appl.\",AP179/AP$68*1000)","v":"n. appl."},"n. appl.","n. appl.","n. appl.","n. appl.","n. appl.","n. appl.","n. appl.","n. appl.","n. appl.","n. appl.","n. appl.","n. appl.","n. appl.","n. appl.","n. appl.","n. appl.","n. appl.","n. appl.","n. appl.","n. appl.","n. appl.","n. appl.","n. appl.","n. appl.","n. appl."]
[]
[null,"Specific Gross and Net CO2 Emissions per Cementitious Produced",null,null,null,null,{"$f":"G$7","v":1990},1991,1992,1993,1994,1995,1996,1997,1998,1999,2000,2001,2002,2003,2004,2005,2006,2007,2008,2009,2010,2011,2012,2013,2014,2015,2016,2017,2018,2019,2020,2021,2022,2023,2024,2025,2026,2027,2028,2029,2030,2031,2032,2033,2034,2035,2036,2037,2038,2039,2040,2041,2042,2043,2044,2045,2046,2047,2048,2049,2050]
[null,62,"Specific gross CO2 ","per tonne of cementitious product","[kg CO2/t cem prod]",null,{"$f":"IF(G$67=\"\",\"\",IF(G$67=0,\"n. appl.\",G175/G$67*1000))","v":""},"","","","","","","","","","","","","","","","","","","","","","","","","","","","","","","","","","",{"$f":"IF(AP$67=\"\",\"\",IF(AP$67=0,\"n. appl.\",AP175/AP$67*1000))","v":""},"","","","","","","","","","","","","","","","","","","","","","","","",""]
[null,"62a",null,"calcination component","[kg CO2/t cem prod]",null,{"$f":"IF(G$67=\"\",\"\",IF(G$67=0,\"n. appl.\",G176/G$67*1000))","v":""},"","","","","","","","","","","","","","","","","","","","","","","","","","","","","","","","","","",{"$f":"IF(AP$67=\"\",\"\",IF(AP$67=0,\"n. appl.\",AP176/AP$67*1000))","v":""},"","","","","","","","","","","","","","","","","","","","","","","","",""]
[null,"62b",null,"fuel component","[kg CO2/t cem prod]",null,{"$f":"IF(G$67=\"\",\"\",IF(G$67=0,\"n. appl.\",G177/G$67*1000))","v":""},"","","","","","","","","","","","","","","","","","","","","","","","","","","","","","","","","","",{"$f":"IF(AP$67=\"\",\"\",IF(AP$67=0,\"n. appl.\",AP177/AP$67*1000))","v":""},"","","","","","","","","","","","","","","","","","","","","","","","",""]
[null,{"$f":"B187+1","v":74},"Specific net CO2 ","per tonne of cementitious product","[kg CO2/t cem prod]",null,{"$f":"IF(G$67=\"\",\"\",IF(G$67=0,\"n. appl.\",G179/G$67*1000))","v":""},"","","","","","","","","","","","","","","","","","","","","","","","","","","","","","","","","","",{"$f":"IF(AP$67=\"\",\"\",IF(AP$67=0,\"n. appl.\",AP179/AP$67*1000))","v":""},"","","","","","","","","","","","","","","","","","","","","","","","",""]
[null,77,"Improvement rate  -  net CO2 per tonne of cementitious product",null,"[% relative to base yr]",null,{"$f":"IF(G199=\"\",\"\",IF(OR($G199=\"n. appl.\",$G199=0),\"n. appl.\",(G199-$G199)/$G199))","v":""},"","","","","","","","","","","","","","","","","","","","","","","","","","","","","","","","","","",{"$f":"IF(AP199=\"\",\"\",IF(OR($G199=\"n. appl.\",$G199=0),\"n. appl.\",(AP199-$G199)/$G199))","v":""},"","","","","","","","","","","","","","","","","","","","","","","","",""]
[]
[null,"Specific Indirect CO2 Emission",null,null,null,null,{"$f":"G$7","v":1990},1991,1992,1993,1994,1995,1996,1997,1998,1999,2000,2001,2002,2003,2004,2005,2006,2007,2008,2009,2010,2011,2012,2013,2014,2015,2016,2017,2018,2019,2020,2021,2022,2023,2024,2025,2026,2027,2028,2029,2030,2031,2032,2033,2034,2035,2036,2037,2038,2039,2040,2041,2042,2043,2044,2045,2046,2047,2048,2049,2050]
[null,"82c","Specific indirect CO2 from external power generation per tonne of cement (eq.)",null,"[kg CO2/t cem eq.]",null,{"$f":"IF(OR(G$68=\"n. appl.\",G$68=0),\"n. appl.\",G162/G$68*1000)","v":"n. appl."},{"$f":"IF(OR(H$68=\"n. appl.\",H$68=0),\"n. appl.\",H162/H$68*1000)","v":"n. appl."},"n. appl.","n. appl.","n. appl.","n. appl.","n. appl.","n. appl.","n. appl.","n. appl.","n. appl.","n. appl.","n. appl.","n. appl.","n. appl.","n. appl.","n. appl.","n. appl.","n. appl.","n. appl.","n. appl.","n. appl.","n. appl.","n. appl.","n. appl.","n. appl.","n. appl.","n. appl.","n. appl.","n. appl.","n. appl.","n. appl.","n. appl.","n. appl.","n. appl.",{"$f":"IF(OR(AP$68=\"n. appl.\",AP$68=0),\"n. appl.\",AP162/AP$68*1000)","v":"n. appl."},"n. appl.","n. appl.","n. appl.","n. appl.","n. appl.","n. appl.","n. appl.","n. appl.","n. appl.","n. appl.","n. appl.","n. appl.","n. appl.","n. appl.","n. appl.","n. appl.","n. appl.","n. appl.","n. appl.","n. appl.","n. appl.","n. appl.","n. appl.","n. appl.","n. appl."]
[null,"82a","Specific indirect CO2 from external power generation per tonne of cementitious product",null,"[kg CO2/t cem prod]",null,{"$f":"IF(G$67=\"\",\"\",IF(G$67=0,\"n. appl.\",G162/G$67*1000))","v":""},"","","","","","","","","","","","","","","","","","","","","","","","","","","","","","","","","","",{"$f":"IF(AP$67=\"\",\"\",IF(AP$67=0,\"n. appl.\",AP162/AP$67*1000))","v":""},"","","","","","","","","","","","","","","","","","","","","","","","",""]
[null,"82b","Specific indirect CO2 from net clinker imports (+) / exports (-) per tonne of cementitious product",null,"[kg CO2/t cem prod]",null,{"$f":"IF(G$67=\"\",\"\",IF(G$67=0,\"n. appl.\",G164/G$67*1000))","v":""},"","","","","","","","","","","","","","","","","","","","","","","","","","","","","","","","","","",{"$f":"IF(AP$67=\"\",\"\",IF(AP$67=0,\"n. appl.\",AP164/AP$67*1000))","v":""},"","","","","","","","","","","","","","","","","","","","","","","","",""]
[]
[null,"General Performance Indicators",null,null,null,null,{"$f":"G$7","v":1990},1991,1992,1993,1994,1995,1996,1997,1998,1999,2000,2001,2002,2003,2004,2005,2006,2007,2008,2009,2010,2011,2012,2013,2014,2015,2016,2017,2018,2019,2020,2021,2022,2023,2024,2025,2026,2027,2028,2029,2030,2031,2032,2033,2034,2035,2036,2037,2038,2039,2040,2041,2042,2043,2044,2045,2046,2047,2048,2049,2050]
[null,91,"Net outbound clinker per net clinker consumption",null,"[%]",null,{"$f":"IF(G46=\"\",\"\",IF(G46=0,\"n. appl.\",(G42-G41-G44-G45)/G46))","v":""},"","","","","","","","","","","","","","","","","","","","","","","","","","","","","","","","","","",{"$f":"IF(AP46=\"\",\"\",IF(AP46=0,\"n. appl.\",(AP42-AP41-AP44-AP45)/AP46))","v":""},"","","","","","","","","","","","","","","","","","","","","","","","",""]
[null,"92a","Clinker/cement (eq.) factor*",null,"[%]",null,{"$f":"IF(OR(G46=\"\",G65=\"\",G46=0,G65=0),\"n. appl.\",G46/G65)","v":"n. appl."},{"$f":"IF(OR(H46=\"\",H65=\"\",H46=0,H65=0),\"n. appl.\",H46/H65)","v":"n. appl."},"n. appl.","n. appl.","n. appl.","n. appl.","n. appl.","n. appl.","n. appl.","n. appl.","n. appl.","n. appl.","n. appl.","n. appl.","n. appl.","n. appl.","n. appl.","n. appl.","n. appl.","n. appl.","n. appl.","n. appl.","n. appl.","n. appl.","n. appl.","n. appl.","n. appl.","n. appl.","n. appl.","n. appl.","n. appl.","n. appl.","n. appl.","n. appl.","n. appl.",{"$f":"IF(OR(AP46=\"\",AP65=\"\",AP46=0,AP65=0),\"n. appl.\",AP46/AP65)","v":"n. appl."},"n. appl.","n. appl.","n. appl.","n. appl.","n. appl.","n. appl.","n. appl.","n. appl.","n. appl.","n. appl.","n. appl.","n. appl.","n. appl.","n. appl.","n. appl.","n. appl.","n. appl.","n. appl.","n. appl.","n. appl.","n. appl.","n. appl.","n. appl.","n. appl.","n. appl."]
[null,{"$f":"B208+1","v":92},"Clinker/cementitious factor*",null,"[%]",null,{"$f":"IF(G66=\"\",\"\",IF(G66=0,\"n. appl.\",G46/G66))","v":""},"","","","","","","","","","","","","","","","","","","","","","","","","","","","","","","","","","",{"$f":"IF(AP66=\"\",\"\",IF(AP66=0,\"n. appl.\",AP46/AP66))","v":""},"","","","","","","","","","","","","","","","","","","","","","","","",""]
[]
[null,{"$f":"B210+1","v":93},"Specific heat consumption of clinker production",null,"[MJ/t cli]",null,{"$f":"IF(G40=\"\",\"\",IF(G40=0,\"n. appl.\",G76*10^6/G40))","v":""},"","","","","","","","","","","","","","","","","","","","","","","","","","","","","","","","","","",{"$f":"IF(AP40=\"\",\"\",IF(AP40=0,\"n. appl.\",AP76*10^6/AP40))","v":""},"","","","","","","","","","","","","","","","","","","","","","","","",""]
[null,{"$f":"B212+1","v":94},"Conventional fossil fuel rate (kiln fuels)",null,"[%]",null,{"$f":"IF(G$76=\"\",\"\",IF(G$76=0,\"n. appl.\",G78/G$76))","v":"n. appl."},"n. appl.","n. appl.","n. appl.","n. appl.","n. appl.","n. appl.","n. appl.","n. appl.","n. appl.","n. appl.","n. appl.","n. appl.","n. appl.","n. appl.","n. appl.","n. appl.","n. appl.","n. appl.","n. appl.","n. appl.","n. appl.","n. appl.","n. appl.","n. appl.","n. appl.","n. appl.","n. appl.","n. appl.","n. appl.","n. appl.","n. appl.","n. appl.","n. appl.","n. appl.",{"$f":"IF(AP$76=\"\",\"\",IF(AP$76=0,\"n. appl.\",AP78/AP$76))","v":"n. appl."},"n. appl.","n. appl.","n. appl.","n. appl.","n. appl.","n. appl.","n. appl.","n. appl.","n. appl.","n. appl.","n. appl.","n. appl.","n. appl.","n. appl.","n. appl.","n. appl.","n. appl.","n. appl.","n. appl.","n. appl.","n. appl.","n. appl.","n. appl.","n. appl.","n. appl."]
[null,{"$f":"B213+1","v":95},"Alternative fossil fuel rate (kiln fuels)",null,"[%]",null,{"$f":"IF(G$76=\"\",\"\",IF(G$76=0,\"n. appl.\",G79/G$76))","v":"n. appl."},"n. appl.","n. appl.","n. appl.","n. appl.","n. appl.","n. appl.","n. appl.","n. appl.","n. appl.","n. appl.","n. appl.","n. appl.","n. appl.","n. appl.","n. appl.","n. appl.","n. appl.","n. appl.","n. appl.","n. appl.","n. appl.","n. appl.","n. appl.","n. appl.","n. appl.","n. appl.","n. appl.","n. appl.","n. appl.","n. appl.","n. appl.","n. appl.","n. appl.","n. appl.",{"$f":"IF(AP$76=\"\",\"\",IF(AP$76=0,\"n. appl.\",AP79/AP$76))","v":"n. appl."},"n. appl.","n. appl.","n. appl.","n. appl.","n. appl.","n. appl.","n. appl.","n. appl.","n. appl.","n. appl.","n. appl.","n. appl.","n. appl.","n. appl.","n. appl.","n. appl.","n. appl.","n. appl.","n. appl.","n. appl.","n. appl.","n. appl.","n. appl.","n. appl.","n. appl."]
[null,{"$f":"B214+1","v":96},"Biomass fuel rate (kiln fuels)",null,"[%]",null,{"$f":"IF(G$76=\"\",\"\",IF(G$76=0,\"n. appl.\",G80/G$76))","v":"n. appl."},"n. appl.","n. appl.","n. appl.","n. appl.","n. appl.","n. appl.","n. appl.","n. appl.","n. appl.","n. appl.","n. appl.","n. appl.","n. appl.","n. appl.","n. appl.","n. appl.","n. appl.","n. appl.","n. appl.","n. appl.","n. appl.","n. appl.","n. appl.","n. appl.","n. appl.","n. appl.","n. appl.","n. appl.","n. appl.","n. appl.","n. appl.","n. appl.","n. appl.","n. appl.",{"$f":"IF(AP$76=\"\",\"\",IF(AP$76=0,\"n. appl.\",AP80/AP$76))","v":"n. appl."},"n. appl.","n. appl.","n. appl.","n. appl.","n. appl.","n. appl.","n. appl.","n. appl.","n. appl.","n. appl.","n. appl.","n. appl.","n. appl.","n. appl.","n. appl.","n. appl.","n. appl.","n. appl.","n. appl.","n. appl.","n. appl.","n. appl.","n. appl.","n. appl.","n. appl."]
[null,"96a","CO2 emission factor for kiln fuel mix ",null,"[kg CO2/GJ]",null,{"$f":"IF(G149=\"\",\"\",IF(G149=0,\"n. appl.\",G149/G76))","v":"n. appl."},"n. appl.","n. appl.","n. appl.","n. appl.","n. appl.","n. appl.","n. appl.","n. appl.","n. appl.","n. appl.","n. appl.","n. appl.","n. appl.","n. appl.","n. appl.","n. appl.","n. appl.","n. appl.","n. appl.","n. appl.","n. appl.","n. appl.","n. appl.","n. appl.","n. appl.","n. appl.","n. appl.","n. appl.","n. appl.","n. appl.","n. appl.","n. appl.","n. appl.","n. appl.",{"$f":"IF(AP149=\"\",\"\",IF(AP149=0,\"n. appl.\",AP149/AP76))","v":"n. appl."},"n. appl.","n. appl.","n. appl.","n. appl.","n. appl.","n. appl.","n. appl.","n. appl.","n. appl.","n. appl.","n. appl.","n. appl.","n. appl.","n. appl.","n. appl.","n. appl.","n. appl.","n. appl.","n. appl.","n. appl.","n. appl.","n. appl.","n. appl.","n. appl.","n. appl."]
[null,"96b","Total conventional fossil fuel rate at plant level ",null,"[%]",null,{"$f":"IF(AND(G$76=0,G$502=0,G$506=0,G$508=0,G$513=0,G$520=0,G$522=0,G$525=0,G$532=0,G$534=0),\"n. appl.\",(G78+G502+(G506*(1-G375))+G508+G513+G525)/(G$76+G$502+G$506+G$508+G$513+G$520+G$522+G$525+G$532+G$534))","v":"n. appl."},"n. appl.","n. appl.","n. appl.","n. appl.","n. appl.","n. appl.","n. appl.","n. appl.","n. appl.","n. appl.","n. appl.","n. appl.","n. appl.","n. appl.","n. appl.","n. appl.","n. appl.","n. appl.","n. appl.","n. appl.","n. appl.","n. appl.","n. appl.","n. appl.","n. appl.","n. appl.","n. appl.","n. appl.","n. appl.","n. appl.","n. appl.","n. appl.","n. appl.","n. appl.",{"$f":"IF(AND(AP$76=0,AP$502=0,AP$506=0,AP$508=0,AP$513=0,AP$520=0,AP$522=0,AP$525=0,AP$532=0,AP$534=0),\"n. appl.\",(AP78+AP502+(AP506*(1-AP375))+AP508+AP513+AP525)/(AP$76+AP$502+AP$506+AP$508+AP$513+AP$520+AP$522+AP$525+AP$532+AP$534))","v":"n. appl."},"n. appl.","n. appl.","n. appl.","n. appl.","n. appl.","n. appl.","n. appl.","n. appl.","n. appl.","n. appl.","n. appl.","n. appl.","n. appl.","n. appl.","n. appl.","n. appl.","n. appl.","n. appl.","n. appl.","n. appl.","n. appl.","n. appl.","n. appl.","n. appl.","n. appl."]
[null,"96c","Total alternative fossil fuel rate at plant level ",null,"[%]",null,{"$f":"IF(AND(G$76=0,G$502=0,G$506=0,G$508=0,G$513=0,G$520=0,G$522=0,G$525=0,G$532=0,G$534=0),\"n. appl.\",(G79+G520+G532)/(G$76+G$502+G$506+G$508+G$513+G$520+G$522+G$525+G$532+G$534))","v":"n. appl."},"n. appl.","n. appl.","n. appl.","n. appl.","n. appl.","n. appl.","n. appl.","n. appl.","n. appl.","n. appl.","n. appl.","n. appl.","n. appl.","n. appl.","n. appl.","n. appl.","n. appl.","n. appl.","n. appl.","n. appl.","n. appl.","n. appl.","n. appl.","n. appl.","n. appl.","n. appl.","n. appl.","n. appl.","n. appl.","n. appl.","n. appl.","n. appl.","n. appl.","n. appl.",{"$f":"IF(AND(AP$76=0,AP$502=0,AP$506=0,AP$508=0,AP$513=0,AP$520=0,AP$522=0,AP$525=0,AP$532=0,AP$534=0),\"n. appl.\",(AP79+AP520+AP532)/(AP$76+AP$502+AP$506+AP$508+AP$513+AP$520+AP$522+AP$525+AP$532+AP$534))","v":"n. appl."},"n. appl.","n. appl.","n. appl.","n. appl.","n. appl.","n. appl.","n. appl.","n. appl.","n. appl.","n. appl.","n. appl.","n. appl.","n. appl.","n. appl.","n. appl.","n. appl.","n. appl.","n. appl.","n. appl.","n. appl.","n. appl.","n. appl.","n. appl.","n. appl.","n. appl."]
[null,"96d","Total biomass fuel rate at plant level ",null,"[%]",null,{"$f":"IF(AND(G$76=0,G$502=0,G$506=0,G$508=0,G$513=0,G$520=0,G$522=0,G$525=0,G$532=0,G$534=0),\"n. appl.\",(G80+(G506*G375)+G522+G534)/(G$76+G$502+G$506+G$508+G$513+G$520+G$522+G$525+G$532+G$534))","v":"n. appl."},"n. appl.","n. appl.","n. appl.","n. appl.","n. appl.","n. appl.","n. appl.","n. appl.","n. appl.","n. appl.","n. appl.","n. appl.","n. appl.","n. appl.","n. appl.","n. appl.","n. appl.","n. appl.","n. appl.","n. appl.","n. appl.","n. appl.","n. appl.","n. appl.","n. appl.","n. appl.","n. appl.","n. appl.","n. appl.","n. appl.","n. appl.","n. appl.","n. appl.","n. appl.",{"$f":"IF(AND(AP$76=0,AP$502=0,AP$506=0,AP$508=0,AP$513=0,AP$520=0,AP$522=0,AP$525=0,AP$532=0,AP$534=0),\"n. appl.\",(AP80+(AP506*AP375)+AP522+AP534)/(AP$76+AP$502+AP$506+AP$508+AP$513+AP$520+AP$522+AP$525+AP$532+AP$534))","v":"n. appl."},"n. appl.","n. appl.","n. appl.","n. appl.","n. appl.","n. appl.","n. appl.","n. appl.","n. appl.","n. appl.","n. appl.","n. appl.","n. appl.","n. appl.","n. appl.","n. appl.","n. appl.","n. appl.","n. appl.","n. appl.","n. appl.","n. appl.","n. appl.","n. appl.","n. appl."]
[]
[null,{"$f":"B215+1","v":97},"Specific total power consumption*",null,"[kWh/t cem prod]",null,{"$f":"IF(G66=\"\",\"\",IF(G66=0,\"n. appl.\",G105/G66*1000))","v":""},"","","","","","","","","","","","","","","","","","","","","","","","","","","","","","","","","","",{"$f":"IF(AP66=\"\",\"\",IF(AP66=0,\"n. appl.\",AP105/AP66*1000))","v":""},"","","","","","","","","","","","","","","","","","","","","","","","",""]
[null,98,"Specific power consumption of clinker production",null,"[kWh/t cli]",null,{"$f":"IF(G40=\"\",\"\",IF(G40=0,\"n. appl.\",G104/G40*1000))","v":""},"","","","","","","","","","","","","","","","","","","","","","","","","","","","","","","","","","",{"$f":"IF(AP40=\"\",\"\",IF(AP40=0,\"n. appl.\",AP104/AP40*1000))","v":""},"","","","","","","","","","","","","","","","","","","","","","","","",""]
[null,"98c","Specific power consumption of cement production*",null,"[kWh/t cem prod]",null,{"$f":"IF(OR(G66=\"\",G66=0),\"n. appl.\",IF(G222<>\"n. appl.\",(G222*G210)+(G105-G104)*1000/G66,(G105-G104)*1000/G66))","v":"n. appl."},{"$f":"IF(OR(H66=\"\",H66=0),\"n. appl.\",IF(H222<>\"n. appl.\",(H222*H210)+(H105-H104)*1000/H66,(H105-H104)*1000/H66))","v":"n. appl."},"n. appl.","n. appl.","n. appl.","n. appl.","n. appl.","n. appl.","n. appl.","n. appl.","n. appl.","n. appl.","n. appl.","n. appl.","n. appl.","n. appl.","n. appl.","n. appl.","n. appl.","n. appl.","n. appl.","n. appl.","n. appl.","n. appl.","n. appl.","n. appl.","n. appl.","n. appl.","n. appl.","n. appl.","n. appl.","n. appl.","n. appl.","n. appl.","n. appl.",{"$f":"IF(OR(AP66=\"\",AP66=0),\"n. appl.\",IF(AP222<>\"n. appl.\",(AP222*AP210)+(AP105-AP104)*1000/AP66,(AP105-AP104)*1000/AP66))","v":"n. appl."},"n. appl.","n. appl.","n. appl.","n. appl.","n. appl.","n. appl.","n. appl.","n. appl.","n. appl.","n. appl.","n. appl.","n. appl.","n. appl.","n. appl.","n. appl.","n. appl.","n. appl.","n. appl.","n. appl.","n. appl.","n. appl.","n. appl.","n. appl.","n. appl.","n. appl."]
[null,"98a","National energy conversion factor",null,"[MJ/kWh]"]
[null,"98b","Total energy intensity of clinker production (fuel and power)",null,"[MJ/t cli]",null,{"$f":"IF(G224<>\"\",G222*G224+G212,\"\")","v":""},"","","","","","","","","","","","","","","","","","","","","","","","","","","","","","","","","","",{"$f":"IF(AP224<>\"\",AP222*AP224+AP212,\"\")","v":""},"","","","","","","","","","","","","","","","","","","","","","","","",""]
[]
["KILN FUELS - DETAILED INFORMATION"]
[]
[null,"Kiln Fuel Consumption in tonnes per year",null,null,null,null,{"$f":"G$7","v":1990},1991,1992,1993,1994,1995,1996,1997,1998,1999,2000,2001,2002,2003,2004,2005,2006,2007,2008,2009,2010,2011,2012,2013,2014,2015,2016,2017,2018,2019,2020,2021,2022,2023,2024,2025,2026,2027,2028,2029,2030,2031,2032,2033,2034,2035,2036,2037,2038,2039,2040,2041,2042,2043,2044,2045,2046,2047,2048,2049,2050]
[null,101,"Conventional fossil fuels (excl. drying of raw materials and fuels)"]
[null,{"$f":"B230+1","v":102},null,"coal + anthracite","[t/yr]",null,{"$f":"IF(BV231=\"\",0,BV231)","v":0},0,0,0,0,0,0,0,0,0,{"$f":"IF(CF231=\"\",0,CF231)","v":0},0,0,0,0,0,0,0,0,0,{"$f":"IF(CP231=\"\",0,CP231)","v":0},0,0,0,0,0,0,0,0,{"$f":"IF(CY231=\"\",0,CY231)","v":0},{"$f":"IF(CZ231=\"\",0,CZ231)","v":0},{"$f":"IF(DA231=\"\",0,DA231)","v":0},{"$f":"IF(DB231=\"\",0,DB231)","v":0},{"$f":"IF(DC231=\"\",0,DC231)","v":0},{"$f":"IF(DD231=\"\",0,DD231)","v":0},{"$f":"IF(DE231=\"\",0,DE231)","v":0},{"$f":"IF(DF231=\"\",0,DF231)","v":0},{"$f":"IF(DG231=\"\",0,DG231)","v":0},{"$f":"IF(DH231=\"\",0,DH231)","v":0},{"$f":"IF(DI231=\"\",0,DI231)","v":0},{"$f":"IF(DJ231=\"\",0,DJ231)","v":0},{"$f":"IF(DK231=\"\",0,DK231)","v":0},{"$f":"IF(DL231=\"\",0,DL231)","v":0},{"$f":"IF(DM231=\"\",0,DM231)","v":0},{"$f":"IF(DN231=\"\",0,DN231)","v":0},{"$f":"IF(DO231=\"\",0,DO231)","v":0},{"$f":"IF(DP231=\"\",0,DP231)","v":0},{"$f":"IF(DQ231=\"\",0,DQ231)","v":0},{"$f":"IF(DR231=\"\",0,DR231)","v":0},{"$f":"IF(DS231=\"\",0,DS231)","v":0},{"$f":"IF(DT231=\"\",0,DT231)","v":0},{"$f":"IF(DU231=\"\",0,DU231)","v":0},{"$f":"IF(DV231=\"\",0,DV231)","v":0},{"$f":"IF(DW231=\"\",0,DW231)","v":0},{"$f":"IF(DX231=\"\",0,DX231)","v":0},{"$f":"IF(DY231=\"\",0,DY231)","v":0},{"$f":"IF(DZ231=\"\",0,DZ231)","v":0},{"$f":"IF(EA231=\"\",0,EA231)","v":0},{"$f":"IF(EB231=\"\",0,EB231)","v":0},{"$f":"IF(EC231=\"\",0,EC231)","v":0},{"$f":"IF(ED231=\"\",0,ED231)","v":0}]
[null,103,null,"petrol coke","[t/yr]",null,0,0,0,0,0,0,0,0,0,0,0,0,0,0,0,0,0,0,0,0,0,0,0,0,0,0,0,0,0,0,0,0,0,0,0,0,0,0,0,0,0,0,0,0,0,0,0,0,0,0,0,0,0,0,0,0,0,0,0,0,0]
[null,104,null,"(ultra) heavy fuel","[t/yr]",null,0,0,0,0,0,0,0,0,0,0,0,0,0,0,0,0,0,0,0,0,0,0,0,0,0,0,0,0,0,0,0,0,0,0,0,0,0,0,0,0,0,0,0,0,0,0,0,0,0,0,0,0,0,0,0,0,0,0,0,0,0]
[null,105,null,"diesel oil","[t/yr]",null,0,0,0,0,0,0,0,0,0,0,0,0,0,0,0,0,0,0,0,0,0,0,0,0,0,0,0,0,0,0,0,0,0,0,0,0,0,0,0,0,0,0,0,0,0,0,0,0,0,0,0,0,0,0,0,0,0,0,0,0,0]
[null,106,null,"natural gas ","[1'000 Nm3/yr]",null,0,0,0,0,0,0,0,0,0,0,0,0,0,0,0,0,0,0,0,0,0,0,0,0,0,0,0,0,0,0,0,0,0,0,0,0,0,0,0,0,0,0,0,0,0,0,0,0,0,0,0,0,0,0,0,0,0,0,0,0,0]
[null,107,null,"shale","[t/yr]",null,0,0,0,0,0,0,0,0,0,0,0,0,0,0,0,0,0,0,0,0,0,0,0,0,0,0,0,0,0,0,0,0,0,0,0,0,0,0,0,0,0,0,0,0,0,0,0,0,0,0,0,0,0,0,0,0,0,0,0,0,0]
[null,"107a",null,"lignite","[t/yr]",null,0,0,0,0,0,0,0,0,0,0,0,0,0,0,0,0,0,0,0,0,0,0,0,0,0,0,0,0,0,0,0,0,0,0,0,0,0,0,0,0,0,0,0,0,0,0,0,0,0,0,0,0,0,0,0,0,0,0,0,0,0]
[null,{"$f":"B236+1","v":108},"Alternative fossil and mixed fuels (excl. drying of raw materials and fuels)"]
[null,{"$f":"B238+1","v":109},null,"waste oil","[t/yr]",null,{"$f":"IF(BV239=\"\",0,BV239)","v":0},0,0,0,0,0,0,0,0,0,{"$f":"IF(CF239=\"\",0,CF239)","v":0},0,0,0,0,0,0,0,0,0,{"$f":"IF(CP239=\"\",0,CP239)","v":0},0,0,0,0,0,0,0,0,{"$f":"IF(CY239=\"\",0,CY239)","v":0},{"$f":"IF(CZ239=\"\",0,CZ239)","v":0},{"$f":"IF(DA239=\"\",0,DA239)","v":0},{"$f":"IF(DB239=\"\",0,DB239)","v":0},{"$f":"IF(DC239=\"\",0,DC239)","v":0},{"$f":"IF(DD239=\"\",0,DD239)","v":0},{"$f":"IF(DE239=\"\",0,DE239)","v":0},{"$f":"IF(DF239=\"\",0,DF239)","v":0},{"$f":"IF(DG239=\"\",0,DG239)","v":0},{"$f":"IF(DH239=\"\",0,DH239)","v":0},{"$f":"IF(DI239=\"\",0,DI239)","v":0},{"$f":"IF(DJ239=\"\",0,DJ239)","v":0},{"$f":"IF(DK239=\"\",0,DK239)","v":0},{"$f":"IF(DL239=\"\",0,DL239)","v":0},{"$f":"IF(DM239=\"\",0,DM239)","v":0},{"$f":"IF(DN239=\"\",0,DN239)","v":0},{"$f":"IF(DO239=\"\",0,DO239)","v":0},{"$f":"IF(DP239=\"\",0,DP239)","v":0},{"$f":"IF(DQ239=\"\",0,DQ239)","v":0},{"$f":"IF(DR239=\"\",0,DR239)","v":0},{"$f":"IF(DS239=\"\",0,DS239)","v":0},{"$f":"IF(DT239=\"\",0,DT239)","v":0},{"$f":"IF(DU239=\"\",0,DU239)","v":0},{"$f":"IF(DV239=\"\",0,DV239)","v":0},{"$f":"IF(DW239=\"\",0,DW239)","v":0},{"$f":"IF(DX239=\"\",0,DX239)","v":0},{"$f":"IF(DY239=\"\",0,DY239)","v":0},{"$f":"IF(DZ239=\"\",0,DZ239)","v":0},{"$f":"IF(EA239=\"\",0,EA239)","v":0},{"$f":"IF(EB239=\"\",0,EB239)","v":0},{"$f":"IF(EC239=\"\",0,EC239)","v":0},{"$f":"IF(ED239=\"\",0,ED239)","v":0}]
[null,{"$f":"B239+1","v":110},null,"tyres ","[t/yr]",null,0,0,0,0,0,0,0,0,0,0,0,0,0,0,0,0,0,0,0,0,0,0,0,0,0,0,0,0,0,0,0,0,0,0,0,0,0,0,0,0,0,0,0,0,0,0,0,0,0,0,0,0,0,0,0,0,0,0,0,0,0]
[null,{"$f":"B240+1","v":111},null,"RDF including plastics","[t/yr]",null,0,0,0,0,0,0,0,0,0,0,0,0,0,0,0,0,0,0,0,0,0,0,0,0,0,0,0,0,0,0,0,0,0,0,0,0,0,0,0,0,0,0,0,0,0,0,0,0,0,0,0,0,0,0,0,0,0,0,0,0,0]
[null,{"$f":"B241+1","v":112},null,"solvents","[t/yr]",null,0,0,0,0,0,0,0,0,0,0,0,0,0,0,0,0,0,0,0,0,0,0,0,0,0,0,0,0,0,0,0,0,0,0,0,0,0,0,0,0,0,0,0,0,0,0,0,0,0,0,0,0,0,0,0,0,0,0,0,0,0]
[null,{"$f":"B242+1","v":113},null,"impregnated saw dust","[t/yr]",null,0,0,0,0,0,0,0,0,0,0,0,0,0,0,0,0,0,0,0,0,0,0,0,0,0,0,0,0,0,0,0,0,0,0,0,0,0,0,0,0,0,0,0,0,0,0,0,0,0,0,0,0,0,0,0,0,0,0,0,0,0]
[null,"113a",null,"mixed industrial waste","[t/yr]",null,0,0,0,0,0,0,0,0,0,0,0,0,0,0,0,0,0,0,0,0,0,0,0,0,0,0,0,0,0,0,0,0,0,0,0,0,0,0,0,0,0,0,0,0,0,0,0,0,0,0,0,0,0,0,0,0,0,0,0,0,0]
[null,114,null,"other fossil based wastes and mixed fuels","[t/yr]",null,0,0,0,0,0,0,0,0,0,0,0,0,0,0,0,0,0,0,0,0,0,0,0,0,0,0,0,0,0,0,0,0,0,0,0,0,0,0,0,0,0,0,0,0,0,0,0,0,0,0,0,0,0,0,0,0,0,0,0,0,0]
[null,{"$f":"B245+1","v":115},"Biomass fuels (excl. drying of raw materials and fuels)"]
[null,116,null,"dried sewage sludge","[t/yr]",null,{"$f":"IF(BV247=\"\",0,BV247)","v":0},0,0,0,0,0,0,0,0,0,{"$f":"IF(CF247=\"\",0,CF247)","v":0},0,0,0,0,0,0,0,0,0,{"$f":"IF(CP247=\"\",0,CP247)","v":0},0,0,0,0,0,0,0,0,{"$f":"IF(CY247=\"\",0,CY247)","v":0},{"$f":"IF(CZ247=\"\",0,CZ247)","v":0},{"$f":"IF(DA247=\"\",0,DA247)","v":0},{"$f":"IF(DB247=\"\",0,DB247)","v":0},{"$f":"IF(DC247=\"\",0,DC247)","v":0},{"$f":"IF(DD247=\"\",0,DD247)","v":0},{"$f":"IF(DE247=\"\",0,DE247)","v":0},{"$f":"IF(DF247=\"\",0,DF247)","v":0},{"$f":"IF(DG247=\"\",0,DG247)","v":0},{"$f":"IF(DH247=\"\",0,DH247)","v":0},{"$f":"IF(DI247=\"\",0,DI247)","v":0},{"$f":"IF(DJ247=\"\",0,DJ247)","v":0},{"$f":"IF(DK247=\"\",0,DK247)","v":0},{"$f":"IF(DL247=\"\",0,DL247)","v":0},{"$f":"IF(DM247=\"\",0,DM247)","v":0},{"$f":"IF(DN247=\"\",0,DN247)","v":0},{"$f":"IF(DO247=\"\",0,DO247)","v":0},{"$f":"IF(DP247=\"\",0,DP247)","v":0},{"$f":"IF(DQ247=\"\",0,DQ247)","v":0},{"$f":"IF(DR247=\"\",0,DR247)","v":0},{"$f":"IF(DS247=\"\",0,DS247)","v":0},{"$f":"IF(DT247=\"\",0,DT247)","v":0},{"$f":"IF(DU247=\"\",0,DU247)","v":0},{"$f":"IF(DV247=\"\",0,DV247)","v":0},{"$f":"IF(DW247=\"\",0,DW247)","v":0},{"$f":"IF(DX247=\"\",0,DX247)","v":0},{"$f":"IF(DY247=\"\",0,DY247)","v":0},{"$f":"IF(DZ247=\"\",0,DZ247)","v":0},{"$f":"IF(EA247=\"\",0,EA247)","v":0},{"$f":"IF(EB247=\"\",0,EB247)","v":0},{"$f":"IF(EC247=\"\",0,EC247)","v":0},{"$f":"IF(ED247=\"\",0,ED247)","v":0}]
[null,117,null,"wood, non impregnated saw dust","[t/yr]",null,0,0,0,0,0,0,0,0,0,0,0,0,0,0,0,0,0,0,0,0,0,0,0,0,0,0,0,0,0,0,0,0,0,0,0,0,0,0,0,0,0,0,0,0,0,0,0,0,0,0,0,0,0,0,0,0,0,0,0,0,0]
[null,118,null,"paper, carton","[t/yr]",null,0,0,0,0,0,0,0,0,0,0,0,0,0,0,0,0,0,0,0,0,0,0,0,0,0,0,0,0,0,0,0,0,0,0,0,0,0,0,0,0,0,0,0,0,0,0,0,0,0,0,0,0,0,0,0,0,0,0,0,0,0]
[null,119,null,"animal meal","[t/yr]",null,0,0,0,0,0,0,0,0,0,0,0,0,0,0,0,0,0,0,0,0,0,0,0,0,0,0,0,0,0,0,0,0,0,0,0,0,0,0,0,0,0,0,0,0,0,0,0,0,0,0,0,0,0,0,0,0,0,0,0,0,0]
[null,120,null,"animal bone meal","[t/yr]",null,0,0,0,0,0,0,0,0,0,0,0,0,0,0,0,0,0,0,0,0,0,0,0,0,0,0,0,0,0,0,0,0,0,0,0,0,0,0,0,0,0,0,0,0,0,0,0,0,0,0,0,0,0,0,0,0,0,0,0,0,0]
[null,121,null,"animal fat","[t/yr]",null,0,0,0,0,0,0,0,0,0,0,0,0,0,0,0,0,0,0,0,0,0,0,0,0,0,0,0,0,0,0,0,0,0,0,0,0,0,0,0,0,0,0,0,0,0,0,0,0,0,0,0,0,0,0,0,0,0,0,0,0,0]
[null,122,null,"agricultural, organic, diaper waste, charcoal","[t/yr]",null,0,0,0,0,0,0,0,0,0,0,0,0,0,0,0,0,0,0,0,0,0,0,0,0,0,0,0,0,0,0,0,0,0,0,0,0,0,0,0,0,0,0,0,0,0,0,0,0,0,0,0,0,0,0,0,0,0,0,0,0,0]
[null,123,null,"other biomass","[t/yr]",null,0,0,0,0,0,0,0,0,0,0,0,0,0,0,0,0,0,0,0,0,0,0,0,0,0,0,0,0,0,0,0,0,0,0,0,0,0,0,0,0,0,0,0,0,0,0,0,0,0,0,0,0,0,0,0,0,0,0,0,0,0]
[null,"Drying of raw materials and fuels",null,null,null,null,{"$f":"G$7","v":1990},1991,1992,1993,1994,1995,1996,1997,1998,1999,2000,2001,2002,2003,2004,2005,2006,2007,2008,2009,2010,2011,2012,2013,2014,2015,2016,2017,2018,2019,2020,2021,2022,2023,2024,2025,2026,2027,2028,2029,2030,2031,2032,2033,2034,2035,2036,2037,2038,2039,2040,2041,2042,2043,2044,2045,2046,2047,2048,2049,2050]
[null,124,"Conventional fossil fuels"]
[null,"124a",null,"coal + anthracite + lignite","[t/yr]",null,{"$f":"IF(BV257=\"\",0,BV257)","v":0},0,0,0,0,0,0,0,0,0,{"$f":"IF(CF257=\"\",0,CF257)","v":0},0,0,0,0,0,0,0,0,0,{"$f":"IF(CP257=\"\",0,CP257)","v":0},0,0,0,0,0,0,0,0,{"$f":"IF(CY257=\"\",0,CY257)","v":0},{"$f":"IF(CZ257=\"\",0,CZ257)","v":0},{"$f":"IF(DA257=\"\",0,DA257)","v":0},{"$f":"IF(DB257=\"\",0,DB257)","v":0},{"$f":"IF(DC257=\"\",0,DC257)","v":0},{"$f":"IF(DD257=\"\",0,DD257)","v":0},{"$f":"IF(DE257=\"\",0,DE257)","v":0},{"$f":"IF(DF257=\"\",0,DF257)","v":0},{"$f":"IF(DG257=\"\",0,DG257)","v":0},{"$f":"IF(DH257=\"\",0,DH257)","v":0},{"$f":"IF(DI257=\"\",0,DI257)","v":0},{"$f":"IF(DJ257=\"\",0,DJ257)","v":0},{"$f":"IF(DK257=\"\",0,DK257)","v":0},{"$f":"IF(DL257=\"\",0,DL257)","v":0},{"$f":"IF(DM257=\"\",0,DM257)","v":0},{"$f":"IF(DN257=\"\",0,DN257)","v":0},{"$f":"IF(DO257=\"\",0,DO257)","v":0},{"$f":"IF(DP257=\"\",0,DP257)","v":0},{"$f":"IF(DQ257=\"\",0,DQ257)","v":0},{"$f":"IF(DR257=\"\",0,DR257)","v":0},{"$f":"IF(DS257=\"\",0,DS257)","v":0},{"$f":"IF(DT257=\"\",0,DT257)","v":0},{"$f":"IF(DU257=\"\",0,DU257)","v":0},{"$f":"IF(DV257=\"\",0,DV257)","v":0},{"$f":"IF(DW257=\"\",0,DW257)","v":0},{"$f":"IF(DX257=\"\",0,DX257)","v":0},{"$f":"IF(DY257=\"\",0,DY257)","v":0},{"$f":"IF(DZ257=\"\",0,DZ257)","v":0},{"$f":"IF(EA257=\"\",0,EA257)","v":0},{"$f":"IF(EB257=\"\",0,EB257)","v":0},{"$f":"IF(EC257=\"\",0,EC257)","v":0},{"$f":"IF(ED257=\"\",0,ED257)","v":0}]
[null,"124b",null,"petrol coke","[t/yr]",null,0,0,0,0,0,0,0,0,0,0,0,0,0,0,0,0,0,0,0,0,0,0,0,0,0,0,0,0,0,0,0,0,0,0,0,0,0,0,0,0,0,0,0,0,0,0,0,0,0,0,0,0,0,0,0,0,0,0,0,0,0]
[null,"124c",null,"(ultra) heavy fuel","[t/yr]",null,0,0,0,0,0,0,0,0,0,0,0,0,0,0,0,0,0,0,0,0,0,0,0,0,0,0,0,0,0,0,0,0,0,0,0,0,0,0,0,0,0,0,0,0,0,0,0,0,0,0,0,0,0,0,0,0,0,0,0,0,0]
[null,"124d",null,"diesel oil","[t/yr]",null,0,0,0,0,0,0,0,0,0,0,0,0,0,0,0,0,0,0,0,0,0,0,0,0,0,0,0,0,0,0,0,0,0,0,0,0,0,0,0,0,0,0,0,0,0,0,0,0,0,0,0,0,0,0,0,0,0,0,0,0,0]
[null,"124e",null,"natural gas ","[1'000 Nm3/yr]",null,0,0,0,0,0,0,0,0,0,0,0,0,0,0,0,0,0,0,0,0,0,0,0,0,0,0,0,0,0,0,0,0,0,0,0,0,0,0,0,0,0,0,0,0,0,0,0,0,0,0,0,0,0,0,0,0,0,0,0,0,0]
[null,"124f",null,"shale","[t/yr]",null,0,0,0,0,0,0,0,0,0,0,0,0,0,0,0,0,0,0,0,0,0,0,0,0,0,0,0,0,0,0,0,0,0,0,0,0,0,0,0,0,0,0,0,0,0,0,0,0,0,0,0,0,0,0,0,0,0,0,0,0,0]
[null,125,"Alternative fossil and mixed fuels"]
[null,"125a",null,"other fossil based wastes and mixed fuels","[t/yr]",null,{"$f":"IF(BV264=\"\",0,BV264)","v":0},0,0,0,0,0,0,0,0,0,0,0,0,0,0,0,0,0,0,0,0,0,0,0,0,0,0,0,0,{"$f":"IF(CY264=\"\",0,CY264)","v":0},{"$f":"IF(CZ264=\"\",0,CZ264)","v":0},{"$f":"IF(DA264=\"\",0,DA264)","v":0},{"$f":"IF(DB264=\"\",0,DB264)","v":0},{"$f":"IF(DC264=\"\",0,DC264)","v":0},{"$f":"IF(DD264=\"\",0,DD264)","v":0},{"$f":"IF(DE264=\"\",0,DE264)","v":0},{"$f":"IF(DF264=\"\",0,DF264)","v":0},{"$f":"IF(DG264=\"\",0,DG264)","v":0},{"$f":"IF(DH264=\"\",0,DH264)","v":0},{"$f":"IF(DI264=\"\",0,DI264)","v":0},{"$f":"IF(DJ264=\"\",0,DJ264)","v":0},{"$f":"IF(DK264=\"\",0,DK264)","v":0},{"$f":"IF(DL264=\"\",0,DL264)","v":0},{"$f":"IF(DM264=\"\",0,DM264)","v":0},{"$f":"IF(DN264=\"\",0,DN264)","v":0},{"$f":"IF(DO264=\"\",0,DO264)","v":0},{"$f":"IF(DP264=\"\",0,DP264)","v":0},{"$f":"IF(DQ264=\"\",0,DQ264)","v":0},{"$f":"IF(DR264=\"\",0,DR264)","v":0},{"$f":"IF(DS264=\"\",0,DS264)","v":0},{"$f":"IF(DT264=\"\",0,DT264)","v":0},{"$f":"IF(DU264=\"\",0,DU264)","v":0},{"$f":"IF(DV264=\"\",0,DV264)","v":0},{"$f":"IF(DW264=\"\",0,DW264)","v":0},{"$f":"IF(DX264=\"\",0,DX264)","v":0},{"$f":"IF(DY264=\"\",0,DY264)","v":0},{"$f":"IF(DZ264=\"\",0,DZ264)","v":0},{"$f":"IF(EA264=\"\",0,EA264)","v":0},{"$f":"IF(EB264=\"\",0,EB264)","v":0},{"$f":"IF(EC264=\"\",0,EC264)","v":0},{"$f":"IF(ED264=\"\",0,ED264)","v":0}]
[null,126,"Alternative biomass fuels"]
[null,"126a",null,"other biomass","[t/yr]",null,{"$f":"IF(BV266=\"\",0,BV266)","v":0},0,0,0,0,0,0,0,0,0,0,0,0,0,0,0,0,0,0,0,0,0,0,0,0,0,0,0,0,{"$f":"IF(CY266=\"\",0,CY266)","v":0},{"$f":"IF(CZ266=\"\",0,CZ266)","v":0},{"$f":"IF(DA266=\"\",0,DA266)","v":0},{"$f":"IF(DB266=\"\",0,DB266)","v":0},{"$f":"IF(DC266=\"\",0,DC266)","v":0},{"$f":"IF(DD266=\"\",0,DD266)","v":0},{"$f":"IF(DE266=\"\",0,DE266)","v":0},{"$f":"IF(DF266=\"\",0,DF266)","v":0},{"$f":"IF(DG266=\"\",0,DG266)","v":0},{"$f":"IF(DH266=\"\",0,DH266)","v":0},{"$f":"IF(DI266=\"\",0,DI266)","v":0},{"$f":"IF(DJ266=\"\",0,DJ266)","v":0},{"$f":"IF(DK266=\"\",0,DK266)","v":0},{"$f":"IF(DL266=\"\",0,DL266)","v":0},{"$f":"IF(DM266=\"\",0,DM266)","v":0},{"$f":"IF(DN266=\"\",0,DN266)","v":0},{"$f":"IF(DO266=\"\",0,DO266)","v":0},{"$f":"IF(DP266=\"\",0,DP266)","v":0},{"$f":"IF(DQ266=\"\",0,DQ266)","v":0},{"$f":"IF(DR266=\"\",0,DR266)","v":0},{"$f":"IF(DS266=\"\",0,DS266)","v":0},{"$f":"IF(DT266=\"\",0,DT266)","v":0},{"$f":"IF(DU266=\"\",0,DU266)","v":0},{"$f":"IF(DV266=\"\",0,DV266)","v":0},{"$f":"IF(DW266=\"\",0,DW266)","v":0},{"$f":"IF(DX266=\"\",0,DX266)","v":0},{"$f":"IF(DY266=\"\",0,DY266)","v":0},{"$f":"IF(DZ266=\"\",0,DZ266)","v":0},{"$f":"IF(EA266=\"\",0,EA266)","v":0},{"$f":"IF(EB266=\"\",0,EB266)","v":0},{"$f":"IF(EC266=\"\",0,EC266)","v":0},{"$f":"IF(ED266=\"\",0,ED266)","v":0}]
[]
[null,"Fuel Lower Heating Values",null,null,null,null,{"$f":"G$7","v":1990},1991,1992,1993,1994,1995,1996,1997,1998,1999,2000,2001,2002,2003,2004,2005,2006,2007,2008,2009,2010,2011,2012,2013,2014,2015,2016,2017,2018,2019,2020,2021,2022,2023,2024,2025,2026,2027,2028,2029,2030,2031,2032,2033,2034,2035,2036,2037,2038,2039,2040,2041,2042,2043,2044,2045,2046,2047,2048,2049,2050]
[null,131,"Conventional fossil fuels"]
[null,{"$f":"B269+1","v":132},null,"coal + anthracite","[GJ/t]",null,{"$f":"IF(BV270=\"\",0,BV270)","v":0},0,0,0,0,0,0,0,0,0,{"$f":"IF(CF270=\"\",0,CF270)","v":0},0,0,0,0,0,0,0,0,0,{"$f":"IF(CP270=\"\",0,CP270)","v":0},0,0,0,0,0,0,0,0,{"$f":"IF(CY270=\"\",0,CY270)","v":0},{"$f":"IF(CZ270=\"\",0,CZ270)","v":0},{"$f":"IF(DA270=\"\",0,DA270)","v":0},{"$f":"IF(DB270=\"\",0,DB270)","v":0},{"$f":"IF(DC270=\"\",0,DC270)","v":0},{"$f":"IF(DD270=\"\",0,DD270)","v":0},{"$f":"IF(DE270=\"\",0,DE270)","v":0},{"$f":"IF(DF270=\"\",0,DF270)","v":0},{"$f":"IF(DG270=\"\",0,DG270)","v":0},{"$f":"IF(DH270=\"\",0,DH270)","v":0},{"$f":"IF(DI270=\"\",0,DI270)","v":0},{"$f":"IF(DJ270=\"\",0,DJ270)","v":0},{"$f":"IF(DK270=\"\",0,DK270)","v":0},{"$f":"IF(DL270=\"\",0,DL270)","v":0},{"$f":"IF(DM270=\"\",0,DM270)","v":0},{"$f":"IF(DN270=\"\",0,DN270)","v":0},{"$f":"IF(DO270=\"\",0,DO270)","v":0},{"$f":"IF(DP270=\"\",0,DP270)","v":0},{"$f":"IF(DQ270=\"\",0,DQ270)","v":0},{"$f":"IF(DR270=\"\",0,DR270)","v":0},{"$f":"IF(DS270=\"\",0,DS270)","v":0},{"$f":"IF(DT270=\"\",0,DT270)","v":0},{"$f":"IF(DU270=\"\",0,DU270)","v":0},{"$f":"IF(DV270=\"\",0,DV270)","v":0},{"$f":"IF(DW270=\"\",0,DW270)","v":0},{"$f":"IF(DX270=\"\",0,DX270)","v":0},{"$f":"IF(DY270=\"\",0,DY270)","v":0},{"$f":"IF(DZ270=\"\",0,DZ270)","v":0},{"$f":"IF(EA270=\"\",0,EA270)","v":0},{"$f":"IF(EB270=\"\",0,EB270)","v":0},{"$f":"IF(EC270=\"\",0,EC270)","v":0},{"$f":"IF(ED270=\"\",0,ED270)","v":0}]
[null,133,null,"petrol coke","[GJ/t]",null,0,0,0,0,0,0,0,0,0,0,0,0,0,0,0,0,0,0,0,0,0,0,0,0,0,0,0,0,0,0,0,0,0,0,0,0,0,0,0,0,0,0,0,0,0,0,0,0,0,0,0,0,0,0,0,0,0,0,0,0,0]
[null,134,null,"(ultra) heavy fuel","[GJ/t]",null,0,0,0,0,0,0,0,0,0,0,0,0,0,0,0,0,0,0,0,0,0,0,0,0,0,0,0,0,0,0,0,0,0,0,0,0,0,0,0,0,0,0,0,0,0,0,0,0,0,0,0,0,0,0,0,0,0,0,0,0,0]
[null,135,null,"diesel oil","[GJ/t]",null,0,0,0,0,0,0,0,0,0,0,0,0,0,0,0,0,0,0,0,0,0,0,0,0,0,0,0,0,0,0,0,0,0,0,0,0,0,0,0,0,0,0,0,0,0,0,0,0,0,0,0,0,0,0,0,0,0,0,0,0,0]
[null,136,null,"natural gas ","[GJ/1'000 Nm3]",null,0,0,0,0,0,0,0,0,0,0,0,0,0,0,0,0,0,0,0,0,0,0,0,0,0,0,0,0,0,0,0,0,0,0,0,0,0,0,0,0,0,0,0,0,0,0,0,0,0,0,0,0,0,0,0,0,0,0,0,0,0]
[null,137,null,"shale","[GJ/t]",null,0,0,0,0,0,0,0,0,0,0,0,0,0,0,0,0,0,0,0,0,0,0,0,0,0,0,0,0,0,0,0,0,0,0,0,0,0,0,0,0,0,0,0,0,0,0,0,0,0,0,0,0,0,0,0,0,0,0,0,0,0]
[null,"137a",null,"lignite","[GJ/t]",null,0,0,0,0,0,0,0,0,0,0,0,0,0,0,0,0,0,0,0,0,0,0,0,0,0,0,0,0,0,0,0,0,0,0,0,0,0,0,0,0,0,0,0,0,0,0,0,0,0,0,0,0,0,0,0,0,0,0,0,0,0]
[null,{"$f":"B275+1","v":138},"Alternative fossil and mixed fuels"]
[null,{"$f":"B277+1","v":139},null,"waste oil","[GJ/t]",null,{"$f":"IF(BV278=\"\",0,BV278)","v":0},0,0,0,0,0,0,0,0,0,{"$f":"IF(CF278=\"\",0,CF278)","v":0},0,0,0,0,0,0,0,0,0,{"$f":"IF(CP278=\"\",0,CP278)","v":0},0,0,0,0,0,0,0,0,{"$f":"IF(CY278=\"\",0,CY278)","v":0},{"$f":"IF(CZ278=\"\",0,CZ278)","v":0},{"$f":"IF(DA278=\"\",0,DA278)","v":0},{"$f":"IF(DB278=\"\",0,DB278)","v":0},{"$f":"IF(DC278=\"\",0,DC278)","v":0},{"$f":"IF(DD278=\"\",0,DD278)","v":0},{"$f":"IF(DE278=\"\",0,DE278)","v":0},{"$f":"IF(DF278=\"\",0,DF278)","v":0},{"$f":"IF(DG278=\"\",0,DG278)","v":0},{"$f":"IF(DH278=\"\",0,DH278)","v":0},{"$f":"IF(DI278=\"\",0,DI278)","v":0},{"$f":"IF(DJ278=\"\",0,DJ278)","v":0},{"$f":"IF(DK278=\"\",0,DK278)","v":0},{"$f":"IF(DL278=\"\",0,DL278)","v":0},{"$f":"IF(DM278=\"\",0,DM278)","v":0},{"$f":"IF(DN278=\"\",0,DN278)","v":0},{"$f":"IF(DO278=\"\",0,DO278)","v":0},{"$f":"IF(DP278=\"\",0,DP278)","v":0},{"$f":"IF(DQ278=\"\",0,DQ278)","v":0},{"$f":"IF(DR278=\"\",0,DR278)","v":0},{"$f":"IF(DS278=\"\",0,DS278)","v":0},{"$f":"IF(DT278=\"\",0,DT278)","v":0},{"$f":"IF(DU278=\"\",0,DU278)","v":0},{"$f":"IF(DV278=\"\",0,DV278)","v":0},{"$f":"IF(DW278=\"\",0,DW278)","v":0},{"$f":"IF(DX278=\"\",0,DX278)","v":0},{"$f":"IF(DY278=\"\",0,DY278)","v":0},{"$f":"IF(DZ278=\"\",0,DZ278)","v":0},{"$f":"IF(EA278=\"\",0,EA278)","v":0},{"$f":"IF(EB278=\"\",0,EB278)","v":0},{"$f":"IF(EC278=\"\",0,EC278)","v":0},{"$f":"IF(ED278=\"\",0,ED278)","v":0}]
[null,{"$f":"B278+1","v":140},null,"tyres","[GJ/t]",null,0,0,0,0,0,0,0,0,0,0,0,0,0,0,0,0,0,0,0,0,0,0,0,0,0,0,0,0,0,0,0,0,0,0,0,0,0,0,0,0,0,0,0,0,0,0,0,0,0,0,0,0,0,0,0,0,0,0,0,0,0]
[null,{"$f":"B279+1","v":141},null,"RDF including plastics","[GJ/t]",null,0,0,0,0,0,0,0,0,0,0,0,0,0,0,0,0,0,0,0,0,0,0,0,0,0,0,0,0,0,0,0,0,0,0,0,0,0,0,0,0,0,0,0,0,0,0,0,0,0,0,0,0,0,0,0,0,0,0,0,0,0]
[null,{"$f":"B280+1","v":142},null,"solvents","[GJ/t]",null,0,0,0,0,0,0,0,0,0,0,0,0,0,0,0,0,0,0,0,0,0,0,0,0,0,0,0,0,0,0,0,0,0,0,0,0,0,0,0,0,0,0,0,0,0,0,0,0,0,0,0,0,0,0,0,0,0,0,0,0,0]
[null,{"$f":"B281+1","v":143},null,"impregnated saw dust","[GJ/t]",null,0,0,0,0,0,0,0,0,0,0,0,0,0,0,0,0,0,0,0,0,0,0,0,0,0,0,0,0,0,0,0,0,0,0,0,0,0,0,0,0,0,0,0,0,0,0,0,0,0,0,0,0,0,0,0,0,0,0,0,0,0]
[null,"143a",null,"mixed industrial waste","[GJ/t]",null,0,0,0,0,0,0,0,0,0,0,0,0,0,0,0,0,0,0,0,0,0,0,0,0,0,0,0,0,0,0,0,0,0,0,0,0,0,0,0,0,0,0,0,0,0,0,0,0,0,0,0,0,0,0,0,0,0,0,0,0,0]
[null,144,null,"other fossil based wastes and mixed fuels","[GJ/t]",null,0,0,0,0,0,0,0,0,0,0,0,0,0,0,0,0,0,0,0,0,0,0,0,0,0,0,0,0,0,0,0,0,0,0,0,0,0,0,0,0,0,0,0,0,0,0,0,0,0,0,0,0,0,0,0,0,0,0,0,0,0]
[null,{"$f":"B284+1","v":145},"Biomass fuels"]
[null,146,null,"sewage sludge","[GJ/t]",null,{"$f":"IF(BV286=\"\",0,BV286)","v":0},0,0,0,0,0,0,0,0,0,{"$f":"IF(CF286=\"\",0,CF286)","v":0},0,0,0,0,0,0,0,0,0,{"$f":"IF(CP286=\"\",0,CP286)","v":0},0,0,0,0,0,0,0,0,{"$f":"IF(CY286=\"\",0,CY286)","v":0},{"$f":"IF(CZ286=\"\",0,CZ286)","v":0},{"$f":"IF(DA286=\"\",0,DA286)","v":0},{"$f":"IF(DB286=\"\",0,DB286)","v":0},{"$f":"IF(DC286=\"\",0,DC286)","v":0},{"$f":"IF(DD286=\"\",0,DD286)","v":0},{"$f":"IF(DE286=\"\",0,DE286)","v":0},{"$f":"IF(DF286=\"\",0,DF286)","v":0},{"$f":"IF(DG286=\"\",0,DG286)","v":0},{"$f":"IF(DH286=\"\",0,DH286)","v":0},{"$f":"IF(DI286=\"\",0,DI286)","v":0},{"$f":"IF(DJ286=\"\",0,DJ286)","v":0},{"$f":"IF(DK286=\"\",0,DK286)","v":0},{"$f":"IF(DL286=\"\",0,DL286)","v":0},{"$f":"IF(DM286=\"\",0,DM286)","v":0},{"$f":"IF(DN286=\"\",0,DN286)","v":0},{"$f":"IF(DO286=\"\",0,DO286)","v":0},{"$f":"IF(DP286=\"\",0,DP286)","v":0},{"$f":"IF(DQ286=\"\",0,DQ286)","v":0},{"$f":"IF(DR286=\"\",0,DR286)","v":0},{"$f":"IF(DS286=\"\",0,DS286)","v":0},{"$f":"IF(DT286=\"\",0,DT286)","v":0},{"$f":"IF(DU286=\"\",0,DU286)","v":0},{"$f":"IF(DV286=\"\",0,DV286)","v":0},{"$f":"IF(DW286=\"\",0,DW286)","v":0},{"$f":"IF(DX286=\"\",0,DX286)","v":0},{"$f":"IF(DY286=\"\",0,DY286)","v":0},{"$f":"IF(DZ286=\"\",0,DZ286)","v":0},{"$f":"IF(EA286=\"\",0,EA286)","v":0},{"$f":"IF(EB286=\"\",0,EB286)","v":0},{"$f":"IF(EC286=\"\",0,EC286)","v":0},{"$f":"IF(ED286=\"\",0,ED286)","v":0}]
[null,147,null,"wood, non impregnated saw dust","[GJ/t]",null,0,0,0,0,0,0,0,0,0,0,0,0,0,0,0,0,0,0,0,0,0,0,0,0,0,0,0,0,0,0,0,0,0,0,0,0,0,0,0,0,0,0,0,0,0,0,0,0,0,0,0,0,0,0,0,0,0,0,0,0,0]
[null,148,null,"paper, carton","[GJ/t]",null,0,0,0,0,0,0,0,0,0,0,0,0,0,0,0,0,0,0,0,0,0,0,0,0,0,0,0,0,0,0,0,0,0,0,0,0,0,0,0,0,0,0,0,0,0,0,0,0,0,0,0,0,0,0,0,0,0,0,0,0,0]
[null,149,null,"animal meal","[GJ/t]",null,0,0,0,0,0,0,0,0,0,0,0,0,0,0,0,0,0,0,0,0,0,0,0,0,0,0,0,0,0,0,0,0,0,0,0,0,0,0,0,0,0,0,0,0,0,0,0,0,0,0,0,0,0,0,0,0,0,0,0,0,0]
[null,150,null,"animal bone meal","[GJ/t]",null,0,0,0,0,0,0,0,0,0,0,0,0,0,0,0,0,0,0,0,0,0,0,0,0,0,0,0,0,0,0,0,0,0,0,0,0,0,0,0,0,0,0,0,0,0,0,0,0,0,0,0,0,0,0,0,0,0,0,0,0,0]
[null,151,null,"animal fat","[GJ/t]",null,0,0,0,0,0,0,0,0,0,0,0,0,0,0,0,0,0,0,0,0,0,0,0,0,0,0,0,0,0,0,0,0,0,0,0,0,0,0,0,0,0,0,0,0,0,0,0,0,0,0,0,0,0,0,0,0,0,0,0,0,0]
[null,152,null,"agricultural, organic, diaper waste, charcoal","[GJ/t]",null,0,0,0,0,0,0,0,0,0,0,0,0,0,0,0,0,0,0,0,0,0,0,0,0,0,0,0,0,0,0,0,0,0,0,0,0,0,0,0,0,0,0,0,0,0,0,0,0,0,0,0,0,0,0,0,0,0,0,0,0,0]
[null,153,null,"other biomass","[GJ/t]",null,0,0,0,0,0,0,0,0,0,0,0,0,0,0,0,0,0,0,0,0,0,0,0,0,0,0,0,0,0,0,0,0,0,0,0,0,0,0,0,0,0,0,0,0,0,0,0,0,0,0,0,0,0,0,0,0,0,0,0,0,0]
[null,"Drying of raw materials and fuels",null,null,null,null,{"$f":"G$7","v":1990},1991,1992,1993,1994,1995,1996,1997,1998,1999,2000,2001,2002,2003,2004,2005,2006,2007,2008,2009,2010,2011,2012,2013,2014,2015,2016,2017,2018,2019,2020,2021,2022,2023,2024,2025,2026,2027,2028,2029,2030,2031,2032,2033,2034,2035,2036,2037,2038,2039,2040,2041,2042,2043,2044,2045,2046,2047,2048,2049,2050]
[null,154,"Conventional fossil fuels"]
[null,"154a",null,"coal + anthracite + lignite","[GJ/t]",null,{"$f":"IF(BV296=\"\",G270,BV296)","v":0},0,0,0,0,0,0,0,0,0,{"$f":"IF(CF296=\"\",Q270,CF296)","v":0},0,0,0,0,0,0,0,0,0,{"$f":"IF(CP296=\"\",AA270,CP296)","v":0},0,0,0,0,0,0,0,0,{"$f":"IF(CY296=\"\",AJ270,CY296)","v":0},0,0,0,0,0,0,0,0,0,0,0,0,0,0,0,0,0,0,0,0,0,0,0,0,0,0,0,0,0,0,0]
[null,"154b",null,"petrol coke","[GJ/t]",null,0,0,0,0,0,0,0,0,0,0,0,0,0,0,0,0,0,0,0,0,0,0,0,0,0,0,0,0,0,{"$f":"IF(CY297=\"\",AJ271,CY297)","v":0},0,0,0,0,0,0,0,0,0,0,0,0,0,0,0,0,0,0,0,0,0,0,0,0,0,0,0,0,0,0,0]
[null,"154c",null,"(ultra) heavy fuel","[GJ/t]",null,0,0,0,0,0,0,0,0,0,0,0,0,0,0,0,0,0,0,0,0,0,0,0,0,0,0,0,0,0,{"$f":"IF(CY298=\"\",AJ272,CY298)","v":0},0,0,0,0,0,0,0,0,0,0,0,0,0,0,0,0,0,0,0,0,0,0,0,0,0,0,0,0,0,0,0]
[null,"154d",null,"diesel oil","[GJ/t]",null,0,0,0,0,0,0,0,0,0,0,0,0,0,0,0,0,0,0,0,0,0,0,0,0,0,0,0,0,0,{"$f":"IF(CY299=\"\",AJ273,CY299)","v":0},0,0,0,0,0,0,0,0,0,0,0,0,0,0,0,0,0,0,0,0,0,0,0,0,0,0,0,0,0,0,0]
[null,"154e",null,"natural gas ","[GJ/1'000 Nm3]",null,0,0,0,0,0,0,0,0,0,0,0,0,0,0,0,0,0,0,0,0,0,0,0,0,0,0,0,0,0,{"$f":"IF(CY300=\"\",AJ274,CY300)","v":0},0,0,0,0,0,0,0,0,0,0,0,0,0,0,0,0,0,0,0,0,0,0,0,0,0,0,0,0,0,0,0]
[null,"154f",null,"shale","[GJ/t]",null,0,0,0,0,0,0,0,0,0,0,0,0,0,0,0,0,0,0,0,0,0,0,0,0,0,0,0,0,0,{"$f":"IF(CY301=\"\",AJ275,CY301)","v":0},0,0,0,0,0,0,0,0,0,0,0,0,0,0,0,0,0,0,0,0,0,0,0,0,0,0,0,0,0,0,0]
[null,155,"Alternative fossil and mixed fuels"]
[null,"155a",null,"other fossil based wastes and mixed fuels","[GJ/t]",null,{"$f":"IF(BV303=\"\",0,BV303)","v":0},0,0,0,0,0,0,0,0,0,0,0,0,0,0,0,0,0,0,0,0,0,0,0,0,0,0,0,0,{"$f":"IF(CY303=\"\",0,CY303)","v":0},{"$f":"IF(CZ303=\"\",0,CZ303)","v":0},{"$f":"IF(DA303=\"\",0,DA303)","v":0},{"$f":"IF(DB303=\"\",0,DB303)","v":0},{"$f":"IF(DC303=\"\",0,DC303)","v":0},{"$f":"IF(DD303=\"\",0,DD303)","v":0},{"$f":"IF(DE303=\"\",0,DE303)","v":0},{"$f":"IF(DF303=\"\",0,DF303)","v":0},{"$f":"IF(DG303=\"\",0,DG303)","v":0},{"$f":"IF(DH303=\"\",0,DH303)","v":0},{"$f":"IF(DI303=\"\",0,DI303)","v":0},{"$f":"IF(DJ303=\"\",0,DJ303)","v":0},{"$f":"IF(DK303=\"\",0,DK303)","v":0},{"$f":"IF(DL303=\"\",0,DL303)","v":0},{"$f":"IF(DM303=\"\",0,DM303)","v":0},{"$f":"IF(DN303=\"\",0,DN303)","v":0},{"$f":"IF(DO303=\"\",0,DO303)","v":0},{"$f":"IF(DP303=\"\",0,DP303)","v":0},{"$f":"IF(DQ303=\"\",0,DQ303)","v":0},{"$f":"IF(DR303=\"\",0,DR303)","v":0},{"$f":"IF(DS303=\"\",0,DS303)","v":0},{"$f":"IF(DT303=\"\",0,DT303)","v":0},{"$f":"IF(DU303=\"\",0,DU303)","v":0},{"$f":"IF(DV303=\"\",0,DV303)","v":0},{"$f":"IF(DW303=\"\",0,DW303)","v":0},{"$f":"IF(DX303=\"\",0,DX303)","v":0},{"$f":"IF(DY303=\"\",0,DY303)","v":0},{"$f":"IF(DZ303=\"\",0,DZ303)","v":0},{"$f":"IF(EA303=\"\",0,EA303)","v":0},{"$f":"IF(EB303=\"\",0,EB303)","v":0},{"$f":"IF(EC303=\"\",0,EC303)","v":0},{"$f":"IF(ED303=\"\",0,ED303)","v":0}]
[null,156,"Alternative biomass fuels"]
[null,"156a",null,"other biomass","[GJ/t]",null,{"$f":"IF(BV305=\"\",0,BV305)","v":0},0,0,0,0,0,0,0,0,0,0,0,0,0,0,0,0,0,0,0,0,0,0,0,0,0,0,0,0,{"$f":"IF(CY305=\"\",0,CY305)","v":0},{"$f":"IF(CZ305=\"\",0,CZ305)","v":0},{"$f":"IF(DA305=\"\",0,DA305)","v":0},{"$f":"IF(DB305=\"\",0,DB305)","v":0},{"$f":"IF(DC305=\"\",0,DC305)","v":0},{"$f":"IF(DD305=\"\",0,DD305)","v":0},{"$f":"IF(DE305=\"\",0,DE305)","v":0},{"$f":"IF(DF305=\"\",0,DF305)","v":0},{"$f":"IF(DG305=\"\",0,DG305)","v":0},{"$f":"IF(DH305=\"\",0,DH305)","v":0},{"$f":"IF(DI305=\"\",0,DI305)","v":0},{"$f":"IF(DJ305=\"\",0,DJ305)","v":0},{"$f":"IF(DK305=\"\",0,DK305)","v":0},{"$f":"IF(DL305=\"\",0,DL305)","v":0},{"$f":"IF(DM305=\"\",0,DM305)","v":0},{"$f":"IF(DN305=\"\",0,DN305)","v":0},{"$f":"IF(DO305=\"\",0,DO305)","v":0},{"$f":"IF(DP305=\"\",0,DP305)","v":0},{"$f":"IF(DQ305=\"\",0,DQ305)","v":0},{"$f":"IF(DR305=\"\",0,DR305)","v":0},{"$f":"IF(DS305=\"\",0,DS305)","v":0},{"$f":"IF(DT305=\"\",0,DT305)","v":0},{"$f":"IF(DU305=\"\",0,DU305)","v":0},{"$f":"IF(DV305=\"\",0,DV305)","v":0},{"$f":"IF(DW305=\"\",0,DW305)","v":0},{"$f":"IF(DX305=\"\",0,DX305)","v":0},{"$f":"IF(DY305=\"\",0,DY305)","v":0},{"$f":"IF(DZ305=\"\",0,DZ305)","v":0},{"$f":"IF(EA305=\"\",0,EA305)","v":0},{"$f":"IF(EB305=\"\",0,EB305)","v":0},{"$f":"IF(EC305=\"\",0,EC305)","v":0},{"$f":"IF(ED305=\"\",0,ED305)","v":0}]
[]
[null,"Kiln Fuel Consumption in terajoules (TJ) per year",null,null,null,null,{"$f":"G$7","v":1990},1991,1992,1993,1994,1995,1996,1997,1998,1999,2000,2001,2002,2003,2004,2005,2006,2007,2008,2009,2010,2011,2012,2013,2014,2015,2016,2017,2018,2019,2020,2021,2022,2023,2024,2025,2026,2027,2028,2029,2030,2031,2032,2033,2034,2035,2036,2037,2038,2039,2040,2041,2042,2043,2044,2045,2046,2047,2048,2049,2050]
[null,161,"Conventional fossil fuels",null,"[TJ/yr]",null,{"$f":"IF(COUNTBLANK(G309:G315)=7,\"\",SUM(G309:G315))","v":0},0,0,0,0,0,0,0,0,0,0,0,0,0,0,0,0,0,0,0,0,0,0,0,0,0,0,0,0,0,0,0,0,0,0,{"$f":"IF(COUNTBLANK(AP309:AP315)=7,\"\",SUM(AP309:AP315))","v":0},0,0,0,0,0,0,0,0,0,0,0,0,0,0,0,0,0,0,0,0,0,0,0,0,0]
[null,{"$f":"B308+1","v":162},null,"coal + anthracite","[TJ/yr]",null,{"$f":"IF(G231=\"\",\"\",G231*G270/1000)","v":0},0,0,0,0,0,0,0,0,0,0,0,0,0,0,0,0,0,0,0,0,0,0,0,0,0,0,0,0,0,0,0,0,0,0,{"$f":"IF(AP231=\"\",\"\",AP231*AP270/1000)","v":0},0,0,0,0,0,0,0,0,0,0,0,0,0,0,0,0,0,0,0,0,0,0,0,0,0]
[null,163,null,"petrol coke","[TJ/yr]",null,{"$f":"IF(G232=\"\",\"\",G232*G271/1000)","v":0},0,0,0,0,0,0,0,0,0,0,0,0,0,0,0,0,0,0,0,0,0,0,0,0,0,0,0,0,0,0,0,0,0,0,{"$f":"IF(AP232=\"\",\"\",AP232*AP271/1000)","v":0},0,0,0,0,0,0,0,0,0,0,0,0,0,0,0,0,0,0,0,0,0,0,0,0,0]
[null,164,null,"(ultra) heavy fuel","[TJ/yr]",null,{"$f":"IF(G233=\"\",\"\",G233*G272/1000)","v":0},0,0,0,0,0,0,0,0,0,0,0,0,0,0,0,0,0,0,0,0,0,0,0,0,0,0,0,0,0,0,0,0,0,0,{"$f":"IF(AP233=\"\",\"\",AP233*AP272/1000)","v":0},0,0,0,0,0,0,0,0,0,0,0,0,0,0,0,0,0,0,0,0,0,0,0,0,0]
[null,165,null,"diesel oil","[TJ/yr]",null,{"$f":"IF(G234=\"\",\"\",G234*G273/1000)","v":0},0,0,0,0,0,0,0,0,0,0,0,0,0,0,0,0,0,0,0,0,0,0,0,0,0,0,0,0,0,0,0,0,0,0,{"$f":"IF(AP234=\"\",\"\",AP234*AP273/1000)","v":0},0,0,0,0,0,0,0,0,0,0,0,0,0,0,0,0,0,0,0,0,0,0,0,0,0]
[null,166,null,"natural gas ","[TJ/yr]",null,{"$f":"IF(G235=\"\",\"\",G235*G274/1000)","v":0},0,0,0,0,0,0,0,0,0,0,0,0,0,0,0,0,0,0,0,0,0,0,0,0,0,0,0,0,0,0,0,0,0,0,{"$f":"IF(AP235=\"\",\"\",AP235*AP274/1000)","v":0},0,0,0,0,0,0,0,0,0,0,0,0,0,0,0,0,0,0,0,0,0,0,0,0,0]
[null,167,null,"shale","[TJ/yr]",null,{"$f":"IF(G236=\"\",\"\",G236*G275/1000)","v":0},0,0,0,0,0,0,0,0,0,0,0,0,0,0,0,0,0,0,0,0,0,0,0,0,0,0,0,0,0,0,0,0,0,0,{"$f":"IF(AP236=\"\",\"\",AP236*AP275/1000)","v":0},0,0,0,0,0,0,0,0,0,0,0,0,0,0,0,0,0,0,0,0,0,0,0,0,0]
[null,"167a",null,"lignite","[TJ/yr]",null,{"$f":"IF(G237=\"\",\"\",G237*G276/1000)","v":0},0,0,0,0,0,0,0,0,0,0,0,0,0,0,0,0,0,0,0,0,0,0,0,0,0,0,0,0,0,0,0,0,0,0,{"$f":"IF(AP237=\"\",\"\",AP237*AP276/1000)","v":0},0,0,0,0,0,0,0,0,0,0,0,0,0,0,0,0,0,0,0,0,0,0,0,0,0]
[null,{"$f":"B314+1","v":168},"Alternative fossil and mixed fuels, excluding biomass fraction of mixed fuels",null,"[TJ/yr]",null,{"$f":"IF(COUNTBLANK(G317:G323)=7,\"\",SUM(G317:G323))","v":0},0,0,0,0,0,0,0,0,0,0,0,0,0,0,0,0,0,0,0,0,0,0,0,0,0,0,0,0,0,0,0,0,0,0,{"$f":"IF(COUNTBLANK(AP317:AP323)=7,\"\",SUM(AP317:AP323))","v":0},0,0,0,0,0,0,0,0,0,0,0,0,0,0,0,0,0,0,0,0,0,0,0,0,0]
[null,{"$f":"B316+1","v":169},null,"waste oil","[TJ/yr]",null,{"$f":"IF(G239=\"\",\"\",G239*(G278/1000)*(1-G369))","v":0},0,0,0,0,0,0,0,0,0,0,0,0,0,0,0,0,0,0,0,0,0,0,0,0,0,0,0,0,0,0,0,0,0,0,{"$f":"IF(AP239=\"\",\"\",AP239*(AP278/1000)*(1-AP369))","v":0},0,0,0,0,0,0,0,0,0,0,0,0,0,0,0,0,0,0,0,0,0,0,0,0,0]
[null,{"$f":"B317+1","v":170},null,"tyres","[TJ/yr]",null,{"$f":"IF(G240=\"\",\"\",G240*(G279/1000)*(1-G370))","v":0},0,0,0,0,0,0,0,0,0,0,0,0,0,0,0,0,0,0,0,0,0,0,0,0,0,0,0,0,0,0,0,0,0,0,{"$f":"IF(AP240=\"\",\"\",AP240*(AP279/1000)*(1-AP370))","v":0},0,0,0,0,0,0,0,0,0,0,0,0,0,0,0,0,0,0,0,0,0,0,0,0,0]
[null,{"$f":"B318+1","v":171},null,"RDF including plastics","[TJ/yr]",null,{"$f":"IF(G241=\"\",\"\",G241*(G280/1000)*(1-G371))","v":0},0,0,0,0,0,0,0,0,0,0,0,0,0,0,0,0,0,0,0,0,0,0,0,0,0,0,0,0,0,0,0,0,0,0,{"$f":"IF(AP241=\"\",\"\",AP241*(AP280/1000)*(1-AP371))","v":0},0,0,0,0,0,0,0,0,0,0,0,0,0,0,0,0,0,0,0,0,0,0,0,0,0]
[null,{"$f":"B319+1","v":172},null,"solvents","[TJ/yr]",null,{"$f":"IF(G242=\"\",\"\",G242*(G281/1000)*(1-G372))","v":0},0,0,0,0,0,0,0,0,0,0,0,0,0,0,0,0,0,0,0,0,0,0,0,0,0,0,0,0,0,0,0,0,0,0,{"$f":"IF(AP242=\"\",\"\",AP242*(AP281/1000)*(1-AP372))","v":0},0,0,0,0,0,0,0,0,0,0,0,0,0,0,0,0,0,0,0,0,0,0,0,0,0]
[null,{"$f":"B320+1","v":173},null,"impregnated saw dust","[TJ/yr]",null,{"$f":"IF(G243=\"\",\"\",G243*(G282/1000)*(1-G373))","v":0},0,0,0,0,0,0,0,0,0,0,0,0,0,0,0,0,0,0,0,0,0,0,0,0,0,0,0,0,0,0,0,0,0,0,{"$f":"IF(AP243=\"\",\"\",AP243*(AP282/1000)*(1-AP373))","v":0},0,0,0,0,0,0,0,0,0,0,0,0,0,0,0,0,0,0,0,0,0,0,0,0,0]
[null,"173a",null,"mixed industrial waste","[TJ/yr]",null,{"$f":"IF(G244=\"\",\"\",G244*(G283/1000)*(1-G374))","v":0},0,0,0,0,0,0,0,0,0,0,0,0,0,0,0,0,0,0,0,0,0,0,0,0,0,0,0,0,0,0,0,0,0,0,{"$f":"IF(AP244=\"\",\"\",AP244*(AP283/1000)*(1-AP374))","v":0},0,0,0,0,0,0,0,0,0,0,0,0,0,0,0,0,0,0,0,0,0,0,0,0,0]
[null,174,null,"other fossil based wastes (excl. biomass content of mixed fuels)","[TJ/yr]",null,{"$f":"IF(G245=\"\",\"\",G245*(G284/1000)*(1-G376))","v":0},0,0,0,0,0,0,0,0,0,0,0,0,0,0,0,0,0,0,0,0,0,0,0,0,0,0,0,0,0,0,0,0,0,0,{"$f":"IF(AP245=\"\",\"\",AP245*(AP284/1000)*(1-AP376))","v":0},0,0,0,0,0,0,0,0,0,0,0,0,0,0,0,0,0,0,0,0,0,0,0,0,0]
[null,{"$f":"B323+1","v":175},"Biomass fuels - total, incl. biomass cont. from alternative fossil fuels",null,"[TJ/yr]",null,{"$f":"IF(COUNTBLANK(G325:G333)=9,\"\",SUM(G325:G333))","v":0},0,0,0,0,0,0,0,0,0,0,0,0,0,0,0,0,0,0,0,0,0,0,0,0,0,0,0,0,0,0,0,0,0,0,{"$f":"IF(COUNTBLANK(AP325:AP333)=9,\"\",SUM(AP325:AP333))","v":0},0,0,0,0,0,0,0,0,0,0,0,0,0,0,0,0,0,0,0,0,0,0,0,0,0]
[null,176,null,"sewage sludge","[TJ/yr]",null,{"$f":"IF(G247=\"\",\"\",G247*G286/1000)","v":0},0,0,0,0,0,0,0,0,0,0,0,0,0,0,0,0,0,0,0,0,0,0,0,0,0,0,0,0,0,0,0,0,0,0,{"$f":"IF(AP247=\"\",\"\",AP247*AP286/1000)","v":0},0,0,0,0,0,0,0,0,0,0,0,0,0,0,0,0,0,0,0,0,0,0,0,0,0]
[null,177,null,"wood, non impregnated saw dust","[TJ/yr]",null,{"$f":"IF(G248=\"\",\"\",G248*G287/1000)","v":0},0,0,0,0,0,0,0,0,0,0,0,0,0,0,0,0,0,0,0,0,0,0,0,0,0,0,0,0,0,0,0,0,0,0,{"$f":"IF(AP248=\"\",\"\",AP248*AP287/1000)","v":0},0,0,0,0,0,0,0,0,0,0,0,0,0,0,0,0,0,0,0,0,0,0,0,0,0]
[null,178,null,"paper, carton","[TJ/yr]",null,{"$f":"IF(G249=\"\",\"\",G249*G288/1000)","v":0},0,0,0,0,0,0,0,0,0,0,0,0,0,0,0,0,0,0,0,0,0,0,0,0,0,0,0,0,0,0,0,0,0,0,{"$f":"IF(AP249=\"\",\"\",AP249*AP288/1000)","v":0},0,0,0,0,0,0,0,0,0,0,0,0,0,0,0,0,0,0,0,0,0,0,0,0,0]
[null,179,null,"animal meal","[TJ/yr]",null,{"$f":"IF(G250=\"\",\"\",G250*G289/1000)","v":0},0,0,0,0,0,0,0,0,0,0,0,0,0,0,0,0,0,0,0,0,0,0,0,0,0,0,0,0,0,0,0,0,0,0,{"$f":"IF(AP250=\"\",\"\",AP250*AP289/1000)","v":0},0,0,0,0,0,0,0,0,0,0,0,0,0,0,0,0,0,0,0,0,0,0,0,0,0]
[null,180,null,"animal bone meal","[TJ/yr]",null,{"$f":"IF(G251=\"\",\"\",G251*G290/1000)","v":0},0,0,0,0,0,0,0,0,0,0,0,0,0,0,0,0,0,0,0,0,0,0,0,0,0,0,0,0,0,0,0,0,0,0,{"$f":"IF(AP251=\"\",\"\",AP251*AP290/1000)","v":0},0,0,0,0,0,0,0,0,0,0,0,0,0,0,0,0,0,0,0,0,0,0,0,0,0]
[null,181,null,"animal fat","[TJ/yr]",null,{"$f":"IF(G252=\"\",\"\",G252*G291/1000)","v":0},0,0,0,0,0,0,0,0,0,0,0,0,0,0,0,0,0,0,0,0,0,0,0,0,0,0,0,0,0,0,0,0,0,0,{"$f":"IF(AP252=\"\",\"\",AP252*AP291/1000)","v":0},0,0,0,0,0,0,0,0,0,0,0,0,0,0,0,0,0,0,0,0,0,0,0,0,0]
[null,182,null,"agricultural, organic, diaper waste, charcoal","[TJ/yr]",null,{"$f":"IF(G253=\"\",\"\",G253*G292/1000)","v":0},0,0,0,0,0,0,0,0,0,0,0,0,0,0,0,0,0,0,0,0,0,0,0,0,0,0,0,0,0,0,0,0,0,0,{"$f":"IF(AP253=\"\",\"\",AP253*AP292/1000)","v":0},0,0,0,0,0,0,0,0,0,0,0,0,0,0,0,0,0,0,0,0,0,0,0,0,0]
[null,183,null,"other biomass","[TJ/yr]",null,{"$f":"IF(G254=\"\",\"\",G254*G293/1000)","v":0},0,0,0,0,0,0,0,0,0,0,0,0,0,0,0,0,0,0,0,0,0,0,0,0,0,0,0,0,0,0,0,0,0,0,{"$f":"IF(AP254=\"\",\"\",AP254*AP293/1000)","v":0},0,0,0,0,0,0,0,0,0,0,0,0,0,0,0,0,0,0,0,0,0,0,0,0,0]
[null,"183a",null,"biomass content from alternative fuels","[TJ/yr]",null,{"$f":"(G239*G278*G$369+G240*G279*G$370+G241*G280*G$371+G242*G281*G$372+G243*G282*G$373+G244*G283*G$374+G245*G284*G$376)/1000","v":0},0,0,0,0,0,0,0,0,0,0,0,0,0,0,0,0,0,0,0,0,0,0,0,0,0,0,0,0,0,0,0,0,0,0,{"$f":"(AP239*AP278*AP$369+AP240*AP279*AP$370+AP241*AP280*AP$371+AP242*AP281*AP$372+AP243*AP282*AP$373+AP244*AP283*AP$374+AP245*AP284*AP$376)/1000","v":0},0,0,0,0,0,0,0,0,0,0,0,0,0,0,0,0,0,0,0,0,0,0,0,0,0]
[null,"Drying of raw materials and fuels",null,null,null,null,{"$f":"G$7","v":1990},1991,1992,1993,1994,1995,1996,1997,1998,1999,2000,2001,2002,2003,2004,2005,2006,2007,2008,2009,2010,2011,2012,2013,2014,2015,2016,2017,2018,2019,2020,2021,2022,2023,2024,2025,2026,2027,2028,2029,2030,2031,2032,2033,2034,2035,2036,2037,2038,2039,2040,2041,2042,2043,2044,2045,2046,2047,2048,2049,2050]
[null,184,"Conventional fossil fuels",null,"[TJ/yr]",null,{"$f":"IF(COUNTBLANK(G336:G341)=6,\"\",SUM(G336:G341))","v":0},0,0,0,0,0,0,0,0,0,0,0,0,0,0,0,0,0,0,0,0,0,0,0,0,0,0,0,0,0,0,0,0,0,0,{"$f":"IF(COUNTBLANK(AP336:AP341)=6,\"\",SUM(AP336:AP341))","v":0},0,0,0,0,0,0,0,0,0,0,0,0,0,0,0,0,0,0,0,0,0,0,0,0,0]
[null,"184a",null,"coal + anthracite + lignite","[TJ/yr]",null,{"$f":"IF(G257=\"\",\"\",G257*G296/1000)","v":0},0,0,0,0,0,0,0,0,0,0,0,0,0,0,0,0,0,0,0,0,0,0,0,0,0,0,0,0,0,0,0,0,0,0,{"$f":"IF(AP257=\"\",\"\",AP257*AP296/1000)","v":0},0,0,0,0,0,0,0,0,0,0,0,0,0,0,0,0,0,0,0,0,0,0,0,0,0]
[null,"184b",null,"petrol coke","[TJ/yr]",null,{"$f":"IF(G258=\"\",\"\",G258*G297/1000)","v":0},0,0,0,0,0,0,0,0,0,0,0,0,0,0,0,0,0,0,0,0,0,0,0,0,0,0,0,0,0,0,0,0,0,0,{"$f":"IF(AP258=\"\",\"\",AP258*AP297/1000)","v":0},0,0,0,0,0,0,0,0,0,0,0,0,0,0,0,0,0,0,0,0,0,0,0,0,0]
[null,"184c",null,"(ultra) heavy fuel","[TJ/yr]",null,{"$f":"IF(G259=\"\",\"\",G259*G298/1000)","v":0},0,0,0,0,0,0,0,0,0,0,0,0,0,0,0,0,0,0,0,0,0,0,0,0,0,0,0,0,0,0,0,0,0,0,{"$f":"IF(AP259=\"\",\"\",AP259*AP298/1000)","v":0},0,0,0,0,0,0,0,0,0,0,0,0,0,0,0,0,0,0,0,0,0,0,0,0,0]
[null,"184d",null,"diesel oil","[TJ/yr]",null,{"$f":"IF(G260=\"\",\"\",G260*G299/1000)","v":0},0,0,0,0,0,0,0,0,0,0,0,0,0,0,0,0,0,0,0,0,0,0,0,0,0,0,0,0,0,0,0,0,0,0,{"$f":"IF(AP260=\"\",\"\",AP260*AP299/1000)","v":0},0,0,0,0,0,0,0,0,0,0,0,0,0,0,0,0,0,0,0,0,0,0,0,0,0]
[null,"184e",null,"natural gas ","[TJ/yr]",null,{"$f":"IF(G261=\"\",\"\",G261*G300/1000)","v":0},0,0,0,0,0,0,0,0,0,0,0,0,0,0,0,0,0,0,0,0,0,0,0,0,0,0,0,0,0,0,0,0,0,0,{"$f":"IF(AP261=\"\",\"\",AP261*AP300/1000)","v":0},0,0,0,0,0,0,0,0,0,0,0,0,0,0,0,0,0,0,0,0,0,0,0,0,0]
[null,"184f",null,"shale","[TJ/yr]",null,{"$f":"IF(G262=\"\",\"\",G262*G301/1000)","v":0},0,0,0,0,0,0,0,0,0,0,0,0,0,0,0,0,0,0,0,0,0,0,0,0,0,0,0,0,0,0,0,0,0,0,{"$f":"IF(AP262=\"\",\"\",AP262*AP301/1000)","v":0},0,0,0,0,0,0,0,0,0,0,0,0,0,0,0,0,0,0,0,0,0,0,0,0,0]
[null,"184g","Alternative fossil fuels",null,"[TJ/yr]",null,{"$f":"G343","v":0},0,0,0,0,0,0,0,0,0,0,0,0,0,0,0,0,0,0,0,0,0,0,0,0,0,0,0,0,0,0,0,0,0,0,0,0,0,0,0,0,0,0,0,0,0,0,0,0,0,0,0,0,0,0,0,0,0,0,0,0]
[null,"184h",null,"other fossil based wastes (excl. biomass content of mixed fuels)","[TJ/yr]",null,{"$f":"IF(G264=\"\",\"\",G264*(G303/1000)*(1-G376))","v":0},0,0,0,0,0,0,0,0,0,0,0,0,0,0,0,0,0,0,0,0,0,0,0,0,0,0,0,0,0,0,0,0,0,0,{"$f":"IF(AP264=\"\",\"\",AP264*(AP303/1000)*(1-AP376))","v":0},0,0,0,0,0,0,0,0,0,0,0,0,0,0,0,0,0,0,0,0,0,0,0,0,0]
[null,"184i","Alternative biomass fuels",null,"[TJ/yr]",null,{"$f":"G345","v":0},0,0,0,0,0,0,0,0,0,0,0,0,0,0,0,0,0,0,0,0,0,0,0,0,0,0,0,0,0,0,0,0,0,0,0,0,0,0,0,0,0,0,0,0,0,0,0,0,0,0,0,0,0,0,0,0,0,0,0,0]
[null,"184j",null,"other biomass (incl. biomass content of mixed fuels)","[TJ/yr]",null,{"$f":"IF(G266=\"\",\"\",(G266*G305/1000)+(G264*G303/1000*G376))","v":0},0,0,0,0,0,0,0,0,0,0,0,0,0,0,0,0,0,0,0,0,0,0,0,0,0,0,0,0,0,0,0,0,0,0,{"$f":"IF(AP266=\"\",\"\",(AP266*AP305/1000)+(AP264*AP303/1000*AP376))","v":0},0,0,0,0,0,0,0,0,0,0,0,0,0,0,0,0,0,0,0,0,0,0,0,0,0]
[]
[null,"CO2 Emission Factors of Kiln and Non-Kiln Fuels (per lower heating value)",null,null,null,null,{"$f":"G$7","v":1990},1991,1992,1993,1994,1995,1996,1997,1998,1999,2000,2001,2002,2003,2004,2005,2006,2007,2008,2009,2010,2011,2012,2013,2014,2015,2016,2017,2018,2019,2020,2021,2022,2023,2024,2025,2026,2027,2028,2029,2030,2031,2032,2033,2034,2035,2036,2037,2038,2039,2040,2041,2042,2043,2044,2045,2046,2047,2048,2049,2050]
[null,185,"Conventional fossil fuels"]
[null,{"$f":"B348+1","v":186},null,"coal + anthracite","[kg CO2/GJ]",null,{"$f":"IF(BV349=\"\",'Fuel CO2 Factors'!$D7,BV349)","v":96},{"$f":"IF(BW349=\"\",'Fuel CO2 Factors'!$D7,BW349)","v":96},{"$f":"IF(BX349=\"\",'Fuel CO2 Factors'!$D7,BX349)","v":96},{"$f":"IF(BY349=\"\",'Fuel CO2 Factors'!$D7,BY349)","v":96},{"$f":"IF(BZ349=\"\",'Fuel CO2 Factors'!$D7,BZ349)","v":96},{"$f":"IF(CA349=\"\",'Fuel CO2 Factors'!$D7,CA349)","v":96},{"$f":"IF(CB349=\"\",'Fuel CO2 Factors'!$D7,CB349)","v":96},{"$f":"IF(CC349=\"\",'Fuel CO2 Factors'!$D7,CC349)","v":96},{"$f":"IF(CD349=\"\",'Fuel CO2 Factors'!$D7,CD349)","v":96},{"$f":"IF(CE349=\"\",'Fuel CO2 Factors'!$D7,CE349)","v":96},{"$f":"IF(CF349=\"\",'Fuel CO2 Factors'!$D7,CF349)","v":96},{"$f":"IF(CG349=\"\",'Fuel CO2 Factors'!$D7,CG349)","v":96},{"$f":"IF(CH349=\"\",'Fuel CO2 Factors'!$D7,CH349)","v":96},{"$f":"IF(CI349=\"\",'Fuel CO2 Factors'!$D7,CI349)","v":96},{"$f":"IF(CJ349=\"\",'Fuel CO2 Factors'!$D7,CJ349)","v":96},{"$f":"IF(CK349=\"\",'Fuel CO2 Factors'!$D7,CK349)","v":96},{"$f":"IF(CL349=\"\",'Fuel CO2 Factors'!$D7,CL349)","v":96},{"$f":"IF(CM349=\"\",'Fuel CO2 Factors'!$D7,CM349)","v":96},{"$f":"IF(CN349=\"\",'Fuel CO2 Factors'!$D7,CN349)","v":96},{"$f":"IF(CO349=\"\",'Fuel CO2 Factors'!$D7,CO349)","v":96},{"$f":"IF(CP349=\"\",'Fuel CO2 Factors'!$D7,CP349)","v":96},{"$f":"IF(CQ349=\"\",'Fuel CO2 Factors'!$D7,CQ349)","v":96},{"$f":"IF(CR349=\"\",'Fuel CO2 Factors'!$D7,CR349)","v":96},{"$f":"IF(CS349=\"\",'Fuel CO2 Factors'!$D7,CS349)","v":96},{"$f":"IF(CT349=\"\",'Fuel CO2 Factors'!$D7,CT349)","v":96},{"$f":"IF(CU349=\"\",'Fuel CO2 Factors'!$D7,CU349)","v":96},{"$f":"IF(CV349=\"\",'Fuel CO2 Factors'!$D7,CV349)","v":96},{"$f":"IF(CW349=\"\",'Fuel CO2 Factors'!$D7,CW349)","v":96},{"$f":"IF(CX349=\"\",'Fuel CO2 Factors'!$D7,CX349)","v":96},{"$f":"IF(CY349=\"\",'Fuel CO2 Factors'!$D7,CY349)","v":96},{"$f":"IF(CZ349=\"\",'Fuel CO2 Factors'!$D7,CZ349)","v":96},{"$f":"IF(DA349=\"\",'Fuel CO2 Factors'!$D7,DA349)","v":96},{"$f":"IF(DB349=\"\",'Fuel CO2 Factors'!$D7,DB349)","v":96},{"$f":"IF(DC349=\"\",'Fuel CO2 Factors'!$D7,DC349)","v":96},{"$f":"IF(DD349=\"\",'Fuel CO2 Factors'!$D7,DD349)","v":96},{"$f":"IF(DE349=\"\",'Fuel CO2 Factors'!$D7,DE349)","v":96},{"$f":"IF(DF349=\"\",'Fuel CO2 Factors'!$D7,DF349)","v":96},{"$f":"IF(DG349=\"\",'Fuel CO2 Factors'!$D7,DG349)","v":96},{"$f":"IF(DH349=\"\",'Fuel CO2 Factors'!$D7,DH349)","v":96},{"$f":"IF(DI349=\"\",'Fuel CO2 Factors'!$D7,DI349)","v":96},{"$f":"IF(DJ349=\"\",'Fuel CO2 Factors'!$D7,DJ349)","v":96},{"$f":"IF(DK349=\"\",'Fuel CO2 Factors'!$D7,DK349)","v":96},{"$f":"IF(DL349=\"\",'Fuel CO2 Factors'!$D7,DL349)","v":96},{"$f":"IF(DM349=\"\",'Fuel CO2 Factors'!$D7,DM349)","v":96},{"$f":"IF(DN349=\"\",'Fuel CO2 Factors'!$D7,DN349)","v":96},{"$f":"IF(DO349=\"\",'Fuel CO2 Factors'!$D7,DO349)","v":96},{"$f":"IF(DP349=\"\",'Fuel CO2 Factors'!$D7,DP349)","v":96},{"$f":"IF(DQ349=\"\",'Fuel CO2 Factors'!$D7,DQ349)","v":96},{"$f":"IF(DR349=\"\",'Fuel CO2 Factors'!$D7,DR349)","v":96},{"$f":"IF(DS349=\"\",'Fuel CO2 Factors'!$D7,DS349)","v":96},{"$f":"IF(DT349=\"\",'Fuel CO2 Factors'!$D7,DT349)","v":96},{"$f":"IF(DU349=\"\",'Fuel CO2 Factors'!$D7,DU349)","v":96},{"$f":"IF(DV349=\"\",'Fuel CO2 Factors'!$D7,DV349)","v":96},{"$f":"IF(DW349=\"\",'Fuel CO2 Factors'!$D7,DW349)","v":96},{"$f":"IF(DX349=\"\",'Fuel CO2 Factors'!$D7,DX349)","v":96},{"$f":"IF(DY349=\"\",'Fuel CO2 Factors'!$D7,DY349)","v":96},{"$f":"IF(DZ349=\"\",'Fuel CO2 Factors'!$D7,DZ349)","v":96},{"$f":"IF(EA349=\"\",'Fuel CO2 Factors'!$D7,EA349)","v":96},{"$f":"IF(EB349=\"\",'Fuel CO2 Factors'!$D7,EB349)","v":96},{"$f":"IF(EC349=\"\",'Fuel CO2 Factors'!$D7,EC349)","v":96},{"$f":"IF(ED349=\"\",'Fuel CO2 Factors'!$D7,ED349)","v":96}]
[null,187,null,"petrol coke","[kg CO2/GJ]",null,{"$f":"IF(BV350=\"\",'Fuel CO2 Factors'!$E8,BV350)","v":92.8},{"$f":"IF(BW350=\"\",'Fuel CO2 Factors'!$E8,BW350)","v":92.8},{"$f":"IF(BX350=\"\",'Fuel CO2 Factors'!$E8,BX350)","v":92.8},{"$f":"IF(BY350=\"\",'Fuel CO2 Factors'!$E8,BY350)","v":92.8},{"$f":"IF(BZ350=\"\",'Fuel CO2 Factors'!$E8,BZ350)","v":92.8},{"$f":"IF(CA350=\"\",'Fuel CO2 Factors'!$E8,CA350)","v":92.8},{"$f":"IF(CB350=\"\",'Fuel CO2 Factors'!$E8,CB350)","v":92.8},{"$f":"IF(CC350=\"\",'Fuel CO2 Factors'!$E8,CC350)","v":92.8},{"$f":"IF(CD350=\"\",'Fuel CO2 Factors'!$E8,CD350)","v":92.8},{"$f":"IF(CE350=\"\",'Fuel CO2 Factors'!$E8,CE350)","v":92.8},{"$f":"IF(CF350=\"\",'Fuel CO2 Factors'!$E8,CF350)","v":92.8},{"$f":"IF(CG350=\"\",'Fuel CO2 Factors'!$E8,CG350)","v":92.8},{"$f":"IF(CH350=\"\",'Fuel CO2 Factors'!$E8,CH350)","v":92.8},{"$f":"IF(CI350=\"\",'Fuel CO2 Factors'!$E8,CI350)","v":92.8},{"$f":"IF(CJ350=\"\",'Fuel CO2 Factors'!$E8,CJ350)","v":92.8},{"$f":"IF(CK350=\"\",'Fuel CO2 Factors'!$E8,CK350)","v":92.8},{"$f":"IF(CL350=\"\",'Fuel CO2 Factors'!$E8,CL350)","v":92.8},{"$f":"IF(CM350=\"\",'Fuel CO2 Factors'!$E8,CM350)","v":92.8},{"$f":"IF(CN350=\"\",'Fuel CO2 Factors'!$E8,CN350)","v":92.8},{"$f":"IF(CO350=\"\",'Fuel CO2 Factors'!$E8,CO350)","v":92.8},{"$f":"IF(CP350=\"\",'Fuel CO2 Factors'!$E8,CP350)","v":92.8},{"$f":"IF(CQ350=\"\",'Fuel CO2 Factors'!$E8,CQ350)","v":92.8},{"$f":"IF(CR350=\"\",'Fuel CO2 Factors'!$E8,CR350)","v":92.8},{"$f":"IF(CS350=\"\",'Fuel CO2 Factors'!$E8,CS350)","v":92.8},{"$f":"IF(CT350=\"\",'Fuel CO2 Factors'!$E8,CT350)","v":92.8},{"$f":"IF(CU350=\"\",'Fuel CO2 Factors'!$E8,CU350)","v":92.8},{"$f":"IF(CV350=\"\",'Fuel CO2 Factors'!$E8,CV350)","v":92.8},{"$f":"IF(CW350=\"\",'Fuel CO2 Factors'!$E8,CW350)","v":92.8},{"$f":"IF(CX350=\"\",'Fuel CO2 Factors'!$E8,CX350)","v":92.8},{"$f":"IF(CY350=\"\",'Fuel CO2 Factors'!$E8,CY350)","v":92.8},{"$f":"IF(CZ350=\"\",'Fuel CO2 Factors'!$E8,CZ350)","v":92.8},{"$f":"IF(DA350=\"\",'Fuel CO2 Factors'!$E8,DA350)","v":92.8},{"$f":"IF(DB350=\"\",'Fuel CO2 Factors'!$E8,DB350)","v":92.8},{"$f":"IF(DC350=\"\",'Fuel CO2 Factors'!$E8,DC350)","v":92.8},{"$f":"IF(DD350=\"\",'Fuel CO2 Factors'!$E8,DD350)","v":92.8},{"$f":"IF(DE350=\"\",'Fuel CO2 Factors'!$E8,DE350)","v":92.8},{"$f":"IF(DF350=\"\",'Fuel CO2 Factors'!$E8,DF350)","v":92.8},{"$f":"IF(DG350=\"\",'Fuel CO2 Factors'!$E8,DG350)","v":92.8},{"$f":"IF(DH350=\"\",'Fuel CO2 Factors'!$E8,DH350)","v":92.8},{"$f":"IF(DI350=\"\",'Fuel CO2 Factors'!$E8,DI350)","v":92.8},{"$f":"IF(DJ350=\"\",'Fuel CO2 Factors'!$E8,DJ350)","v":92.8},{"$f":"IF(DK350=\"\",'Fuel CO2 Factors'!$E8,DK350)","v":92.8},{"$f":"IF(DL350=\"\",'Fuel CO2 Factors'!$E8,DL350)","v":92.8},{"$f":"IF(DM350=\"\",'Fuel CO2 Factors'!$E8,DM350)","v":92.8},{"$f":"IF(DN350=\"\",'Fuel CO2 Factors'!$E8,DN350)","v":92.8},{"$f":"IF(DO350=\"\",'Fuel CO2 Factors'!$E8,DO350)","v":92.8},{"$f":"IF(DP350=\"\",'Fuel CO2 Factors'!$E8,DP350)","v":92.8},{"$f":"IF(DQ350=\"\",'Fuel CO2 Factors'!$E8,DQ350)","v":92.8},{"$f":"IF(DR350=\"\",'Fuel CO2 Factors'!$E8,DR350)","v":92.8},{"$f":"IF(DS350=\"\",'Fuel CO2 Factors'!$E8,DS350)","v":92.8},{"$f":"IF(DT350=\"\",'Fuel CO2 Factors'!$E8,DT350)","v":92.8},{"$f":"IF(DU350=\"\",'Fuel CO2 Factors'!$E8,DU350)","v":92.8},{"$f":"IF(DV350=\"\",'Fuel CO2 Factors'!$E8,DV350)","v":92.8},{"$f":"IF(DW350=\"\",'Fuel CO2 Factors'!$E8,DW350)","v":92.8},{"$f":"IF(DX350=\"\",'Fuel CO2 Factors'!$E8,DX350)","v":92.8},{"$f":"IF(DY350=\"\",'Fuel CO2 Factors'!$E8,DY350)","v":92.8},{"$f":"IF(DZ350=\"\",'Fuel CO2 Factors'!$E8,DZ350)","v":92.8},{"$f":"IF(EA350=\"\",'Fuel CO2 Factors'!$E8,EA350)","v":92.8},{"$f":"IF(EB350=\"\",'Fuel CO2 Factors'!$E8,EB350)","v":92.8},{"$f":"IF(EC350=\"\",'Fuel CO2 Factors'!$E8,EC350)","v":92.8},{"$f":"IF(ED350=\"\",'Fuel CO2 Factors'!$E8,ED350)","v":92.8}]
[null,188,null,"(ultra) heavy fuel","[kg CO2/GJ]",null,{"$f":"IF(BV351=\"\",'Fuel CO2 Factors'!$D9,BV351)","v":77.400000000000006},{"$f":"IF(BW351=\"\",'Fuel CO2 Factors'!$D9,BW351)","v":77.400000000000006},{"$f":"IF(BX351=\"\",'Fuel CO2 Factors'!$D9,BX351)","v":77.400000000000006},{"$f":"IF(BY351=\"\",'Fuel CO2 Factors'!$D9,BY351)","v":77.400000000000006},{"$f":"IF(BZ351=\"\",'Fuel CO2 Factors'!$D9,BZ351)","v":77.400000000000006},{"$f":"IF(CA351=\"\",'Fuel CO2 Factors'!$D9,CA351)","v":77.400000000000006},{"$f":"IF(CB351=\"\",'Fuel CO2 Factors'!$D9,CB351)","v":77.400000000000006},{"$f":"IF(CC351=\"\",'Fuel CO2 Factors'!$D9,CC351)","v":77.400000000000006},{"$f":"IF(CD351=\"\",'Fuel CO2 Factors'!$D9,CD351)","v":77.400000000000006},{"$f":"IF(CE351=\"\",'Fuel CO2 Factors'!$D9,CE351)","v":77.400000000000006},{"$f":"IF(CF351=\"\",'Fuel CO2 Factors'!$D9,CF351)","v":77.400000000000006},{"$f":"IF(CG351=\"\",'Fuel CO2 Factors'!$D9,CG351)","v":77.400000000000006},{"$f":"IF(CH351=\"\",'Fuel CO2 Factors'!$D9,CH351)","v":77.400000000000006},{"$f":"IF(CI351=\"\",'Fuel CO2 Factors'!$D9,CI351)","v":77.400000000000006},{"$f":"IF(CJ351=\"\",'Fuel CO2 Factors'!$D9,CJ351)","v":77.400000000000006},{"$f":"IF(CK351=\"\",'Fuel CO2 Factors'!$D9,CK351)","v":77.400000000000006},{"$f":"IF(CL351=\"\",'Fuel CO2 Factors'!$D9,CL351)","v":77.400000000000006},{"$f":"IF(CM351=\"\",'Fuel CO2 Factors'!$D9,CM351)","v":77.400000000000006},{"$f":"IF(CN351=\"\",'Fuel CO2 Factors'!$D9,CN351)","v":77.400000000000006},{"$f":"IF(CO351=\"\",'Fuel CO2 Factors'!$D9,CO351)","v":77.400000000000006},{"$f":"IF(CP351=\"\",'Fuel CO2 Factors'!$D9,CP351)","v":77.400000000000006},{"$f":"IF(CQ351=\"\",'Fuel CO2 Factors'!$D9,CQ351)","v":77.400000000000006},{"$f":"IF(CR351=\"\",'Fuel CO2 Factors'!$D9,CR351)","v":77.400000000000006},{"$f":"IF(CS351=\"\",'Fuel CO2 Factors'!$D9,CS351)","v":77.400000000000006},{"$f":"IF(CT351=\"\",'Fuel CO2 Factors'!$D9,CT351)","v":77.400000000000006},{"$f":"IF(CU351=\"\",'Fuel CO2 Factors'!$D9,CU351)","v":77.400000000000006},{"$f":"IF(CV351=\"\",'Fuel CO2 Factors'!$D9,CV351)","v":77.400000000000006},{"$f":"IF(CW351=\"\",'Fuel CO2 Factors'!$D9,CW351)","v":77.400000000000006},{"$f":"IF(CX351=\"\",'Fuel CO2 Factors'!$D9,CX351)","v":77.400000000000006},{"$f":"IF(CY351=\"\",'Fuel CO2 Factors'!$D9,CY351)","v":77.400000000000006},{"$f":"IF(CZ351=\"\",'Fuel CO2 Factors'!$D9,CZ351)","v":77.400000000000006},{"$f":"IF(DA351=\"\",'Fuel CO2 Factors'!$D9,DA351)","v":77.400000000000006},{"$f":"IF(DB351=\"\",'Fuel CO2 Factors'!$D9,DB351)","v":77.400000000000006},{"$f":"IF(DC351=\"\",'Fuel CO2 Factors'!$D9,DC351)","v":77.400000000000006},{"$f":"IF(DD351=\"\",'Fuel CO2 Factors'!$D9,DD351)","v":77.400000000000006},{"$f":"IF(DE351=\"\",'Fuel CO2 Factors'!$D9,DE351)","v":77.400000000000006},{"$f":"IF(DF351=\"\",'Fuel CO2 Factors'!$D9,DF351)","v":77.400000000000006},{"$f":"IF(DG351=\"\",'Fuel CO2 Factors'!$D9,DG351)","v":77.400000000000006},{"$f":"IF(DH351=\"\",'Fuel CO2 Factors'!$D9,DH351)","v":77.400000000000006},{"$f":"IF(DI351=\"\",'Fuel CO2 Factors'!$D9,DI351)","v":77.400000000000006},{"$f":"IF(DJ351=\"\",'Fuel CO2 Factors'!$D9,DJ351)","v":77.400000000000006},{"$f":"IF(DK351=\"\",'Fuel CO2 Factors'!$D9,DK351)","v":77.400000000000006},{"$f":"IF(DL351=\"\",'Fuel CO2 Factors'!$D9,DL351)","v":77.400000000000006},{"$f":"IF(DM351=\"\",'Fuel CO2 Factors'!$D9,DM351)","v":77.400000000000006},{"$f":"IF(DN351=\"\",'Fuel CO2 Factors'!$D9,DN351)","v":77.400000000000006},{"$f":"IF(DO351=\"\",'Fuel CO2 Factors'!$D9,DO351)","v":77.400000000000006},{"$f":"IF(DP351=\"\",'Fuel CO2 Factors'!$D9,DP351)","v":77.400000000000006},{"$f":"IF(DQ351=\"\",'Fuel CO2 Factors'!$D9,DQ351)","v":77.400000000000006},{"$f":"IF(DR351=\"\",'Fuel CO2 Factors'!$D9,DR351)","v":77.400000000000006},{"$f":"IF(DS351=\"\",'Fuel CO2 Factors'!$D9,DS351)","v":77.400000000000006},{"$f":"IF(DT351=\"\",'Fuel CO2 Factors'!$D9,DT351)","v":77.400000000000006},{"$f":"IF(DU351=\"\",'Fuel CO2 Factors'!$D9,DU351)","v":77.400000000000006},{"$f":"IF(DV351=\"\",'Fuel CO2 Factors'!$D9,DV351)","v":77.400000000000006},{"$f":"IF(DW351=\"\",'Fuel CO2 Factors'!$D9,DW351)","v":77.400000000000006},{"$f":"IF(DX351=\"\",'Fuel CO2 Factors'!$D9,DX351)","v":77.400000000000006},{"$f":"IF(DY351=\"\",'Fuel CO2 Factors'!$D9,DY351)","v":77.400000000000006},{"$f":"IF(DZ351=\"\",'Fuel CO2 Factors'!$D9,DZ351)","v":77.400000000000006},{"$f":"IF(EA351=\"\",'Fuel CO2 Factors'!$D9,EA351)","v":77.400000000000006},{"$f":"IF(EB351=\"\",'Fuel CO2 Factors'!$D9,EB351)","v":77.400000000000006},{"$f":"IF(EC351=\"\",'Fuel CO2 Factors'!$D9,EC351)","v":77.400000000000006},{"$f":"IF(ED351=\"\",'Fuel CO2 Factors'!$D9,ED351)","v":77.400000000000006}]
[null,189,null,"diesel oil","[kg CO2/GJ]",null,{"$f":"IF(BV352=\"\",'Fuel CO2 Factors'!$D10,BV352)","v":74.099999999999994},{"$f":"IF(BW352=\"\",'Fuel CO2 Factors'!$D10,BW352)","v":74.099999999999994},{"$f":"IF(BX352=\"\",'Fuel CO2 Factors'!$D10,BX352)","v":74.099999999999994},{"$f":"IF(BY352=\"\",'Fuel CO2 Factors'!$D10,BY352)","v":74.099999999999994},{"$f":"IF(BZ352=\"\",'Fuel CO2 Factors'!$D10,BZ352)","v":74.099999999999994},{"$f":"IF(CA352=\"\",'Fuel CO2 Factors'!$D10,CA352)","v":74.099999999999994},{"$f":"IF(CB352=\"\",'Fuel CO2 Factors'!$D10,CB352)","v":74.099999999999994},{"$f":"IF(CC352=\"\",'Fuel CO2 Factors'!$D10,CC352)","v":74.099999999999994},{"$f":"IF(CD352=\"\",'Fuel CO2 Factors'!$D10,CD352)","v":74.099999999999994},{"$f":"IF(CE352=\"\",'Fuel CO2 Factors'!$D10,CE352)","v":74.099999999999994},{"$f":"IF(CF352=\"\",'Fuel CO2 Factors'!$D10,CF352)","v":74.099999999999994},{"$f":"IF(CG352=\"\",'Fuel CO2 Factors'!$D10,CG352)","v":74.099999999999994},{"$f":"IF(CH352=\"\",'Fuel CO2 Factors'!$D10,CH352)","v":74.099999999999994},{"$f":"IF(CI352=\"\",'Fuel CO2 Factors'!$D10,CI352)","v":74.099999999999994},{"$f":"IF(CJ352=\"\",'Fuel CO2 Factors'!$D10,CJ352)","v":74.099999999999994},{"$f":"IF(CK352=\"\",'Fuel CO2 Factors'!$D10,CK352)","v":74.099999999999994},{"$f":"IF(CL352=\"\",'Fuel CO2 Factors'!$D10,CL352)","v":74.099999999999994},{"$f":"IF(CM352=\"\",'Fuel CO2 Factors'!$D10,CM352)","v":74.099999999999994},{"$f":"IF(CN352=\"\",'Fuel CO2 Factors'!$D10,CN352)","v":74.099999999999994},{"$f":"IF(CO352=\"\",'Fuel CO2 Factors'!$D10,CO352)","v":74.099999999999994},{"$f":"IF(CP352=\"\",'Fuel CO2 Factors'!$D10,CP352)","v":74.099999999999994},{"$f":"IF(CQ352=\"\",'Fuel CO2 Factors'!$D10,CQ352)","v":74.099999999999994},{"$f":"IF(CR352=\"\",'Fuel CO2 Factors'!$D10,CR352)","v":74.099999999999994},{"$f":"IF(CS352=\"\",'Fuel CO2 Factors'!$D10,CS352)","v":74.099999999999994},{"$f":"IF(CT352=\"\",'Fuel CO2 Factors'!$D10,CT352)","v":74.099999999999994},{"$f":"IF(CU352=\"\",'Fuel CO2 Factors'!$D10,CU352)","v":74.099999999999994},{"$f":"IF(CV352=\"\",'Fuel CO2 Factors'!$D10,CV352)","v":74.099999999999994},{"$f":"IF(CW352=\"\",'Fuel CO2 Factors'!$D10,CW352)","v":74.099999999999994},{"$f":"IF(CX352=\"\",'Fuel CO2 Factors'!$D10,CX352)","v":74.099999999999994},{"$f":"IF(CY352=\"\",'Fuel CO2 Factors'!$D10,CY352)","v":74.099999999999994},{"$f":"IF(CZ352=\"\",'Fuel CO2 Factors'!$D10,CZ352)","v":74.099999999999994},{"$f":"IF(DA352=\"\",'Fuel CO2 Factors'!$D10,DA352)","v":74.099999999999994},{"$f":"IF(DB352=\"\",'Fuel CO2 Factors'!$D10,DB352)","v":74.099999999999994},{"$f":"IF(DC352=\"\",'Fuel CO2 Factors'!$D10,DC352)","v":74.099999999999994},{"$f":"IF(DD352=\"\",'Fuel CO2 Factors'!$D10,DD352)","v":74.099999999999994},{"$f":"IF(DE352=\"\",'Fuel CO2 Factors'!$D10,DE352)","v":74.099999999999994},{"$f":"IF(DF352=\"\",'Fuel CO2 Factors'!$D10,DF352)","v":74.099999999999994},{"$f":"IF(DG352=\"\",'Fuel CO2 Factors'!$D10,DG352)","v":74.099999999999994},{"$f":"IF(DH352=\"\",'Fuel CO2 Factors'!$D10,DH352)","v":74.099999999999994},{"$f":"IF(DI352=\"\",'Fuel CO2 Factors'!$D10,DI352)","v":74.099999999999994},{"$f":"IF(DJ352=\"\",'Fuel CO2 Factors'!$D10,DJ352)","v":74.099999999999994},{"$f":"IF(DK352=\"\",'Fuel CO2 Factors'!$D10,DK352)","v":74.099999999999994},{"$f":"IF(DL352=\"\",'Fuel CO2 Factors'!$D10,DL352)","v":74.099999999999994},{"$f":"IF(DM352=\"\",'Fuel CO2 Factors'!$D10,DM352)","v":74.099999999999994},{"$f":"IF(DN352=\"\",'Fuel CO2 Factors'!$D10,DN352)","v":74.099999999999994},{"$f":"IF(DO352=\"\",'Fuel CO2 Factors'!$D10,DO352)","v":74.099999999999994},{"$f":"IF(DP352=\"\",'Fuel CO2 Factors'!$D10,DP352)","v":74.099999999999994},{"$f":"IF(DQ352=\"\",'Fuel CO2 Factors'!$D10,DQ352)","v":74.099999999999994},{"$f":"IF(DR352=\"\",'Fuel CO2 Factors'!$D10,DR352)","v":74.099999999999994},{"$f":"IF(DS352=\"\",'Fuel CO2 Factors'!$D10,DS352)","v":74.099999999999994},{"$f":"IF(DT352=\"\",'Fuel CO2 Factors'!$D10,DT352)","v":74.099999999999994},{"$f":"IF(DU352=\"\",'Fuel CO2 Factors'!$D10,DU352)","v":74.099999999999994},{"$f":"IF(DV352=\"\",'Fuel CO2 Factors'!$D10,DV352)","v":74.099999999999994},{"$f":"IF(DW352=\"\",'Fuel CO2 Factors'!$D10,DW352)","v":74.099999999999994},{"$f":"IF(DX352=\"\",'Fuel CO2 Factors'!$D10,DX352)","v":74.099999999999994},{"$f":"IF(DY352=\"\",'Fuel CO2 Factors'!$D10,DY352)","v":74.099999999999994},{"$f":"IF(DZ352=\"\",'Fuel CO2 Factors'!$D10,DZ352)","v":74.099999999999994},{"$f":"IF(EA352=\"\",'Fuel CO2 Factors'!$D10,EA352)","v":74.099999999999994},{"$f":"IF(EB352=\"\",'Fuel CO2 Factors'!$D10,EB352)","v":74.099999999999994},{"$f":"IF(EC352=\"\",'Fuel CO2 Factors'!$D10,EC352)","v":74.099999999999994},{"$f":"IF(ED352=\"\",'Fuel CO2 Factors'!$D10,ED352)","v":74.099999999999994}]
[null,190,null,"natural gas ","[kg CO2/GJ]",null,{"$f":"IF(BV353=\"\",'Fuel CO2 Factors'!$D11,BV353)","v":56.1},{"$f":"IF(BW353=\"\",'Fuel CO2 Factors'!$D11,BW353)","v":56.1},{"$f":"IF(BX353=\"\",'Fuel CO2 Factors'!$D11,BX353)","v":56.1},{"$f":"IF(BY353=\"\",'Fuel CO2 Factors'!$D11,BY353)","v":56.1},{"$f":"IF(BZ353=\"\",'Fuel CO2 Factors'!$D11,BZ353)","v":56.1},{"$f":"IF(CA353=\"\",'Fuel CO2 Factors'!$D11,CA353)","v":56.1},{"$f":"IF(CB353=\"\",'Fuel CO2 Factors'!$D11,CB353)","v":56.1},{"$f":"IF(CC353=\"\",'Fuel CO2 Factors'!$D11,CC353)","v":56.1},{"$f":"IF(CD353=\"\",'Fuel CO2 Factors'!$D11,CD353)","v":56.1},{"$f":"IF(CE353=\"\",'Fuel CO2 Factors'!$D11,CE353)","v":56.1},{"$f":"IF(CF353=\"\",'Fuel CO2 Factors'!$D11,CF353)","v":56.1},{"$f":"IF(CG353=\"\",'Fuel CO2 Factors'!$D11,CG353)","v":56.1},{"$f":"IF(CH353=\"\",'Fuel CO2 Factors'!$D11,CH353)","v":56.1},{"$f":"IF(CI353=\"\",'Fuel CO2 Factors'!$D11,CI353)","v":56.1},{"$f":"IF(CJ353=\"\",'Fuel CO2 Factors'!$D11,CJ353)","v":56.1},{"$f":"IF(CK353=\"\",'Fuel CO2 Factors'!$D11,CK353)","v":56.1},{"$f":"IF(CL353=\"\",'Fuel CO2 Factors'!$D11,CL353)","v":56.1},{"$f":"IF(CM353=\"\",'Fuel CO2 Factors'!$D11,CM353)","v":56.1},{"$f":"IF(CN353=\"\",'Fuel CO2 Factors'!$D11,CN353)","v":56.1},{"$f":"IF(CO353=\"\",'Fuel CO2 Factors'!$D11,CO353)","v":56.1},{"$f":"IF(CP353=\"\",'Fuel CO2 Factors'!$D11,CP353)","v":56.1},{"$f":"IF(CQ353=\"\",'Fuel CO2 Factors'!$D11,CQ353)","v":56.1},{"$f":"IF(CR353=\"\",'Fuel CO2 Factors'!$D11,CR353)","v":56.1},{"$f":"IF(CS353=\"\",'Fuel CO2 Factors'!$D11,CS353)","v":56.1},{"$f":"IF(CT353=\"\",'Fuel CO2 Factors'!$D11,CT353)","v":56.1},{"$f":"IF(CU353=\"\",'Fuel CO2 Factors'!$D11,CU353)","v":56.1},{"$f":"IF(CV353=\"\",'Fuel CO2 Factors'!$D11,CV353)","v":56.1},{"$f":"IF(CW353=\"\",'Fuel CO2 Factors'!$D11,CW353)","v":56.1},{"$f":"IF(CX353=\"\",'Fuel CO2 Factors'!$D11,CX353)","v":56.1},{"$f":"IF(CY353=\"\",'Fuel CO2 Factors'!$D11,CY353)","v":56.1},{"$f":"IF(CZ353=\"\",'Fuel CO2 Factors'!$D11,CZ353)","v":56.1},{"$f":"IF(DA353=\"\",'Fuel CO2 Factors'!$D11,DA353)","v":56.1},{"$f":"IF(DB353=\"\",'Fuel CO2 Factors'!$D11,DB353)","v":56.1},{"$f":"IF(DC353=\"\",'Fuel CO2 Factors'!$D11,DC353)","v":56.1},{"$f":"IF(DD353=\"\",'Fuel CO2 Factors'!$D11,DD353)","v":56.1},{"$f":"IF(DE353=\"\",'Fuel CO2 Factors'!$D11,DE353)","v":56.1},{"$f":"IF(DF353=\"\",'Fuel CO2 Factors'!$D11,DF353)","v":56.1},{"$f":"IF(DG353=\"\",'Fuel CO2 Factors'!$D11,DG353)","v":56.1},{"$f":"IF(DH353=\"\",'Fuel CO2 Factors'!$D11,DH353)","v":56.1},{"$f":"IF(DI353=\"\",'Fuel CO2 Factors'!$D11,DI353)","v":56.1},{"$f":"IF(DJ353=\"\",'Fuel CO2 Factors'!$D11,DJ353)","v":56.1},{"$f":"IF(DK353=\"\",'Fuel CO2 Factors'!$D11,DK353)","v":56.1},{"$f":"IF(DL353=\"\",'Fuel CO2 Factors'!$D11,DL353)","v":56.1},{"$f":"IF(DM353=\"\",'Fuel CO2 Factors'!$D11,DM353)","v":56.1},{"$f":"IF(DN353=\"\",'Fuel CO2 Factors'!$D11,DN353)","v":56.1},{"$f":"IF(DO353=\"\",'Fuel CO2 Factors'!$D11,DO353)","v":56.1},{"$f":"IF(DP353=\"\",'Fuel CO2 Factors'!$D11,DP353)","v":56.1},{"$f":"IF(DQ353=\"\",'Fuel CO2 Factors'!$D11,DQ353)","v":56.1},{"$f":"IF(DR353=\"\",'Fuel CO2 Factors'!$D11,DR353)","v":56.1},{"$f":"IF(DS353=\"\",'Fuel CO2 Factors'!$D11,DS353)","v":56.1},{"$f":"IF(DT353=\"\",'Fuel CO2 Factors'!$D11,DT353)","v":56.1},{"$f":"IF(DU353=\"\",'Fuel CO2 Factors'!$D11,DU353)","v":56.1},{"$f":"IF(DV353=\"\",'Fuel CO2 Factors'!$D11,DV353)","v":56.1},{"$f":"IF(DW353=\"\",'Fuel CO2 Factors'!$D11,DW353)","v":56.1},{"$f":"IF(DX353=\"\",'Fuel CO2 Factors'!$D11,DX353)","v":56.1},{"$f":"IF(DY353=\"\",'Fuel CO2 Factors'!$D11,DY353)","v":56.1},{"$f":"IF(DZ353=\"\",'Fuel CO2 Factors'!$D11,DZ353)","v":56.1},{"$f":"IF(EA353=\"\",'Fuel CO2 Factors'!$D11,EA353)","v":56.1},{"$f":"IF(EB353=\"\",'Fuel CO2 Factors'!$D11,EB353)","v":56.1},{"$f":"IF(EC353=\"\",'Fuel CO2 Factors'!$D11,EC353)","v":56.1},{"$f":"IF(ED353=\"\",'Fuel CO2 Factors'!$D11,ED353)","v":56.1}]
[null,191,null,"shale","[kg CO2/GJ]",null,{"$f":"IF(BV354=\"\",'Fuel CO2 Factors'!$D12,BV354)","v":107},{"$f":"IF(BW354=\"\",'Fuel CO2 Factors'!$D12,BW354)","v":107},{"$f":"IF(BX354=\"\",'Fuel CO2 Factors'!$D12,BX354)","v":107},{"$f":"IF(BY354=\"\",'Fuel CO2 Factors'!$D12,BY354)","v":107},{"$f":"IF(BZ354=\"\",'Fuel CO2 Factors'!$D12,BZ354)","v":107},{"$f":"IF(CA354=\"\",'Fuel CO2 Factors'!$D12,CA354)","v":107},{"$f":"IF(CB354=\"\",'Fuel CO2 Factors'!$D12,CB354)","v":107},{"$f":"IF(CC354=\"\",'Fuel CO2 Factors'!$D12,CC354)","v":107},{"$f":"IF(CD354=\"\",'Fuel CO2 Factors'!$D12,CD354)","v":107},{"$f":"IF(CE354=\"\",'Fuel CO2 Factors'!$D12,CE354)","v":107},{"$f":"IF(CF354=\"\",'Fuel CO2 Factors'!$D12,CF354)","v":107},{"$f":"IF(CG354=\"\",'Fuel CO2 Factors'!$D12,CG354)","v":107},{"$f":"IF(CH354=\"\",'Fuel CO2 Factors'!$D12,CH354)","v":107},{"$f":"IF(CI354=\"\",'Fuel CO2 Factors'!$D12,CI354)","v":107},{"$f":"IF(CJ354=\"\",'Fuel CO2 Factors'!$D12,CJ354)","v":107},{"$f":"IF(CK354=\"\",'Fuel CO2 Factors'!$D12,CK354)","v":107},{"$f":"IF(CL354=\"\",'Fuel CO2 Factors'!$D12,CL354)","v":107},{"$f":"IF(CM354=\"\",'Fuel CO2 Factors'!$D12,CM354)","v":107},{"$f":"IF(CN354=\"\",'Fuel CO2 Factors'!$D12,CN354)","v":107},{"$f":"IF(CO354=\"\",'Fuel CO2 Factors'!$D12,CO354)","v":107},{"$f":"IF(CP354=\"\",'Fuel CO2 Factors'!$D12,CP354)","v":107},{"$f":"IF(CQ354=\"\",'Fuel CO2 Factors'!$D12,CQ354)","v":107},{"$f":"IF(CR354=\"\",'Fuel CO2 Factors'!$D12,CR354)","v":107},{"$f":"IF(CS354=\"\",'Fuel CO2 Factors'!$D12,CS354)","v":107},{"$f":"IF(CT354=\"\",'Fuel CO2 Factors'!$D12,CT354)","v":107},{"$f":"IF(CU354=\"\",'Fuel CO2 Factors'!$D12,CU354)","v":107},{"$f":"IF(CV354=\"\",'Fuel CO2 Factors'!$D12,CV354)","v":107},{"$f":"IF(CW354=\"\",'Fuel CO2 Factors'!$D12,CW354)","v":107},{"$f":"IF(CX354=\"\",'Fuel CO2 Factors'!$D12,CX354)","v":107},{"$f":"IF(CY354=\"\",'Fuel CO2 Factors'!$D12,CY354)","v":107},{"$f":"IF(CZ354=\"\",'Fuel CO2 Factors'!$D12,CZ354)","v":107},{"$f":"IF(DA354=\"\",'Fuel CO2 Factors'!$D12,DA354)","v":107},{"$f":"IF(DB354=\"\",'Fuel CO2 Factors'!$D12,DB354)","v":107},{"$f":"IF(DC354=\"\",'Fuel CO2 Factors'!$D12,DC354)","v":107},{"$f":"IF(DD354=\"\",'Fuel CO2 Factors'!$D12,DD354)","v":107},{"$f":"IF(DE354=\"\",'Fuel CO2 Factors'!$D12,DE354)","v":107},{"$f":"IF(DF354=\"\",'Fuel CO2 Factors'!$D12,DF354)","v":107},{"$f":"IF(DG354=\"\",'Fuel CO2 Factors'!$D12,DG354)","v":107},{"$f":"IF(DH354=\"\",'Fuel CO2 Factors'!$D12,DH354)","v":107},{"$f":"IF(DI354=\"\",'Fuel CO2 Factors'!$D12,DI354)","v":107},{"$f":"IF(DJ354=\"\",'Fuel CO2 Factors'!$D12,DJ354)","v":107},{"$f":"IF(DK354=\"\",'Fuel CO2 Factors'!$D12,DK354)","v":107},{"$f":"IF(DL354=\"\",'Fuel CO2 Factors'!$D12,DL354)","v":107},{"$f":"IF(DM354=\"\",'Fuel CO2 Factors'!$D12,DM354)","v":107},{"$f":"IF(DN354=\"\",'Fuel CO2 Factors'!$D12,DN354)","v":107},{"$f":"IF(DO354=\"\",'Fuel CO2 Factors'!$D12,DO354)","v":107},{"$f":"IF(DP354=\"\",'Fuel CO2 Factors'!$D12,DP354)","v":107},{"$f":"IF(DQ354=\"\",'Fuel CO2 Factors'!$D12,DQ354)","v":107},{"$f":"IF(DR354=\"\",'Fuel CO2 Factors'!$D12,DR354)","v":107},{"$f":"IF(DS354=\"\",'Fuel CO2 Factors'!$D12,DS354)","v":107},{"$f":"IF(DT354=\"\",'Fuel CO2 Factors'!$D12,DT354)","v":107},{"$f":"IF(DU354=\"\",'Fuel CO2 Factors'!$D12,DU354)","v":107},{"$f":"IF(DV354=\"\",'Fuel CO2 Factors'!$D12,DV354)","v":107},{"$f":"IF(DW354=\"\",'Fuel CO2 Factors'!$D12,DW354)","v":107},{"$f":"IF(DX354=\"\",'Fuel CO2 Factors'!$D12,DX354)","v":107},{"$f":"IF(DY354=\"\",'Fuel CO2 Factors'!$D12,DY354)","v":107},{"$f":"IF(DZ354=\"\",'Fuel CO2 Factors'!$D12,DZ354)","v":107},{"$f":"IF(EA354=\"\",'Fuel CO2 Factors'!$D12,EA354)","v":107},{"$f":"IF(EB354=\"\",'Fuel CO2 Factors'!$D12,EB354)","v":107},{"$f":"IF(EC354=\"\",'Fuel CO2 Factors'!$D12,EC354)","v":107},{"$f":"IF(ED354=\"\",'Fuel CO2 Factors'!$D12,ED354)","v":107}]
[null,192,null,"lignite","[kg CO2/GJ]",null,{"$f":"IF(BV355=\"\",'Fuel CO2 Factors'!$D13,BV355)","v":101},{"$f":"IF(BW355=\"\",'Fuel CO2 Factors'!$D13,BW355)","v":101},{"$f":"IF(BX355=\"\",'Fuel CO2 Factors'!$D13,BX355)","v":101},{"$f":"IF(BY355=\"\",'Fuel CO2 Factors'!$D13,BY355)","v":101},{"$f":"IF(BZ355=\"\",'Fuel CO2 Factors'!$D13,BZ355)","v":101},{"$f":"IF(CA355=\"\",'Fuel CO2 Factors'!$D13,CA355)","v":101},{"$f":"IF(CB355=\"\",'Fuel CO2 Factors'!$D13,CB355)","v":101},{"$f":"IF(CC355=\"\",'Fuel CO2 Factors'!$D13,CC355)","v":101},{"$f":"IF(CD355=\"\",'Fuel CO2 Factors'!$D13,CD355)","v":101},{"$f":"IF(CE355=\"\",'Fuel CO2 Factors'!$D13,CE355)","v":101},{"$f":"IF(CF355=\"\",'Fuel CO2 Factors'!$D13,CF355)","v":101},{"$f":"IF(CG355=\"\",'Fuel CO2 Factors'!$D13,CG355)","v":101},{"$f":"IF(CH355=\"\",'Fuel CO2 Factors'!$D13,CH355)","v":101},{"$f":"IF(CI355=\"\",'Fuel CO2 Factors'!$D13,CI355)","v":101},{"$f":"IF(CJ355=\"\",'Fuel CO2 Factors'!$D13,CJ355)","v":101},{"$f":"IF(CK355=\"\",'Fuel CO2 Factors'!$D13,CK355)","v":101},{"$f":"IF(CL355=\"\",'Fuel CO2 Factors'!$D13,CL355)","v":101},{"$f":"IF(CM355=\"\",'Fuel CO2 Factors'!$D13,CM355)","v":101},{"$f":"IF(CN355=\"\",'Fuel CO2 Factors'!$D13,CN355)","v":101},{"$f":"IF(CO355=\"\",'Fuel CO2 Factors'!$D13,CO355)","v":101},{"$f":"IF(CP355=\"\",'Fuel CO2 Factors'!$D13,CP355)","v":101},{"$f":"IF(CQ355=\"\",'Fuel CO2 Factors'!$D13,CQ355)","v":101},{"$f":"IF(CR355=\"\",'Fuel CO2 Factors'!$D13,CR355)","v":101},{"$f":"IF(CS355=\"\",'Fuel CO2 Factors'!$D13,CS355)","v":101},{"$f":"IF(CT355=\"\",'Fuel CO2 Factors'!$D13,CT355)","v":101},{"$f":"IF(CU355=\"\",'Fuel CO2 Factors'!$D13,CU355)","v":101},{"$f":"IF(CV355=\"\",'Fuel CO2 Factors'!$D13,CV355)","v":101},{"$f":"IF(CW355=\"\",'Fuel CO2 Factors'!$D13,CW355)","v":101},{"$f":"IF(CX355=\"\",'Fuel CO2 Factors'!$D13,CX355)","v":101},{"$f":"IF(CY355=\"\",'Fuel CO2 Factors'!$D13,CY355)","v":101},{"$f":"IF(CZ355=\"\",'Fuel CO2 Factors'!$D13,CZ355)","v":101},{"$f":"IF(DA355=\"\",'Fuel CO2 Factors'!$D13,DA355)","v":101},{"$f":"IF(DB355=\"\",'Fuel CO2 Factors'!$D13,DB355)","v":101},{"$f":"IF(DC355=\"\",'Fuel CO2 Factors'!$D13,DC355)","v":101},{"$f":"IF(DD355=\"\",'Fuel CO2 Factors'!$D13,DD355)","v":101},{"$f":"IF(DE355=\"\",'Fuel CO2 Factors'!$D13,DE355)","v":101},{"$f":"IF(DF355=\"\",'Fuel CO2 Factors'!$D13,DF355)","v":101},{"$f":"IF(DG355=\"\",'Fuel CO2 Factors'!$D13,DG355)","v":101},{"$f":"IF(DH355=\"\",'Fuel CO2 Factors'!$D13,DH355)","v":101},{"$f":"IF(DI355=\"\",'Fuel CO2 Factors'!$D13,DI355)","v":101},{"$f":"IF(DJ355=\"\",'Fuel CO2 Factors'!$D13,DJ355)","v":101},{"$f":"IF(DK355=\"\",'Fuel CO2 Factors'!$D13,DK355)","v":101},{"$f":"IF(DL355=\"\",'Fuel CO2 Factors'!$D13,DL355)","v":101},{"$f":"IF(DM355=\"\",'Fuel CO2 Factors'!$D13,DM355)","v":101},{"$f":"IF(DN355=\"\",'Fuel CO2 Factors'!$D13,DN355)","v":101},{"$f":"IF(DO355=\"\",'Fuel CO2 Factors'!$D13,DO355)","v":101},{"$f":"IF(DP355=\"\",'Fuel CO2 Factors'!$D13,DP355)","v":101},{"$f":"IF(DQ355=\"\",'Fuel CO2 Factors'!$D13,DQ355)","v":101},{"$f":"IF(DR355=\"\",'Fuel CO2 Factors'!$D13,DR355)","v":101},{"$f":"IF(DS355=\"\",'Fuel CO2 Factors'!$D13,DS355)","v":101},{"$f":"IF(DT355=\"\",'Fuel CO2 Factors'!$D13,DT355)","v":101},{"$f":"IF(DU355=\"\",'Fuel CO2 Factors'!$D13,DU355)","v":101},{"$f":"IF(DV355=\"\",'Fuel CO2 Factors'!$D13,DV355)","v":101},{"$f":"IF(DW355=\"\",'Fuel CO2 Factors'!$D13,DW355)","v":101},{"$f":"IF(DX355=\"\",'Fuel CO2 Factors'!$D13,DX355)","v":101},{"$f":"IF(DY355=\"\",'Fuel CO2 Factors'!$D13,DY355)","v":101},{"$f":"IF(DZ355=\"\",'Fuel CO2 Factors'!$D13,DZ355)","v":101},{"$f":"IF(EA355=\"\",'Fuel CO2 Factors'!$D13,EA355)","v":101},{"$f":"IF(EB355=\"\",'Fuel CO2 Factors'!$D13,EB355)","v":101},{"$f":"IF(EC355=\"\",'Fuel CO2 Factors'!$D13,EC355)","v":101},{"$f":"IF(ED355=\"\",'Fuel CO2 Factors'!$D13,ED355)","v":101}]
[null,"192a",null,"gasoline","[kg CO2/GJ]",null,{"$f":"IF(BV356=\"\",'Fuel CO2 Factors'!$D14,BV356)","v":69.3},{"$f":"IF(BW356=\"\",'Fuel CO2 Factors'!$D14,BW356)","v":69.3},{"$f":"IF(BX356=\"\",'Fuel CO2 Factors'!$D14,BX356)","v":69.3},{"$f":"IF(BY356=\"\",'Fuel CO2 Factors'!$D14,BY356)","v":69.3},{"$f":"IF(BZ356=\"\",'Fuel CO2 Factors'!$D14,BZ356)","v":69.3},{"$f":"IF(CA356=\"\",'Fuel CO2 Factors'!$D14,CA356)","v":69.3},{"$f":"IF(CB356=\"\",'Fuel CO2 Factors'!$D14,CB356)","v":69.3},{"$f":"IF(CC356=\"\",'Fuel CO2 Factors'!$D14,CC356)","v":69.3},{"$f":"IF(CD356=\"\",'Fuel CO2 Factors'!$D14,CD356)","v":69.3},{"$f":"IF(CE356=\"\",'Fuel CO2 Factors'!$D14,CE356)","v":69.3},{"$f":"IF(CF356=\"\",'Fuel CO2 Factors'!$D14,CF356)","v":69.3},{"$f":"IF(CG356=\"\",'Fuel CO2 Factors'!$D14,CG356)","v":69.3},{"$f":"IF(CH356=\"\",'Fuel CO2 Factors'!$D14,CH356)","v":69.3},{"$f":"IF(CI356=\"\",'Fuel CO2 Factors'!$D14,CI356)","v":69.3},{"$f":"IF(CJ356=\"\",'Fuel CO2 Factors'!$D14,CJ356)","v":69.3},{"$f":"IF(CK356=\"\",'Fuel CO2 Factors'!$D14,CK356)","v":69.3},{"$f":"IF(CL356=\"\",'Fuel CO2 Factors'!$D14,CL356)","v":69.3},{"$f":"IF(CM356=\"\",'Fuel CO2 Factors'!$D14,CM356)","v":69.3},{"$f":"IF(CN356=\"\",'Fuel CO2 Factors'!$D14,CN356)","v":69.3},{"$f":"IF(CO356=\"\",'Fuel CO2 Factors'!$D14,CO356)","v":69.3},{"$f":"IF(CP356=\"\",'Fuel CO2 Factors'!$D14,CP356)","v":69.3},{"$f":"IF(CQ356=\"\",'Fuel CO2 Factors'!$D14,CQ356)","v":69.3},{"$f":"IF(CR356=\"\",'Fuel CO2 Factors'!$D14,CR356)","v":69.3},{"$f":"IF(CS356=\"\",'Fuel CO2 Factors'!$D14,CS356)","v":69.3},{"$f":"IF(CT356=\"\",'Fuel CO2 Factors'!$D14,CT356)","v":69.3},{"$f":"IF(CU356=\"\",'Fuel CO2 Factors'!$D14,CU356)","v":69.3},{"$f":"IF(CV356=\"\",'Fuel CO2 Factors'!$D14,CV356)","v":69.3},{"$f":"IF(CW356=\"\",'Fuel CO2 Factors'!$D14,CW356)","v":69.3},{"$f":"IF(CX356=\"\",'Fuel CO2 Factors'!$D14,CX356)","v":69.3},{"$f":"IF(CY356=\"\",'Fuel CO2 Factors'!$D14,CY356)","v":69.3},{"$f":"IF(CZ356=\"\",'Fuel CO2 Factors'!$D14,CZ356)","v":69.3},{"$f":"IF(DA356=\"\",'Fuel CO2 Factors'!$D14,DA356)","v":69.3},{"$f":"IF(DB356=\"\",'Fuel CO2 Factors'!$D14,DB356)","v":69.3},{"$f":"IF(DC356=\"\",'Fuel CO2 Factors'!$D14,DC356)","v":69.3},{"$f":"IF(DD356=\"\",'Fuel CO2 Factors'!$D14,DD356)","v":69.3},{"$f":"IF(DE356=\"\",'Fuel CO2 Factors'!$D14,DE356)","v":69.3},{"$f":"IF(DF356=\"\",'Fuel CO2 Factors'!$D14,DF356)","v":69.3},{"$f":"IF(DG356=\"\",'Fuel CO2 Factors'!$D14,DG356)","v":69.3},{"$f":"IF(DH356=\"\",'Fuel CO2 Factors'!$D14,DH356)","v":69.3},{"$f":"IF(DI356=\"\",'Fuel CO2 Factors'!$D14,DI356)","v":69.3},{"$f":"IF(DJ356=\"\",'Fuel CO2 Factors'!$D14,DJ356)","v":69.3},{"$f":"IF(DK356=\"\",'Fuel CO2 Factors'!$D14,DK356)","v":69.3},{"$f":"IF(DL356=\"\",'Fuel CO2 Factors'!$D14,DL356)","v":69.3},{"$f":"IF(DM356=\"\",'Fuel CO2 Factors'!$D14,DM356)","v":69.3},{"$f":"IF(DN356=\"\",'Fuel CO2 Factors'!$D14,DN356)","v":69.3},{"$f":"IF(DO356=\"\",'Fuel CO2 Factors'!$D14,DO356)","v":69.3},{"$f":"IF(DP356=\"\",'Fuel CO2 Factors'!$D14,DP356)","v":69.3},{"$f":"IF(DQ356=\"\",'Fuel CO2 Factors'!$D14,DQ356)","v":69.3},{"$f":"IF(DR356=\"\",'Fuel CO2 Factors'!$D14,DR356)","v":69.3},{"$f":"IF(DS356=\"\",'Fuel CO2 Factors'!$D14,DS356)","v":69.3},{"$f":"IF(DT356=\"\",'Fuel CO2 Factors'!$D14,DT356)","v":69.3},{"$f":"IF(DU356=\"\",'Fuel CO2 Factors'!$D14,DU356)","v":69.3},{"$f":"IF(DV356=\"\",'Fuel CO2 Factors'!$D14,DV356)","v":69.3},{"$f":"IF(DW356=\"\",'Fuel CO2 Factors'!$D14,DW356)","v":69.3},{"$f":"IF(DX356=\"\",'Fuel CO2 Factors'!$D14,DX356)","v":69.3},{"$f":"IF(DY356=\"\",'Fuel CO2 Factors'!$D14,DY356)","v":69.3},{"$f":"IF(DZ356=\"\",'Fuel CO2 Factors'!$D14,DZ356)","v":69.3},{"$f":"IF(EA356=\"\",'Fuel CO2 Factors'!$D14,EA356)","v":69.3},{"$f":"IF(EB356=\"\",'Fuel CO2 Factors'!$D14,EB356)","v":69.3},{"$f":"IF(EC356=\"\",'Fuel CO2 Factors'!$D14,EC356)","v":69.3},{"$f":"IF(ED356=\"\",'Fuel CO2 Factors'!$D14,ED356)","v":69.3}]
[null,"192d",null,"other fossil fuels (Equipment and On-Site Vehicles)","[kg CO2/GJ]",null,{"$f":"IF(BV357=\"\",0,BV357)","v":0},0,0,0,0,0,0,0,0,0,{"$f":"IF(CF357=\"\",0,CF357)","v":0},0,0,0,0,0,0,0,0,0,{"$f":"IF(CP357=\"\",0,CP357)","v":0},0,0,0,0,0,0,0,0,{"$f":"IF(CY357=\"\",0,CY357)","v":0},{"$f":"IF(CZ357=\"\",0,CZ357)","v":0},{"$f":"IF(DA357=\"\",0,DA357)","v":0},{"$f":"IF(DB357=\"\",0,DB357)","v":0},{"$f":"IF(DC357=\"\",0,DC357)","v":0},{"$f":"IF(DD357=\"\",0,DD357)","v":0},{"$f":"IF(DE357=\"\",0,DE357)","v":0},{"$f":"IF(DF357=\"\",0,DF357)","v":0},{"$f":"IF(DG357=\"\",0,DG357)","v":0},{"$f":"IF(DH357=\"\",0,DH357)","v":0},{"$f":"IF(DI357=\"\",0,DI357)","v":0},{"$f":"IF(DJ357=\"\",0,DJ357)","v":0},{"$f":"IF(DK357=\"\",0,DK357)","v":0},{"$f":"IF(DL357=\"\",0,DL357)","v":0},{"$f":"IF(DM357=\"\",0,DM357)","v":0},{"$f":"IF(DN357=\"\",0,DN357)","v":0},{"$f":"IF(DO357=\"\",0,DO357)","v":0},{"$f":"IF(DP357=\"\",0,DP357)","v":0},{"$f":"IF(DQ357=\"\",0,DQ357)","v":0},{"$f":"IF(DR357=\"\",0,DR357)","v":0},{"$f":"IF(DS357=\"\",0,DS357)","v":0},{"$f":"IF(DT357=\"\",0,DT357)","v":0},{"$f":"IF(DU357=\"\",0,DU357)","v":0},{"$f":"IF(DV357=\"\",0,DV357)","v":0},{"$f":"IF(DW357=\"\",0,DW357)","v":0},{"$f":"IF(DX357=\"\",0,DX357)","v":0},{"$f":"IF(DY357=\"\",0,DY357)","v":0},{"$f":"IF(DZ357=\"\",0,DZ357)","v":0},{"$f":"IF(EA357=\"\",0,EA357)","v":0},{"$f":"IF(EB357=\"\",0,EB357)","v":0},{"$f":"IF(EC357=\"\",0,EC357)","v":0},{"$f":"IF(ED357=\"\",0,ED357)","v":0}]
[null,"192b",null,"other fossil fuels (Room Heating and Cooling)","[kg CO2/GJ]",null,0,0,0,0,0,0,0,0,0,0,0,0,0,0,0,0,0,0,0,0,0,0,0,0,0,0,0,0,0,0,0,0,0,0,0,0,0,0,0,0,0,0,0,0,0,0,0,0,0,0,0,0,0,0,0,0,0,0,0,0,0]
[null,"192c",null,"other fossil fuels (On-Site Power Generation)","[kg CO2/GJ]",null,0,0,0,0,0,0,0,0,0,0,0,0,0,0,0,0,0,0,0,0,0,0,0,0,0,0,0,0,0,0,0,0,0,0,0,0,0,0,0,0,0,0,0,0,0,0,0,0,0,0,0,0,0,0,0,0,0,0,0,0,0]
[null,{"$f":"B355+1","v":193},"Alternative fossil fuels, including mixed fuels"]
[null,{"$f":"B360+1","v":194},null,"waste oil","[kg CO2/GJ]",null,{"$f":"IF(BV361=\"\",'Fuel CO2 Factors'!$E16,BV361)","v":74},{"$f":"IF(BW361=\"\",'Fuel CO2 Factors'!$E16,BW361)","v":74},{"$f":"IF(BX361=\"\",'Fuel CO2 Factors'!$E16,BX361)","v":74},{"$f":"IF(BY361=\"\",'Fuel CO2 Factors'!$E16,BY361)","v":74},{"$f":"IF(BZ361=\"\",'Fuel CO2 Factors'!$E16,BZ361)","v":74},{"$f":"IF(CA361=\"\",'Fuel CO2 Factors'!$E16,CA361)","v":74},{"$f":"IF(CB361=\"\",'Fuel CO2 Factors'!$E16,CB361)","v":74},{"$f":"IF(CC361=\"\",'Fuel CO2 Factors'!$E16,CC361)","v":74},{"$f":"IF(CD361=\"\",'Fuel CO2 Factors'!$E16,CD361)","v":74},{"$f":"IF(CE361=\"\",'Fuel CO2 Factors'!$E16,CE361)","v":74},{"$f":"IF(CF361=\"\",'Fuel CO2 Factors'!$E16,CF361)","v":74},{"$f":"IF(CG361=\"\",'Fuel CO2 Factors'!$E16,CG361)","v":74},{"$f":"IF(CH361=\"\",'Fuel CO2 Factors'!$E16,CH361)","v":74},{"$f":"IF(CI361=\"\",'Fuel CO2 Factors'!$E16,CI361)","v":74},{"$f":"IF(CJ361=\"\",'Fuel CO2 Factors'!$E16,CJ361)","v":74},{"$f":"IF(CK361=\"\",'Fuel CO2 Factors'!$E16,CK361)","v":74},{"$f":"IF(CL361=\"\",'Fuel CO2 Factors'!$E16,CL361)","v":74},{"$f":"IF(CM361=\"\",'Fuel CO2 Factors'!$E16,CM361)","v":74},{"$f":"IF(CN361=\"\",'Fuel CO2 Factors'!$E16,CN361)","v":74},{"$f":"IF(CO361=\"\",'Fuel CO2 Factors'!$E16,CO361)","v":74},{"$f":"IF(CP361=\"\",'Fuel CO2 Factors'!$E16,CP361)","v":74},{"$f":"IF(CQ361=\"\",'Fuel CO2 Factors'!$E16,CQ361)","v":74},{"$f":"IF(CR361=\"\",'Fuel CO2 Factors'!$E16,CR361)","v":74},{"$f":"IF(CS361=\"\",'Fuel CO2 Factors'!$E16,CS361)","v":74},{"$f":"IF(CT361=\"\",'Fuel CO2 Factors'!$E16,CT361)","v":74},{"$f":"IF(CU361=\"\",'Fuel CO2 Factors'!$E16,CU361)","v":74},{"$f":"IF(CV361=\"\",'Fuel CO2 Factors'!$E16,CV361)","v":74},{"$f":"IF(CW361=\"\",'Fuel CO2 Factors'!$E16,CW361)","v":74},{"$f":"IF(CX361=\"\",'Fuel CO2 Factors'!$E16,CX361)","v":74},{"$f":"IF(CY361=\"\",'Fuel CO2 Factors'!$E16,CY361)","v":74},{"$f":"IF(CZ361=\"\",'Fuel CO2 Factors'!$E16,CZ361)","v":74},{"$f":"IF(DA361=\"\",'Fuel CO2 Factors'!$E16,DA361)","v":74},{"$f":"IF(DB361=\"\",'Fuel CO2 Factors'!$E16,DB361)","v":74},{"$f":"IF(DC361=\"\",'Fuel CO2 Factors'!$E16,DC361)","v":74},{"$f":"IF(DD361=\"\",'Fuel CO2 Factors'!$E16,DD361)","v":74},{"$f":"IF(DE361=\"\",'Fuel CO2 Factors'!$E16,DE361)","v":74},{"$f":"IF(DF361=\"\",'Fuel CO2 Factors'!$E16,DF361)","v":74},{"$f":"IF(DG361=\"\",'Fuel CO2 Factors'!$E16,DG361)","v":74},{"$f":"IF(DH361=\"\",'Fuel CO2 Factors'!$E16,DH361)","v":74},{"$f":"IF(DI361=\"\",'Fuel CO2 Factors'!$E16,DI361)","v":74},{"$f":"IF(DJ361=\"\",'Fuel CO2 Factors'!$E16,DJ361)","v":74},{"$f":"IF(DK361=\"\",'Fuel CO2 Factors'!$E16,DK361)","v":74},{"$f":"IF(DL361=\"\",'Fuel CO2 Factors'!$E16,DL361)","v":74},{"$f":"IF(DM361=\"\",'Fuel CO2 Factors'!$E16,DM361)","v":74},{"$f":"IF(DN361=\"\",'Fuel CO2 Factors'!$E16,DN361)","v":74},{"$f":"IF(DO361=\"\",'Fuel CO2 Factors'!$E16,DO361)","v":74},{"$f":"IF(DP361=\"\",'Fuel CO2 Factors'!$E16,DP361)","v":74},{"$f":"IF(DQ361=\"\",'Fuel CO2 Factors'!$E16,DQ361)","v":74},{"$f":"IF(DR361=\"\",'Fuel CO2 Factors'!$E16,DR361)","v":74},{"$f":"IF(DS361=\"\",'Fuel CO2 Factors'!$E16,DS361)","v":74},{"$f":"IF(DT361=\"\",'Fuel CO2 Factors'!$E16,DT361)","v":74},{"$f":"IF(DU361=\"\",'Fuel CO2 Factors'!$E16,DU361)","v":74},{"$f":"IF(DV361=\"\",'Fuel CO2 Factors'!$E16,DV361)","v":74},{"$f":"IF(DW361=\"\",'Fuel CO2 Factors'!$E16,DW361)","v":74},{"$f":"IF(DX361=\"\",'Fuel CO2 Factors'!$E16,DX361)","v":74},{"$f":"IF(DY361=\"\",'Fuel CO2 Factors'!$E16,DY361)","v":74},{"$f":"IF(DZ361=\"\",'Fuel CO2 Factors'!$E16,DZ361)","v":74},{"$f":"IF(EA361=\"\",'Fuel CO2 Factors'!$E16,EA361)","v":74},{"$f":"IF(EB361=\"\",'Fuel CO2 Factors'!$E16,EB361)","v":74},{"$f":"IF(EC361=\"\",'Fuel CO2 Factors'!$E16,EC361)","v":74},{"$f":"IF(ED361=\"\",'Fuel CO2 Factors'!$E16,ED361)","v":74}]
[null,195,null,"tyres","[kg CO2/GJ]",null,{"$f":"IF(BV362=\"\",'Fuel CO2 Factors'!$E17,BV362)","v":85},{"$f":"IF(BW362=\"\",'Fuel CO2 Factors'!$E17,BW362)","v":85},{"$f":"IF(BX362=\"\",'Fuel CO2 Factors'!$E17,BX362)","v":85},{"$f":"IF(BY362=\"\",'Fuel CO2 Factors'!$E17,BY362)","v":85},{"$f":"IF(BZ362=\"\",'Fuel CO2 Factors'!$E17,BZ362)","v":85},{"$f":"IF(CA362=\"\",'Fuel CO2 Factors'!$E17,CA362)","v":85},{"$f":"IF(CB362=\"\",'Fuel CO2 Factors'!$E17,CB362)","v":85},{"$f":"IF(CC362=\"\",'Fuel CO2 Factors'!$E17,CC362)","v":85},{"$f":"IF(CD362=\"\",'Fuel CO2 Factors'!$E17,CD362)","v":85},{"$f":"IF(CE362=\"\",'Fuel CO2 Factors'!$E17,CE362)","v":85},{"$f":"IF(CF362=\"\",'Fuel CO2 Factors'!$E17,CF362)","v":85},{"$f":"IF(CG362=\"\",'Fuel CO2 Factors'!$E17,CG362)","v":85},{"$f":"IF(CH362=\"\",'Fuel CO2 Factors'!$E17,CH362)","v":85},{"$f":"IF(CI362=\"\",'Fuel CO2 Factors'!$E17,CI362)","v":85},{"$f":"IF(CJ362=\"\",'Fuel CO2 Factors'!$E17,CJ362)","v":85},{"$f":"IF(CK362=\"\",'Fuel CO2 Factors'!$E17,CK362)","v":85},{"$f":"IF(CL362=\"\",'Fuel CO2 Factors'!$E17,CL362)","v":85},{"$f":"IF(CM362=\"\",'Fuel CO2 Factors'!$E17,CM362)","v":85},{"$f":"IF(CN362=\"\",'Fuel CO2 Factors'!$E17,CN362)","v":85},{"$f":"IF(CO362=\"\",'Fuel CO2 Factors'!$E17,CO362)","v":85},{"$f":"IF(CP362=\"\",'Fuel CO2 Factors'!$E17,CP362)","v":85},{"$f":"IF(CQ362=\"\",'Fuel CO2 Factors'!$E17,CQ362)","v":85},{"$f":"IF(CR362=\"\",'Fuel CO2 Factors'!$E17,CR362)","v":85},{"$f":"IF(CS362=\"\",'Fuel CO2 Factors'!$E17,CS362)","v":85},{"$f":"IF(CT362=\"\",'Fuel CO2 Factors'!$E17,CT362)","v":85},{"$f":"IF(CU362=\"\",'Fuel CO2 Factors'!$E17,CU362)","v":85},{"$f":"IF(CV362=\"\",'Fuel CO2 Factors'!$E17,CV362)","v":85},{"$f":"IF(CW362=\"\",'Fuel CO2 Factors'!$E17,CW362)","v":85},{"$f":"IF(CX362=\"\",'Fuel CO2 Factors'!$E17,CX362)","v":85},{"$f":"IF(CY362=\"\",'Fuel CO2 Factors'!$E17,CY362)","v":85},{"$f":"IF(CZ362=\"\",'Fuel CO2 Factors'!$E17,CZ362)","v":85},{"$f":"IF(DA362=\"\",'Fuel CO2 Factors'!$E17,DA362)","v":85},{"$f":"IF(DB362=\"\",'Fuel CO2 Factors'!$E17,DB362)","v":85},{"$f":"IF(DC362=\"\",'Fuel CO2 Factors'!$E17,DC362)","v":85},{"$f":"IF(DD362=\"\",'Fuel CO2 Factors'!$E17,DD362)","v":85},{"$f":"IF(DE362=\"\",'Fuel CO2 Factors'!$E17,DE362)","v":85},{"$f":"IF(DF362=\"\",'Fuel CO2 Factors'!$E17,DF362)","v":85},{"$f":"IF(DG362=\"\",'Fuel CO2 Factors'!$E17,DG362)","v":85},{"$f":"IF(DH362=\"\",'Fuel CO2 Factors'!$E17,DH362)","v":85},{"$f":"IF(DI362=\"\",'Fuel CO2 Factors'!$E17,DI362)","v":85},{"$f":"IF(DJ362=\"\",'Fuel CO2 Factors'!$E17,DJ362)","v":85},{"$f":"IF(DK362=\"\",'Fuel CO2 Factors'!$E17,DK362)","v":85},{"$f":"IF(DL362=\"\",'Fuel CO2 Factors'!$E17,DL362)","v":85},{"$f":"IF(DM362=\"\",'Fuel CO2 Factors'!$E17,DM362)","v":85},{"$f":"IF(DN362=\"\",'Fuel CO2 Factors'!$E17,DN362)","v":85},{"$f":"IF(DO362=\"\",'Fuel CO2 Factors'!$E17,DO362)","v":85},{"$f":"IF(DP362=\"\",'Fuel CO2 Factors'!$E17,DP362)","v":85},{"$f":"IF(DQ362=\"\",'Fuel CO2 Factors'!$E17,DQ362)","v":85},{"$f":"IF(DR362=\"\",'Fuel CO2 Factors'!$E17,DR362)","v":85},{"$f":"IF(DS362=\"\",'Fuel CO2 Factors'!$E17,DS362)","v":85},{"$f":"IF(DT362=\"\",'Fuel CO2 Factors'!$E17,DT362)","v":85},{"$f":"IF(DU362=\"\",'Fuel CO2 Factors'!$E17,DU362)","v":85},{"$f":"IF(DV362=\"\",'Fuel CO2 Factors'!$E17,DV362)","v":85},{"$f":"IF(DW362=\"\",'Fuel CO2 Factors'!$E17,DW362)","v":85},{"$f":"IF(DX362=\"\",'Fuel CO2 Factors'!$E17,DX362)","v":85},{"$f":"IF(DY362=\"\",'Fuel CO2 Factors'!$E17,DY362)","v":85},{"$f":"IF(DZ362=\"\",'Fuel CO2 Factors'!$E17,DZ362)","v":85},{"$f":"IF(EA362=\"\",'Fuel CO2 Factors'!$E17,EA362)","v":85},{"$f":"IF(EB362=\"\",'Fuel CO2 Factors'!$E17,EB362)","v":85},{"$f":"IF(EC362=\"\",'Fuel CO2 Factors'!$E17,EC362)","v":85},{"$f":"IF(ED362=\"\",'Fuel CO2 Factors'!$E17,ED362)","v":85}]
[null,196,null,"RDF including plastics","[kg CO2/GJ]",null,{"$f":"IF(BV363=\"\",'Fuel CO2 Factors'!$E18,BV363)","v":75},{"$f":"IF(BW363=\"\",'Fuel CO2 Factors'!$E18,BW363)","v":75},{"$f":"IF(BX363=\"\",'Fuel CO2 Factors'!$E18,BX363)","v":75},{"$f":"IF(BY363=\"\",'Fuel CO2 Factors'!$E18,BY363)","v":75},{"$f":"IF(BZ363=\"\",'Fuel CO2 Factors'!$E18,BZ363)","v":75},{"$f":"IF(CA363=\"\",'Fuel CO2 Factors'!$E18,CA363)","v":75},{"$f":"IF(CB363=\"\",'Fuel CO2 Factors'!$E18,CB363)","v":75},{"$f":"IF(CC363=\"\",'Fuel CO2 Factors'!$E18,CC363)","v":75},{"$f":"IF(CD363=\"\",'Fuel CO2 Factors'!$E18,CD363)","v":75},{"$f":"IF(CE363=\"\",'Fuel CO2 Factors'!$E18,CE363)","v":75},{"$f":"IF(CF363=\"\",'Fuel CO2 Factors'!$E18,CF363)","v":75},{"$f":"IF(CG363=\"\",'Fuel CO2 Factors'!$E18,CG363)","v":75},{"$f":"IF(CH363=\"\",'Fuel CO2 Factors'!$E18,CH363)","v":75},{"$f":"IF(CI363=\"\",'Fuel CO2 Factors'!$E18,CI363)","v":75},{"$f":"IF(CJ363=\"\",'Fuel CO2 Factors'!$E18,CJ363)","v":75},{"$f":"IF(CK363=\"\",'Fuel CO2 Factors'!$E18,CK363)","v":75},{"$f":"IF(CL363=\"\",'Fuel CO2 Factors'!$E18,CL363)","v":75},{"$f":"IF(CM363=\"\",'Fuel CO2 Factors'!$E18,CM363)","v":75},{"$f":"IF(CN363=\"\",'Fuel CO2 Factors'!$E18,CN363)","v":75},{"$f":"IF(CO363=\"\",'Fuel CO2 Factors'!$E18,CO363)","v":75},{"$f":"IF(CP363=\"\",'Fuel CO2 Factors'!$E18,CP363)","v":75},{"$f":"IF(CQ363=\"\",'Fuel CO2 Factors'!$E18,CQ363)","v":75},{"$f":"IF(CR363=\"\",'Fuel CO2 Factors'!$E18,CR363)","v":75},{"$f":"IF(CS363=\"\",'Fuel CO2 Factors'!$E18,CS363)","v":75},{"$f":"IF(CT363=\"\",'Fuel CO2 Factors'!$E18,CT363)","v":75},{"$f":"IF(CU363=\"\",'Fuel CO2 Factors'!$E18,CU363)","v":75},{"$f":"IF(CV363=\"\",'Fuel CO2 Factors'!$E18,CV363)","v":75},{"$f":"IF(CW363=\"\",'Fuel CO2 Factors'!$E18,CW363)","v":75},{"$f":"IF(CX363=\"\",'Fuel CO2 Factors'!$E18,CX363)","v":75},{"$f":"IF(CY363=\"\",'Fuel CO2 Factors'!$E18,CY363)","v":75},{"$f":"IF(CZ363=\"\",'Fuel CO2 Factors'!$E18,CZ363)","v":75},{"$f":"IF(DA363=\"\",'Fuel CO2 Factors'!$E18,DA363)","v":75},{"$f":"IF(DB363=\"\",'Fuel CO2 Factors'!$E18,DB363)","v":75},{"$f":"IF(DC363=\"\",'Fuel CO2 Factors'!$E18,DC363)","v":75},{"$f":"IF(DD363=\"\",'Fuel CO2 Factors'!$E18,DD363)","v":75},{"$f":"IF(DE363=\"\",'Fuel CO2 Factors'!$E18,DE363)","v":75},{"$f":"IF(DF363=\"\",'Fuel CO2 Factors'!$E18,DF363)","v":75},{"$f":"IF(DG363=\"\",'Fuel CO2 Factors'!$E18,DG363)","v":75},{"$f":"IF(DH363=\"\",'Fuel CO2 Factors'!$E18,DH363)","v":75},{"$f":"IF(DI363=\"\",'Fuel CO2 Factors'!$E18,DI363)","v":75},{"$f":"IF(DJ363=\"\",'Fuel CO2 Factors'!$E18,DJ363)","v":75},{"$f":"IF(DK363=\"\",'Fuel CO2 Factors'!$E18,DK363)","v":75},{"$f":"IF(DL363=\"\",'Fuel CO2 Factors'!$E18,DL363)","v":75},{"$f":"IF(DM363=\"\",'Fuel CO2 Factors'!$E18,DM363)","v":75},{"$f":"IF(DN363=\"\",'Fuel CO2 Factors'!$E18,DN363)","v":75},{"$f":"IF(DO363=\"\",'Fuel CO2 Factors'!$E18,DO363)","v":75},{"$f":"IF(DP363=\"\",'Fuel CO2 Factors'!$E18,DP363)","v":75},{"$f":"IF(DQ363=\"\",'Fuel CO2 Factors'!$E18,DQ363)","v":75},{"$f":"IF(DR363=\"\",'Fuel CO2 Factors'!$E18,DR363)","v":75},{"$f":"IF(DS363=\"\",'Fuel CO2 Factors'!$E18,DS363)","v":75},{"$f":"IF(DT363=\"\",'Fuel CO2 Factors'!$E18,DT363)","v":75},{"$f":"IF(DU363=\"\",'Fuel CO2 Factors'!$E18,DU363)","v":75},{"$f":"IF(DV363=\"\",'Fuel CO2 Factors'!$E18,DV363)","v":75},{"$f":"IF(DW363=\"\",'Fuel CO2 Factors'!$E18,DW363)","v":75},{"$f":"IF(DX363=\"\",'Fuel CO2 Factors'!$E18,DX363)","v":75},{"$f":"IF(DY363=\"\",'Fuel CO2 Factors'!$E18,DY363)","v":75},{"$f":"IF(DZ363=\"\",'Fuel CO2 Factors'!$E18,DZ363)","v":75},{"$f":"IF(EA363=\"\",'Fuel CO2 Factors'!$E18,EA363)","v":75},{"$f":"IF(EB363=\"\",'Fuel CO2 Factors'!$E18,EB363)","v":75},{"$f":"IF(EC363=\"\",'Fuel CO2 Factors'!$E18,EC363)","v":75},{"$f":"IF(ED363=\"\",'Fuel CO2 Factors'!$E18,ED363)","v":75}]
[null,197,null,"solvents","[kg CO2/GJ]",null,{"$f":"IF(BV364=\"\",'Fuel CO2 Factors'!$E19,BV364)","v":74},{"$f":"IF(BW364=\"\",'Fuel CO2 Factors'!$E19,BW364)","v":74},{"$f":"IF(BX364=\"\",'Fuel CO2 Factors'!$E19,BX364)","v":74},{"$f":"IF(BY364=\"\",'Fuel CO2 Factors'!$E19,BY364)","v":74},{"$f":"IF(BZ364=\"\",'Fuel CO2 Factors'!$E19,BZ364)","v":74},{"$f":"IF(CA364=\"\",'Fuel CO2 Factors'!$E19,CA364)","v":74},{"$f":"IF(CB364=\"\",'Fuel CO2 Factors'!$E19,CB364)","v":74},{"$f":"IF(CC364=\"\",'Fuel CO2 Factors'!$E19,CC364)","v":74},{"$f":"IF(CD364=\"\",'Fuel CO2 Factors'!$E19,CD364)","v":74},{"$f":"IF(CE364=\"\",'Fuel CO2 Factors'!$E19,CE364)","v":74},{"$f":"IF(CF364=\"\",'Fuel CO2 Factors'!$E19,CF364)","v":74},{"$f":"IF(CG364=\"\",'Fuel CO2 Factors'!$E19,CG364)","v":74},{"$f":"IF(CH364=\"\",'Fuel CO2 Factors'!$E19,CH364)","v":74},{"$f":"IF(CI364=\"\",'Fuel CO2 Factors'!$E19,CI364)","v":74},{"$f":"IF(CJ364=\"\",'Fuel CO2 Factors'!$E19,CJ364)","v":74},{"$f":"IF(CK364=\"\",'Fuel CO2 Factors'!$E19,CK364)","v":74},{"$f":"IF(CL364=\"\",'Fuel CO2 Factors'!$E19,CL364)","v":74},{"$f":"IF(CM364=\"\",'Fuel CO2 Factors'!$E19,CM364)","v":74},{"$f":"IF(CN364=\"\",'Fuel CO2 Factors'!$E19,CN364)","v":74},{"$f":"IF(CO364=\"\",'Fuel CO2 Factors'!$E19,CO364)","v":74},{"$f":"IF(CP364=\"\",'Fuel CO2 Factors'!$E19,CP364)","v":74},{"$f":"IF(CQ364=\"\",'Fuel CO2 Factors'!$E19,CQ364)","v":74},{"$f":"IF(CR364=\"\",'Fuel CO2 Factors'!$E19,CR364)","v":74},{"$f":"IF(CS364=\"\",'Fuel CO2 Factors'!$E19,CS364)","v":74},{"$f":"IF(CT364=\"\",'Fuel CO2 Factors'!$E19,CT364)","v":74},{"$f":"IF(CU364=\"\",'Fuel CO2 Factors'!$E19,CU364)","v":74},{"$f":"IF(CV364=\"\",'Fuel CO2 Factors'!$E19,CV364)","v":74},{"$f":"IF(CW364=\"\",'Fuel CO2 Factors'!$E19,CW364)","v":74},{"$f":"IF(CX364=\"\",'Fuel CO2 Factors'!$E19,CX364)","v":74},{"$f":"IF(CY364=\"\",'Fuel CO2 Factors'!$E19,CY364)","v":74},{"$f":"IF(CZ364=\"\",'Fuel CO2 Factors'!$E19,CZ364)","v":74},{"$f":"IF(DA364=\"\",'Fuel CO2 Factors'!$E19,DA364)","v":74},{"$f":"IF(DB364=\"\",'Fuel CO2 Factors'!$E19,DB364)","v":74},{"$f":"IF(DC364=\"\",'Fuel CO2 Factors'!$E19,DC364)","v":74},{"$f":"IF(DD364=\"\",'Fuel CO2 Factors'!$E19,DD364)","v":74},{"$f":"IF(DE364=\"\",'Fuel CO2 Factors'!$E19,DE364)","v":74},{"$f":"IF(DF364=\"\",'Fuel CO2 Factors'!$E19,DF364)","v":74},{"$f":"IF(DG364=\"\",'Fuel CO2 Factors'!$E19,DG364)","v":74},{"$f":"IF(DH364=\"\",'Fuel CO2 Factors'!$E19,DH364)","v":74},{"$f":"IF(DI364=\"\",'Fuel CO2 Factors'!$E19,DI364)","v":74},{"$f":"IF(DJ364=\"\",'Fuel CO2 Factors'!$E19,DJ364)","v":74},{"$f":"IF(DK364=\"\",'Fuel CO2 Factors'!$E19,DK364)","v":74},{"$f":"IF(DL364=\"\",'Fuel CO2 Factors'!$E19,DL364)","v":74},{"$f":"IF(DM364=\"\",'Fuel CO2 Factors'!$E19,DM364)","v":74},{"$f":"IF(DN364=\"\",'Fuel CO2 Factors'!$E19,DN364)","v":74},{"$f":"IF(DO364=\"\",'Fuel CO2 Factors'!$E19,DO364)","v":74},{"$f":"IF(DP364=\"\",'Fuel CO2 Factors'!$E19,DP364)","v":74},{"$f":"IF(DQ364=\"\",'Fuel CO2 Factors'!$E19,DQ364)","v":74},{"$f":"IF(DR364=\"\",'Fuel CO2 Factors'!$E19,DR364)","v":74},{"$f":"IF(DS364=\"\",'Fuel CO2 Factors'!$E19,DS364)","v":74},{"$f":"IF(DT364=\"\",'Fuel CO2 Factors'!$E19,DT364)","v":74},{"$f":"IF(DU364=\"\",'Fuel CO2 Factors'!$E19,DU364)","v":74},{"$f":"IF(DV364=\"\",'Fuel CO2 Factors'!$E19,DV364)","v":74},{"$f":"IF(DW364=\"\",'Fuel CO2 Factors'!$E19,DW364)","v":74},{"$f":"IF(DX364=\"\",'Fuel CO2 Factors'!$E19,DX364)","v":74},{"$f":"IF(DY364=\"\",'Fuel CO2 Factors'!$E19,DY364)","v":74},{"$f":"IF(DZ364=\"\",'Fuel CO2 Factors'!$E19,DZ364)","v":74},{"$f":"IF(EA364=\"\",'Fuel CO2 Factors'!$E19,EA364)","v":74},{"$f":"IF(EB364=\"\",'Fuel CO2 Factors'!$E19,EB364)","v":74},{"$f":"IF(EC364=\"\",'Fuel CO2 Factors'!$E19,EC364)","v":74},{"$f":"IF(ED364=\"\",'Fuel CO2 Factors'!$E19,ED364)","v":74}]
[null,198,null,"impregnated saw dust","[kg CO2/GJ]",null,{"$f":"IF(BV365=\"\",'Fuel CO2 Factors'!$E20,BV365)","v":75},{"$f":"IF(BW365=\"\",'Fuel CO2 Factors'!$E20,BW365)","v":75},{"$f":"IF(BX365=\"\",'Fuel CO2 Factors'!$E20,BX365)","v":75},{"$f":"IF(BY365=\"\",'Fuel CO2 Factors'!$E20,BY365)","v":75},{"$f":"IF(BZ365=\"\",'Fuel CO2 Factors'!$E20,BZ365)","v":75},{"$f":"IF(CA365=\"\",'Fuel CO2 Factors'!$E20,CA365)","v":75},{"$f":"IF(CB365=\"\",'Fuel CO2 Factors'!$E20,CB365)","v":75},{"$f":"IF(CC365=\"\",'Fuel CO2 Factors'!$E20,CC365)","v":75},{"$f":"IF(CD365=\"\",'Fuel CO2 Factors'!$E20,CD365)","v":75},{"$f":"IF(CE365=\"\",'Fuel CO2 Factors'!$E20,CE365)","v":75},{"$f":"IF(CF365=\"\",'Fuel CO2 Factors'!$E20,CF365)","v":75},{"$f":"IF(CG365=\"\",'Fuel CO2 Factors'!$E20,CG365)","v":75},{"$f":"IF(CH365=\"\",'Fuel CO2 Factors'!$E20,CH365)","v":75},{"$f":"IF(CI365=\"\",'Fuel CO2 Factors'!$E20,CI365)","v":75},{"$f":"IF(CJ365=\"\",'Fuel CO2 Factors'!$E20,CJ365)","v":75},{"$f":"IF(CK365=\"\",'Fuel CO2 Factors'!$E20,CK365)","v":75},{"$f":"IF(CL365=\"\",'Fuel CO2 Factors'!$E20,CL365)","v":75},{"$f":"IF(CM365=\"\",'Fuel CO2 Factors'!$E20,CM365)","v":75},{"$f":"IF(CN365=\"\",'Fuel CO2 Factors'!$E20,CN365)","v":75},{"$f":"IF(CO365=\"\",'Fuel CO2 Factors'!$E20,CO365)","v":75},{"$f":"IF(CP365=\"\",'Fuel CO2 Factors'!$E20,CP365)","v":75},{"$f":"IF(CQ365=\"\",'Fuel CO2 Factors'!$E20,CQ365)","v":75},{"$f":"IF(CR365=\"\",'Fuel CO2 Factors'!$E20,CR365)","v":75},{"$f":"IF(CS365=\"\",'Fuel CO2 Factors'!$E20,CS365)","v":75},{"$f":"IF(CT365=\"\",'Fuel CO2 Factors'!$E20,CT365)","v":75},{"$f":"IF(CU365=\"\",'Fuel CO2 Factors'!$E20,CU365)","v":75},{"$f":"IF(CV365=\"\",'Fuel CO2 Factors'!$E20,CV365)","v":75},{"$f":"IF(CW365=\"\",'Fuel CO2 Factors'!$E20,CW365)","v":75},{"$f":"IF(CX365=\"\",'Fuel CO2 Factors'!$E20,CX365)","v":75},{"$f":"IF(CY365=\"\",'Fuel CO2 Factors'!$E20,CY365)","v":75},{"$f":"IF(CZ365=\"\",'Fuel CO2 Factors'!$E20,CZ365)","v":75},{"$f":"IF(DA365=\"\",'Fuel CO2 Factors'!$E20,DA365)","v":75},{"$f":"IF(DB365=\"\",'Fuel CO2 Factors'!$E20,DB365)","v":75},{"$f":"IF(DC365=\"\",'Fuel CO2 Factors'!$E20,DC365)","v":75},{"$f":"IF(DD365=\"\",'Fuel CO2 Factors'!$E20,DD365)","v":75},{"$f":"IF(DE365=\"\",'Fuel CO2 Factors'!$E20,DE365)","v":75},{"$f":"IF(DF365=\"\",'Fuel CO2 Factors'!$E20,DF365)","v":75},{"$f":"IF(DG365=\"\",'Fuel CO2 Factors'!$E20,DG365)","v":75},{"$f":"IF(DH365=\"\",'Fuel CO2 Factors'!$E20,DH365)","v":75},{"$f":"IF(DI365=\"\",'Fuel CO2 Factors'!$E20,DI365)","v":75},{"$f":"IF(DJ365=\"\",'Fuel CO2 Factors'!$E20,DJ365)","v":75},{"$f":"IF(DK365=\"\",'Fuel CO2 Factors'!$E20,DK365)","v":75},{"$f":"IF(DL365=\"\",'Fuel CO2 Factors'!$E20,DL365)","v":75},{"$f":"IF(DM365=\"\",'Fuel CO2 Factors'!$E20,DM365)","v":75},{"$f":"IF(DN365=\"\",'Fuel CO2 Factors'!$E20,DN365)","v":75},{"$f":"IF(DO365=\"\",'Fuel CO2 Factors'!$E20,DO365)","v":75},{"$f":"IF(DP365=\"\",'Fuel CO2 Factors'!$E20,DP365)","v":75},{"$f":"IF(DQ365=\"\",'Fuel CO2 Factors'!$E20,DQ365)","v":75},{"$f":"IF(DR365=\"\",'Fuel CO2 Factors'!$E20,DR365)","v":75},{"$f":"IF(DS365=\"\",'Fuel CO2 Factors'!$E20,DS365)","v":75},{"$f":"IF(DT365=\"\",'Fuel CO2 Factors'!$E20,DT365)","v":75},{"$f":"IF(DU365=\"\",'Fuel CO2 Factors'!$E20,DU365)","v":75},{"$f":"IF(DV365=\"\",'Fuel CO2 Factors'!$E20,DV365)","v":75},{"$f":"IF(DW365=\"\",'Fuel CO2 Factors'!$E20,DW365)","v":75},{"$f":"IF(DX365=\"\",'Fuel CO2 Factors'!$E20,DX365)","v":75},{"$f":"IF(DY365=\"\",'Fuel CO2 Factors'!$E20,DY365)","v":75},{"$f":"IF(DZ365=\"\",'Fuel CO2 Factors'!$E20,DZ365)","v":75},{"$f":"IF(EA365=\"\",'Fuel CO2 Factors'!$E20,EA365)","v":75},{"$f":"IF(EB365=\"\",'Fuel CO2 Factors'!$E20,EB365)","v":75},{"$f":"IF(EC365=\"\",'Fuel CO2 Factors'!$E20,EC365)","v":75},{"$f":"IF(ED365=\"\",'Fuel CO2 Factors'!$E20,ED365)","v":75}]
[null,199,null,"mixed industrial waste","[kg CO2/GJ]",null,{"$f":"IF(BV366=\"\",'Fuel CO2 Factors'!$E21,BV366)","v":83},{"$f":"IF(BW366=\"\",'Fuel CO2 Factors'!$E21,BW366)","v":83},{"$f":"IF(BX366=\"\",'Fuel CO2 Factors'!$E21,BX366)","v":83},{"$f":"IF(BY366=\"\",'Fuel CO2 Factors'!$E21,BY366)","v":83},{"$f":"IF(BZ366=\"\",'Fuel CO2 Factors'!$E21,BZ366)","v":83},{"$f":"IF(CA366=\"\",'Fuel CO2 Factors'!$E21,CA366)","v":83},{"$f":"IF(CB366=\"\",'Fuel CO2 Factors'!$E21,CB366)","v":83},{"$f":"IF(CC366=\"\",'Fuel CO2 Factors'!$E21,CC366)","v":83},{"$f":"IF(CD366=\"\",'Fuel CO2 Factors'!$E21,CD366)","v":83},{"$f":"IF(CE366=\"\",'Fuel CO2 Factors'!$E21,CE366)","v":83},{"$f":"IF(CF366=\"\",'Fuel CO2 Factors'!$E21,CF366)","v":83},{"$f":"IF(CG366=\"\",'Fuel CO2 Factors'!$E21,CG366)","v":83},{"$f":"IF(CH366=\"\",'Fuel CO2 Factors'!$E21,CH366)","v":83},{"$f":"IF(CI366=\"\",'Fuel CO2 Factors'!$E21,CI366)","v":83},{"$f":"IF(CJ366=\"\",'Fuel CO2 Factors'!$E21,CJ366)","v":83},{"$f":"IF(CK366=\"\",'Fuel CO2 Factors'!$E21,CK366)","v":83},{"$f":"IF(CL366=\"\",'Fuel CO2 Factors'!$E21,CL366)","v":83},{"$f":"IF(CM366=\"\",'Fuel CO2 Factors'!$E21,CM366)","v":83},{"$f":"IF(CN366=\"\",'Fuel CO2 Factors'!$E21,CN366)","v":83},{"$f":"IF(CO366=\"\",'Fuel CO2 Factors'!$E21,CO366)","v":83},{"$f":"IF(CP366=\"\",'Fuel CO2 Factors'!$E21,CP366)","v":83},{"$f":"IF(CQ366=\"\",'Fuel CO2 Factors'!$E21,CQ366)","v":83},{"$f":"IF(CR366=\"\",'Fuel CO2 Factors'!$E21,CR366)","v":83},{"$f":"IF(CS366=\"\",'Fuel CO2 Factors'!$E21,CS366)","v":83},{"$f":"IF(CT366=\"\",'Fuel CO2 Factors'!$E21,CT366)","v":83},{"$f":"IF(CU366=\"\",'Fuel CO2 Factors'!$E21,CU366)","v":83},{"$f":"IF(CV366=\"\",'Fuel CO2 Factors'!$E21,CV366)","v":83},{"$f":"IF(CW366=\"\",'Fuel CO2 Factors'!$E21,CW366)","v":83},{"$f":"IF(CX366=\"\",'Fuel CO2 Factors'!$E21,CX366)","v":83},{"$f":"IF(CY366=\"\",'Fuel CO2 Factors'!$E21,CY366)","v":83},{"$f":"IF(CZ366=\"\",'Fuel CO2 Factors'!$E21,CZ366)","v":83},{"$f":"IF(DA366=\"\",'Fuel CO2 Factors'!$E21,DA366)","v":83},{"$f":"IF(DB366=\"\",'Fuel CO2 Factors'!$E21,DB366)","v":83},{"$f":"IF(DC366=\"\",'Fuel CO2 Factors'!$E21,DC366)","v":83},{"$f":"IF(DD366=\"\",'Fuel CO2 Factors'!$E21,DD366)","v":83},{"$f":"IF(DE366=\"\",'Fuel CO2 Factors'!$E21,DE366)","v":83},{"$f":"IF(DF366=\"\",'Fuel CO2 Factors'!$E21,DF366)","v":83},{"$f":"IF(DG366=\"\",'Fuel CO2 Factors'!$E21,DG366)","v":83},{"$f":"IF(DH366=\"\",'Fuel CO2 Factors'!$E21,DH366)","v":83},{"$f":"IF(DI366=\"\",'Fuel CO2 Factors'!$E21,DI366)","v":83},{"$f":"IF(DJ366=\"\",'Fuel CO2 Factors'!$E21,DJ366)","v":83},{"$f":"IF(DK366=\"\",'Fuel CO2 Factors'!$E21,DK366)","v":83},{"$f":"IF(DL366=\"\",'Fuel CO2 Factors'!$E21,DL366)","v":83},{"$f":"IF(DM366=\"\",'Fuel CO2 Factors'!$E21,DM366)","v":83},{"$f":"IF(DN366=\"\",'Fuel CO2 Factors'!$E21,DN366)","v":83},{"$f":"IF(DO366=\"\",'Fuel CO2 Factors'!$E21,DO366)","v":83},{"$f":"IF(DP366=\"\",'Fuel CO2 Factors'!$E21,DP366)","v":83},{"$f":"IF(DQ366=\"\",'Fuel CO2 Factors'!$E21,DQ366)","v":83},{"$f":"IF(DR366=\"\",'Fuel CO2 Factors'!$E21,DR366)","v":83},{"$f":"IF(DS366=\"\",'Fuel CO2 Factors'!$E21,DS366)","v":83},{"$f":"IF(DT366=\"\",'Fuel CO2 Factors'!$E21,DT366)","v":83},{"$f":"IF(DU366=\"\",'Fuel CO2 Factors'!$E21,DU366)","v":83},{"$f":"IF(DV366=\"\",'Fuel CO2 Factors'!$E21,DV366)","v":83},{"$f":"IF(DW366=\"\",'Fuel CO2 Factors'!$E21,DW366)","v":83},{"$f":"IF(DX366=\"\",'Fuel CO2 Factors'!$E21,DX366)","v":83},{"$f":"IF(DY366=\"\",'Fuel CO2 Factors'!$E21,DY366)","v":83},{"$f":"IF(DZ366=\"\",'Fuel CO2 Factors'!$E21,DZ366)","v":83},{"$f":"IF(EA366=\"\",'Fuel CO2 Factors'!$E21,EA366)","v":83},{"$f":"IF(EB366=\"\",'Fuel CO2 Factors'!$E21,EB366)","v":83},{"$f":"IF(EC366=\"\",'Fuel CO2 Factors'!$E21,EC366)","v":83},{"$f":"IF(ED366=\"\",'Fuel CO2 Factors'!$E21,ED366)","v":83}]
[null,"199a",null,"bio and mixed diesel","[kg CO2/GJ]",null,{"$f":"IF(BV367=\"\",74,BV367)","v":74},74,74,74,74,74,74,74,74,74,74,74,74,74,74,74,74,74,74,74,74,74,74,74,74,74,74,74,74,{"$f":"IF(CY367=\"\",74,CY367)","v":74},{"$f":"IF(CZ367=\"\",74,CZ367)","v":74},{"$f":"IF(DA367=\"\",74,DA367)","v":74},{"$f":"IF(DB367=\"\",74,DB367)","v":74},{"$f":"IF(DC367=\"\",74,DC367)","v":74},{"$f":"IF(DD367=\"\",74,DD367)","v":74},{"$f":"IF(DE367=\"\",74,DE367)","v":74},{"$f":"IF(DF367=\"\",74,DF367)","v":74},{"$f":"IF(DG367=\"\",74,DG367)","v":74},{"$f":"IF(DH367=\"\",74,DH367)","v":74},{"$f":"IF(DI367=\"\",74,DI367)","v":74},{"$f":"IF(DJ367=\"\",74,DJ367)","v":74},{"$f":"IF(DK367=\"\",74,DK367)","v":74},{"$f":"IF(DL367=\"\",74,DL367)","v":74},{"$f":"IF(DM367=\"\",74,DM367)","v":74},{"$f":"IF(DN367=\"\",74,DN367)","v":74},{"$f":"IF(DO367=\"\",74,DO367)","v":74},{"$f":"IF(DP367=\"\",74,DP367)","v":74},{"$f":"IF(DQ367=\"\",74,DQ367)","v":74},{"$f":"IF(DR367=\"\",74,DR367)","v":74},{"$f":"IF(DS367=\"\",74,DS367)","v":74},{"$f":"IF(DT367=\"\",74,DT367)","v":74},{"$f":"IF(DU367=\"\",74,DU367)","v":74},{"$f":"IF(DV367=\"\",74,DV367)","v":74},{"$f":"IF(DW367=\"\",74,DW367)","v":74},{"$f":"IF(DX367=\"\",74,DX367)","v":74},{"$f":"IF(DY367=\"\",74,DY367)","v":74},{"$f":"IF(DZ367=\"\",74,DZ367)","v":74},{"$f":"IF(EA367=\"\",74,EA367)","v":74},{"$f":"IF(EB367=\"\",74,EB367)","v":74},{"$f":"IF(EC367=\"\",74,EC367)","v":74},{"$f":"IF(ED367=\"\",74,ED367)","v":74}]
[null,{"$f":"B366+1","v":200},null,"other fossil based wastes and mixed fuels","[kg CO2/GJ]",null,{"$f":"IF(BV368=\"\",'Fuel CO2 Factors'!$E22,BV368)","v":80},{"$f":"IF(BW368=\"\",'Fuel CO2 Factors'!$E22,BW368)","v":80},{"$f":"IF(BX368=\"\",'Fuel CO2 Factors'!$E22,BX368)","v":80},{"$f":"IF(BY368=\"\",'Fuel CO2 Factors'!$E22,BY368)","v":80},{"$f":"IF(BZ368=\"\",'Fuel CO2 Factors'!$E22,BZ368)","v":80},{"$f":"IF(CA368=\"\",'Fuel CO2 Factors'!$E22,CA368)","v":80},{"$f":"IF(CB368=\"\",'Fuel CO2 Factors'!$E22,CB368)","v":80},{"$f":"IF(CC368=\"\",'Fuel CO2 Factors'!$E22,CC368)","v":80},{"$f":"IF(CD368=\"\",'Fuel CO2 Factors'!$E22,CD368)","v":80},{"$f":"IF(CE368=\"\",'Fuel CO2 Factors'!$E22,CE368)","v":80},{"$f":"IF(CF368=\"\",'Fuel CO2 Factors'!$E22,CF368)","v":80},{"$f":"IF(CG368=\"\",'Fuel CO2 Factors'!$E22,CG368)","v":80},{"$f":"IF(CH368=\"\",'Fuel CO2 Factors'!$E22,CH368)","v":80},{"$f":"IF(CI368=\"\",'Fuel CO2 Factors'!$E22,CI368)","v":80},{"$f":"IF(CJ368=\"\",'Fuel CO2 Factors'!$E22,CJ368)","v":80},{"$f":"IF(CK368=\"\",'Fuel CO2 Factors'!$E22,CK368)","v":80},{"$f":"IF(CL368=\"\",'Fuel CO2 Factors'!$E22,CL368)","v":80},{"$f":"IF(CM368=\"\",'Fuel CO2 Factors'!$E22,CM368)","v":80},{"$f":"IF(CN368=\"\",'Fuel CO2 Factors'!$E22,CN368)","v":80},{"$f":"IF(CO368=\"\",'Fuel CO2 Factors'!$E22,CO368)","v":80},{"$f":"IF(CP368=\"\",'Fuel CO2 Factors'!$E22,CP368)","v":80},{"$f":"IF(CQ368=\"\",'Fuel CO2 Factors'!$E22,CQ368)","v":80},{"$f":"IF(CR368=\"\",'Fuel CO2 Factors'!$E22,CR368)","v":80},{"$f":"IF(CS368=\"\",'Fuel CO2 Factors'!$E22,CS368)","v":80},{"$f":"IF(CT368=\"\",'Fuel CO2 Factors'!$E22,CT368)","v":80},{"$f":"IF(CU368=\"\",'Fuel CO2 Factors'!$E22,CU368)","v":80},{"$f":"IF(CV368=\"\",'Fuel CO2 Factors'!$E22,CV368)","v":80},{"$f":"IF(CW368=\"\",'Fuel CO2 Factors'!$E22,CW368)","v":80},{"$f":"IF(CX368=\"\",'Fuel CO2 Factors'!$E22,CX368)","v":80},{"$f":"IF(CY368=\"\",'Fuel CO2 Factors'!$E22,CY368)","v":80},{"$f":"IF(CZ368=\"\",'Fuel CO2 Factors'!$E22,CZ368)","v":80},{"$f":"IF(DA368=\"\",'Fuel CO2 Factors'!$E22,DA368)","v":80},{"$f":"IF(DB368=\"\",'Fuel CO2 Factors'!$E22,DB368)","v":80},{"$f":"IF(DC368=\"\",'Fuel CO2 Factors'!$E22,DC368)","v":80},{"$f":"IF(DD368=\"\",'Fuel CO2 Factors'!$E22,DD368)","v":80},{"$f":"IF(DE368=\"\",'Fuel CO2 Factors'!$E22,DE368)","v":80},{"$f":"IF(DF368=\"\",'Fuel CO2 Factors'!$E22,DF368)","v":80},{"$f":"IF(DG368=\"\",'Fuel CO2 Factors'!$E22,DG368)","v":80},{"$f":"IF(DH368=\"\",'Fuel CO2 Factors'!$E22,DH368)","v":80},{"$f":"IF(DI368=\"\",'Fuel CO2 Factors'!$E22,DI368)","v":80},{"$f":"IF(DJ368=\"\",'Fuel CO2 Factors'!$E22,DJ368)","v":80},{"$f":"IF(DK368=\"\",'Fuel CO2 Factors'!$E22,DK368)","v":80},{"$f":"IF(DL368=\"\",'Fuel CO2 Factors'!$E22,DL368)","v":80},{"$f":"IF(DM368=\"\",'Fuel CO2 Factors'!$E22,DM368)","v":80},{"$f":"IF(DN368=\"\",'Fuel CO2 Factors'!$E22,DN368)","v":80},{"$f":"IF(DO368=\"\",'Fuel CO2 Factors'!$E22,DO368)","v":80},{"$f":"IF(DP368=\"\",'Fuel CO2 Factors'!$E22,DP368)","v":80},{"$f":"IF(DQ368=\"\",'Fuel CO2 Factors'!$E22,DQ368)","v":80},{"$f":"IF(DR368=\"\",'Fuel CO2 Factors'!$E22,DR368)","v":80},{"$f":"IF(DS368=\"\",'Fuel CO2 Factors'!$E22,DS368)","v":80},{"$f":"IF(DT368=\"\",'Fuel CO2 Factors'!$E22,DT368)","v":80},{"$f":"IF(DU368=\"\",'Fuel CO2 Factors'!$E22,DU368)","v":80},{"$f":"IF(DV368=\"\",'Fuel CO2 Factors'!$E22,DV368)","v":80},{"$f":"IF(DW368=\"\",'Fuel CO2 Factors'!$E22,DW368)","v":80},{"$f":"IF(DX368=\"\",'Fuel CO2 Factors'!$E22,DX368)","v":80},{"$f":"IF(DY368=\"\",'Fuel CO2 Factors'!$E22,DY368)","v":80},{"$f":"IF(DZ368=\"\",'Fuel CO2 Factors'!$E22,DZ368)","v":80},{"$f":"IF(EA368=\"\",'Fuel CO2 Factors'!$E22,EA368)","v":80},{"$f":"IF(EB368=\"\",'Fuel CO2 Factors'!$E22,EB368)","v":80},{"$f":"IF(EC368=\"\",'Fuel CO2 Factors'!$E22,EC368)","v":80},{"$f":"IF(ED368=\"\",'Fuel CO2 Factors'!$E22,ED368)","v":80}]
[null,"200a",null,"biomass in waste oil","[ % Cbio/TC]",null,{"$f":"IF(BV369=\"\",0,BV369)","v":0},0,0,0,0,0,0,0,0,0,0,0,0,0,0,0,0,0,0,0,0,0,0,0,0,0,0,0,0,{"$f":"IF(CY369=\"\",0,CY369)","v":0},{"$f":"IF(CZ369=\"\",0,CZ369)","v":0},{"$f":"IF(DA369=\"\",0,DA369)","v":0},{"$f":"IF(DB369=\"\",0,DB369)","v":0},{"$f":"IF(DC369=\"\",0,DC369)","v":0},{"$f":"IF(DD369=\"\",0,DD369)","v":0},{"$f":"IF(DE369=\"\",0,DE369)","v":0},{"$f":"IF(DF369=\"\",0,DF369)","v":0},{"$f":"IF(DG369=\"\",0,DG369)","v":0},{"$f":"IF(DH369=\"\",0,DH369)","v":0},{"$f":"IF(DI369=\"\",0,DI369)","v":0},{"$f":"IF(DJ369=\"\",0,DJ369)","v":0},{"$f":"IF(DK369=\"\",0,DK369)","v":0},{"$f":"IF(DL369=\"\",0,DL369)","v":0},{"$f":"IF(DM369=\"\",0,DM369)","v":0},{"$f":"IF(DN369=\"\",0,DN369)","v":0},{"$f":"IF(DO369=\"\",0,DO369)","v":0},{"$f":"IF(DP369=\"\",0,DP369)","v":0},{"$f":"IF(DQ369=\"\",0,DQ369)","v":0},{"$f":"IF(DR369=\"\",0,DR369)","v":0},{"$f":"IF(DS369=\"\",0,DS369)","v":0},{"$f":"IF(DT369=\"\",0,DT369)","v":0},{"$f":"IF(DU369=\"\",0,DU369)","v":0},{"$f":"IF(DV369=\"\",0,DV369)","v":0},{"$f":"IF(DW369=\"\",0,DW369)","v":0},{"$f":"IF(DX369=\"\",0,DX369)","v":0},{"$f":"IF(DY369=\"\",0,DY369)","v":0},{"$f":"IF(DZ369=\"\",0,DZ369)","v":0},{"$f":"IF(EA369=\"\",0,EA369)","v":0},{"$f":"IF(EB369=\"\",0,EB369)","v":0},{"$f":"IF(EC369=\"\",0,EC369)","v":0},{"$f":"IF(ED369=\"\",0,ED369)","v":0}]
[null,"200b",null,"biomass in tyres","[ % Cbio/TC]",null,{"$f":"IF(BV370=\"\",'Fuel CO2 Factors'!$F17,BV370)","v":0.27},{"$f":"IF(BW370=\"\",'Fuel CO2 Factors'!$F17,BW370)","v":0.27},{"$f":"IF(BX370=\"\",'Fuel CO2 Factors'!$F17,BX370)","v":0.27},{"$f":"IF(BY370=\"\",'Fuel CO2 Factors'!$F17,BY370)","v":0.27},{"$f":"IF(BZ370=\"\",'Fuel CO2 Factors'!$F17,BZ370)","v":0.27},{"$f":"IF(CA370=\"\",'Fuel CO2 Factors'!$F17,CA370)","v":0.27},{"$f":"IF(CB370=\"\",'Fuel CO2 Factors'!$F17,CB370)","v":0.27},{"$f":"IF(CC370=\"\",'Fuel CO2 Factors'!$F17,CC370)","v":0.27},{"$f":"IF(CD370=\"\",'Fuel CO2 Factors'!$F17,CD370)","v":0.27},{"$f":"IF(CE370=\"\",'Fuel CO2 Factors'!$F17,CE370)","v":0.27},{"$f":"IF(CF370=\"\",'Fuel CO2 Factors'!$F17,CF370)","v":0.27},{"$f":"IF(CG370=\"\",'Fuel CO2 Factors'!$F17,CG370)","v":0.27},{"$f":"IF(CH370=\"\",'Fuel CO2 Factors'!$F17,CH370)","v":0.27},{"$f":"IF(CI370=\"\",'Fuel CO2 Factors'!$F17,CI370)","v":0.27},{"$f":"IF(CJ370=\"\",'Fuel CO2 Factors'!$F17,CJ370)","v":0.27},{"$f":"IF(CK370=\"\",'Fuel CO2 Factors'!$F17,CK370)","v":0.27},{"$f":"IF(CL370=\"\",'Fuel CO2 Factors'!$F17,CL370)","v":0.27},{"$f":"IF(CM370=\"\",'Fuel CO2 Factors'!$F17,CM370)","v":0.27},{"$f":"IF(CN370=\"\",'Fuel CO2 Factors'!$F17,CN370)","v":0.27},{"$f":"IF(CO370=\"\",'Fuel CO2 Factors'!$F17,CO370)","v":0.27},{"$f":"IF(CP370=\"\",'Fuel CO2 Factors'!$F17,CP370)","v":0.27},{"$f":"IF(CQ370=\"\",'Fuel CO2 Factors'!$F17,CQ370)","v":0.27},{"$f":"IF(CR370=\"\",'Fuel CO2 Factors'!$F17,CR370)","v":0.27},{"$f":"IF(CS370=\"\",'Fuel CO2 Factors'!$F17,CS370)","v":0.27},{"$f":"IF(CT370=\"\",'Fuel CO2 Factors'!$F17,CT370)","v":0.27},{"$f":"IF(CU370=\"\",'Fuel CO2 Factors'!$F17,CU370)","v":0.27},{"$f":"IF(CV370=\"\",'Fuel CO2 Factors'!$F17,CV370)","v":0.27},{"$f":"IF(CW370=\"\",'Fuel CO2 Factors'!$F17,CW370)","v":0.27},{"$f":"IF(CX370=\"\",'Fuel CO2 Factors'!$F17,CX370)","v":0.27},{"$f":"IF(CY370=\"\",'Fuel CO2 Factors'!$F17,CY370)","v":0.27},{"$f":"IF(CZ370=\"\",'Fuel CO2 Factors'!$F17,CZ370)","v":0.27},{"$f":"IF(DA370=\"\",'Fuel CO2 Factors'!$F17,DA370)","v":0.27},{"$f":"IF(DB370=\"\",'Fuel CO2 Factors'!$F17,DB370)","v":0.27},{"$f":"IF(DC370=\"\",'Fuel CO2 Factors'!$F17,DC370)","v":0.27},{"$f":"IF(DD370=\"\",'Fuel CO2 Factors'!$F17,DD370)","v":0.27},{"$f":"IF(DE370=\"\",'Fuel CO2 Factors'!$F17,DE370)","v":0.27},{"$f":"IF(DF370=\"\",'Fuel CO2 Factors'!$F17,DF370)","v":0.27},{"$f":"IF(DG370=\"\",'Fuel CO2 Factors'!$F17,DG370)","v":0.27},{"$f":"IF(DH370=\"\",'Fuel CO2 Factors'!$F17,DH370)","v":0.27},{"$f":"IF(DI370=\"\",'Fuel CO2 Factors'!$F17,DI370)","v":0.27},{"$f":"IF(DJ370=\"\",'Fuel CO2 Factors'!$F17,DJ370)","v":0.27},{"$f":"IF(DK370=\"\",'Fuel CO2 Factors'!$F17,DK370)","v":0.27},{"$f":"IF(DL370=\"\",'Fuel CO2 Factors'!$F17,DL370)","v":0.27},{"$f":"IF(DM370=\"\",'Fuel CO2 Factors'!$F17,DM370)","v":0.27},{"$f":"IF(DN370=\"\",'Fuel CO2 Factors'!$F17,DN370)","v":0.27},{"$f":"IF(DO370=\"\",'Fuel CO2 Factors'!$F17,DO370)","v":0.27},{"$f":"IF(DP370=\"\",'Fuel CO2 Factors'!$F17,DP370)","v":0.27},{"$f":"IF(DQ370=\"\",'Fuel CO2 Factors'!$F17,DQ370)","v":0.27},{"$f":"IF(DR370=\"\",'Fuel CO2 Factors'!$F17,DR370)","v":0.27},{"$f":"IF(DS370=\"\",'Fuel CO2 Factors'!$F17,DS370)","v":0.27},{"$f":"IF(DT370=\"\",'Fuel CO2 Factors'!$F17,DT370)","v":0.27},{"$f":"IF(DU370=\"\",'Fuel CO2 Factors'!$F17,DU370)","v":0.27},{"$f":"IF(DV370=\"\",'Fuel CO2 Factors'!$F17,DV370)","v":0.27},{"$f":"IF(DW370=\"\",'Fuel CO2 Factors'!$F17,DW370)","v":0.27},{"$f":"IF(DX370=\"\",'Fuel CO2 Factors'!$F17,DX370)","v":0.27},{"$f":"IF(DY370=\"\",'Fuel CO2 Factors'!$F17,DY370)","v":0.27},{"$f":"IF(DZ370=\"\",'Fuel CO2 Factors'!$F17,DZ370)","v":0.27},{"$f":"IF(EA370=\"\",'Fuel CO2 Factors'!$F17,EA370)","v":0.27},{"$f":"IF(EB370=\"\",'Fuel CO2 Factors'!$F17,EB370)","v":0.27},{"$f":"IF(EC370=\"\",'Fuel CO2 Factors'!$F17,EC370)","v":0.27},{"$f":"IF(ED370=\"\",'Fuel CO2 Factors'!$F17,ED370)","v":0.27}]
[null,"200c",null,"biomass in RDF including plastics","[ % Cbio/TC]",null,{"$f":"IF(BV371=\"\",0,BV371)","v":0},0,0,0,0,0,0,0,0,0,{"$f":"IF(CF371=\"\",0,CF371)","v":0},0,0,0,0,0,0,0,0,0,{"$f":"IF(CP371=\"\",0,CP371)","v":0},0,0,0,0,0,0,0,0,{"$f":"IF(CY371=\"\",0,CY371)","v":0},{"$f":"IF(CZ371=\"\",0,CZ371)","v":0},{"$f":"IF(DA371=\"\",0,DA371)","v":0},{"$f":"IF(DB371=\"\",0,DB371)","v":0},{"$f":"IF(DC371=\"\",0,DC371)","v":0},{"$f":"IF(DD371=\"\",0,DD371)","v":0},{"$f":"IF(DE371=\"\",0,DE371)","v":0},{"$f":"IF(DF371=\"\",0,DF371)","v":0},{"$f":"IF(DG371=\"\",0,DG371)","v":0},{"$f":"IF(DH371=\"\",0,DH371)","v":0},{"$f":"IF(DI371=\"\",0,DI371)","v":0},{"$f":"IF(DJ371=\"\",0,DJ371)","v":0},{"$f":"IF(DK371=\"\",0,DK371)","v":0},{"$f":"IF(DL371=\"\",0,DL371)","v":0},{"$f":"IF(DM371=\"\",0,DM371)","v":0},{"$f":"IF(DN371=\"\",0,DN371)","v":0},{"$f":"IF(DO371=\"\",0,DO371)","v":0},{"$f":"IF(DP371=\"\",0,DP371)","v":0},{"$f":"IF(DQ371=\"\",0,DQ371)","v":0},{"$f":"IF(DR371=\"\",0,DR371)","v":0},{"$f":"IF(DS371=\"\",0,DS371)","v":0},{"$f":"IF(DT371=\"\",0,DT371)","v":0},{"$f":"IF(DU371=\"\",0,DU371)","v":0},{"$f":"IF(DV371=\"\",0,DV371)","v":0},{"$f":"IF(DW371=\"\",0,DW371)","v":0},{"$f":"IF(DX371=\"\",0,DX371)","v":0},{"$f":"IF(DY371=\"\",0,DY371)","v":0},{"$f":"IF(DZ371=\"\",0,DZ371)","v":0},{"$f":"IF(EA371=\"\",0,EA371)","v":0},{"$f":"IF(EB371=\"\",0,EB371)","v":0},{"$f":"IF(EC371=\"\",0,EC371)","v":0},{"$f":"IF(ED371=\"\",0,ED371)","v":0}]
[null,"200d",null,"biomass in solvents","[ % Cbio/TC]",null,0,0,0,0,0,0,0,0,0,0,0,0,0,0,0,0,0,0,0,0,0,0,0,0,0,0,0,0,0,0,0,0,0,0,0,0,0,0,0,0,0,0,0,0,0,0,0,0,0,0,0,0,0,0,0,0,0,0,0,0,0]
[null,"200e",null,"biomass in impregnated saw dust","[ % Cbio/TC]",null,0,0,0,0,0,0,0,0,0,0,0,0,0,0,0,0,0,0,0,0,0,0,0,0,0,0,0,0,0,0,0,0,0,0,0,0,0,0,0,0,0,0,0,0,0,0,0,0,0,0,0,0,0,0,0,0,0,0,0,0,0]
[null,"200f",null,"biomass in mixed industrial waste","[ % Cbio/TC]",null,0,0,0,0,0,0,0,0,0,0,0,0,0,0,0,0,0,0,0,0,0,0,0,0,0,0,0,0,0,0,0,0,0,0,0,0,0,0,0,0,0,0,0,0,0,0,0,0,0,0,0,0,0,0,0,0,0,0,0,0,0]
[null,"200g",null,"biomass in bio and mixed diesel","[ % Cbio/TC]",null,0,0,0,0,0,0,0,0,0,0,0,0,0,0,0,0,0,0,0,0,0,0,0,0,0,0,0,0,0,0,0,0,0,0,0,0,0,0,0,0,0,0,0,0,0,0,0,0,0,0,0,0,0,0,0,0,0,0,0,0,0]
[null,"200h",null,"biomass in other fossil based wastes and mixed fuels","[ % Cbio/TC]",null,0,0,0,0,0,0,0,0,0,0,0,0,0,0,0,0,0,0,0,0,0,0,0,0,0,0,0,0,0,0,0,0,0,0,0,0,0,0,0,0,0,0,0,0,0,0,0,0,0,0,0,0,0,0,0,0,0,0,0,0,0]
[null,{"$f":"B368+1","v":201},"Biomass fuels"]
[null,{"$f":"B377+1","v":202},null,"sewage sludge","[kg CO2/GJ]",null,{"$f":"IF(BV378=\"\",'Fuel CO2 Factors'!$E24,BV378)","v":110},{"$f":"IF(BW378=\"\",'Fuel CO2 Factors'!$E24,BW378)","v":110},{"$f":"IF(BX378=\"\",'Fuel CO2 Factors'!$E24,BX378)","v":110},{"$f":"IF(BY378=\"\",'Fuel CO2 Factors'!$E24,BY378)","v":110},{"$f":"IF(BZ378=\"\",'Fuel CO2 Factors'!$E24,BZ378)","v":110},{"$f":"IF(CA378=\"\",'Fuel CO2 Factors'!$E24,CA378)","v":110},{"$f":"IF(CB378=\"\",'Fuel CO2 Factors'!$E24,CB378)","v":110},{"$f":"IF(CC378=\"\",'Fuel CO2 Factors'!$E24,CC378)","v":110},{"$f":"IF(CD378=\"\",'Fuel CO2 Factors'!$E24,CD378)","v":110},{"$f":"IF(CE378=\"\",'Fuel CO2 Factors'!$E24,CE378)","v":110},{"$f":"IF(CF378=\"\",'Fuel CO2 Factors'!$E24,CF378)","v":110},{"$f":"IF(CG378=\"\",'Fuel CO2 Factors'!$E24,CG378)","v":110},{"$f":"IF(CH378=\"\",'Fuel CO2 Factors'!$E24,CH378)","v":110},{"$f":"IF(CI378=\"\",'Fuel CO2 Factors'!$E24,CI378)","v":110},{"$f":"IF(CJ378=\"\",'Fuel CO2 Factors'!$E24,CJ378)","v":110},{"$f":"IF(CK378=\"\",'Fuel CO2 Factors'!$E24,CK378)","v":110},{"$f":"IF(CL378=\"\",'Fuel CO2 Factors'!$E24,CL378)","v":110},{"$f":"IF(CM378=\"\",'Fuel CO2 Factors'!$E24,CM378)","v":110},{"$f":"IF(CN378=\"\",'Fuel CO2 Factors'!$E24,CN378)","v":110},{"$f":"IF(CO378=\"\",'Fuel CO2 Factors'!$E24,CO378)","v":110},{"$f":"IF(CP378=\"\",'Fuel CO2 Factors'!$E24,CP378)","v":110},{"$f":"IF(CQ378=\"\",'Fuel CO2 Factors'!$E24,CQ378)","v":110},{"$f":"IF(CR378=\"\",'Fuel CO2 Factors'!$E24,CR378)","v":110},{"$f":"IF(CS378=\"\",'Fuel CO2 Factors'!$E24,CS378)","v":110},{"$f":"IF(CT378=\"\",'Fuel CO2 Factors'!$E24,CT378)","v":110},{"$f":"IF(CU378=\"\",'Fuel CO2 Factors'!$E24,CU378)","v":110},{"$f":"IF(CV378=\"\",'Fuel CO2 Factors'!$E24,CV378)","v":110},{"$f":"IF(CW378=\"\",'Fuel CO2 Factors'!$E24,CW378)","v":110},{"$f":"IF(CX378=\"\",'Fuel CO2 Factors'!$E24,CX378)","v":110},{"$f":"IF(CY378=\"\",'Fuel CO2 Factors'!$E24,CY378)","v":110},{"$f":"IF(CZ378=\"\",'Fuel CO2 Factors'!$E24,CZ378)","v":110},{"$f":"IF(DA378=\"\",'Fuel CO2 Factors'!$E24,DA378)","v":110},{"$f":"IF(DB378=\"\",'Fuel CO2 Factors'!$E24,DB378)","v":110},{"$f":"IF(DC378=\"\",'Fuel CO2 Factors'!$E24,DC378)","v":110},{"$f":"IF(DD378=\"\",'Fuel CO2 Factors'!$E24,DD378)","v":110},{"$f":"IF(DE378=\"\",'Fuel CO2 Factors'!$E24,DE378)","v":110},{"$f":"IF(DF378=\"\",'Fuel CO2 Factors'!$E24,DF378)","v":110},{"$f":"IF(DG378=\"\",'Fuel CO2 Factors'!$E24,DG378)","v":110},{"$f":"IF(DH378=\"\",'Fuel CO2 Factors'!$E24,DH378)","v":110},{"$f":"IF(DI378=\"\",'Fuel CO2 Factors'!$E24,DI378)","v":110},{"$f":"IF(DJ378=\"\",'Fuel CO2 Factors'!$E24,DJ378)","v":110},{"$f":"IF(DK378=\"\",'Fuel CO2 Factors'!$E24,DK378)","v":110},{"$f":"IF(DL378=\"\",'Fuel CO2 Factors'!$E24,DL378)","v":110},{"$f":"IF(DM378=\"\",'Fuel CO2 Factors'!$E24,DM378)","v":110},{"$f":"IF(DN378=\"\",'Fuel CO2 Factors'!$E24,DN378)","v":110},{"$f":"IF(DO378=\"\",'Fuel CO2 Factors'!$E24,DO378)","v":110},{"$f":"IF(DP378=\"\",'Fuel CO2 Factors'!$E24,DP378)","v":110},{"$f":"IF(DQ378=\"\",'Fuel CO2 Factors'!$E24,DQ378)","v":110},{"$f":"IF(DR378=\"\",'Fuel CO2 Factors'!$E24,DR378)","v":110},{"$f":"IF(DS378=\"\",'Fuel CO2 Factors'!$E24,DS378)","v":110},{"$f":"IF(DT378=\"\",'Fuel CO2 Factors'!$E24,DT378)","v":110},{"$f":"IF(DU378=\"\",'Fuel CO2 Factors'!$E24,DU378)","v":110},{"$f":"IF(DV378=\"\",'Fuel CO2 Factors'!$E24,DV378)","v":110},{"$f":"IF(DW378=\"\",'Fuel CO2 Factors'!$E24,DW378)","v":110},{"$f":"IF(DX378=\"\",'Fuel CO2 Factors'!$E24,DX378)","v":110},{"$f":"IF(DY378=\"\",'Fuel CO2 Factors'!$E24,DY378)","v":110},{"$f":"IF(DZ378=\"\",'Fuel CO2 Factors'!$E24,DZ378)","v":110},{"$f":"IF(EA378=\"\",'Fuel CO2 Factors'!$E24,EA378)","v":110},{"$f":"IF(EB378=\"\",'Fuel CO2 Factors'!$E24,EB378)","v":110},{"$f":"IF(EC378=\"\",'Fuel CO2 Factors'!$E24,EC378)","v":110},{"$f":"IF(ED378=\"\",'Fuel CO2 Factors'!$E24,ED378)","v":110}]
[null,203,null,"wood, non impregnated saw dust","[kg CO2/GJ]",null,{"$f":"IF(BV379=\"\",'Fuel CO2 Factors'!$E25,BV379)","v":110},{"$f":"IF(BW379=\"\",'Fuel CO2 Factors'!$E25,BW379)","v":110},{"$f":"IF(BX379=\"\",'Fuel CO2 Factors'!$E25,BX379)","v":110},{"$f":"IF(BY379=\"\",'Fuel CO2 Factors'!$E25,BY379)","v":110},{"$f":"IF(BZ379=\"\",'Fuel CO2 Factors'!$E25,BZ379)","v":110},{"$f":"IF(CA379=\"\",'Fuel CO2 Factors'!$E25,CA379)","v":110},{"$f":"IF(CB379=\"\",'Fuel CO2 Factors'!$E25,CB379)","v":110},{"$f":"IF(CC379=\"\",'Fuel CO2 Factors'!$E25,CC379)","v":110},{"$f":"IF(CD379=\"\",'Fuel CO2 Factors'!$E25,CD379)","v":110},{"$f":"IF(CE379=\"\",'Fuel CO2 Factors'!$E25,CE379)","v":110},{"$f":"IF(CF379=\"\",'Fuel CO2 Factors'!$E25,CF379)","v":110},{"$f":"IF(CG379=\"\",'Fuel CO2 Factors'!$E25,CG379)","v":110},{"$f":"IF(CH379=\"\",'Fuel CO2 Factors'!$E25,CH379)","v":110},{"$f":"IF(CI379=\"\",'Fuel CO2 Factors'!$E25,CI379)","v":110},{"$f":"IF(CJ379=\"\",'Fuel CO2 Factors'!$E25,CJ379)","v":110},{"$f":"IF(CK379=\"\",'Fuel CO2 Factors'!$E25,CK379)","v":110},{"$f":"IF(CL379=\"\",'Fuel CO2 Factors'!$E25,CL379)","v":110},{"$f":"IF(CM379=\"\",'Fuel CO2 Factors'!$E25,CM379)","v":110},{"$f":"IF(CN379=\"\",'Fuel CO2 Factors'!$E25,CN379)","v":110},{"$f":"IF(CO379=\"\",'Fuel CO2 Factors'!$E25,CO379)","v":110},{"$f":"IF(CP379=\"\",'Fuel CO2 Factors'!$E25,CP379)","v":110},{"$f":"IF(CQ379=\"\",'Fuel CO2 Factors'!$E25,CQ379)","v":110},{"$f":"IF(CR379=\"\",'Fuel CO2 Factors'!$E25,CR379)","v":110},{"$f":"IF(CS379=\"\",'Fuel CO2 Factors'!$E25,CS379)","v":110},{"$f":"IF(CT379=\"\",'Fuel CO2 Factors'!$E25,CT379)","v":110},{"$f":"IF(CU379=\"\",'Fuel CO2 Factors'!$E25,CU379)","v":110},{"$f":"IF(CV379=\"\",'Fuel CO2 Factors'!$E25,CV379)","v":110},{"$f":"IF(CW379=\"\",'Fuel CO2 Factors'!$E25,CW379)","v":110},{"$f":"IF(CX379=\"\",'Fuel CO2 Factors'!$E25,CX379)","v":110},{"$f":"IF(CY379=\"\",'Fuel CO2 Factors'!$E25,CY379)","v":110},{"$f":"IF(CZ379=\"\",'Fuel CO2 Factors'!$E25,CZ379)","v":110},{"$f":"IF(DA379=\"\",'Fuel CO2 Factors'!$E25,DA379)","v":110},{"$f":"IF(DB379=\"\",'Fuel CO2 Factors'!$E25,DB379)","v":110},{"$f":"IF(DC379=\"\",'Fuel CO2 Factors'!$E25,DC379)","v":110},{"$f":"IF(DD379=\"\",'Fuel CO2 Factors'!$E25,DD379)","v":110},{"$f":"IF(DE379=\"\",'Fuel CO2 Factors'!$E25,DE379)","v":110},{"$f":"IF(DF379=\"\",'Fuel CO2 Factors'!$E25,DF379)","v":110},{"$f":"IF(DG379=\"\",'Fuel CO2 Factors'!$E25,DG379)","v":110},{"$f":"IF(DH379=\"\",'Fuel CO2 Factors'!$E25,DH379)","v":110},{"$f":"IF(DI379=\"\",'Fuel CO2 Factors'!$E25,DI379)","v":110},{"$f":"IF(DJ379=\"\",'Fuel CO2 Factors'!$E25,DJ379)","v":110},{"$f":"IF(DK379=\"\",'Fuel CO2 Factors'!$E25,DK379)","v":110},{"$f":"IF(DL379=\"\",'Fuel CO2 Factors'!$E25,DL379)","v":110},{"$f":"IF(DM379=\"\",'Fuel CO2 Factors'!$E25,DM379)","v":110},{"$f":"IF(DN379=\"\",'Fuel CO2 Factors'!$E25,DN379)","v":110},{"$f":"IF(DO379=\"\",'Fuel CO2 Factors'!$E25,DO379)","v":110},{"$f":"IF(DP379=\"\",'Fuel CO2 Factors'!$E25,DP379)","v":110},{"$f":"IF(DQ379=\"\",'Fuel CO2 Factors'!$E25,DQ379)","v":110},{"$f":"IF(DR379=\"\",'Fuel CO2 Factors'!$E25,DR379)","v":110},{"$f":"IF(DS379=\"\",'Fuel CO2 Factors'!$E25,DS379)","v":110},{"$f":"IF(DT379=\"\",'Fuel CO2 Factors'!$E25,DT379)","v":110},{"$f":"IF(DU379=\"\",'Fuel CO2 Factors'!$E25,DU379)","v":110},{"$f":"IF(DV379=\"\",'Fuel CO2 Factors'!$E25,DV379)","v":110},{"$f":"IF(DW379=\"\",'Fuel CO2 Factors'!$E25,DW379)","v":110},{"$f":"IF(DX379=\"\",'Fuel CO2 Factors'!$E25,DX379)","v":110},{"$f":"IF(DY379=\"\",'Fuel CO2 Factors'!$E25,DY379)","v":110},{"$f":"IF(DZ379=\"\",'Fuel CO2 Factors'!$E25,DZ379)","v":110},{"$f":"IF(EA379=\"\",'Fuel CO2 Factors'!$E25,EA379)","v":110},{"$f":"IF(EB379=\"\",'Fuel CO2 Factors'!$E25,EB379)","v":110},{"$f":"IF(EC379=\"\",'Fuel CO2 Factors'!$E25,EC379)","v":110},{"$f":"IF(ED379=\"\",'Fuel CO2 Factors'!$E25,ED379)","v":110}]
[null,204,null,"paper, carton","[kg CO2/GJ]",null,{"$f":"IF(BV380=\"\",'Fuel CO2 Factors'!$E26,BV380)","v":110},{"$f":"IF(BW380=\"\",'Fuel CO2 Factors'!$E26,BW380)","v":110},{"$f":"IF(BX380=\"\",'Fuel CO2 Factors'!$E26,BX380)","v":110},{"$f":"IF(BY380=\"\",'Fuel CO2 Factors'!$E26,BY380)","v":110},{"$f":"IF(BZ380=\"\",'Fuel CO2 Factors'!$E26,BZ380)","v":110},{"$f":"IF(CA380=\"\",'Fuel CO2 Factors'!$E26,CA380)","v":110},{"$f":"IF(CB380=\"\",'Fuel CO2 Factors'!$E26,CB380)","v":110},{"$f":"IF(CC380=\"\",'Fuel CO2 Factors'!$E26,CC380)","v":110},{"$f":"IF(CD380=\"\",'Fuel CO2 Factors'!$E26,CD380)","v":110},{"$f":"IF(CE380=\"\",'Fuel CO2 Factors'!$E26,CE380)","v":110},{"$f":"IF(CF380=\"\",'Fuel CO2 Factors'!$E26,CF380)","v":110},{"$f":"IF(CG380=\"\",'Fuel CO2 Factors'!$E26,CG380)","v":110},{"$f":"IF(CH380=\"\",'Fuel CO2 Factors'!$E26,CH380)","v":110},{"$f":"IF(CI380=\"\",'Fuel CO2 Factors'!$E26,CI380)","v":110},{"$f":"IF(CJ380=\"\",'Fuel CO2 Factors'!$E26,CJ380)","v":110},{"$f":"IF(CK380=\"\",'Fuel CO2 Factors'!$E26,CK380)","v":110},{"$f":"IF(CL380=\"\",'Fuel CO2 Factors'!$E26,CL380)","v":110},{"$f":"IF(CM380=\"\",'Fuel CO2 Factors'!$E26,CM380)","v":110},{"$f":"IF(CN380=\"\",'Fuel CO2 Factors'!$E26,CN380)","v":110},{"$f":"IF(CO380=\"\",'Fuel CO2 Factors'!$E26,CO380)","v":110},{"$f":"IF(CP380=\"\",'Fuel CO2 Factors'!$E26,CP380)","v":110},{"$f":"IF(CQ380=\"\",'Fuel CO2 Factors'!$E26,CQ380)","v":110},{"$f":"IF(CR380=\"\",'Fuel CO2 Factors'!$E26,CR380)","v":110},{"$f":"IF(CS380=\"\",'Fuel CO2 Factors'!$E26,CS380)","v":110},{"$f":"IF(CT380=\"\",'Fuel CO2 Factors'!$E26,CT380)","v":110},{"$f":"IF(CU380=\"\",'Fuel CO2 Factors'!$E26,CU380)","v":110},{"$f":"IF(CV380=\"\",'Fuel CO2 Factors'!$E26,CV380)","v":110},{"$f":"IF(CW380=\"\",'Fuel CO2 Factors'!$E26,CW380)","v":110},{"$f":"IF(CX380=\"\",'Fuel CO2 Factors'!$E26,CX380)","v":110},{"$f":"IF(CY380=\"\",'Fuel CO2 Factors'!$E26,CY380)","v":110},{"$f":"IF(CZ380=\"\",'Fuel CO2 Factors'!$E26,CZ380)","v":110},{"$f":"IF(DA380=\"\",'Fuel CO2 Factors'!$E26,DA380)","v":110},{"$f":"IF(DB380=\"\",'Fuel CO2 Factors'!$E26,DB380)","v":110},{"$f":"IF(DC380=\"\",'Fuel CO2 Factors'!$E26,DC380)","v":110},{"$f":"IF(DD380=\"\",'Fuel CO2 Factors'!$E26,DD380)","v":110},{"$f":"IF(DE380=\"\",'Fuel CO2 Factors'!$E26,DE380)","v":110},{"$f":"IF(DF380=\"\",'Fuel CO2 Factors'!$E26,DF380)","v":110},{"$f":"IF(DG380=\"\",'Fuel CO2 Factors'!$E26,DG380)","v":110},{"$f":"IF(DH380=\"\",'Fuel CO2 Factors'!$E26,DH380)","v":110},{"$f":"IF(DI380=\"\",'Fuel CO2 Factors'!$E26,DI380)","v":110},{"$f":"IF(DJ380=\"\",'Fuel CO2 Factors'!$E26,DJ380)","v":110},{"$f":"IF(DK380=\"\",'Fuel CO2 Factors'!$E26,DK380)","v":110},{"$f":"IF(DL380=\"\",'Fuel CO2 Factors'!$E26,DL380)","v":110},{"$f":"IF(DM380=\"\",'Fuel CO2 Factors'!$E26,DM380)","v":110},{"$f":"IF(DN380=\"\",'Fuel CO2 Factors'!$E26,DN380)","v":110},{"$f":"IF(DO380=\"\",'Fuel CO2 Factors'!$E26,DO380)","v":110},{"$f":"IF(DP380=\"\",'Fuel CO2 Factors'!$E26,DP380)","v":110},{"$f":"IF(DQ380=\"\",'Fuel CO2 Factors'!$E26,DQ380)","v":110},{"$f":"IF(DR380=\"\",'Fuel CO2 Factors'!$E26,DR380)","v":110},{"$f":"IF(DS380=\"\",'Fuel CO2 Factors'!$E26,DS380)","v":110},{"$f":"IF(DT380=\"\",'Fuel CO2 Factors'!$E26,DT380)","v":110},{"$f":"IF(DU380=\"\",'Fuel CO2 Factors'!$E26,DU380)","v":110},{"$f":"IF(DV380=\"\",'Fuel CO2 Factors'!$E26,DV380)","v":110},{"$f":"IF(DW380=\"\",'Fuel CO2 Factors'!$E26,DW380)","v":110},{"$f":"IF(DX380=\"\",'Fuel CO2 Factors'!$E26,DX380)","v":110},{"$f":"IF(DY380=\"\",'Fuel CO2 Factors'!$E26,DY380)","v":110},{"$f":"IF(DZ380=\"\",'Fuel CO2 Factors'!$E26,DZ380)","v":110},{"$f":"IF(EA380=\"\",'Fuel CO2 Factors'!$E26,EA380)","v":110},{"$f":"IF(EB380=\"\",'Fuel CO2 Factors'!$E26,EB380)","v":110},{"$f":"IF(EC380=\"\",'Fuel CO2 Factors'!$E26,EC380)","v":110},{"$f":"IF(ED380=\"\",'Fuel CO2 Factors'!$E26,ED380)","v":110}]
[null,205,null,"animal meal","[kg CO2/GJ]",null,{"$f":"IF(BV381=\"\",'Fuel CO2 Factors'!$E27,BV381)","v":89},{"$f":"IF(BW381=\"\",'Fuel CO2 Factors'!$E27,BW381)","v":89},{"$f":"IF(BX381=\"\",'Fuel CO2 Factors'!$E27,BX381)","v":89},{"$f":"IF(BY381=\"\",'Fuel CO2 Factors'!$E27,BY381)","v":89},{"$f":"IF(BZ381=\"\",'Fuel CO2 Factors'!$E27,BZ381)","v":89},{"$f":"IF(CA381=\"\",'Fuel CO2 Factors'!$E27,CA381)","v":89},{"$f":"IF(CB381=\"\",'Fuel CO2 Factors'!$E27,CB381)","v":89},{"$f":"IF(CC381=\"\",'Fuel CO2 Factors'!$E27,CC381)","v":89},{"$f":"IF(CD381=\"\",'Fuel CO2 Factors'!$E27,CD381)","v":89},{"$f":"IF(CE381=\"\",'Fuel CO2 Factors'!$E27,CE381)","v":89},{"$f":"IF(CF381=\"\",'Fuel CO2 Factors'!$E27,CF381)","v":89},{"$f":"IF(CG381=\"\",'Fuel CO2 Factors'!$E27,CG381)","v":89},{"$f":"IF(CH381=\"\",'Fuel CO2 Factors'!$E27,CH381)","v":89},{"$f":"IF(CI381=\"\",'Fuel CO2 Factors'!$E27,CI381)","v":89},{"$f":"IF(CJ381=\"\",'Fuel CO2 Factors'!$E27,CJ381)","v":89},{"$f":"IF(CK381=\"\",'Fuel CO2 Factors'!$E27,CK381)","v":89},{"$f":"IF(CL381=\"\",'Fuel CO2 Factors'!$E27,CL381)","v":89},{"$f":"IF(CM381=\"\",'Fuel CO2 Factors'!$E27,CM381)","v":89},{"$f":"IF(CN381=\"\",'Fuel CO2 Factors'!$E27,CN381)","v":89},{"$f":"IF(CO381=\"\",'Fuel CO2 Factors'!$E27,CO381)","v":89},{"$f":"IF(CP381=\"\",'Fuel CO2 Factors'!$E27,CP381)","v":89},{"$f":"IF(CQ381=\"\",'Fuel CO2 Factors'!$E27,CQ381)","v":89},{"$f":"IF(CR381=\"\",'Fuel CO2 Factors'!$E27,CR381)","v":89},{"$f":"IF(CS381=\"\",'Fuel CO2 Factors'!$E27,CS381)","v":89},{"$f":"IF(CT381=\"\",'Fuel CO2 Factors'!$E27,CT381)","v":89},{"$f":"IF(CU381=\"\",'Fuel CO2 Factors'!$E27,CU381)","v":89},{"$f":"IF(CV381=\"\",'Fuel CO2 Factors'!$E27,CV381)","v":89},{"$f":"IF(CW381=\"\",'Fuel CO2 Factors'!$E27,CW381)","v":89},{"$f":"IF(CX381=\"\",'Fuel CO2 Factors'!$E27,CX381)","v":89},{"$f":"IF(CY381=\"\",'Fuel CO2 Factors'!$E27,CY381)","v":89},{"$f":"IF(CZ381=\"\",'Fuel CO2 Factors'!$E27,CZ381)","v":89},{"$f":"IF(DA381=\"\",'Fuel CO2 Factors'!$E27,DA381)","v":89},{"$f":"IF(DB381=\"\",'Fuel CO2 Factors'!$E27,DB381)","v":89},{"$f":"IF(DC381=\"\",'Fuel CO2 Factors'!$E27,DC381)","v":89},{"$f":"IF(DD381=\"\",'Fuel CO2 Factors'!$E27,DD381)","v":89},{"$f":"IF(DE381=\"\",'Fuel CO2 Factors'!$E27,DE381)","v":89},{"$f":"IF(DF381=\"\",'Fuel CO2 Factors'!$E27,DF381)","v":89},{"$f":"IF(DG381=\"\",'Fuel CO2 Factors'!$E27,DG381)","v":89},{"$f":"IF(DH381=\"\",'Fuel CO2 Factors'!$E27,DH381)","v":89},{"$f":"IF(DI381=\"\",'Fuel CO2 Factors'!$E27,DI381)","v":89},{"$f":"IF(DJ381=\"\",'Fuel CO2 Factors'!$E27,DJ381)","v":89},{"$f":"IF(DK381=\"\",'Fuel CO2 Factors'!$E27,DK381)","v":89},{"$f":"IF(DL381=\"\",'Fuel CO2 Factors'!$E27,DL381)","v":89},{"$f":"IF(DM381=\"\",'Fuel CO2 Factors'!$E27,DM381)","v":89},{"$f":"IF(DN381=\"\",'Fuel CO2 Factors'!$E27,DN381)","v":89},{"$f":"IF(DO381=\"\",'Fuel CO2 Factors'!$E27,DO381)","v":89},{"$f":"IF(DP381=\"\",'Fuel CO2 Factors'!$E27,DP381)","v":89},{"$f":"IF(DQ381=\"\",'Fuel CO2 Factors'!$E27,DQ381)","v":89},{"$f":"IF(DR381=\"\",'Fuel CO2 Factors'!$E27,DR381)","v":89},{"$f":"IF(DS381=\"\",'Fuel CO2 Factors'!$E27,DS381)","v":89},{"$f":"IF(DT381=\"\",'Fuel CO2 Factors'!$E27,DT381)","v":89},{"$f":"IF(DU381=\"\",'Fuel CO2 Factors'!$E27,DU381)","v":89},{"$f":"IF(DV381=\"\",'Fuel CO2 Factors'!$E27,DV381)","v":89},{"$f":"IF(DW381=\"\",'Fuel CO2 Factors'!$E27,DW381)","v":89},{"$f":"IF(DX381=\"\",'Fuel CO2 Factors'!$E27,DX381)","v":89},{"$f":"IF(DY381=\"\",'Fuel CO2 Factors'!$E27,DY381)","v":89},{"$f":"IF(DZ381=\"\",'Fuel CO2 Factors'!$E27,DZ381)","v":89},{"$f":"IF(EA381=\"\",'Fuel CO2 Factors'!$E27,EA381)","v":89},{"$f":"IF(EB381=\"\",'Fuel CO2 Factors'!$E27,EB381)","v":89},{"$f":"IF(EC381=\"\",'Fuel CO2 Factors'!$E27,EC381)","v":89},{"$f":"IF(ED381=\"\",'Fuel CO2 Factors'!$E27,ED381)","v":89}]
[null,206,null,"animal bone meal","[kg CO2/GJ]",null,{"$f":"IF(BV382=\"\",'Fuel CO2 Factors'!$E28,BV382)","v":89},{"$f":"IF(BW382=\"\",'Fuel CO2 Factors'!$E28,BW382)","v":89},{"$f":"IF(BX382=\"\",'Fuel CO2 Factors'!$E28,BX382)","v":89},{"$f":"IF(BY382=\"\",'Fuel CO2 Factors'!$E28,BY382)","v":89},{"$f":"IF(BZ382=\"\",'Fuel CO2 Factors'!$E28,BZ382)","v":89},{"$f":"IF(CA382=\"\",'Fuel CO2 Factors'!$E28,CA382)","v":89},{"$f":"IF(CB382=\"\",'Fuel CO2 Factors'!$E28,CB382)","v":89},{"$f":"IF(CC382=\"\",'Fuel CO2 Factors'!$E28,CC382)","v":89},{"$f":"IF(CD382=\"\",'Fuel CO2 Factors'!$E28,CD382)","v":89},{"$f":"IF(CE382=\"\",'Fuel CO2 Factors'!$E28,CE382)","v":89},{"$f":"IF(CF382=\"\",'Fuel CO2 Factors'!$E28,CF382)","v":89},{"$f":"IF(CG382=\"\",'Fuel CO2 Factors'!$E28,CG382)","v":89},{"$f":"IF(CH382=\"\",'Fuel CO2 Factors'!$E28,CH382)","v":89},{"$f":"IF(CI382=\"\",'Fuel CO2 Factors'!$E28,CI382)","v":89},{"$f":"IF(CJ382=\"\",'Fuel CO2 Factors'!$E28,CJ382)","v":89},{"$f":"IF(CK382=\"\",'Fuel CO2 Factors'!$E28,CK382)","v":89},{"$f":"IF(CL382=\"\",'Fuel CO2 Factors'!$E28,CL382)","v":89},{"$f":"IF(CM382=\"\",'Fuel CO2 Factors'!$E28,CM382)","v":89},{"$f":"IF(CN382=\"\",'Fuel CO2 Factors'!$E28,CN382)","v":89},{"$f":"IF(CO382=\"\",'Fuel CO2 Factors'!$E28,CO382)","v":89},{"$f":"IF(CP382=\"\",'Fuel CO2 Factors'!$E28,CP382)","v":89},{"$f":"IF(CQ382=\"\",'Fuel CO2 Factors'!$E28,CQ382)","v":89},{"$f":"IF(CR382=\"\",'Fuel CO2 Factors'!$E28,CR382)","v":89},{"$f":"IF(CS382=\"\",'Fuel CO2 Factors'!$E28,CS382)","v":89},{"$f":"IF(CT382=\"\",'Fuel CO2 Factors'!$E28,CT382)","v":89},{"$f":"IF(CU382=\"\",'Fuel CO2 Factors'!$E28,CU382)","v":89},{"$f":"IF(CV382=\"\",'Fuel CO2 Factors'!$E28,CV382)","v":89},{"$f":"IF(CW382=\"\",'Fuel CO2 Factors'!$E28,CW382)","v":89},{"$f":"IF(CX382=\"\",'Fuel CO2 Factors'!$E28,CX382)","v":89},{"$f":"IF(CY382=\"\",'Fuel CO2 Factors'!$E28,CY382)","v":89},{"$f":"IF(CZ382=\"\",'Fuel CO2 Factors'!$E28,CZ382)","v":89},{"$f":"IF(DA382=\"\",'Fuel CO2 Factors'!$E28,DA382)","v":89},{"$f":"IF(DB382=\"\",'Fuel CO2 Factors'!$E28,DB382)","v":89},{"$f":"IF(DC382=\"\",'Fuel CO2 Factors'!$E28,DC382)","v":89},{"$f":"IF(DD382=\"\",'Fuel CO2 Factors'!$E28,DD382)","v":89},{"$f":"IF(DE382=\"\",'Fuel CO2 Factors'!$E28,DE382)","v":89},{"$f":"IF(DF382=\"\",'Fuel CO2 Factors'!$E28,DF382)","v":89},{"$f":"IF(DG382=\"\",'Fuel CO2 Factors'!$E28,DG382)","v":89},{"$f":"IF(DH382=\"\",'Fuel CO2 Factors'!$E28,DH382)","v":89},{"$f":"IF(DI382=\"\",'Fuel CO2 Factors'!$E28,DI382)","v":89},{"$f":"IF(DJ382=\"\",'Fuel CO2 Factors'!$E28,DJ382)","v":89},{"$f":"IF(DK382=\"\",'Fuel CO2 Factors'!$E28,DK382)","v":89},{"$f":"IF(DL382=\"\",'Fuel CO2 Factors'!$E28,DL382)","v":89},{"$f":"IF(DM382=\"\",'Fuel CO2 Factors'!$E28,DM382)","v":89},{"$f":"IF(DN382=\"\",'Fuel CO2 Factors'!$E28,DN382)","v":89},{"$f":"IF(DO382=\"\",'Fuel CO2 Factors'!$E28,DO382)","v":89},{"$f":"IF(DP382=\"\",'Fuel CO2 Factors'!$E28,DP382)","v":89},{"$f":"IF(DQ382=\"\",'Fuel CO2 Factors'!$E28,DQ382)","v":89},{"$f":"IF(DR382=\"\",'Fuel CO2 Factors'!$E28,DR382)","v":89},{"$f":"IF(DS382=\"\",'Fuel CO2 Factors'!$E28,DS382)","v":89},{"$f":"IF(DT382=\"\",'Fuel CO2 Factors'!$E28,DT382)","v":89},{"$f":"IF(DU382=\"\",'Fuel CO2 Factors'!$E28,DU382)","v":89},{"$f":"IF(DV382=\"\",'Fuel CO2 Factors'!$E28,DV382)","v":89},{"$f":"IF(DW382=\"\",'Fuel CO2 Factors'!$E28,DW382)","v":89},{"$f":"IF(DX382=\"\",'Fuel CO2 Factors'!$E28,DX382)","v":89},{"$f":"IF(DY382=\"\",'Fuel CO2 Factors'!$E28,DY382)","v":89},{"$f":"IF(DZ382=\"\",'Fuel CO2 Factors'!$E28,DZ382)","v":89},{"$f":"IF(EA382=\"\",'Fuel CO2 Factors'!$E28,EA382)","v":89},{"$f":"IF(EB382=\"\",'Fuel CO2 Factors'!$E28,EB382)","v":89},{"$f":"IF(EC382=\"\",'Fuel CO2 Factors'!$E28,EC382)","v":89},{"$f":"IF(ED382=\"\",'Fuel CO2 Factors'!$E28,ED382)","v":89}]
[null,207,null,"animal fat","[kg CO2/GJ]",null,{"$f":"IF(BV383=\"\",'Fuel CO2 Factors'!$E29,BV383)","v":89},{"$f":"IF(BW383=\"\",'Fuel CO2 Factors'!$E29,BW383)","v":89},{"$f":"IF(BX383=\"\",'Fuel CO2 Factors'!$E29,BX383)","v":89},{"$f":"IF(BY383=\"\",'Fuel CO2 Factors'!$E29,BY383)","v":89},{"$f":"IF(BZ383=\"\",'Fuel CO2 Factors'!$E29,BZ383)","v":89},{"$f":"IF(CA383=\"\",'Fuel CO2 Factors'!$E29,CA383)","v":89},{"$f":"IF(CB383=\"\",'Fuel CO2 Factors'!$E29,CB383)","v":89},{"$f":"IF(CC383=\"\",'Fuel CO2 Factors'!$E29,CC383)","v":89},{"$f":"IF(CD383=\"\",'Fuel CO2 Factors'!$E29,CD383)","v":89},{"$f":"IF(CE383=\"\",'Fuel CO2 Factors'!$E29,CE383)","v":89},{"$f":"IF(CF383=\"\",'Fuel CO2 Factors'!$E29,CF383)","v":89},{"$f":"IF(CG383=\"\",'Fuel CO2 Factors'!$E29,CG383)","v":89},{"$f":"IF(CH383=\"\",'Fuel CO2 Factors'!$E29,CH383)","v":89},{"$f":"IF(CI383=\"\",'Fuel CO2 Factors'!$E29,CI383)","v":89},{"$f":"IF(CJ383=\"\",'Fuel CO2 Factors'!$E29,CJ383)","v":89},{"$f":"IF(CK383=\"\",'Fuel CO2 Factors'!$E29,CK383)","v":89},{"$f":"IF(CL383=\"\",'Fuel CO2 Factors'!$E29,CL383)","v":89},{"$f":"IF(CM383=\"\",'Fuel CO2 Factors'!$E29,CM383)","v":89},{"$f":"IF(CN383=\"\",'Fuel CO2 Factors'!$E29,CN383)","v":89},{"$f":"IF(CO383=\"\",'Fuel CO2 Factors'!$E29,CO383)","v":89},{"$f":"IF(CP383=\"\",'Fuel CO2 Factors'!$E29,CP383)","v":89},{"$f":"IF(CQ383=\"\",'Fuel CO2 Factors'!$E29,CQ383)","v":89},{"$f":"IF(CR383=\"\",'Fuel CO2 Factors'!$E29,CR383)","v":89},{"$f":"IF(CS383=\"\",'Fuel CO2 Factors'!$E29,CS383)","v":89},{"$f":"IF(CT383=\"\",'Fuel CO2 Factors'!$E29,CT383)","v":89},{"$f":"IF(CU383=\"\",'Fuel CO2 Factors'!$E29,CU383)","v":89},{"$f":"IF(CV383=\"\",'Fuel CO2 Factors'!$E29,CV383)","v":89},{"$f":"IF(CW383=\"\",'Fuel CO2 Factors'!$E29,CW383)","v":89},{"$f":"IF(CX383=\"\",'Fuel CO2 Factors'!$E29,CX383)","v":89},{"$f":"IF(CY383=\"\",'Fuel CO2 Factors'!$E29,CY383)","v":89},{"$f":"IF(CZ383=\"\",'Fuel CO2 Factors'!$E29,CZ383)","v":89},{"$f":"IF(DA383=\"\",'Fuel CO2 Factors'!$E29,DA383)","v":89},{"$f":"IF(DB383=\"\",'Fuel CO2 Factors'!$E29,DB383)","v":89},{"$f":"IF(DC383=\"\",'Fuel CO2 Factors'!$E29,DC383)","v":89},{"$f":"IF(DD383=\"\",'Fuel CO2 Factors'!$E29,DD383)","v":89},{"$f":"IF(DE383=\"\",'Fuel CO2 Factors'!$E29,DE383)","v":89},{"$f":"IF(DF383=\"\",'Fuel CO2 Factors'!$E29,DF383)","v":89},{"$f":"IF(DG383=\"\",'Fuel CO2 Factors'!$E29,DG383)","v":89},{"$f":"IF(DH383=\"\",'Fuel CO2 Factors'!$E29,DH383)","v":89},{"$f":"IF(DI383=\"\",'Fuel CO2 Factors'!$E29,DI383)","v":89},{"$f":"IF(DJ383=\"\",'Fuel CO2 Factors'!$E29,DJ383)","v":89},{"$f":"IF(DK383=\"\",'Fuel CO2 Factors'!$E29,DK383)","v":89},{"$f":"IF(DL383=\"\",'Fuel CO2 Factors'!$E29,DL383)","v":89},{"$f":"IF(DM383=\"\",'Fuel CO2 Factors'!$E29,DM383)","v":89},{"$f":"IF(DN383=\"\",'Fuel CO2 Factors'!$E29,DN383)","v":89},{"$f":"IF(DO383=\"\",'Fuel CO2 Factors'!$E29,DO383)","v":89},{"$f":"IF(DP383=\"\",'Fuel CO2 Factors'!$E29,DP383)","v":89},{"$f":"IF(DQ383=\"\",'Fuel CO2 Factors'!$E29,DQ383)","v":89},{"$f":"IF(DR383=\"\",'Fuel CO2 Factors'!$E29,DR383)","v":89},{"$f":"IF(DS383=\"\",'Fuel CO2 Factors'!$E29,DS383)","v":89},{"$f":"IF(DT383=\"\",'Fuel CO2 Factors'!$E29,DT383)","v":89},{"$f":"IF(DU383=\"\",'Fuel CO2 Factors'!$E29,DU383)","v":89},{"$f":"IF(DV383=\"\",'Fuel CO2 Factors'!$E29,DV383)","v":89},{"$f":"IF(DW383=\"\",'Fuel CO2 Factors'!$E29,DW383)","v":89},{"$f":"IF(DX383=\"\",'Fuel CO2 Factors'!$E29,DX383)","v":89},{"$f":"IF(DY383=\"\",'Fuel CO2 Factors'!$E29,DY383)","v":89},{"$f":"IF(DZ383=\"\",'Fuel CO2 Factors'!$E29,DZ383)","v":89},{"$f":"IF(EA383=\"\",'Fuel CO2 Factors'!$E29,EA383)","v":89},{"$f":"IF(EB383=\"\",'Fuel CO2 Factors'!$E29,EB383)","v":89},{"$f":"IF(EC383=\"\",'Fuel CO2 Factors'!$E29,EC383)","v":89},{"$f":"IF(ED383=\"\",'Fuel CO2 Factors'!$E29,ED383)","v":89}]
[null,208,null,"agricultural, organic, diaper waste, charcoal","[kg CO2/GJ]",null,{"$f":"IF(BV384=\"\",'Fuel CO2 Factors'!$E30,BV384)","v":110},{"$f":"IF(BW384=\"\",'Fuel CO2 Factors'!$E30,BW384)","v":110},{"$f":"IF(BX384=\"\",'Fuel CO2 Factors'!$E30,BX384)","v":110},{"$f":"IF(BY384=\"\",'Fuel CO2 Factors'!$E30,BY384)","v":110},{"$f":"IF(BZ384=\"\",'Fuel CO2 Factors'!$E30,BZ384)","v":110},{"$f":"IF(CA384=\"\",'Fuel CO2 Factors'!$E30,CA384)","v":110},{"$f":"IF(CB384=\"\",'Fuel CO2 Factors'!$E30,CB384)","v":110},{"$f":"IF(CC384=\"\",'Fuel CO2 Factors'!$E30,CC384)","v":110},{"$f":"IF(CD384=\"\",'Fuel CO2 Factors'!$E30,CD384)","v":110},{"$f":"IF(CE384=\"\",'Fuel CO2 Factors'!$E30,CE384)","v":110},{"$f":"IF(CF384=\"\",'Fuel CO2 Factors'!$E30,CF384)","v":110},{"$f":"IF(CG384=\"\",'Fuel CO2 Factors'!$E30,CG384)","v":110},{"$f":"IF(CH384=\"\",'Fuel CO2 Factors'!$E30,CH384)","v":110},{"$f":"IF(CI384=\"\",'Fuel CO2 Factors'!$E30,CI384)","v":110},{"$f":"IF(CJ384=\"\",'Fuel CO2 Factors'!$E30,CJ384)","v":110},{"$f":"IF(CK384=\"\",'Fuel CO2 Factors'!$E30,CK384)","v":110},{"$f":"IF(CL384=\"\",'Fuel CO2 Factors'!$E30,CL384)","v":110},{"$f":"IF(CM384=\"\",'Fuel CO2 Factors'!$E30,CM384)","v":110},{"$f":"IF(CN384=\"\",'Fuel CO2 Factors'!$E30,CN384)","v":110},{"$f":"IF(CO384=\"\",'Fuel CO2 Factors'!$E30,CO384)","v":110},{"$f":"IF(CP384=\"\",'Fuel CO2 Factors'!$E30,CP384)","v":110},{"$f":"IF(CQ384=\"\",'Fuel CO2 Factors'!$E30,CQ384)","v":110},{"$f":"IF(CR384=\"\",'Fuel CO2 Factors'!$E30,CR384)","v":110},{"$f":"IF(CS384=\"\",'Fuel CO2 Factors'!$E30,CS384)","v":110},{"$f":"IF(CT384=\"\",'Fuel CO2 Factors'!$E30,CT384)","v":110},{"$f":"IF(CU384=\"\",'Fuel CO2 Factors'!$E30,CU384)","v":110},{"$f":"IF(CV384=\"\",'Fuel CO2 Factors'!$E30,CV384)","v":110},{"$f":"IF(CW384=\"\",'Fuel CO2 Factors'!$E30,CW384)","v":110},{"$f":"IF(CX384=\"\",'Fuel CO2 Factors'!$E30,CX384)","v":110},{"$f":"IF(CY384=\"\",'Fuel CO2 Factors'!$E30,CY384)","v":110},{"$f":"IF(CZ384=\"\",'Fuel CO2 Factors'!$E30,CZ384)","v":110},{"$f":"IF(DA384=\"\",'Fuel CO2 Factors'!$E30,DA384)","v":110},{"$f":"IF(DB384=\"\",'Fuel CO2 Factors'!$E30,DB384)","v":110},{"$f":"IF(DC384=\"\",'Fuel CO2 Factors'!$E30,DC384)","v":110},{"$f":"IF(DD384=\"\",'Fuel CO2 Factors'!$E30,DD384)","v":110},{"$f":"IF(DE384=\"\",'Fuel CO2 Factors'!$E30,DE384)","v":110},{"$f":"IF(DF384=\"\",'Fuel CO2 Factors'!$E30,DF384)","v":110},{"$f":"IF(DG384=\"\",'Fuel CO2 Factors'!$E30,DG384)","v":110},{"$f":"IF(DH384=\"\",'Fuel CO2 Factors'!$E30,DH384)","v":110},{"$f":"IF(DI384=\"\",'Fuel CO2 Factors'!$E30,DI384)","v":110},{"$f":"IF(DJ384=\"\",'Fuel CO2 Factors'!$E30,DJ384)","v":110},{"$f":"IF(DK384=\"\",'Fuel CO2 Factors'!$E30,DK384)","v":110},{"$f":"IF(DL384=\"\",'Fuel CO2 Factors'!$E30,DL384)","v":110},{"$f":"IF(DM384=\"\",'Fuel CO2 Factors'!$E30,DM384)","v":110},{"$f":"IF(DN384=\"\",'Fuel CO2 Factors'!$E30,DN384)","v":110},{"$f":"IF(DO384=\"\",'Fuel CO2 Factors'!$E30,DO384)","v":110},{"$f":"IF(DP384=\"\",'Fuel CO2 Factors'!$E30,DP384)","v":110},{"$f":"IF(DQ384=\"\",'Fuel CO2 Factors'!$E30,DQ384)","v":110},{"$f":"IF(DR384=\"\",'Fuel CO2 Factors'!$E30,DR384)","v":110},{"$f":"IF(DS384=\"\",'Fuel CO2 Factors'!$E30,DS384)","v":110},{"$f":"IF(DT384=\"\",'Fuel CO2 Factors'!$E30,DT384)","v":110},{"$f":"IF(DU384=\"\",'Fuel CO2 Factors'!$E30,DU384)","v":110},{"$f":"IF(DV384=\"\",'Fuel CO2 Factors'!$E30,DV384)","v":110},{"$f":"IF(DW384=\"\",'Fuel CO2 Factors'!$E30,DW384)","v":110},{"$f":"IF(DX384=\"\",'Fuel CO2 Factors'!$E30,DX384)","v":110},{"$f":"IF(DY384=\"\",'Fuel CO2 Factors'!$E30,DY384)","v":110},{"$f":"IF(DZ384=\"\",'Fuel CO2 Factors'!$E30,DZ384)","v":110},{"$f":"IF(EA384=\"\",'Fuel CO2 Factors'!$E30,EA384)","v":110},{"$f":"IF(EB384=\"\",'Fuel CO2 Factors'!$E30,EB384)","v":110},{"$f":"IF(EC384=\"\",'Fuel CO2 Factors'!$E30,EC384)","v":110},{"$f":"IF(ED384=\"\",'Fuel CO2 Factors'!$E30,ED384)","v":110}]
[null,209,null,"other biomass","[kg CO2/GJ]",null,{"$f":"IF(BV385=\"\",'Fuel CO2 Factors'!$E31,BV385)","v":110},{"$f":"IF(BW385=\"\",'Fuel CO2 Factors'!$E31,BW385)","v":110},{"$f":"IF(BX385=\"\",'Fuel CO2 Factors'!$E31,BX385)","v":110},{"$f":"IF(BY385=\"\",'Fuel CO2 Factors'!$E31,BY385)","v":110},{"$f":"IF(BZ385=\"\",'Fuel CO2 Factors'!$E31,BZ385)","v":110},{"$f":"IF(CA385=\"\",'Fuel CO2 Factors'!$E31,CA385)","v":110},{"$f":"IF(CB385=\"\",'Fuel CO2 Factors'!$E31,CB385)","v":110},{"$f":"IF(CC385=\"\",'Fuel CO2 Factors'!$E31,CC385)","v":110},{"$f":"IF(CD385=\"\",'Fuel CO2 Factors'!$E31,CD385)","v":110},{"$f":"IF(CE385=\"\",'Fuel CO2 Factors'!$E31,CE385)","v":110},{"$f":"IF(CF385=\"\",'Fuel CO2 Factors'!$E31,CF385)","v":110},{"$f":"IF(CG385=\"\",'Fuel CO2 Factors'!$E31,CG385)","v":110},{"$f":"IF(CH385=\"\",'Fuel CO2 Factors'!$E31,CH385)","v":110},{"$f":"IF(CI385=\"\",'Fuel CO2 Factors'!$E31,CI385)","v":110},{"$f":"IF(CJ385=\"\",'Fuel CO2 Factors'!$E31,CJ385)","v":110},{"$f":"IF(CK385=\"\",'Fuel CO2 Factors'!$E31,CK385)","v":110},{"$f":"IF(CL385=\"\",'Fuel CO2 Factors'!$E31,CL385)","v":110},{"$f":"IF(CM385=\"\",'Fuel CO2 Factors'!$E31,CM385)","v":110},{"$f":"IF(CN385=\"\",'Fuel CO2 Factors'!$E31,CN385)","v":110},{"$f":"IF(CO385=\"\",'Fuel CO2 Factors'!$E31,CO385)","v":110},{"$f":"IF(CP385=\"\",'Fuel CO2 Factors'!$E31,CP385)","v":110},{"$f":"IF(CQ385=\"\",'Fuel CO2 Factors'!$E31,CQ385)","v":110},{"$f":"IF(CR385=\"\",'Fuel CO2 Factors'!$E31,CR385)","v":110},{"$f":"IF(CS385=\"\",'Fuel CO2 Factors'!$E31,CS385)","v":110},{"$f":"IF(CT385=\"\",'Fuel CO2 Factors'!$E31,CT385)","v":110},{"$f":"IF(CU385=\"\",'Fuel CO2 Factors'!$E31,CU385)","v":110},{"$f":"IF(CV385=\"\",'Fuel CO2 Factors'!$E31,CV385)","v":110},{"$f":"IF(CW385=\"\",'Fuel CO2 Factors'!$E31,CW385)","v":110},{"$f":"IF(CX385=\"\",'Fuel CO2 Factors'!$E31,CX385)","v":110},{"$f":"IF(CY385=\"\",'Fuel CO2 Factors'!$E31,CY385)","v":110},{"$f":"IF(CZ385=\"\",'Fuel CO2 Factors'!$E31,CZ385)","v":110},{"$f":"IF(DA385=\"\",'Fuel CO2 Factors'!$E31,DA385)","v":110},{"$f":"IF(DB385=\"\",'Fuel CO2 Factors'!$E31,DB385)","v":110},{"$f":"IF(DC385=\"\",'Fuel CO2 Factors'!$E31,DC385)","v":110},{"$f":"IF(DD385=\"\",'Fuel CO2 Factors'!$E31,DD385)","v":110},{"$f":"IF(DE385=\"\",'Fuel CO2 Factors'!$E31,DE385)","v":110},{"$f":"IF(DF385=\"\",'Fuel CO2 Factors'!$E31,DF385)","v":110},{"$f":"IF(DG385=\"\",'Fuel CO2 Factors'!$E31,DG385)","v":110},{"$f":"IF(DH385=\"\",'Fuel CO2 Factors'!$E31,DH385)","v":110},{"$f":"IF(DI385=\"\",'Fuel CO2 Factors'!$E31,DI385)","v":110},{"$f":"IF(DJ385=\"\",'Fuel CO2 Factors'!$E31,DJ385)","v":110},{"$f":"IF(DK385=\"\",'Fuel CO2 Factors'!$E31,DK385)","v":110},{"$f":"IF(DL385=\"\",'Fuel CO2 Factors'!$E31,DL385)","v":110},{"$f":"IF(DM385=\"\",'Fuel CO2 Factors'!$E31,DM385)","v":110},{"$f":"IF(DN385=\"\",'Fuel CO2 Factors'!$E31,DN385)","v":110},{"$f":"IF(DO385=\"\",'Fuel CO2 Factors'!$E31,DO385)","v":110},{"$f":"IF(DP385=\"\",'Fuel CO2 Factors'!$E31,DP385)","v":110},{"$f":"IF(DQ385=\"\",'Fuel CO2 Factors'!$E31,DQ385)","v":110},{"$f":"IF(DR385=\"\",'Fuel CO2 Factors'!$E31,DR385)","v":110},{"$f":"IF(DS385=\"\",'Fuel CO2 Factors'!$E31,DS385)","v":110},{"$f":"IF(DT385=\"\",'Fuel CO2 Factors'!$E31,DT385)","v":110},{"$f":"IF(DU385=\"\",'Fuel CO2 Factors'!$E31,DU385)","v":110},{"$f":"IF(DV385=\"\",'Fuel CO2 Factors'!$E31,DV385)","v":110},{"$f":"IF(DW385=\"\",'Fuel CO2 Factors'!$E31,DW385)","v":110},{"$f":"IF(DX385=\"\",'Fuel CO2 Factors'!$E31,DX385)","v":110},{"$f":"IF(DY385=\"\",'Fuel CO2 Factors'!$E31,DY385)","v":110},{"$f":"IF(DZ385=\"\",'Fuel CO2 Factors'!$E31,DZ385)","v":110},{"$f":"IF(EA385=\"\",'Fuel CO2 Factors'!$E31,EA385)","v":110},{"$f":"IF(EB385=\"\",'Fuel CO2 Factors'!$E31,EB385)","v":110},{"$f":"IF(EC385=\"\",'Fuel CO2 Factors'!$E31,EC385)","v":110},{"$f":"IF(ED385=\"\",'Fuel CO2 Factors'!$E31,ED385)","v":110}]
[]
[null,"CO2 Emissions from Kiln Fuels",null,null,null,null,{"$f":"G$7","v":1990},1991,1992,1993,1994,1995,1996,1997,1998,1999,2000,2001,2002,2003,2004,2005,2006,2007,2008,2009,2010,2011,2012,2013,2014,2015,2016,2017,2018,2019,2020,2021,2022,2023,2024,2025,2026,2027,2028,2029,2030,2031,2032,2033,2034,2035,2036,2037,2038,2039,2040,2041,2042,2043,2044,2045,2046,2047,2048,2049,2050]
[null,211,"Conventional fossil fuels - total emissions",null,"[t CO2/yr]",null,{"$f":"IF(COUNTBLANK(G389:G395)=7,\"\",SUM(G389:G395))","v":0},0,0,0,0,0,0,0,0,0,0,0,0,0,0,0,0,0,0,0,0,0,0,0,0,0,0,0,0,0,0,0,0,0,0,{"$f":"IF(COUNTBLANK(AP389:AP395)=7,\"\",SUM(AP389:AP395))","v":0},0,0,0,0,0,0,0,0,0,0,0,0,0,0,0,0,0,0,0,0,0,0,0,0,0]
[null,{"$f":"B388+1","v":212},null,"coal + anthracite","[t CO2/yr]",null,{"$f":"IF(G309=\"\",\"\",G309*G349)","v":0},0,0,0,0,0,0,0,0,0,0,0,0,0,0,0,0,0,0,0,0,0,0,0,0,0,0,0,0,0,0,0,0,0,0,{"$f":"IF(AP309=\"\",\"\",AP309*AP349)","v":0},0,0,0,0,0,0,0,0,0,0,0,0,0,0,0,0,0,0,0,0,0,0,0,0,0]
[null,213,null,"petrol coke","[t CO2/yr]",null,{"$f":"IF(G310=\"\",\"\",G310*G350)","v":0},0,0,0,0,0,0,0,0,0,0,0,0,0,0,0,0,0,0,0,0,0,0,0,0,0,0,0,0,0,0,0,0,0,0,{"$f":"IF(AP310=\"\",\"\",AP310*AP350)","v":0},0,0,0,0,0,0,0,0,0,0,0,0,0,0,0,0,0,0,0,0,0,0,0,0,0]
[null,214,null,"(ultra) heavy fuel","[t CO2/yr]",null,{"$f":"IF(G311=\"\",\"\",G311*G351)","v":0},0,0,0,0,0,0,0,0,0,0,0,0,0,0,0,0,0,0,0,0,0,0,0,0,0,0,0,0,0,0,0,0,0,0,{"$f":"IF(AP311=\"\",\"\",AP311*AP351)","v":0},0,0,0,0,0,0,0,0,0,0,0,0,0,0,0,0,0,0,0,0,0,0,0,0,0]
[null,215,null,"diesel oil","[t CO2/yr]",null,{"$f":"IF(G312=\"\",\"\",G312*G352)","v":0},0,0,0,0,0,0,0,0,0,0,0,0,0,0,0,0,0,0,0,0,0,0,0,0,0,0,0,0,0,0,0,0,0,0,{"$f":"IF(AP312=\"\",\"\",AP312*AP352)","v":0},0,0,0,0,0,0,0,0,0,0,0,0,0,0,0,0,0,0,0,0,0,0,0,0,0]
[null,216,null,"natural gas ","[t CO2/yr]",null,{"$f":"IF(G313=\"\",\"\",G313*G353)","v":0},0,0,0,0,0,0,0,0,0,0,0,0,0,0,0,0,0,0,0,0,0,0,0,0,0,0,0,0,0,0,0,0,0,0,{"$f":"IF(AP313=\"\",\"\",AP313*AP353)","v":0},0,0,0,0,0,0,0,0,0,0,0,0,0,0,0,0,0,0,0,0,0,0,0,0,0]
[null,217,null,"shale","[t CO2/yr]",null,{"$f":"IF(G314=\"\",\"\",G314*G354)","v":0},0,0,0,0,0,0,0,0,0,0,0,0,0,0,0,0,0,0,0,0,0,0,0,0,0,0,0,0,0,0,0,0,0,0,{"$f":"IF(AP314=\"\",\"\",AP314*AP354)","v":0},0,0,0,0,0,0,0,0,0,0,0,0,0,0,0,0,0,0,0,0,0,0,0,0,0]
[null,"217a",null,"lignite","[t CO2/yr]",null,{"$f":"IF(G315=\"\",\"\",G315*G355)","v":0},0,0,0,0,0,0,0,0,0,0,0,0,0,0,0,0,0,0,0,0,0,0,0,0,0,0,0,0,0,0,0,0,0,0,{"$f":"IF(AP315=\"\",\"\",AP315*AP355)","v":0},0,0,0,0,0,0,0,0,0,0,0,0,0,0,0,0,0,0,0,0,0,0,0,0,0]
[null,{"$f":"B394+1","v":218},"Alternative fossil and mixed fuels - total fossil emissions",null,"[t CO2/yr]",null,{"$f":"IF(COUNTBLANK(G397:G403)=7,\"\",SUM(G397:G403))","v":0},0,0,0,0,0,0,0,0,0,0,0,0,0,0,0,0,0,0,0,0,0,0,0,0,0,0,0,0,0,0,0,0,0,0,{"$f":"IF(COUNTBLANK(AP397:AP403)=7,\"\",SUM(AP397:AP403))","v":0},0,0,0,0,0,0,0,0,0,0,0,0,0,0,0,0,0,0,0,0,0,0,0,0,0]
[null,{"$f":"B396+1","v":219},null,"waste oil / fossil content","[t CO2/yr]",null,{"$f":"IF(G317=\"\",\"\",G317*G361)","v":0},0,0,0,0,0,0,0,0,0,0,0,0,0,0,0,0,0,0,0,0,0,0,0,0,0,0,0,0,0,0,0,0,0,0,{"$f":"IF(AP317=\"\",\"\",AP317*AP361)","v":0},0,0,0,0,0,0,0,0,0,0,0,0,0,0,0,0,0,0,0,0,0,0,0,0,0]
[null,{"$f":"B397+1","v":220},null,"waste tyres / fossil content","[t CO2/yr]",null,{"$f":"IF(G318=\"\",\"\",G318*G362)","v":0},0,0,0,0,0,0,0,0,0,0,0,0,0,0,0,0,0,0,0,0,0,0,0,0,0,0,0,0,0,0,0,0,0,0,{"$f":"IF(AP318=\"\",\"\",AP318*AP362)","v":0},0,0,0,0,0,0,0,0,0,0,0,0,0,0,0,0,0,0,0,0,0,0,0,0,0]
[null,{"$f":"B398+1","v":221},null,"RDF including plastics / fossil content","[t CO2/yr]",null,{"$f":"IF(G319=\"\",\"\",G319*G363)","v":0},0,0,0,0,0,0,0,0,0,0,0,0,0,0,0,0,0,0,0,0,0,0,0,0,0,0,0,0,0,0,0,0,0,0,{"$f":"IF(AP319=\"\",\"\",AP319*AP363)","v":0},0,0,0,0,0,0,0,0,0,0,0,0,0,0,0,0,0,0,0,0,0,0,0,0,0]
[null,{"$f":"B399+1","v":222},null,"solvents / fossil content","[t CO2/yr]",null,{"$f":"IF(G320=\"\",\"\",G320*G364)","v":0},0,0,0,0,0,0,0,0,0,0,0,0,0,0,0,0,0,0,0,0,0,0,0,0,0,0,0,0,0,0,0,0,0,0,{"$f":"IF(AP320=\"\",\"\",AP320*AP364)","v":0},0,0,0,0,0,0,0,0,0,0,0,0,0,0,0,0,0,0,0,0,0,0,0,0,0]
[null,{"$f":"B400+1","v":223},null,"impregnated saw dust / fossil content","[t CO2/yr]",null,{"$f":"IF(G321=\"\",\"\",G321*G365)","v":0},0,0,0,0,0,0,0,0,0,0,0,0,0,0,0,0,0,0,0,0,0,0,0,0,0,0,0,0,0,0,0,0,0,0,{"$f":"IF(AP321=\"\",\"\",AP321*AP365)","v":0},0,0,0,0,0,0,0,0,0,0,0,0,0,0,0,0,0,0,0,0,0,0,0,0,0]
[null,"223a",null,"mixed industrial waste / fossil content","[t CO2/yr]",null,{"$f":"IF(G322=\"\",\"\",G322*G366)","v":0},0,0,0,0,0,0,0,0,0,0,0,0,0,0,0,0,0,0,0,0,0,0,0,0,0,0,0,0,0,0,0,0,0,0,{"$f":"IF(AP322=\"\",\"\",AP322*AP366)","v":0},0,0,0,0,0,0,0,0,0,0,0,0,0,0,0,0,0,0,0,0,0,0,0,0,0]
[null,224,null,"other fossil based wastes / fossil content","[t CO2/yr]",null,{"$f":"IF(G323=\"\",\"\",G323*G368)","v":0},0,0,0,0,0,0,0,0,0,0,0,0,0,0,0,0,0,0,0,0,0,0,0,0,0,0,0,0,0,0,0,0,0,0,{"$f":"IF(AP323=\"\",\"\",AP323*AP368)","v":0},0,0,0,0,0,0,0,0,0,0,0,0,0,0,0,0,0,0,0,0,0,0,0,0,0]
[null,{"$f":"B403+1","v":225},"Biomass fuels - total, incl. biomass cont. from alternative mixed fuels",null,"[t CO2/yr]",null,{"$f":"IF(COUNTBLANK(G405:G413)=9,\"\",SUM(G405:G413))","v":0},0,0,0,0,0,0,0,0,0,0,0,0,0,0,0,0,0,0,0,0,0,0,0,0,0,0,0,0,0,0,0,0,0,0,{"$f":"IF(COUNTBLANK(AP405:AP413)=9,\"\",SUM(AP405:AP413))","v":0},0,0,0,0,0,0,0,0,0,0,0,0,0,0,0,0,0,0,0,0,0,0,0,0,0]
[null,226,null,"sewage sludge","[t CO2/yr]",null,{"$f":"IF(G325=\"\",\"\",G325*G378)","v":0},0,0,0,0,0,0,0,0,0,0,0,0,0,0,0,0,0,0,0,0,0,0,0,0,0,0,0,0,0,0,0,0,0,0,{"$f":"IF(AP325=\"\",\"\",AP325*AP378)","v":0},0,0,0,0,0,0,0,0,0,0,0,0,0,0,0,0,0,0,0,0,0,0,0,0,0]
[null,227,null,"wood, non impregnated saw dust","[t CO2/yr]",null,{"$f":"IF(G326=\"\",\"\",G326*G379)","v":0},0,0,0,0,0,0,0,0,0,0,0,0,0,0,0,0,0,0,0,0,0,0,0,0,0,0,0,0,0,0,0,0,0,0,{"$f":"IF(AP326=\"\",\"\",AP326*AP379)","v":0},0,0,0,0,0,0,0,0,0,0,0,0,0,0,0,0,0,0,0,0,0,0,0,0,0]
[null,228,null,"paper, carton","[t CO2/yr]",null,{"$f":"IF(G327=\"\",\"\",G327*G380)","v":0},0,0,0,0,0,0,0,0,0,0,0,0,0,0,0,0,0,0,0,0,0,0,0,0,0,0,0,0,0,0,0,0,0,0,{"$f":"IF(AP327=\"\",\"\",AP327*AP380)","v":0},0,0,0,0,0,0,0,0,0,0,0,0,0,0,0,0,0,0,0,0,0,0,0,0,0]
[null,229,null,"animal meal","[t CO2/yr]",null,{"$f":"IF(G328=\"\",\"\",G328*G381)","v":0},0,0,0,0,0,0,0,0,0,0,0,0,0,0,0,0,0,0,0,0,0,0,0,0,0,0,0,0,0,0,0,0,0,0,{"$f":"IF(AP328=\"\",\"\",AP328*AP381)","v":0},0,0,0,0,0,0,0,0,0,0,0,0,0,0,0,0,0,0,0,0,0,0,0,0,0]
[null,230,null,"animal bone meal","[t CO2/yr]",null,{"$f":"IF(G329=\"\",\"\",G329*G382)","v":0},0,0,0,0,0,0,0,0,0,0,0,0,0,0,0,0,0,0,0,0,0,0,0,0,0,0,0,0,0,0,0,0,0,0,{"$f":"IF(AP329=\"\",\"\",AP329*AP382)","v":0},0,0,0,0,0,0,0,0,0,0,0,0,0,0,0,0,0,0,0,0,0,0,0,0,0]
[null,231,null,"animal fat","[t CO2/yr]",null,{"$f":"IF(G330=\"\",\"\",G330*G383)","v":0},0,0,0,0,0,0,0,0,0,0,0,0,0,0,0,0,0,0,0,0,0,0,0,0,0,0,0,0,0,0,0,0,0,0,{"$f":"IF(AP330=\"\",\"\",AP330*AP383)","v":0},0,0,0,0,0,0,0,0,0,0,0,0,0,0,0,0,0,0,0,0,0,0,0,0,0]
[null,232,null,"agricultural, organic, diaper waste, charcoal","[t CO2/yr]",null,{"$f":"IF(G331=\"\",\"\",G331*G384)","v":0},0,0,0,0,0,0,0,0,0,0,0,0,0,0,0,0,0,0,0,0,0,0,0,0,0,0,0,0,0,0,0,0,0,0,{"$f":"IF(AP331=\"\",\"\",AP331*AP384)","v":0},0,0,0,0,0,0,0,0,0,0,0,0,0,0,0,0,0,0,0,0,0,0,0,0,0]
[null,233,null,"other biomass","[t CO2/yr]",null,{"$f":"IF(G332=\"\",\"\",G332*G385)","v":0},0,0,0,0,0,0,0,0,0,0,0,0,0,0,0,0,0,0,0,0,0,0,0,0,0,0,0,0,0,0,0,0,0,0,{"$f":"IF(AP332=\"\",\"\",AP332*AP385)","v":0},0,0,0,0,0,0,0,0,0,0,0,0,0,0,0,0,0,0,0,0,0,0,0,0,0]
[null,"233a",null,"biomass content from alternative fuels","[t CO2/yr]",null,{"$f":"(G239*G278*G$369*G361+G240*G279*G$370*G362+G241*G280*G$371*G363+G242*G281*G$372*G364+G243*G282*G$373*G365+G244*G283*G$374*G366+G245*G284*G$376*G368)/1000","v":0},0,0,0,0,0,0,0,0,0,0,0,0,0,0,0,0,0,0,0,0,0,0,0,0,0,0,0,0,0,0,0,0,0,0,{"$f":"(AP239*AP278*AP$369*AP361+AP240*AP279*AP$370*AP362+AP241*AP280*AP$371*AP363+AP242*AP281*AP$372*AP364+AP243*AP282*AP$373*AP365+AP244*AP283*AP$374*AP366+AP245*AP284*AP$376*AP368)/1000","v":0},0,0,0,0,0,0,0,0,0,0,0,0,0,0,0,0,0,0,0,0,0,0,0,0,0]
[null,"Drying of raw materials and fuels",null,null,null,null,{"$f":"G$7","v":1990},1991,1992,1993,1994,1995,1996,1997,1998,1999,2000,2001,2002,2003,2004,2005,2006,2007,2008,2009,2010,2011,2012,2013,2014,2015,2016,2017,2018,2019,2020,2021,2022,2023,2024,2025,2026,2027,2028,2029,2030,2031,2032,2033,2034,2035,2036,2037,2038,2039,2040,2041,2042,2043,2044,2045,2046,2047,2048,2049,2050]
[null,234,"Conventional fossil fuels - total emissions",null,"[t CO2/yr]",null,{"$f":"IF(COUNTBLANK(G416:G421)=6,\"\",SUM(G416:G421))","v":0},0,0,0,0,0,0,0,0,0,0,0,0,0,0,0,0,0,0,0,0,0,0,0,0,0,0,0,0,0,0,0,0,0,0,{"$f":"IF(COUNTBLANK(AP416:AP421)=6,\"\",SUM(AP416:AP421))","v":0},0,0,0,0,0,0,0,0,0,0,0,0,0,0,0,0,0,0,0,0,0,0,0,0,0]
[null,"234a",null,"coal + anthracite + lignite","[t CO2/yr]",null,{"$f":"IF(G336=\"\",\"\",G336*G349)","v":0},0,0,0,0,0,0,0,0,0,0,0,0,0,0,0,0,0,0,0,0,0,0,0,0,0,0,0,0,0,0,0,0,0,0,{"$f":"IF(AP336=\"\",\"\",AP336*AP349)","v":0},0,0,0,0,0,0,0,0,0,0,0,0,0,0,0,0,0,0,0,0,0,0,0,0,0]
[null,"234b",null,"petrol coke","[t CO2/yr]",null,{"$f":"IF(G337=\"\",\"\",G337*G350)","v":0},0,0,0,0,0,0,0,0,0,0,0,0,0,0,0,0,0,0,0,0,0,0,0,0,0,0,0,0,0,0,0,0,0,0,{"$f":"IF(AP337=\"\",\"\",AP337*AP350)","v":0},0,0,0,0,0,0,0,0,0,0,0,0,0,0,0,0,0,0,0,0,0,0,0,0,0]
[null,"234c",null,"(ultra) heavy fuel","[t CO2/yr]",null,{"$f":"IF(G338=\"\",\"\",G338*G351)","v":0},0,0,0,0,0,0,0,0,0,0,0,0,0,0,0,0,0,0,0,0,0,0,0,0,0,0,0,0,0,0,0,0,0,0,{"$f":"IF(AP338=\"\",\"\",AP338*AP351)","v":0},0,0,0,0,0,0,0,0,0,0,0,0,0,0,0,0,0,0,0,0,0,0,0,0,0]
[null,"234d",null,"diesel oil","[t CO2/yr]",null,{"$f":"IF(G339=\"\",\"\",G339*G352)","v":0},0,0,0,0,0,0,0,0,0,0,0,0,0,0,0,0,0,0,0,0,0,0,0,0,0,0,0,0,0,0,0,0,0,0,{"$f":"IF(AP339=\"\",\"\",AP339*AP352)","v":0},0,0,0,0,0,0,0,0,0,0,0,0,0,0,0,0,0,0,0,0,0,0,0,0,0]
[null,"234e",null,"natural gas ","[t CO2/yr]",null,{"$f":"IF(G340=\"\",\"\",G340*G353)","v":0},0,0,0,0,0,0,0,0,0,0,0,0,0,0,0,0,0,0,0,0,0,0,0,0,0,0,0,0,0,0,0,0,0,0,{"$f":"IF(AP340=\"\",\"\",AP340*AP353)","v":0},0,0,0,0,0,0,0,0,0,0,0,0,0,0,0,0,0,0,0,0,0,0,0,0,0]
[null,"234f",null,"shale","[t CO2/yr]",null,{"$f":"IF(G341=\"\",\"\",G341*G354)","v":0},0,0,0,0,0,0,0,0,0,0,0,0,0,0,0,0,0,0,0,0,0,0,0,0,0,0,0,0,0,0,0,0,0,0,{"$f":"IF(AP341=\"\",\"\",AP341*AP354)","v":0},0,0,0,0,0,0,0,0,0,0,0,0,0,0,0,0,0,0,0,0,0,0,0,0,0]
[null,235,"Alternative fossil fuels - fossil total emissions",null,"[t CO2/yr]",null,{"$f":"G423","v":0},0,0,0,0,0,0,0,0,0,0,0,0,0,0,0,0,0,0,0,0,0,0,0,0,0,0,0,0,0,0,0,0,0,0,0,0,0,0,0,0,0,0,0,0,0,0,0,0,0,0,0,0,0,0,0,0,0,0,0,0]
[null,"235a",null,"other fossil based wastes / fossil content","[t CO2/yr]",null,{"$f":"IF(G343=\"\",\"\",G343*G368)","v":0},0,0,0,0,0,0,0,0,0,0,0,0,0,0,0,0,0,0,0,0,0,0,0,0,0,0,0,0,0,0,0,0,0,0,{"$f":"IF(AP343=\"\",\"\",AP343*AP368)","v":0},0,0,0,0,0,0,0,0,0,0,0,0,0,0,0,0,0,0,0,0,0,0,0,0,0]
[null,236,"Alternative biomass fuels - biomass total emissions",null,"[t CO2/yr]",null,{"$f":"G425","v":0},0,0,0,0,0,0,0,0,0,0,0,0,0,0,0,0,0,0,0,0,0,0,0,0,0,0,0,0,0,0,0,0,0,0,0,0,0,0,0,0,0,0,0,0,0,0,0,0,0,0,0,0,0,0,0,0,0,0,0,0]
[null,"236a",null,"other biomass (incl. biomass content of mixed fuels)","[t CO2/yr]",null,{"$f":"IF(G345=\"\",\"\",(G266*G305/1000*G385)+(G264*G303/1000*G368*G376))","v":0},0,0,0,0,0,0,0,0,0,0,0,0,0,0,0,0,0,0,0,0,0,0,0,0,0,0,0,0,0,0,0,0,0,0,{"$f":"IF(AP345=\"\",\"\",(AP266*AP305/1000*AP385)+(AP264*AP303/1000*AP368*AP376))","v":0},0,0,0,0,0,0,0,0,0,0,0,0,0,0,0,0,0,0,0,0,0,0,0,0,0]
[]
["NON-KILN FUELS - DETAILED INFORMATION"]
[]
[null,"Non-Kiln Fuel Consumption in tonnes per year",null,null,null,null,{"$f":"G$7","v":1990},1991,1992,1993,1994,1995,1996,1997,1998,1999,2000,2001,2002,2003,2004,2005,2006,2007,2008,2009,2010,2011,2012,2013,2014,2015,2016,2017,2018,2019,2020,2021,2022,2023,2024,2025,2026,2027,2028,2029,2030,2031,2032,2033,2034,2035,2036,2037,2038,2039,2040,2041,2042,2043,2044,2045,2046,2047,2048,2049,2050]
[null,301,"Equipment and On-Site Vehicles fossil fuels"]
[null,"301a",null,"diesel oil","[t/yr]",null,{"$f":"IF(BV431=\"\",0,BV431)","v":0},0,0,0,0,0,0,0,0,0,{"$f":"IF(CF431=\"\",0,CF431)","v":0},0,0,0,0,0,0,0,0,0,{"$f":"IF(CP431=\"\",0,CP431)","v":0},0,0,0,0,0,0,0,0,{"$f":"IF(CY431=\"\",0,CY431)","v":0},{"$f":"IF(CZ431=\"\",0,CZ431)","v":0},{"$f":"IF(DA431=\"\",0,DA431)","v":0},{"$f":"IF(DB431=\"\",0,DB431)","v":0},{"$f":"IF(DC431=\"\",0,DC431)","v":0},{"$f":"IF(DD431=\"\",0,DD431)","v":0},{"$f":"IF(DE431=\"\",0,DE431)","v":0},{"$f":"IF(DF431=\"\",0,DF431)","v":0},{"$f":"IF(DG431=\"\",0,DG431)","v":0},{"$f":"IF(DH431=\"\",0,DH431)","v":0},{"$f":"IF(DI431=\"\",0,DI431)","v":0},{"$f":"IF(DJ431=\"\",0,DJ431)","v":0},{"$f":"IF(DK431=\"\",0,DK431)","v":0},{"$f":"IF(DL431=\"\",0,DL431)","v":0},{"$f":"IF(DM431=\"\",0,DM431)","v":0},{"$f":"IF(DN431=\"\",0,DN431)","v":0},{"$f":"IF(DO431=\"\",0,DO431)","v":0},{"$f":"IF(DP431=\"\",0,DP431)","v":0},{"$f":"IF(DQ431=\"\",0,DQ431)","v":0},{"$f":"IF(DR431=\"\",0,DR431)","v":0},{"$f":"IF(DS431=\"\",0,DS431)","v":0},{"$f":"IF(DT431=\"\",0,DT431)","v":0},{"$f":"IF(DU431=\"\",0,DU431)","v":0},{"$f":"IF(DV431=\"\",0,DV431)","v":0},{"$f":"IF(DW431=\"\",0,DW431)","v":0},{"$f":"IF(DX431=\"\",0,DX431)","v":0},{"$f":"IF(DY431=\"\",0,DY431)","v":0},{"$f":"IF(DZ431=\"\",0,DZ431)","v":0},{"$f":"IF(EA431=\"\",0,EA431)","v":0},{"$f":"IF(EB431=\"\",0,EB431)","v":0},{"$f":"IF(EC431=\"\",0,EC431)","v":0},{"$f":"IF(ED431=\"\",0,ED431)","v":0}]
[null,"301b",null,"gasoline","[t/yr]",null,0,0,0,0,0,0,0,0,0,0,0,0,0,0,0,0,0,0,0,0,0,0,0,0,0,0,0,0,0,0,0,0,0,0,0,0,0,0,0,0,0,0,0,0,0,0,0,0,0,0,0,0,0,0,0,0,0,0,0,0,0]
[null,"301ba",null,"other fossil fuels","[t/yr]",null,0,0,0,0,0,0,0,0,0,0,0,0,0,0,0,0,0,0,0,0,0,0,0,0,0,0,0,0,0,0,0,0,0,0,0,0,0,0,0,0,0,0,0,0,0,0,0,0,0,0,0,0,0,0,0,0,0,0,0,0,0]
[null,"301c","Equipment and On-Site Vehicles fuels (containing biomass)"]
[null,"301d",null,"bio and mixed diesel ","[t/yr]",null,{"$f":"IF(BV435=\"\",0,BV435)","v":0},0,0,0,0,0,0,0,0,0,0,0,0,0,0,0,0,0,0,0,0,0,0,0,0,0,0,0,0,{"$f":"IF(CY435=\"\",0,CY435)","v":0},{"$f":"IF(CZ435=\"\",0,CZ435)","v":0},{"$f":"IF(DA435=\"\",0,DA435)","v":0},{"$f":"IF(DB435=\"\",0,DB435)","v":0},{"$f":"IF(DC435=\"\",0,DC435)","v":0},{"$f":"IF(DD435=\"\",0,DD435)","v":0},{"$f":"IF(DE435=\"\",0,DE435)","v":0},{"$f":"IF(DF435=\"\",0,DF435)","v":0},{"$f":"IF(DG435=\"\",0,DG435)","v":0},{"$f":"IF(DH435=\"\",0,DH435)","v":0},{"$f":"IF(DI435=\"\",0,DI435)","v":0},{"$f":"IF(DJ435=\"\",0,DJ435)","v":0},{"$f":"IF(DK435=\"\",0,DK435)","v":0},{"$f":"IF(DL435=\"\",0,DL435)","v":0},{"$f":"IF(DM435=\"\",0,DM435)","v":0},{"$f":"IF(DN435=\"\",0,DN435)","v":0},{"$f":"IF(DO435=\"\",0,DO435)","v":0},{"$f":"IF(DP435=\"\",0,DP435)","v":0},{"$f":"IF(DQ435=\"\",0,DQ435)","v":0},{"$f":"IF(DR435=\"\",0,DR435)","v":0},{"$f":"IF(DS435=\"\",0,DS435)","v":0},{"$f":"IF(DT435=\"\",0,DT435)","v":0},{"$f":"IF(DU435=\"\",0,DU435)","v":0},{"$f":"IF(DV435=\"\",0,DV435)","v":0},{"$f":"IF(DW435=\"\",0,DW435)","v":0},{"$f":"IF(DX435=\"\",0,DX435)","v":0},{"$f":"IF(DY435=\"\",0,DY435)","v":0},{"$f":"IF(DZ435=\"\",0,DZ435)","v":0},{"$f":"IF(EA435=\"\",0,EA435)","v":0},{"$f":"IF(EB435=\"\",0,EB435)","v":0},{"$f":"IF(EC435=\"\",0,EC435)","v":0},{"$f":"IF(ED435=\"\",0,ED435)","v":0}]
[null,302,"Room Heating and Cooling"]
[null,"302a",null,"diesel oil","[t/yr]",null,{"$f":"IF(BV437=\"\",0,BV437)","v":0},0,0,0,0,0,0,0,0,0,{"$f":"IF(CF437=\"\",0,CF437)","v":0},0,0,0,0,0,0,0,0,0,{"$f":"IF(CP437=\"\",0,CP437)","v":0},0,0,0,0,0,0,0,0,{"$f":"IF(CY437=\"\",0,CY437)","v":0},{"$f":"IF(CZ437=\"\",0,CZ437)","v":0},{"$f":"IF(DA437=\"\",0,DA437)","v":0},{"$f":"IF(DB437=\"\",0,DB437)","v":0},{"$f":"IF(DC437=\"\",0,DC437)","v":0},{"$f":"IF(DD437=\"\",0,DD437)","v":0},{"$f":"IF(DE437=\"\",0,DE437)","v":0},{"$f":"IF(DF437=\"\",0,DF437)","v":0},{"$f":"IF(DG437=\"\",0,DG437)","v":0},{"$f":"IF(DH437=\"\",0,DH437)","v":0},{"$f":"IF(DI437=\"\",0,DI437)","v":0},{"$f":"IF(DJ437=\"\",0,DJ437)","v":0},{"$f":"IF(DK437=\"\",0,DK437)","v":0},{"$f":"IF(DL437=\"\",0,DL437)","v":0},{"$f":"IF(DM437=\"\",0,DM437)","v":0},{"$f":"IF(DN437=\"\",0,DN437)","v":0},{"$f":"IF(DO437=\"\",0,DO437)","v":0},{"$f":"IF(DP437=\"\",0,DP437)","v":0},{"$f":"IF(DQ437=\"\",0,DQ437)","v":0},{"$f":"IF(DR437=\"\",0,DR437)","v":0},{"$f":"IF(DS437=\"\",0,DS437)","v":0},{"$f":"IF(DT437=\"\",0,DT437)","v":0},{"$f":"IF(DU437=\"\",0,DU437)","v":0},{"$f":"IF(DV437=\"\",0,DV437)","v":0},{"$f":"IF(DW437=\"\",0,DW437)","v":0},{"$f":"IF(DX437=\"\",0,DX437)","v":0},{"$f":"IF(DY437=\"\",0,DY437)","v":0},{"$f":"IF(DZ437=\"\",0,DZ437)","v":0},{"$f":"IF(EA437=\"\",0,EA437)","v":0},{"$f":"IF(EB437=\"\",0,EB437)","v":0},{"$f":"IF(EC437=\"\",0,EC437)","v":0},{"$f":"IF(ED437=\"\",0,ED437)","v":0}]
[null,"302b",null,"natural gas","[1'000 Nm3/yr]",null,0,0,0,0,0,0,0,0,0,0,0,0,0,0,0,0,0,0,0,0,0,0,0,0,0,0,0,0,0,0,0,0,0,0,0,0,0,0,0,0,0,0,0,0,0,0,0,0,0,0,0,0,0,0,0,0,0,0,0,0,0]
[null,"302c",null,"other fossil fuels","[t/yr]",null,0,0,0,0,0,0,0,0,0,0,0,0,0,0,0,0,0,0,0,0,0,0,0,0,0,0,0,0,0,0,0,0,0,0,0,0,0,0,0,0,0,0,0,0,0,0,0,0,0,0,0,0,0,0,0,0,0,0,0,0,0]
[null,303,"Drying of mineral components"]
[null,"303k","     Conventional fossil fuels"]
[null,"303a",null,"coal + anthracite+ lignite","[t/yr]",null,{"$f":"IF(BV442=\"\",0,BV442)","v":0},0,0,0,0,0,0,0,0,0,{"$f":"IF(CF442=\"\",0,CF442)","v":0},0,0,0,0,0,0,0,0,0,{"$f":"IF(CP442=\"\",0,CP442)","v":0},0,0,0,0,0,0,0,0,{"$f":"IF(CY442=\"\",0,CY442)","v":0},{"$f":"IF(CZ442=\"\",0,CZ442)","v":0},{"$f":"IF(DA442=\"\",0,DA442)","v":0},{"$f":"IF(DB442=\"\",0,DB442)","v":0},{"$f":"IF(DC442=\"\",0,DC442)","v":0},{"$f":"IF(DD442=\"\",0,DD442)","v":0},{"$f":"IF(DE442=\"\",0,DE442)","v":0},{"$f":"IF(DF442=\"\",0,DF442)","v":0},{"$f":"IF(DG442=\"\",0,DG442)","v":0},{"$f":"IF(DH442=\"\",0,DH442)","v":0},{"$f":"IF(DI442=\"\",0,DI442)","v":0},{"$f":"IF(DJ442=\"\",0,DJ442)","v":0},{"$f":"IF(DK442=\"\",0,DK442)","v":0},{"$f":"IF(DL442=\"\",0,DL442)","v":0},{"$f":"IF(DM442=\"\",0,DM442)","v":0},{"$f":"IF(DN442=\"\",0,DN442)","v":0},{"$f":"IF(DO442=\"\",0,DO442)","v":0},{"$f":"IF(DP442=\"\",0,DP442)","v":0},{"$f":"IF(DQ442=\"\",0,DQ442)","v":0},{"$f":"IF(DR442=\"\",0,DR442)","v":0},{"$f":"IF(DS442=\"\",0,DS442)","v":0},{"$f":"IF(DT442=\"\",0,DT442)","v":0},{"$f":"IF(DU442=\"\",0,DU442)","v":0},{"$f":"IF(DV442=\"\",0,DV442)","v":0},{"$f":"IF(DW442=\"\",0,DW442)","v":0},{"$f":"IF(DX442=\"\",0,DX442)","v":0},{"$f":"IF(DY442=\"\",0,DY442)","v":0},{"$f":"IF(DZ442=\"\",0,DZ442)","v":0},{"$f":"IF(EA442=\"\",0,EA442)","v":0},{"$f":"IF(EB442=\"\",0,EB442)","v":0},{"$f":"IF(EC442=\"\",0,EC442)","v":0},{"$f":"IF(ED442=\"\",0,ED442)","v":0}]
[null,"303b",null,"petrol coke","[t/yr]",null,0,0,0,0,0,0,0,0,0,0,0,0,0,0,0,0,0,0,0,0,0,0,0,0,0,0,0,0,0,0,0,0,0,0,0,0,0,0,0,0,0,0,0,0,0,0,0,0,0,0,0,0,0,0,0,0,0,0,0,0,0]
[null,"303c",null,"(ultra) heavy fuel","[t/yr]",null,0,0,0,0,0,0,0,0,0,0,0,0,0,0,0,0,0,0,0,0,0,0,0,0,0,0,0,0,0,0,0,0,0,0,0,0,0,0,0,0,0,0,0,0,0,0,0,0,0,0,0,0,0,0,0,0,0,0,0,0,0]
[null,"303d",null,"diesel oil","[t/yr]",null,0,0,0,0,0,0,0,0,0,0,0,0,0,0,0,0,0,0,0,0,0,0,0,0,0,0,0,0,0,0,0,0,0,0,0,0,0,0,0,0,0,0,0,0,0,0,0,0,0,0,0,0,0,0,0,0,0,0,0,0,0]
[null,"303e",null,"natural gas ","[1'000 Nm3/yr]",null,0,0,0,0,0,0,0,0,0,0,0,0,0,0,0,0,0,0,0,0,0,0,0,0,0,0,0,0,0,0,0,0,0,0,0,0,0,0,0,0,0,0,0,0,0,0,0,0,0,0,0,0,0,0,0,0,0,0,0,0,0]
[null,"303f",null,"shale","[t/yr]",null,0,0,0,0,0,0,0,0,0,0,0,0,0,0,0,0,0,0,0,0,0,0,0,0,0,0,0,0,0,0,0,0,0,0,0,0,0,0,0,0,0,0,0,0,0,0,0,0,0,0,0,0,0,0,0,0,0,0,0,0,0]
[null,"303g","     Alternative fossil and mixed fuels"]
[null,"303h",null,"other fossil based wastes and mixed fuels","[t/yr]",null,{"$f":"IF(BV449=\"\",0,BV449)","v":0},0,0,0,0,0,0,0,0,0,0,0,0,0,0,0,0,0,0,0,0,0,0,0,0,0,0,0,0,{"$f":"IF(CY449=\"\",0,CY449)","v":0},{"$f":"IF(CZ449=\"\",0,CZ449)","v":0},{"$f":"IF(DA449=\"\",0,DA449)","v":0},{"$f":"IF(DB449=\"\",0,DB449)","v":0},{"$f":"IF(DC449=\"\",0,DC449)","v":0},{"$f":"IF(DD449=\"\",0,DD449)","v":0},{"$f":"IF(DE449=\"\",0,DE449)","v":0},{"$f":"IF(DF449=\"\",0,DF449)","v":0},{"$f":"IF(DG449=\"\",0,DG449)","v":0},{"$f":"IF(DH449=\"\",0,DH449)","v":0},{"$f":"IF(DI449=\"\",0,DI449)","v":0},{"$f":"IF(DJ449=\"\",0,DJ449)","v":0},{"$f":"IF(DK449=\"\",0,DK449)","v":0},{"$f":"IF(DL449=\"\",0,DL449)","v":0},{"$f":"IF(DM449=\"\",0,DM449)","v":0},{"$f":"IF(DN449=\"\",0,DN449)","v":0},{"$f":"IF(DO449=\"\",0,DO449)","v":0},{"$f":"IF(DP449=\"\",0,DP449)","v":0},{"$f":"IF(DQ449=\"\",0,DQ449)","v":0},{"$f":"IF(DR449=\"\",0,DR449)","v":0},{"$f":"IF(DS449=\"\",0,DS449)","v":0},{"$f":"IF(DT449=\"\",0,DT449)","v":0},{"$f":"IF(DU449=\"\",0,DU449)","v":0},{"$f":"IF(DV449=\"\",0,DV449)","v":0},{"$f":"IF(DW449=\"\",0,DW449)","v":0},{"$f":"IF(DX449=\"\",0,DX449)","v":0},{"$f":"IF(DY449=\"\",0,DY449)","v":0},{"$f":"IF(DZ449=\"\",0,DZ449)","v":0},{"$f":"IF(EA449=\"\",0,EA449)","v":0},{"$f":"IF(EB449=\"\",0,EB449)","v":0},{"$f":"IF(EC449=\"\",0,EC449)","v":0},{"$f":"IF(ED449=\"\",0,ED449)","v":0}]
[null,"303i","     Alternative biomass fuels"]
[null,"303j",null,"other biomass","[t/yr]",null,{"$f":"IF(BV451=\"\",0,BV451)","v":0},0,0,0,0,0,0,0,0,0,0,0,0,0,0,0,0,0,0,0,0,0,0,0,0,0,0,0,0,{"$f":"IF(CY451=\"\",0,CY451)","v":0},{"$f":"IF(CZ451=\"\",0,CZ451)","v":0},{"$f":"IF(DA451=\"\",0,DA451)","v":0},{"$f":"IF(DB451=\"\",0,DB451)","v":0},{"$f":"IF(DC451=\"\",0,DC451)","v":0},{"$f":"IF(DD451=\"\",0,DD451)","v":0},{"$f":"IF(DE451=\"\",0,DE451)","v":0},{"$f":"IF(DF451=\"\",0,DF451)","v":0},{"$f":"IF(DG451=\"\",0,DG451)","v":0},{"$f":"IF(DH451=\"\",0,DH451)","v":0},{"$f":"IF(DI451=\"\",0,DI451)","v":0},{"$f":"IF(DJ451=\"\",0,DJ451)","v":0},{"$f":"IF(DK451=\"\",0,DK451)","v":0},{"$f":"IF(DL451=\"\",0,DL451)","v":0},{"$f":"IF(DM451=\"\",0,DM451)","v":0},{"$f":"IF(DN451=\"\",0,DN451)","v":0},{"$f":"IF(DO451=\"\",0,DO451)","v":0},{"$f":"IF(DP451=\"\",0,DP451)","v":0},{"$f":"IF(DQ451=\"\",0,DQ451)","v":0},{"$f":"IF(DR451=\"\",0,DR451)","v":0},{"$f":"IF(DS451=\"\",0,DS451)","v":0},{"$f":"IF(DT451=\"\",0,DT451)","v":0},{"$f":"IF(DU451=\"\",0,DU451)","v":0},{"$f":"IF(DV451=\"\",0,DV451)","v":0},{"$f":"IF(DW451=\"\",0,DW451)","v":0},{"$f":"IF(DX451=\"\",0,DX451)","v":0},{"$f":"IF(DY451=\"\",0,DY451)","v":0},{"$f":"IF(DZ451=\"\",0,DZ451)","v":0},{"$f":"IF(EA451=\"\",0,EA451)","v":0},{"$f":"IF(EB451=\"\",0,EB451)","v":0},{"$f":"IF(EC451=\"\",0,EC451)","v":0},{"$f":"IF(ED451=\"\",0,ED451)","v":0}]
[null,304,"On-site power generation"]
[null,"304aa","     Conventional fossil fuels"]
[null,"304a",null,"coal + anthracite + lignite","[t/yr]",null,{"$f":"IF(BV454=\"\",0,BV454)","v":0},0,0,0,0,0,0,0,0,0,{"$f":"IF(CF454=\"\",0,CF454)","v":0},0,0,0,0,0,0,0,0,0,{"$f":"IF(CP454=\"\",0,CP454)","v":0},0,0,0,0,0,0,0,0,{"$f":"IF(CY454=\"\",0,CY454)","v":0},{"$f":"IF(CZ454=\"\",0,CZ454)","v":0},{"$f":"IF(DA454=\"\",0,DA454)","v":0},{"$f":"IF(DB454=\"\",0,DB454)","v":0},{"$f":"IF(DC454=\"\",0,DC454)","v":0},{"$f":"IF(DD454=\"\",0,DD454)","v":0},{"$f":"IF(DE454=\"\",0,DE454)","v":0},{"$f":"IF(DF454=\"\",0,DF454)","v":0},{"$f":"IF(DG454=\"\",0,DG454)","v":0},{"$f":"IF(DH454=\"\",0,DH454)","v":0},{"$f":"IF(DI454=\"\",0,DI454)","v":0},{"$f":"IF(DJ454=\"\",0,DJ454)","v":0},{"$f":"IF(DK454=\"\",0,DK454)","v":0},{"$f":"IF(DL454=\"\",0,DL454)","v":0},{"$f":"IF(DM454=\"\",0,DM454)","v":0},{"$f":"IF(DN454=\"\",0,DN454)","v":0},{"$f":"IF(DO454=\"\",0,DO454)","v":0},{"$f":"IF(DP454=\"\",0,DP454)","v":0},{"$f":"IF(DQ454=\"\",0,DQ454)","v":0},{"$f":"IF(DR454=\"\",0,DR454)","v":0},{"$f":"IF(DS454=\"\",0,DS454)","v":0},{"$f":"IF(DT454=\"\",0,DT454)","v":0},{"$f":"IF(DU454=\"\",0,DU454)","v":0},{"$f":"IF(DV454=\"\",0,DV454)","v":0},{"$f":"IF(DW454=\"\",0,DW454)","v":0},{"$f":"IF(DX454=\"\",0,DX454)","v":0},{"$f":"IF(DY454=\"\",0,DY454)","v":0},{"$f":"IF(DZ454=\"\",0,DZ454)","v":0},{"$f":"IF(EA454=\"\",0,EA454)","v":0},{"$f":"IF(EB454=\"\",0,EB454)","v":0},{"$f":"IF(EC454=\"\",0,EC454)","v":0},{"$f":"IF(ED454=\"\",0,ED454)","v":0}]
[null,"304b",null,"(ultra) heavy fuel","[t/yr]",null,0,0,0,0,0,0,0,0,0,0,0,0,0,0,0,0,0,0,0,0,0,0,0,0,0,0,0,0,0,0,0,0,0,0,0,0,0,0,0,0,0,0,0,0,0,0,0,0,0,0,0,0,0,0,0,0,0,0,0,0,0]
[null,"304c",null,"diesel oil","[t/yr]",null,0,0,0,0,0,0,0,0,0,0,0,0,0,0,0,0,0,0,0,0,0,0,0,0,0,0,0,0,0,0,0,0,0,0,0,0,0,0,0,0,0,0,0,0,0,0,0,0,0,0,0,0,0,0,0,0,0,0,0,0,0]
[null,"304d",null,"natural gas ","[1'000 Nm3/yr]",null,0,0,0,0,0,0,0,0,0,0,0,0,0,0,0,0,0,0,0,0,0,0,0,0,0,0,0,0,0,0,0,0,0,0,0,0,0,0,0,0,0,0,0,0,0,0,0,0,0,0,0,0,0,0,0,0,0,0,0,0,0]
[null,"304i",null,"petrol coke","[t/yr]",null,0,0,0,0,0,0,0,0,0,0,0,0,0,0,0,0,0,0,0,0,0,0,0,0,0,0,0,0,0,0,0,0,0,0,0,0,0,0,0,0,0,0,0,0,0,0,0,0,0,0,0,0,0,0,0,0,0,0,0,0,0]
[null,"304j",null,"other fossil fuels","[t/yr]",null,0,0,0,0,0,0,0,0,0,0,0,0,0,0,0,0,0,0,0,0,0,0,0,0,0,0,0,0,0,0,0,0,0,0,0,0,0,0,0,0,0,0,0,0,0,0,0,0,0,0,0,0,0,0,0,0,0,0,0,0,0]
[null,"304f","     Alternative fossil and mixed fuels"]
[null,"304g",null,"other fossil based wastes and mixed fuels","[t/yr]",null,{"$f":"IF(BV461=\"\",0,BV461)","v":0},0,0,0,0,0,0,0,0,0,0,0,0,0,0,0,0,0,0,0,0,0,0,0,0,0,0,0,0,{"$f":"IF(CY461=\"\",0,CY461)","v":0},{"$f":"IF(CZ461=\"\",0,CZ461)","v":0},{"$f":"IF(DA461=\"\",0,DA461)","v":0},{"$f":"IF(DB461=\"\",0,DB461)","v":0},{"$f":"IF(DC461=\"\",0,DC461)","v":0},{"$f":"IF(DD461=\"\",0,DD461)","v":0},{"$f":"IF(DE461=\"\",0,DE461)","v":0},{"$f":"IF(DF461=\"\",0,DF461)","v":0},{"$f":"IF(DG461=\"\",0,DG461)","v":0},{"$f":"IF(DH461=\"\",0,DH461)","v":0},{"$f":"IF(DI461=\"\",0,DI461)","v":0},{"$f":"IF(DJ461=\"\",0,DJ461)","v":0},{"$f":"IF(DK461=\"\",0,DK461)","v":0},{"$f":"IF(DL461=\"\",0,DL461)","v":0},{"$f":"IF(DM461=\"\",0,DM461)","v":0},{"$f":"IF(DN461=\"\",0,DN461)","v":0},{"$f":"IF(DO461=\"\",0,DO461)","v":0},{"$f":"IF(DP461=\"\",0,DP461)","v":0},{"$f":"IF(DQ461=\"\",0,DQ461)","v":0},{"$f":"IF(DR461=\"\",0,DR461)","v":0},{"$f":"IF(DS461=\"\",0,DS461)","v":0},{"$f":"IF(DT461=\"\",0,DT461)","v":0},{"$f":"IF(DU461=\"\",0,DU461)","v":0},{"$f":"IF(DV461=\"\",0,DV461)","v":0},{"$f":"IF(DW461=\"\",0,DW461)","v":0},{"$f":"IF(DX461=\"\",0,DX461)","v":0},{"$f":"IF(DY461=\"\",0,DY461)","v":0},{"$f":"IF(DZ461=\"\",0,DZ461)","v":0},{"$f":"IF(EA461=\"\",0,EA461)","v":0},{"$f":"IF(EB461=\"\",0,EB461)","v":0},{"$f":"IF(EC461=\"\",0,EC461)","v":0},{"$f":"IF(ED461=\"\",0,ED461)","v":0}]
[null,"304h","     Alternative biomass fuels"]
[null,"304e",null,"other biomass","[t/yr]",null,{"$f":"IF(BV463=\"\",0,BV463)","v":0},0,0,0,0,0,0,0,0,0,0,0,0,0,0,0,0,0,0,0,0,0,0,0,0,0,0,0,0,{"$f":"IF(CY463=\"\",0,CY463)","v":0},{"$f":"IF(CZ463=\"\",0,CZ463)","v":0},{"$f":"IF(DA463=\"\",0,DA463)","v":0},{"$f":"IF(DB463=\"\",0,DB463)","v":0},{"$f":"IF(DC463=\"\",0,DC463)","v":0},{"$f":"IF(DD463=\"\",0,DD463)","v":0},{"$f":"IF(DE463=\"\",0,DE463)","v":0},{"$f":"IF(DF463=\"\",0,DF463)","v":0},{"$f":"IF(DG463=\"\",0,DG463)","v":0},{"$f":"IF(DH463=\"\",0,DH463)","v":0},{"$f":"IF(DI463=\"\",0,DI463)","v":0},{"$f":"IF(DJ463=\"\",0,DJ463)","v":0},{"$f":"IF(DK463=\"\",0,DK463)","v":0},{"$f":"IF(DL463=\"\",0,DL463)","v":0},{"$f":"IF(DM463=\"\",0,DM463)","v":0},{"$f":"IF(DN463=\"\",0,DN463)","v":0},{"$f":"IF(DO463=\"\",0,DO463)","v":0},{"$f":"IF(DP463=\"\",0,DP463)","v":0},{"$f":"IF(DQ463=\"\",0,DQ463)","v":0},{"$f":"IF(DR463=\"\",0,DR463)","v":0},{"$f":"IF(DS463=\"\",0,DS463)","v":0},{"$f":"IF(DT463=\"\",0,DT463)","v":0},{"$f":"IF(DU463=\"\",0,DU463)","v":0},{"$f":"IF(DV463=\"\",0,DV463)","v":0},{"$f":"IF(DW463=\"\",0,DW463)","v":0},{"$f":"IF(DX463=\"\",0,DX463)","v":0},{"$f":"IF(DY463=\"\",0,DY463)","v":0},{"$f":"IF(DZ463=\"\",0,DZ463)","v":0},{"$f":"IF(EA463=\"\",0,EA463)","v":0},{"$f":"IF(EB463=\"\",0,EB463)","v":0},{"$f":"IF(EC463=\"\",0,EC463)","v":0},{"$f":"IF(ED463=\"\",0,ED463)","v":0}]
[]
[null,"Non-Kiln Fuel Lower Heating Values ",null,null,null,null,{"$f":"G$7","v":1990},1991,1992,1993,1994,1995,1996,1997,1998,1999,2000,2001,2002,2003,2004,2005,2006,2007,2008,2009,2010,2011,2012,2013,2014,2015,2016,2017,2018,2019,2020,2021,2022,2023,2024,2025,2026,2027,2028,2029,2030,2031,2032,2033,2034,2035,2036,2037,2038,2039,2040,2041,2042,2043,2044,2045,2046,2047,2048,2049,2050]
[null,311,"Equipment and On-Site Vehicles fossil fuels"]
[null,"311a",null,"diesel oil","[GJ/t]",null,{"$f":"IF(BV467=\"\",G299,BV467)","v":0},0,0,0,0,0,0,0,0,0,0,0,0,0,0,0,0,0,0,0,0,0,0,0,0,0,0,0,0,{"$f":"IF(CY467=\"\",AJ299,CY467)","v":0},0,0,0,0,0,0,0,0,0,0,0,0,0,0,0,0,0,0,0,0,0,0,0,0,0,0,0,0,0,0,0]
[null,"311b",null,"gasoline","[GJ/t]",null,{"$f":"IF(BV468=\"\",0,BV468)","v":0},0,0,0,0,0,0,0,0,0,{"$f":"IF(CF468=\"\",0,CF468)","v":0},0,0,0,0,0,0,0,0,0,{"$f":"IF(CP468=\"\",0,CP468)","v":0},0,0,0,0,0,0,0,0,{"$f":"IF(CY468=\"\",0,CY468)","v":0},{"$f":"IF(CZ468=\"\",0,CZ468)","v":0},{"$f":"IF(DA468=\"\",0,DA468)","v":0},{"$f":"IF(DB468=\"\",0,DB468)","v":0},{"$f":"IF(DC468=\"\",0,DC468)","v":0},{"$f":"IF(DD468=\"\",0,DD468)","v":0},{"$f":"IF(DE468=\"\",0,DE468)","v":0},{"$f":"IF(DF468=\"\",0,DF468)","v":0},{"$f":"IF(DG468=\"\",0,DG468)","v":0},{"$f":"IF(DH468=\"\",0,DH468)","v":0},{"$f":"IF(DI468=\"\",0,DI468)","v":0},{"$f":"IF(DJ468=\"\",0,DJ468)","v":0},{"$f":"IF(DK468=\"\",0,DK468)","v":0},{"$f":"IF(DL468=\"\",0,DL468)","v":0},{"$f":"IF(DM468=\"\",0,DM468)","v":0},{"$f":"IF(DN468=\"\",0,DN468)","v":0},{"$f":"IF(DO468=\"\",0,DO468)","v":0},{"$f":"IF(DP468=\"\",0,DP468)","v":0},{"$f":"IF(DQ468=\"\",0,DQ468)","v":0},{"$f":"IF(DR468=\"\",0,DR468)","v":0},{"$f":"IF(DS468=\"\",0,DS468)","v":0},{"$f":"IF(DT468=\"\",0,DT468)","v":0},{"$f":"IF(DU468=\"\",0,DU468)","v":0},{"$f":"IF(DV468=\"\",0,DV468)","v":0},{"$f":"IF(DW468=\"\",0,DW468)","v":0},{"$f":"IF(DX468=\"\",0,DX468)","v":0},{"$f":"IF(DY468=\"\",0,DY468)","v":0},{"$f":"IF(DZ468=\"\",0,DZ468)","v":0},{"$f":"IF(EA468=\"\",0,EA468)","v":0},{"$f":"IF(EB468=\"\",0,EB468)","v":0},{"$f":"IF(EC468=\"\",0,EC468)","v":0},{"$f":"IF(ED468=\"\",0,ED468)","v":0}]
[null,"311ba",null,"other fossil fuels","[GJ/t]",null,0,0,0,0,0,0,0,0,0,0,0,0,0,0,0,0,0,0,0,0,0,0,0,0,0,0,0,0,0,0,0,0,0,0,0,0,0,0,0,0,0,0,0,0,0,0,0,0,0,0,0,0,0,0,0,0,0,0,0,0,0]
[null,"311c","Equipment and On-Site Vehicles fuels (containing biomass)"]
[null,"311d",null,"bio and mixed diesel ","[GJ/t]",null,{"$f":"IF(BV471=\"\",0,BV471)","v":0},0,0,0,0,0,0,0,0,0,0,0,0,0,0,0,0,0,0,0,0,0,0,0,0,0,0,0,0,{"$f":"IF(CY471=\"\",0,CY471)","v":0},{"$f":"IF(CZ471=\"\",0,CZ471)","v":0},{"$f":"IF(DA471=\"\",0,DA471)","v":0},{"$f":"IF(DB471=\"\",0,DB471)","v":0},{"$f":"IF(DC471=\"\",0,DC471)","v":0},{"$f":"IF(DD471=\"\",0,DD471)","v":0},{"$f":"IF(DE471=\"\",0,DE471)","v":0},{"$f":"IF(DF471=\"\",0,DF471)","v":0},{"$f":"IF(DG471=\"\",0,DG471)","v":0},{"$f":"IF(DH471=\"\",0,DH471)","v":0},{"$f":"IF(DI471=\"\",0,DI471)","v":0},{"$f":"IF(DJ471=\"\",0,DJ471)","v":0},{"$f":"IF(DK471=\"\",0,DK471)","v":0},{"$f":"IF(DL471=\"\",0,DL471)","v":0},{"$f":"IF(DM471=\"\",0,DM471)","v":0},{"$f":"IF(DN471=\"\",0,DN471)","v":0},{"$f":"IF(DO471=\"\",0,DO471)","v":0},{"$f":"IF(DP471=\"\",0,DP471)","v":0},{"$f":"IF(DQ471=\"\",0,DQ471)","v":0},{"$f":"IF(DR471=\"\",0,DR471)","v":0},{"$f":"IF(DS471=\"\",0,DS471)","v":0},{"$f":"IF(DT471=\"\",0,DT471)","v":0},{"$f":"IF(DU471=\"\",0,DU471)","v":0},{"$f":"IF(DV471=\"\",0,DV471)","v":0},{"$f":"IF(DW471=\"\",0,DW471)","v":0},{"$f":"IF(DX471=\"\",0,DX471)","v":0},{"$f":"IF(DY471=\"\",0,DY471)","v":0},{"$f":"IF(DZ471=\"\",0,DZ471)","v":0},{"$f":"IF(EA471=\"\",0,EA471)","v":0},{"$f":"IF(EB471=\"\",0,EB471)","v":0},{"$f":"IF(EC471=\"\",0,EC471)","v":0},{"$f":"IF(ED471=\"\",0,ED471)","v":0}]
[null,312,"Room Heating and Cooling"]
[null,"312a",null,"diesel oil","[GJ/t]",null,{"$f":"IF(BV473=\"\",G299,BV473)","v":0},0,0,0,0,0,0,0,0,0,{"$f":"IF(CF473=\"\",Q299,CF473)","v":0},0,0,0,0,0,0,0,0,0,{"$f":"IF(CP473=\"\",AA299,CP473)","v":0},0,0,0,0,0,0,0,0,{"$f":"IF(CY473=\"\",AJ299,CY473)","v":0},0,0,0,0,0,0,0,0,0,0,0,0,0,0,0,0,0,0,0,0,0,0,0,0,0,0,0,0,0,0,0]
[null,"312b",null,"natural gas","[GJ/1'000 Nm3]",null,0,0,0,0,0,0,0,0,0,0,0,0,0,0,0,0,0,0,0,0,0,0,0,0,0,0,0,0,0,{"$f":"IF(CY474=\"\",AJ300,CY474)","v":0},0,0,0,0,0,0,0,0,0,0,0,0,0,0,0,0,0,0,0,0,0,0,0,0,0,0,0,0,0,0,0]
[null,"312c",null,"other fossil fuels","[GJ/t]",null,{"$f":"IF(BV475=\"\",0,BV475)","v":0},0,0,0,0,0,0,0,0,0,0,0,0,0,0,0,0,0,0,0,0,0,0,0,0,0,0,0,0,{"$f":"IF(CY475=\"\",0,CY475)","v":0},{"$f":"IF(CZ475=\"\",0,CZ475)","v":0},{"$f":"IF(DA475=\"\",0,DA475)","v":0},{"$f":"IF(DB475=\"\",0,DB475)","v":0},{"$f":"IF(DC475=\"\",0,DC475)","v":0},{"$f":"IF(DD475=\"\",0,DD475)","v":0},{"$f":"IF(DE475=\"\",0,DE475)","v":0},{"$f":"IF(DF475=\"\",0,DF475)","v":0},{"$f":"IF(DG475=\"\",0,DG475)","v":0},{"$f":"IF(DH475=\"\",0,DH475)","v":0},{"$f":"IF(DI475=\"\",0,DI475)","v":0},{"$f":"IF(DJ475=\"\",0,DJ475)","v":0},{"$f":"IF(DK475=\"\",0,DK475)","v":0},{"$f":"IF(DL475=\"\",0,DL475)","v":0},{"$f":"IF(DM475=\"\",0,DM475)","v":0},{"$f":"IF(DN475=\"\",0,DN475)","v":0},{"$f":"IF(DO475=\"\",0,DO475)","v":0},{"$f":"IF(DP475=\"\",0,DP475)","v":0},{"$f":"IF(DQ475=\"\",0,DQ475)","v":0},{"$f":"IF(DR475=\"\",0,DR475)","v":0},{"$f":"IF(DS475=\"\",0,DS475)","v":0},{"$f":"IF(DT475=\"\",0,DT475)","v":0},{"$f":"IF(DU475=\"\",0,DU475)","v":0},{"$f":"IF(DV475=\"\",0,DV475)","v":0},{"$f":"IF(DW475=\"\",0,DW475)","v":0},{"$f":"IF(DX475=\"\",0,DX475)","v":0},{"$f":"IF(DY475=\"\",0,DY475)","v":0},{"$f":"IF(DZ475=\"\",0,DZ475)","v":0},{"$f":"IF(EA475=\"\",0,EA475)","v":0},{"$f":"IF(EB475=\"\",0,EB475)","v":0},{"$f":"IF(EC475=\"\",0,EC475)","v":0},{"$f":"IF(ED475=\"\",0,ED475)","v":0}]
[null,313,"Drying of mineral components"]
[null,"313k","     Conventional fossil fuels"]
[null,"313a",null,"coal + anthracite + lignite","[GJ/t]",null,{"$f":"IF(BV478=\"\",G270,BV478)","v":0},0,0,0,0,0,0,0,0,0,{"$f":"IF(CF478=\"\",Q270,CF478)","v":0},0,0,0,0,0,0,0,0,0,{"$f":"IF(CP478=\"\",AA270,CP478)","v":0},0,0,0,0,0,0,0,0,{"$f":"IF(CY478=\"\",AJ270,CY478)","v":0},0,0,0,0,0,0,0,0,0,0,0,0,0,0,0,0,0,0,0,0,0,0,0,0,0,0,0,0,0,0,0]
[null,"313b",null,"petrol coke","[GJ/t]",null,0,0,0,0,0,0,0,0,0,0,0,0,0,0,0,0,0,0,0,0,0,0,0,0,0,0,0,0,0,{"$f":"IF(CY479=\"\",AJ271,CY479)","v":0},0,0,0,0,0,0,0,0,0,0,0,0,0,0,0,0,0,0,0,0,0,0,0,0,0,0,0,0,0,0,0]
[null,"313c",null,"(ultra) heavy fuel","[GJ/t]",null,0,0,0,0,0,0,0,0,0,0,0,0,0,0,0,0,0,0,0,0,0,0,0,0,0,0,0,0,0,{"$f":"IF(CY480=\"\",AJ272,CY480)","v":0},0,0,0,0,0,0,0,0,0,0,0,0,0,0,0,0,0,0,0,0,0,0,0,0,0,0,0,0,0,0,0]
[null,"313d",null,"diesel oil","[GJ/t]",null,0,0,0,0,0,0,0,0,0,0,0,0,0,0,0,0,0,0,0,0,0,0,0,0,0,0,0,0,0,{"$f":"IF(CY481=\"\",AJ273,CY481)","v":0},0,0,0,0,0,0,0,0,0,0,0,0,0,0,0,0,0,0,0,0,0,0,0,0,0,0,0,0,0,0,0]
[null,"313e",null,"natural gas ","[GJ/1'000 Nm3]",null,0,0,0,0,0,0,0,0,0,0,0,0,0,0,0,0,0,0,0,0,0,0,0,0,0,0,0,0,0,{"$f":"IF(CY482=\"\",AJ274,CY482)","v":0},0,0,0,0,0,0,0,0,0,0,0,0,0,0,0,0,0,0,0,0,0,0,0,0,0,0,0,0,0,0,0]
[null,"313f",null,"shale","[GJ/t]",null,0,0,0,0,0,0,0,0,0,0,0,0,0,0,0,0,0,0,0,0,0,0,0,0,0,0,0,0,0,{"$f":"IF(CY483=\"\",AJ275,CY483)","v":0},0,0,0,0,0,0,0,0,0,0,0,0,0,0,0,0,0,0,0,0,0,0,0,0,0,0,0,0,0,0,0]
[null,"313g","     Alternative fossil and mixed fuels"]
[null,"313h",null,"other fossil based wastes and mixed fuels","[GJ/t]",null,{"$f":"IF(BV485=\"\",0,BV485)","v":0},0,0,0,0,0,0,0,0,0,0,0,0,0,0,0,0,0,0,0,0,0,0,0,0,0,0,0,0,{"$f":"IF(CY485=\"\",0,CY485)","v":0},{"$f":"IF(CZ485=\"\",0,CZ485)","v":0},{"$f":"IF(DA485=\"\",0,DA485)","v":0},{"$f":"IF(DB485=\"\",0,DB485)","v":0},{"$f":"IF(DC485=\"\",0,DC485)","v":0},{"$f":"IF(DD485=\"\",0,DD485)","v":0},{"$f":"IF(DE485=\"\",0,DE485)","v":0},{"$f":"IF(DF485=\"\",0,DF485)","v":0},{"$f":"IF(DG485=\"\",0,DG485)","v":0},{"$f":"IF(DH485=\"\",0,DH485)","v":0},{"$f":"IF(DI485=\"\",0,DI485)","v":0},{"$f":"IF(DJ485=\"\",0,DJ485)","v":0},{"$f":"IF(DK485=\"\",0,DK485)","v":0},{"$f":"IF(DL485=\"\",0,DL485)","v":0},{"$f":"IF(DM485=\"\",0,DM485)","v":0},{"$f":"IF(DN485=\"\",0,DN485)","v":0},{"$f":"IF(DO485=\"\",0,DO485)","v":0},{"$f":"IF(DP485=\"\",0,DP485)","v":0},{"$f":"IF(DQ485=\"\",0,DQ485)","v":0},{"$f":"IF(DR485=\"\",0,DR485)","v":0},{"$f":"IF(DS485=\"\",0,DS485)","v":0},{"$f":"IF(DT485=\"\",0,DT485)","v":0},{"$f":"IF(DU485=\"\",0,DU485)","v":0},{"$f":"IF(DV485=\"\",0,DV485)","v":0},{"$f":"IF(DW485=\"\",0,DW485)","v":0},{"$f":"IF(DX485=\"\",0,DX485)","v":0},{"$f":"IF(DY485=\"\",0,DY485)","v":0},{"$f":"IF(DZ485=\"\",0,DZ485)","v":0},{"$f":"IF(EA485=\"\",0,EA485)","v":0},{"$f":"IF(EB485=\"\",0,EB485)","v":0},{"$f":"IF(EC485=\"\",0,EC485)","v":0},{"$f":"IF(ED485=\"\",0,ED485)","v":0}]
[null,"313i","     Alternative biomass fuels"]
[null,"313j",null,"other biomass","[GJ/t]",null,{"$f":"IF(BV487=\"\",0,BV487)","v":0},0,0,0,0,0,0,0,0,0,0,0,0,0,0,0,0,0,0,0,0,0,0,0,0,0,0,0,0,{"$f":"IF(CY487=\"\",0,CY487)","v":0},{"$f":"IF(CZ487=\"\",0,CZ487)","v":0},{"$f":"IF(DA487=\"\",0,DA487)","v":0},{"$f":"IF(DB487=\"\",0,DB487)","v":0},{"$f":"IF(DC487=\"\",0,DC487)","v":0},{"$f":"IF(DD487=\"\",0,DD487)","v":0},{"$f":"IF(DE487=\"\",0,DE487)","v":0},{"$f":"IF(DF487=\"\",0,DF487)","v":0},{"$f":"IF(DG487=\"\",0,DG487)","v":0},{"$f":"IF(DH487=\"\",0,DH487)","v":0},{"$f":"IF(DI487=\"\",0,DI487)","v":0},{"$f":"IF(DJ487=\"\",0,DJ487)","v":0},{"$f":"IF(DK487=\"\",0,DK487)","v":0},{"$f":"IF(DL487=\"\",0,DL487)","v":0},{"$f":"IF(DM487=\"\",0,DM487)","v":0},{"$f":"IF(DN487=\"\",0,DN487)","v":0},{"$f":"IF(DO487=\"\",0,DO487)","v":0},{"$f":"IF(DP487=\"\",0,DP487)","v":0},{"$f":"IF(DQ487=\"\",0,DQ487)","v":0},{"$f":"IF(DR487=\"\",0,DR487)","v":0},{"$f":"IF(DS487=\"\",0,DS487)","v":0},{"$f":"IF(DT487=\"\",0,DT487)","v":0},{"$f":"IF(DU487=\"\",0,DU487)","v":0},{"$f":"IF(DV487=\"\",0,DV487)","v":0},{"$f":"IF(DW487=\"\",0,DW487)","v":0},{"$f":"IF(DX487=\"\",0,DX487)","v":0},{"$f":"IF(DY487=\"\",0,DY487)","v":0},{"$f":"IF(DZ487=\"\",0,DZ487)","v":0},{"$f":"IF(EA487=\"\",0,EA487)","v":0},{"$f":"IF(EB487=\"\",0,EB487)","v":0},{"$f":"IF(EC487=\"\",0,EC487)","v":0},{"$f":"IF(ED487=\"\",0,ED487)","v":0}]
[null,314,"On-site power generation"]
[null,"314aa","     Conventional fossil fuels"]
[null,"314a",null,"coal + anthracite + lignite","[GJ/t]",null,{"$f":"IF(BV490=\"\",G270,BV490)","v":0},0,0,0,0,0,0,0,0,0,0,0,0,0,0,0,0,0,0,0,0,0,0,0,0,0,0,0,0,{"$f":"IF(CY490=\"\",AJ270,CY490)","v":0},0,0,0,0,0,0,0,0,0,0,0,0,0,0,0,0,0,0,0,0,0,0,0,0,0,0,0,0,0,0,0]
[null,"314b",null,"(ultra) heavy fuel","[GJ/t]",null,{"$f":"IF(BV491=\"\",G272,BV491)","v":0},0,0,0,0,0,0,0,0,0,{"$f":"IF(CF491=\"\",Q272,CF491)","v":0},0,0,0,0,0,0,0,0,0,{"$f":"IF(CP491=\"\",AA272,CP491)","v":0},0,0,0,0,0,0,0,0,{"$f":"IF(CY491=\"\",AJ272,CY491)","v":0},0,0,0,0,0,0,0,0,0,0,0,0,0,0,0,0,0,0,0,0,0,0,0,0,0,0,0,0,0,0,0]
[null,"314c",null,"diesel oil","[GJ/t]",null,0,0,0,0,0,0,0,0,0,0,0,0,0,0,0,0,0,0,0,0,0,0,0,0,0,0,0,0,0,{"$f":"IF(CY492=\"\",AJ273,CY492)","v":0},0,0,0,0,0,0,0,0,0,0,0,0,0,0,0,0,0,0,0,0,0,0,0,0,0,0,0,0,0,0,0]
[null,"314d",null,"natural gas ","[GJ/1'000 Nm3]",null,0,0,0,0,0,0,0,0,0,0,0,0,0,0,0,0,0,0,0,0,0,0,0,0,0,0,0,0,0,{"$f":"IF(CY493=\"\",AJ274,CY493)","v":0},0,0,0,0,0,0,0,0,0,0,0,0,0,0,0,0,0,0,0,0,0,0,0,0,0,0,0,0,0,0,0]
[null,"314i",null,"petrol coke","[GJ/t]",null,{"$f":"IF(BV494=\"\",G271,BV494)","v":0},0,0,0,0,0,0,0,0,0,0,0,0,0,0,0,0,0,0,0,0,0,0,0,0,0,0,0,0,{"$f":"IF(CY494=\"\",AJ271,CY494)","v":0},0,0,0,0,0,0,0,0,0,0,0,0,0,0,0,0,0,0,0,0,0,0,0,0,0,0,0,0,0,0,0]
[null,"314j",null,"other fossil fuels","[GJ/t]",null,{"$f":"IF(BV495=\"\",0,BV495)","v":0},0,0,0,0,0,0,0,0,0,0,0,0,0,0,0,0,0,0,0,0,0,0,0,0,0,0,0,0,{"$f":"IF(CY495=\"\",0,CY495)","v":0},{"$f":"IF(CZ495=\"\",0,CZ495)","v":0},{"$f":"IF(DA495=\"\",0,DA495)","v":0},{"$f":"IF(DB495=\"\",0,DB495)","v":0},{"$f":"IF(DC495=\"\",0,DC495)","v":0},{"$f":"IF(DD495=\"\",0,DD495)","v":0},{"$f":"IF(DE495=\"\",0,DE495)","v":0},{"$f":"IF(DF495=\"\",0,DF495)","v":0},{"$f":"IF(DG495=\"\",0,DG495)","v":0},{"$f":"IF(DH495=\"\",0,DH495)","v":0},{"$f":"IF(DI495=\"\",0,DI495)","v":0},{"$f":"IF(DJ495=\"\",0,DJ495)","v":0},{"$f":"IF(DK495=\"\",0,DK495)","v":0},{"$f":"IF(DL495=\"\",0,DL495)","v":0},{"$f":"IF(DM495=\"\",0,DM495)","v":0},{"$f":"IF(DN495=\"\",0,DN495)","v":0},{"$f":"IF(DO495=\"\",0,DO495)","v":0},{"$f":"IF(DP495=\"\",0,DP495)","v":0},{"$f":"IF(DQ495=\"\",0,DQ495)","v":0},{"$f":"IF(DR495=\"\",0,DR495)","v":0},{"$f":"IF(DS495=\"\",0,DS495)","v":0},{"$f":"IF(DT495=\"\",0,DT495)","v":0},{"$f":"IF(DU495=\"\",0,DU495)","v":0},{"$f":"IF(DV495=\"\",0,DV495)","v":0},{"$f":"IF(DW495=\"\",0,DW495)","v":0},{"$f":"IF(DX495=\"\",0,DX495)","v":0},{"$f":"IF(DY495=\"\",0,DY495)","v":0},{"$f":"IF(DZ495=\"\",0,DZ495)","v":0},{"$f":"IF(EA495=\"\",0,EA495)","v":0},{"$f":"IF(EB495=\"\",0,EB495)","v":0},{"$f":"IF(EC495=\"\",0,EC495)","v":0},{"$f":"IF(ED495=\"\",0,ED495)","v":0}]
[null,"314f","     Alternative fossil and mixed fuels"]
[null,"314g",null,"other fossil based wastes and mixed fuels","[GJ/t]",null,{"$f":"IF(BV497=\"\",0,BV497)","v":0},0,0,0,0,0,0,0,0,0,0,0,0,0,0,0,0,0,0,0,0,0,0,0,0,0,0,0,0,{"$f":"IF(CY497=\"\",0,CY497)","v":0},{"$f":"IF(CZ497=\"\",0,CZ497)","v":0},{"$f":"IF(DA497=\"\",0,DA497)","v":0},{"$f":"IF(DB497=\"\",0,DB497)","v":0},{"$f":"IF(DC497=\"\",0,DC497)","v":0},{"$f":"IF(DD497=\"\",0,DD497)","v":0},{"$f":"IF(DE497=\"\",0,DE497)","v":0},{"$f":"IF(DF497=\"\",0,DF497)","v":0},{"$f":"IF(DG497=\"\",0,DG497)","v":0},{"$f":"IF(DH497=\"\",0,DH497)","v":0},{"$f":"IF(DI497=\"\",0,DI497)","v":0},{"$f":"IF(DJ497=\"\",0,DJ497)","v":0},{"$f":"IF(DK497=\"\",0,DK497)","v":0},{"$f":"IF(DL497=\"\",0,DL497)","v":0},{"$f":"IF(DM497=\"\",0,DM497)","v":0},{"$f":"IF(DN497=\"\",0,DN497)","v":0},{"$f":"IF(DO497=\"\",0,DO497)","v":0},{"$f":"IF(DP497=\"\",0,DP497)","v":0},{"$f":"IF(DQ497=\"\",0,DQ497)","v":0},{"$f":"IF(DR497=\"\",0,DR497)","v":0},{"$f":"IF(DS497=\"\",0,DS497)","v":0},{"$f":"IF(DT497=\"\",0,DT497)","v":0},{"$f":"IF(DU497=\"\",0,DU497)","v":0},{"$f":"IF(DV497=\"\",0,DV497)","v":0},{"$f":"IF(DW497=\"\",0,DW497)","v":0},{"$f":"IF(DX497=\"\",0,DX497)","v":0},{"$f":"IF(DY497=\"\",0,DY497)","v":0},{"$f":"IF(DZ497=\"\",0,DZ497)","v":0},{"$f":"IF(EA497=\"\",0,EA497)","v":0},{"$f":"IF(EB497=\"\",0,EB497)","v":0},{"$f":"IF(EC497=\"\",0,EC497)","v":0},{"$f":"IF(ED497=\"\",0,ED497)","v":0}]
[null,"314h","     Alternative biomass fuels"]
[null,"314e",null,"other biomass","[GJ/t]",null,{"$f":"IF(BV499=\"\",0,BV499)","v":0},0,0,0,0,0,0,0,0,0,0,0,0,0,0,0,0,0,0,0,0,0,0,0,0,0,0,0,0,{"$f":"IF(CY499=\"\",0,CY499)","v":0},{"$f":"IF(CZ499=\"\",0,CZ499)","v":0},{"$f":"IF(DA499=\"\",0,DA499)","v":0},{"$f":"IF(DB499=\"\",0,DB499)","v":0},{"$f":"IF(DC499=\"\",0,DC499)","v":0},{"$f":"IF(DD499=\"\",0,DD499)","v":0},{"$f":"IF(DE499=\"\",0,DE499)","v":0},{"$f":"IF(DF499=\"\",0,DF499)","v":0},{"$f":"IF(DG499=\"\",0,DG499)","v":0},{"$f":"IF(DH499=\"\",0,DH499)","v":0},{"$f":"IF(DI499=\"\",0,DI499)","v":0},{"$f":"IF(DJ499=\"\",0,DJ499)","v":0},{"$f":"IF(DK499=\"\",0,DK499)","v":0},{"$f":"IF(DL499=\"\",0,DL499)","v":0},{"$f":"IF(DM499=\"\",0,DM499)","v":0},{"$f":"IF(DN499=\"\",0,DN499)","v":0},{"$f":"IF(DO499=\"\",0,DO499)","v":0},{"$f":"IF(DP499=\"\",0,DP499)","v":0},{"$f":"IF(DQ499=\"\",0,DQ499)","v":0},{"$f":"IF(DR499=\"\",0,DR499)","v":0},{"$f":"IF(DS499=\"\",0,DS499)","v":0},{"$f":"IF(DT499=\"\",0,DT499)","v":0},{"$f":"IF(DU499=\"\",0,DU499)","v":0},{"$f":"IF(DV499=\"\",0,DV499)","v":0},{"$f":"IF(DW499=\"\",0,DW499)","v":0},{"$f":"IF(DX499=\"\",0,DX499)","v":0},{"$f":"IF(DY499=\"\",0,DY499)","v":0},{"$f":"IF(DZ499=\"\",0,DZ499)","v":0},{"$f":"IF(EA499=\"\",0,EA499)","v":0},{"$f":"IF(EB499=\"\",0,EB499)","v":0},{"$f":"IF(EC499=\"\",0,EC499)","v":0},{"$f":"IF(ED499=\"\",0,ED499)","v":0}]
[]
[null,"Non-Kiln Fuel Consumption in terajoules (TJ) per year",null,null,null,null,{"$f":"G$7","v":1990},1991,1992,1993,1994,1995,1996,1997,1998,1999,2000,2001,2002,2003,2004,2005,2006,2007,2008,2009,2010,2011,2012,2013,2014,2015,2016,2017,2018,2019,2020,2021,2022,2023,2024,2025,2026,2027,2028,2029,2030,2031,2032,2033,2034,2035,2036,2037,2038,2039,2040,2041,2042,2043,2044,2045,2046,2047,2048,2049,2050]
[null,321,"Equipment and On-Site Vehicles fossil fuels",null,"[TJ/yr]",null,{"$f":"IF(COUNTBLANK(G503:G505)=3,\"\",SUM(G503:G505))","v":0},0,0,0,0,0,0,0,0,0,0,0,0,0,0,0,0,0,0,0,0,0,0,0,0,0,0,0,0,0,0,0,0,0,0,{"$f":"IF(COUNTBLANK(AP503:AP505)=3,\"\",SUM(AP503:AP505))","v":0},0,0,0,0,0,0,0,0,0,0,0,0,0,0,0,0,0,0,0,0,0,0,0,0,0]
[null,"321a",null,"diesel oil","[TJ/yr]",null,{"$f":"IF(G431=\"\",\"\",G431*G467/1000)","v":0},0,0,0,0,0,0,0,0,0,0,0,0,0,0,0,0,0,0,0,0,0,0,0,0,0,0,0,0,0,0,0,0,0,0,{"$f":"IF(AP431=\"\",\"\",AP431*AP467/1000)","v":0},0,0,0,0,0,0,0,0,0,0,0,0,0,0,0,0,0,0,0,0,0,0,0,0,0]
[null,"321b",null,"gasoline","[TJ/yr]",null,{"$f":"IF(G432=\"\",\"\",G432*G468/1000)","v":0},0,0,0,0,0,0,0,0,0,0,0,0,0,0,0,0,0,0,0,0,0,0,0,0,0,0,0,0,0,0,0,0,0,0,{"$f":"IF(AP432=\"\",\"\",AP432*AP468/1000)","v":0},0,0,0,0,0,0,0,0,0,0,0,0,0,0,0,0,0,0,0,0,0,0,0,0,0]
[null,"321ba",null,"other fossil fuels","[TJ/yr]",null,{"$f":"IF(G433=\"\",\"\",G433*G469/1000)","v":0},0,0,0,0,0,0,0,0,0,0,0,0,0,0,0,0,0,0,0,0,0,0,0,0,0,0,0,0,0,0,0,0,0,0,{"$f":"IF(AP433=\"\",\"\",AP433*AP469/1000)","v":0},0,0,0,0,0,0,0,0,0,0,0,0,0,0,0,0,0,0,0,0,0,0,0,0,0]
[null,"321c","Equipment and On-Site Vehicles fuels (containing biomass)",null,"[TJ/yr]",null,{"$f":"G507","v":0},0,0,0,0,0,0,0,0,0,0,0,0,0,0,0,0,0,0,0,0,0,0,0,0,0,0,0,0,0,0,0,0,0,0,0,0,0,0,0,0,0,0,0,0,0,0,0,0,0,0,0,0,0,0,0,0,0,0,0,0]
[null,"321d",null,"bio and mixed diesel ","[TJ/yr]",null,{"$f":"IF(G435=\"\",\"\",G435*G471/1000)","v":0},0,0,0,0,0,0,0,0,0,0,0,0,0,0,0,0,0,0,0,0,0,0,0,0,0,0,0,0,0,0,0,0,0,0,{"$f":"IF(AP435=\"\",\"\",AP435*AP471/1000)","v":0},0,0,0,0,0,0,0,0,0,0,0,0,0,0,0,0,0,0,0,0,0,0,0,0,0]
[null,322,"Room Heating and Cooling",null,"[TJ/yr]",null,{"$f":"IF(COUNTBLANK(G509:G511)=3,\"\",SUM(G509:G511))","v":0},0,0,0,0,0,0,0,0,0,0,0,0,0,0,0,0,0,0,0,0,0,0,0,0,0,0,0,0,0,0,0,0,0,0,{"$f":"IF(COUNTBLANK(AP509:AP511)=3,\"\",SUM(AP509:AP511))","v":0},0,0,0,0,0,0,0,0,0,0,0,0,0,0,0,0,0,0,0,0,0,0,0,0,0]
[null,"322a",null,"diesel oil","[TJ/yr]",null,{"$f":"IF(G437=\"\",\"\",G437*G473/1000)","v":0},0,0,0,0,0,0,0,0,0,0,0,0,0,0,0,0,0,0,0,0,0,0,0,0,0,0,0,0,0,0,0,0,0,0,{"$f":"IF(AP437=\"\",\"\",AP437*AP473/1000)","v":0},0,0,0,0,0,0,0,0,0,0,0,0,0,0,0,0,0,0,0,0,0,0,0,0,0]
[null,"322b",null,"natural gas","[TJ/yr]",null,{"$f":"IF(G438=\"\",\"\",G438*G474/1000)","v":0},0,0,0,0,0,0,0,0,0,0,0,0,0,0,0,0,0,0,0,0,0,0,0,0,0,0,0,0,0,0,0,0,0,0,{"$f":"IF(AP438=\"\",\"\",AP438*AP474/1000)","v":0},0,0,0,0,0,0,0,0,0,0,0,0,0,0,0,0,0,0,0,0,0,0,0,0,0]
[null,"322c",null,"other fossil fuels","[TJ/yr]",null,{"$f":"IF(G439=\"\",\"\",G439*G475/1000)","v":0},0,0,0,0,0,0,0,0,0,0,0,0,0,0,0,0,0,0,0,0,0,0,0,0,0,0,0,0,0,0,0,0,0,0,{"$f":"IF(AP439=\"\",\"\",AP439*AP475/1000)","v":0},0,0,0,0,0,0,0,0,0,0,0,0,0,0,0,0,0,0,0,0,0,0,0,0,0]
[null,323,"Drying of mineral components"]
[null,"323k","     Conventional fossil fuels",null,"[TJ/yr]",null,{"$f":"IF(COUNTBLANK(G514:G519)=6,\"\",SUM(G514:G519))","v":0},0,0,0,0,0,0,0,0,0,0,0,0,0,0,0,0,0,0,0,0,0,0,0,0,0,0,0,0,0,0,0,0,0,0,{"$f":"IF(COUNTBLANK(AP514:AP519)=6,\"\",SUM(AP514:AP519))","v":0},0,0,0,0,0,0,0,0,0,0,0,0,0,0,0,0,0,0,0,0,0,0,0,0,0]
[null,"323a",null,"coal + anthracite + lignite","[TJ/yr]",null,{"$f":"IF(G442=\"\",\"\",G442*G478/1000)","v":0},0,0,0,0,0,0,0,0,0,0,0,0,0,0,0,0,0,0,0,0,0,0,0,0,0,0,0,0,0,0,0,0,0,0,{"$f":"IF(AP442=\"\",\"\",AP442*AP478/1000)","v":0},0,0,0,0,0,0,0,0,0,0,0,0,0,0,0,0,0,0,0,0,0,0,0,0,0]
[null,"323b",null,"petrol coke","[TJ/yr]",null,{"$f":"IF(G443=\"\",\"\",G443*G479/1000)","v":0},0,0,0,0,0,0,0,0,0,0,0,0,0,0,0,0,0,0,0,0,0,0,0,0,0,0,0,0,0,0,0,0,0,0,{"$f":"IF(AP443=\"\",\"\",AP443*AP479/1000)","v":0},0,0,0,0,0,0,0,0,0,0,0,0,0,0,0,0,0,0,0,0,0,0,0,0,0]
[null,"323c",null,"(ultra) heavy fuel","[TJ/yr]",null,{"$f":"IF(G444=\"\",\"\",G444*G480/1000)","v":0},0,0,0,0,0,0,0,0,0,0,0,0,0,0,0,0,0,0,0,0,0,0,0,0,0,0,0,0,0,0,0,0,0,0,{"$f":"IF(AP444=\"\",\"\",AP444*AP480/1000)","v":0},0,0,0,0,0,0,0,0,0,0,0,0,0,0,0,0,0,0,0,0,0,0,0,0,0]
[null,"323d",null,"diesel oil","[TJ/yr]",null,{"$f":"IF(G445=\"\",\"\",G445*G481/1000)","v":0},0,0,0,0,0,0,0,0,0,0,0,0,0,0,0,0,0,0,0,0,0,0,0,0,0,0,0,0,0,0,0,0,0,0,{"$f":"IF(AP445=\"\",\"\",AP445*AP481/1000)","v":0},0,0,0,0,0,0,0,0,0,0,0,0,0,0,0,0,0,0,0,0,0,0,0,0,0]
[null,"323e",null,"natural gas ","[TJ/yr]",null,{"$f":"IF(G446=\"\",\"\",G446*G482/1000)","v":0},0,0,0,0,0,0,0,0,0,0,0,0,0,0,0,0,0,0,0,0,0,0,0,0,0,0,0,0,0,0,0,0,0,0,{"$f":"IF(AP446=\"\",\"\",AP446*AP482/1000)","v":0},0,0,0,0,0,0,0,0,0,0,0,0,0,0,0,0,0,0,0,0,0,0,0,0,0]
[null,"323f",null,"shale","[TJ/yr]",null,{"$f":"IF(G447=\"\",\"\",G447*G483/1000)","v":0},0,0,0,0,0,0,0,0,0,0,0,0,0,0,0,0,0,0,0,0,0,0,0,0,0,0,0,0,0,0,0,0,0,0,{"$f":"IF(AP447=\"\",\"\",AP447*AP483/1000)","v":0},0,0,0,0,0,0,0,0,0,0,0,0,0,0,0,0,0,0,0,0,0,0,0,0,0]
[null,"323g","     Alternative fossil and mixed fuels",null,"[TJ/yr]",null,{"$f":"G521","v":0},0,0,0,0,0,0,0,0,0,0,0,0,0,0,0,0,0,0,0,0,0,0,0,0,0,0,0,0,0,0,0,0,0,0,0,0,0,0,0,0,0,0,0,0,0,0,0,0,0,0,0,0,0,0,0,0,0,0,0,0]
[null,"323h",null,"other fossil based wastes and mixed fuels","[TJ/yr]",null,{"$f":"IF(G449=\"\",\"\",G449*G485/1000)","v":0},0,0,0,0,0,0,0,0,0,0,0,0,0,0,0,0,0,0,0,0,0,0,0,0,0,0,0,0,0,0,0,0,0,0,{"$f":"IF(AP449=\"\",\"\",AP449*AP485/1000)","v":0},0,0,0,0,0,0,0,0,0,0,0,0,0,0,0,0,0,0,0,0,0,0,0,0,0]
[null,"323i","     Alternative biomass fuels",null,"[TJ/yr]",null,{"$f":"G523","v":0},0,0,0,0,0,0,0,0,0,0,0,0,0,0,0,0,0,0,0,0,0,0,0,0,0,0,0,0,0,0,0,0,0,0,0,0,0,0,0,0,0,0,0,0,0,0,0,0,0,0,0,0,0,0,0,0,0,0,0,0]
[null,"323j",null,"other biomass","[TJ/yr]",null,{"$f":"IF(G451=\"\",\"\",G451*G487/1000)","v":0},0,0,0,0,0,0,0,0,0,0,0,0,0,0,0,0,0,0,0,0,0,0,0,0,0,0,0,0,0,0,0,0,0,0,{"$f":"IF(AP451=\"\",\"\",AP451*AP487/1000)","v":0},0,0,0,0,0,0,0,0,0,0,0,0,0,0,0,0,0,0,0,0,0,0,0,0,0]
[null,324,"On-site power generation"]
[null,"324aa","     Conventional fossil fuels",null,"[TJ/yr]",null,{"$f":"IF(COUNTBLANK(G526:G531)=6,\"\",SUM(G526:G531))","v":0},0,0,0,0,0,0,0,0,0,0,0,0,0,0,0,0,0,0,0,0,0,0,0,0,0,0,0,0,0,0,0,0,0,0,{"$f":"IF(COUNTBLANK(AP526:AP531)=6,\"\",SUM(AP526:AP531))","v":0},0,0,0,0,0,0,0,0,0,0,0,0,0,0,0,0,0,0,0,0,0,0,0,0,0]
[null,"324a",null,"coal + anthracite + lignite","[TJ/yr]",null,{"$f":"IF(G454=\"\",\"\",G454*G490/1000)","v":0},0,0,0,0,0,0,0,0,0,0,0,0,0,0,0,0,0,0,0,0,0,0,0,0,0,0,0,0,0,0,0,0,0,0,{"$f":"IF(AP454=\"\",\"\",AP454*AP490/1000)","v":0},0,0,0,0,0,0,0,0,0,0,0,0,0,0,0,0,0,0,0,0,0,0,0,0,0]
[null,"324b",null,"(ultra) heavy fuel","[TJ/yr]",null,{"$f":"IF(G455=\"\",\"\",G455*G491/1000)","v":0},0,0,0,0,0,0,0,0,0,0,0,0,0,0,0,0,0,0,0,0,0,0,0,0,0,0,0,0,0,0,0,0,0,0,{"$f":"IF(AP455=\"\",\"\",AP455*AP491/1000)","v":0},0,0,0,0,0,0,0,0,0,0,0,0,0,0,0,0,0,0,0,0,0,0,0,0,0]
[null,"324c",null,"diesel oil","[TJ/yr]",null,{"$f":"IF(G456=\"\",\"\",G456*G492/1000)","v":0},0,0,0,0,0,0,0,0,0,0,0,0,0,0,0,0,0,0,0,0,0,0,0,0,0,0,0,0,0,0,0,0,0,0,{"$f":"IF(AP456=\"\",\"\",AP456*AP492/1000)","v":0},0,0,0,0,0,0,0,0,0,0,0,0,0,0,0,0,0,0,0,0,0,0,0,0,0]
[null,"324d",null,"natural gas ","[TJ/yr]",null,{"$f":"IF(G457=\"\",\"\",G457*G493/1000)","v":0},0,0,0,0,0,0,0,0,0,0,0,0,0,0,0,0,0,0,0,0,0,0,0,0,0,0,0,0,0,0,0,0,0,0,{"$f":"IF(AP457=\"\",\"\",AP457*AP493/1000)","v":0},0,0,0,0,0,0,0,0,0,0,0,0,0,0,0,0,0,0,0,0,0,0,0,0,0]
[null,"324i",null,"petrol coke","[TJ/yr]",null,{"$f":"IF(G458=\"\",\"\",G458*G494/1000)","v":0},0,0,0,0,0,0,0,0,0,0,0,0,0,0,0,0,0,0,0,0,0,0,0,0,0,0,0,0,0,0,0,0,0,0,{"$f":"IF(AP458=\"\",\"\",AP458*AP494/1000)","v":0},0,0,0,0,0,0,0,0,0,0,0,0,0,0,0,0,0,0,0,0,0,0,0,0,0]
[null,"324j",null,"other fossil fuels","[TJ/yr]",null,{"$f":"IF(G459=\"\",\"\",G459*G495/1000)","v":0},0,0,0,0,0,0,0,0,0,0,0,0,0,0,0,0,0,0,0,0,0,0,0,0,0,0,0,0,0,0,0,0,0,0,{"$f":"IF(AP459=\"\",\"\",AP459*AP495/1000)","v":0},0,0,0,0,0,0,0,0,0,0,0,0,0,0,0,0,0,0,0,0,0,0,0,0,0]
[null,"324f","     Alternative fossil and mixed fuels",null,"[TJ/yr]",null,{"$f":"G533","v":0},0,0,0,0,0,0,0,0,0,0,0,0,0,0,0,0,0,0,0,0,0,0,0,0,0,0,0,0,0,0,0,0,0,0,0,0,0,0,0,0,0,0,0,0,0,0,0,0,0,0,0,0,0,0,0,0,0,0,0,0]
[null,"324g",null,"other fossil based wastes and mixed fuels","[TJ/yr]",null,{"$f":"IF(G461=\"\",\"\",G461*G497/1000)","v":0},0,0,0,0,0,0,0,0,0,0,0,0,0,0,0,0,0,0,0,0,0,0,0,0,0,0,0,0,0,0,0,0,0,0,{"$f":"IF(AP461=\"\",\"\",AP461*AP497/1000)","v":0},0,0,0,0,0,0,0,0,0,0,0,0,0,0,0,0,0,0,0,0,0,0,0,0,0]
[null,"324h","     Alternative biomass fuels",null,"[TJ/yr]",null,{"$f":"G535","v":0},0,0,0,0,0,0,0,0,0,0,0,0,0,0,0,0,0,0,0,0,0,0,0,0,0,0,0,0,0,0,0,0,0,0,0,0,0,0,0,0,0,0,0,0,0,0,0,0,0,0,0,0,0,0,0,0,0,0,0,0]
[null,"324e",null,"other biomass","[TJ/yr]",null,{"$f":"IF(G463=\"\",\"\",G463*G499/1000)","v":0},0,0,0,0,0,0,0,0,0,0,0,0,0,0,0,0,0,0,0,0,0,0,0,0,0,0,0,0,0,0,0,0,0,0,{"$f":"IF(AP463=\"\",\"\",AP463*AP499/1000)","v":0},0,0,0,0,0,0,0,0,0,0,0,0,0,0,0,0,0,0,0,0,0,0,0,0,0]
[]
[null,"CO2 Emissions from Non-Kiln fuels",null,null,null,null,{"$f":"G$7","v":1990},1991,1992,1993,1994,1995,1996,1997,1998,1999,2000,2001,2002,2003,2004,2005,2006,2007,2008,2009,2010,2011,2012,2013,2014,2015,2016,2017,2018,2019,2020,2021,2022,2023,2024,2025,2026,2027,2028,2029,2030,2031,2032,2033,2034,2035,2036,2037,2038,2039,2040,2041,2042,2043,2044,2045,2046,2047,2048,2049,2050]
[null,331,"Equipment and On-Site Vehicles",null,"[t CO2/yr]",null,{"$f":"IF(COUNTBLANK(G539:G541)=3,\"\",SUM(G539:G541))","v":0},0,0,0,0,0,0,0,0,0,0,0,0,0,0,0,0,0,0,0,0,0,0,0,0,0,0,0,0,0,0,0,0,0,0,{"$f":"IF(COUNTBLANK(AP539:AP541)=3,\"\",SUM(AP539:AP541))","v":0},0,0,0,0,0,0,0,0,0,0,0,0,0,0,0,0,0,0,0,0,0,0,0,0,0]
[null,"331a",null,"diesel oil (incl. fossil CO2 of mixed diesel)","[t CO2/yr]",null,{"$f":"IF(OR(G503=\"\",G506=\"\"),\"\",G503*G$352+G507*G367*(1-G375))","v":0},0,0,0,0,0,0,0,0,0,0,0,0,0,0,0,0,0,0,0,0,0,0,0,0,0,0,0,0,0,0,0,0,0,0,{"$f":"IF(OR(AP503=\"\",AP506=\"\"),\"\",AP503*AP$352+AP507*AP367*(1-AP375))","v":0},0,0,0,0,0,0,0,0,0,0,0,0,0,0,0,0,0,0,0,0,0,0,0,0,0]
[null,"331b",null,"gasoline","[t CO2/yr]",null,{"$f":"IF(G504=\"\",\"\",G504*G356)","v":0},0,0,0,0,0,0,0,0,0,0,0,0,0,0,0,0,0,0,0,0,0,0,0,0,0,0,0,0,0,0,0,0,0,0,{"$f":"IF(AP504=\"\",\"\",AP504*AP356)","v":0},0,0,0,0,0,0,0,0,0,0,0,0,0,0,0,0,0,0,0,0,0,0,0,0,0]
[null,"331ba",null,"other fossil fuels","[t CO2/yr]",null,{"$f":"IF(G505=\"\",\"\",G505*G$357)","v":0},0,0,0,0,0,0,0,0,0,0,0,0,0,0,0,0,0,0,0,0,0,0,0,0,0,0,0,0,0,0,0,0,0,0,{"$f":"IF(AP505=\"\",\"\",AP505*AP$357)","v":0},0,0,0,0,0,0,0,0,0,0,0,0,0,0,0,0,0,0,0,0,0,0,0,0,0]
[null,"331c","Equipment and On-Site Vehicles biomass fuels",null,"[t CO2/yr]",null,{"$f":"G543","v":0},0,0,0,0,0,0,0,0,0,0,0,0,0,0,0,0,0,0,0,0,0,0,0,0,0,0,0,0,0,0,0,0,0,0,0,0,0,0,0,0,0,0,0,0,0,0,0,0,0,0,0,0,0,0,0,0,0,0,0,0]
[null,"331d",null,"bio diesel (biogenic CO2 of bio or mixed diesel)","[t CO2/yr]",null,{"$f":"IF(G507=\"\",\"\",G507*G367*G375)","v":0},0,0,0,0,0,0,0,0,0,0,0,0,0,0,0,0,0,0,0,0,0,0,0,0,0,0,0,0,0,0,0,0,0,0,{"$f":"IF(AP507=\"\",\"\",AP507*AP367*AP375)","v":0},0,0,0,0,0,0,0,0,0,0,0,0,0,0,0,0,0,0,0,0,0,0,0,0,0]
[null,332,"Room Heating and Cooling",null,"[t CO2/yr]",null,{"$f":"IF(COUNTBLANK(G545:G547)=3,\"\",SUM(G545:G547))","v":0},0,0,0,0,0,0,0,0,0,0,0,0,0,0,0,0,0,0,0,0,0,0,0,0,0,0,0,0,0,0,0,0,0,0,{"$f":"IF(COUNTBLANK(AP545:AP547)=3,\"\",SUM(AP545:AP547))","v":0},0,0,0,0,0,0,0,0,0,0,0,0,0,0,0,0,0,0,0,0,0,0,0,0,0]
[null,"332a",null,"diesel oil","[t CO2/yr]",null,{"$f":"IF(G509=\"\",\"\",G509*G$352)","v":0},0,0,0,0,0,0,0,0,0,0,0,0,0,0,0,0,0,0,0,0,0,0,0,0,0,0,0,0,0,0,0,0,0,0,{"$f":"IF(AP509=\"\",\"\",AP509*AP$352)","v":0},0,0,0,0,0,0,0,0,0,0,0,0,0,0,0,0,0,0,0,0,0,0,0,0,0]
[null,"332b",null,"natural gas","[t CO2/yr]",null,{"$f":"IF(G510=\"\",\"\",G510*G$353)","v":0},0,0,0,0,0,0,0,0,0,0,0,0,0,0,0,0,0,0,0,0,0,0,0,0,0,0,0,0,0,0,0,0,0,0,{"$f":"IF(AP510=\"\",\"\",AP510*AP$353)","v":0},0,0,0,0,0,0,0,0,0,0,0,0,0,0,0,0,0,0,0,0,0,0,0,0,0]
[null,"332c",null,"other fossil fuels","[t CO2/yr]",null,{"$f":"IF(G511=\"\",\"\",G511*G$358)","v":0},0,0,0,0,0,0,0,0,0,0,0,0,0,0,0,0,0,0,0,0,0,0,0,0,0,0,0,0,0,0,0,0,0,0,{"$f":"IF(AP511=\"\",\"\",AP511*AP$358)","v":0},0,0,0,0,0,0,0,0,0,0,0,0,0,0,0,0,0,0,0,0,0,0,0,0,0]
[null,333,"Drying of mineral components"]
[null,"333k","     Conventional fossil fuels",null,"[t CO2/yr]",null,{"$f":"IF(COUNTBLANK(G550:G555)=6,\"\",SUM(G550:G555))","v":0},0,0,0,0,0,0,0,0,0,0,0,0,0,0,0,0,0,0,0,0,0,0,0,0,0,0,0,0,0,0,0,0,0,0,{"$f":"IF(COUNTBLANK(AP550:AP555)=6,\"\",SUM(AP550:AP555))","v":0},0,0,0,0,0,0,0,0,0,0,0,0,0,0,0,0,0,0,0,0,0,0,0,0,0]
[null,"333a",null,"coal + anthracite + lignite","[t CO2/yr]",null,{"$f":"IF(G514=\"\",\"\",G514*G$349)","v":0},0,0,0,0,0,0,0,0,0,0,0,0,0,0,0,0,0,0,0,0,0,0,0,0,0,0,0,0,0,0,0,0,0,0,{"$f":"IF(AP514=\"\",\"\",AP514*AP$349)","v":0},0,0,0,0,0,0,0,0,0,0,0,0,0,0,0,0,0,0,0,0,0,0,0,0,0]
[null,"333b",null,"petrol coke","[t CO2/yr]",null,{"$f":"IF(G515=\"\",\"\",G515*G$350)","v":0},0,0,0,0,0,0,0,0,0,0,0,0,0,0,0,0,0,0,0,0,0,0,0,0,0,0,0,0,0,0,0,0,0,0,{"$f":"IF(AP515=\"\",\"\",AP515*AP$350)","v":0},0,0,0,0,0,0,0,0,0,0,0,0,0,0,0,0,0,0,0,0,0,0,0,0,0]
[null,"333c",null,"(ultra) heavy fuel","[t CO2/yr]",null,{"$f":"IF(G516=\"\",\"\",G516*G$351)","v":0},0,0,0,0,0,0,0,0,0,0,0,0,0,0,0,0,0,0,0,0,0,0,0,0,0,0,0,0,0,0,0,0,0,0,{"$f":"IF(AP516=\"\",\"\",AP516*AP$351)","v":0},0,0,0,0,0,0,0,0,0,0,0,0,0,0,0,0,0,0,0,0,0,0,0,0,0]
[null,"333d",null,"diesel oil","[t CO2/yr]",null,{"$f":"IF(G517=\"\",\"\",G517*G$352)","v":0},0,0,0,0,0,0,0,0,0,0,0,0,0,0,0,0,0,0,0,0,0,0,0,0,0,0,0,0,0,0,0,0,0,0,{"$f":"IF(AP517=\"\",\"\",AP517*AP$352)","v":0},0,0,0,0,0,0,0,0,0,0,0,0,0,0,0,0,0,0,0,0,0,0,0,0,0]
[null,"333e",null,"natural gas ","[t CO2/yr]",null,{"$f":"IF(G518=\"\",\"\",G518*G$353)","v":0},0,0,0,0,0,0,0,0,0,0,0,0,0,0,0,0,0,0,0,0,0,0,0,0,0,0,0,0,0,0,0,0,0,0,{"$f":"IF(AP518=\"\",\"\",AP518*AP$353)","v":0},0,0,0,0,0,0,0,0,0,0,0,0,0,0,0,0,0,0,0,0,0,0,0,0,0]
[null,"333f",null,"shale","[t CO2/yr]",null,{"$f":"IF(G519=\"\",\"\",G519*G$354)","v":0},0,0,0,0,0,0,0,0,0,0,0,0,0,0,0,0,0,0,0,0,0,0,0,0,0,0,0,0,0,0,0,0,0,0,{"$f":"IF(AP519=\"\",\"\",AP519*AP$354)","v":0},0,0,0,0,0,0,0,0,0,0,0,0,0,0,0,0,0,0,0,0,0,0,0,0,0]
[null,"333g","     Alternative fossil fuels - fossil total emissions",null,"[t CO2/yr]",null,{"$f":"G557","v":0},0,0,0,0,0,0,0,0,0,0,0,0,0,0,0,0,0,0,0,0,0,0,0,0,0,0,0,0,0,0,0,0,0,0,0,0,0,0,0,0,0,0,0,0,0,0,0,0,0,0,0,0,0,0,0,0,0,0,0,0]
[null,"333h",null,"other fossil based wastes / fossil content","[t CO2/yr]",null,{"$f":"IF(G521=\"\",\"\",G521*G$368*(1-G376))","v":0},0,0,0,0,0,0,0,0,0,0,0,0,0,0,0,0,0,0,0,0,0,0,0,0,0,0,0,0,0,0,0,0,0,0,{"$f":"IF(AP521=\"\",\"\",AP521*AP$368*(1-AP376))","v":0},0,0,0,0,0,0,0,0,0,0,0,0,0,0,0,0,0,0,0,0,0,0,0,0,0]
[null,"333i","     Alternative biomass fuels - biomass total emissions",null,"[t CO2/yr]",null,{"$f":"G559","v":0},0,0,0,0,0,0,0,0,0,0,0,0,0,0,0,0,0,0,0,0,0,0,0,0,0,0,0,0,0,0,0,0,0,0,0,0,0,0,0,0,0,0,0,0,0,0,0,0,0,0,0,0,0,0,0,0,0,0,0,0]
[null,"333j",null,"other biomass (incl. biomass content of mixed fuels)","[t CO2/yr]",null,{"$f":"IF(G523=\"\",\"\",(G523*G385)+(G521*G368*G376))","v":0},0,0,0,0,0,0,0,0,0,0,0,0,0,0,0,0,0,0,0,0,0,0,0,0,0,0,0,0,0,0,0,0,0,0,{"$f":"IF(AP523=\"\",\"\",(AP523*AP385)+(AP521*AP368*AP376))","v":0},0,0,0,0,0,0,0,0,0,0,0,0,0,0,0,0,0,0,0,0,0,0,0,0,0]
[null,334,"On-site power generation"]
[null,"334aa","     Conventional fossil fuels",null,"[t CO2/yr]",null,{"$f":"IF(COUNTBLANK(G562:G567)=6,\"\",SUM(G562:G567))","v":0},0,0,0,0,0,0,0,0,0,0,0,0,0,0,0,0,0,0,0,0,0,0,0,0,0,0,0,0,0,0,0,0,0,0,{"$f":"IF(COUNTBLANK(AP562:AP567)=6,\"\",SUM(AP562:AP567))","v":0},0,0,0,0,0,0,0,0,0,0,0,0,0,0,0,0,0,0,0,0,0,0,0,0,0]
[null,"334a",null,"coal + anthracite + lignite","[t CO2/yr]",null,{"$f":"IF(G526=\"\",\"\",G526*G$349)","v":0},0,0,0,0,0,0,0,0,0,0,0,0,0,0,0,0,0,0,0,0,0,0,0,0,0,0,0,0,0,0,0,0,0,0,{"$f":"IF(AP526=\"\",\"\",AP526*AP$349)","v":0},0,0,0,0,0,0,0,0,0,0,0,0,0,0,0,0,0,0,0,0,0,0,0,0,0]
[null,"334b",null,"(ultra) heavy fuel","[t CO2/yr]",null,{"$f":"IF(G527=\"\",\"\",G527*G$351)","v":0},0,0,0,0,0,0,0,0,0,0,0,0,0,0,0,0,0,0,0,0,0,0,0,0,0,0,0,0,0,0,0,0,0,0,{"$f":"IF(AP527=\"\",\"\",AP527*AP$351)","v":0},0,0,0,0,0,0,0,0,0,0,0,0,0,0,0,0,0,0,0,0,0,0,0,0,0]
[null,"334c",null,"diesel oil","[t CO2/yr]",null,{"$f":"IF(G528=\"\",\"\",G528*G$352)","v":0},0,0,0,0,0,0,0,0,0,0,0,0,0,0,0,0,0,0,0,0,0,0,0,0,0,0,0,0,0,0,0,0,0,0,{"$f":"IF(AP528=\"\",\"\",AP528*AP$352)","v":0},0,0,0,0,0,0,0,0,0,0,0,0,0,0,0,0,0,0,0,0,0,0,0,0,0]
[null,"334d",null,"natural gas ","[t CO2/yr]",null,{"$f":"IF(G529=\"\",\"\",G529*G$353)","v":0},0,0,0,0,0,0,0,0,0,0,0,0,0,0,0,0,0,0,0,0,0,0,0,0,0,0,0,0,0,0,0,0,0,0,{"$f":"IF(AP529=\"\",\"\",AP529*AP$353)","v":0},0,0,0,0,0,0,0,0,0,0,0,0,0,0,0,0,0,0,0,0,0,0,0,0,0]
[null,"334i",null,"petrol coke","[t CO2/yr]",null,{"$f":"IF(G530=\"\",\"\",G530*G$350)","v":0},0,0,0,0,0,0,0,0,0,0,0,0,0,0,0,0,0,0,0,0,0,0,0,0,0,0,0,0,0,0,0,0,0,0,{"$f":"IF(AP530=\"\",\"\",AP530*AP$350)","v":0},0,0,0,0,0,0,0,0,0,0,0,0,0,0,0,0,0,0,0,0,0,0,0,0,0]
[null,"334j",null,"other fossil fuels","[t CO2/yr]",null,{"$f":"IF(G531=\"\",\"\",G531*G$359)","v":0},0,0,0,0,0,0,0,0,0,0,0,0,0,0,0,0,0,0,0,0,0,0,0,0,0,0,0,0,0,0,0,0,0,0,{"$f":"IF(AP531=\"\",\"\",AP531*AP$359)","v":0},0,0,0,0,0,0,0,0,0,0,0,0,0,0,0,0,0,0,0,0,0,0,0,0,0]
[null,"334f","     Alternative fossil fuels - fossil total emissions",null,"[t CO2/yr]",null,{"$f":"G569","v":0},0,0,0,0,0,0,0,0,0,0,0,0,0,0,0,0,0,0,0,0,0,0,0,0,0,0,0,0,0,0,0,0,0,0,0,0,0,0,0,0,0,0,0,0,0,0,0,0,0,0,0,0,0,0,0,0,0,0,0,0]
[null,"334g",null,"other fossil based wastes / fossil content","[t CO2/yr]",null,{"$f":"IF(G533=\"\",\"\",G533*G$368*(1-G376))","v":0},0,0,0,0,0,0,0,0,0,0,0,0,0,0,0,0,0,0,0,0,0,0,0,0,0,0,0,0,0,0,0,0,0,0,{"$f":"IF(AP533=\"\",\"\",AP533*AP$368*(1-AP376))","v":0},0,0,0,0,0,0,0,0,0,0,0,0,0,0,0,0,0,0,0,0,0,0,0,0,0]
[null,"334h","     Alternative biomass fuels - biomass total emissions",null,"[t CO2/yr]",null,{"$f":"G571","v":0},0,0,0,0,0,0,0,0,0,0,0,0,0,0,0,0,0,0,0,0,0,0,0,0,0,0,0,0,0,0,0,0,0,0,0,0,0,0,0,0,0,0,0,0,0,0,0,0,0,0,0,0,0,0,0,0,0,0,0,0]
[null,"334e",null,"other biomass (incl. biomass content of mixed fuels)","[t CO2/yr]",null,{"$f":"IF(G535=\"\",\"\",(G535*G$385)+(G533*G368*G376))","v":0},0,0,0,0,0,0,0,0,0,0,0,0,0,0,0,0,0,0,0,0,0,0,0,0,0,0,0,0,0,0,0,0,0,0,{"$f":"IF(AP535=\"\",\"\",(AP535*AP$385)+(AP533*AP368*AP376))","v":0},0,0,0,0,0,0,0,0,0,0,0,0,0,0,0,0,0,0,0,0,0,0,0,0,0]

{"sheet":"CalcA1","index":9,"n_rows":54,"n_cols":66,"rows_kept":54,"cut":false,"hidden":true,"merged":[[0,0,0,3]]}
["GCCA (Global Cement and Concret Association)\nCement CO2 and Energy Protocol, Version 3.1, CO2 Emissions and Energy Inventory. \nDeveloped by the WBCSD Cement Sustainability Initiative (CSI) and European Cement Research Academy (ECRA).",null,null,null,"Simple Input Method (A1): Auxiliary Sheet to Calculate CO2 Emission from raw material calcination - Plant Level"]
[]
[null,"Date of latest update",null,null,{"$f":"'Read Me'!B4","v":"2013-12-09"}]
[]
[null,"General Plant Information"]
[null,1,"Plant"]
[null,2,"Company"]
[null,3,"Country"]
[]
[null,"Simple Input Method (A1) loss on ignition (LOI) of consumed raw meal: Instructions for Users",null,null,null,null,null,null,null,null,null,null,null,null,null,"Molecular weights"]
[null,"To calculate CO2 from calcination of raw materials:",null,null,null,null,null,null,null,null,null,null,null,null,null,11,"CaCO3",null,"g/mol",100.0869]
[null,"- Lines 500 to 504 calculate the CO2 emissions from calcination of raw meal (RM) consumed based on the loss on ignitin of the raw meal (LOIRM). ",null,null,null,null,null,null,null,null,null,null,null,null,null,{"$f":"P11+1","v":12},"MgCO3",null,"g/mol",84.313899000000006]
[null,"The determination is based on the amount of raw meal consumed, i.e. the measured amount of kiln feed corrected for dust return, in order to prevent double",null,null,null,null,null,null,null,null,null,null,null,null,null,{"$f":"P12+1","v":13},"CaO",null,"g/mol",56.077399999999997]
[null,"counting of the recycled part of the kiln feed. ",null,null,null,null,null,null,null,null,null,null,null,null,null,{"$f":"P13+1","v":14},"MgO",null,"g/mol",40.304400000000001]
[null,"The simple input method (A1) accounts CO2 emissions from bypass dust leaving the kiln system by assuming its complete calcination."]
[null,"'- Lines 520 to 522 determine the total CO2 emissions from the calcination of raw materials and from their organic carbon content. ",null,null,null,null,null,null,null,null,null,null,null,null,null,{"$f":"P14+1","v":15},"CO2",null,"g/mol",44.009500000000003]
[null,"Residual humidity and the organic carbon content of the raw meal consumed are accounted as part of the LOI of the raw meal. ",null,null,null,null,null,null,null,null,null,null,null,null,null,{"$f":"P16+1","v":16},"Ca",null,"g/mol",40.078000000000003]
[null,"Use the results in lines 525 and 526 as input data for line 34e and line 34f in the plant sheet according to the Simple Input Method (A1)",null,null,null,null,null,null,null,null,null,null,null,null,null,{"$f":"P17+1","v":17},"Mg",null,"g/mol",24.305]
[]
[null,"The simple input method (A1) is in principle based on the determination of the loss on ignition of raw meal (LOIRM, uncalcined). The loss on ignition of the kiln feed (LOIkiln feed) "]
[null,"can be used instead of LOIRM, as long as the dust return is not significantly calcined (degree of calcination: d<5%) and contributes with less then 20% to the amount of kiln feed. "]
[null,"The relative difference between LOIRM and LOIkiln feed should then be <1%. This is normally the case for the dry process with cyclone pre-heaters. "]
[]
[null,"Further instructions are available in the guidance document and the internet manual of the Cement CO2 Protocol."]
[]
[]
[]
[null,"Raw meal",null,null,null,1990,{"$f":"F28+1","v":1991},1992,1993,1994,1995,1996,1997,1998,1999,2000,2001,2002,2003,2004,2005,2006,2007,2008,2009,2010,2011,2012,2013,2014,2015,{"$f":"AE28+1","v":2016},2017,2018,2019,2020,2021,2022,2023,2024,2025,{"$f":"AO28+1","v":2026},{"$f":"AP28+1","v":2027},{"$f":"AQ28+1","v":2028},{"$f":"AR28+1","v":2029},{"$f":"AS28+1","v":2030},{"$f":"AT28+1","v":2031},{"$f":"AU28+1","v":2032},{"$f":"AV28+1","v":2033},{"$f":"AW28+1","v":2034},{"$f":"AX28+1","v":2035},{"$f":"AY28+1","v":2036},{"$f":"AZ28+1","v":2037},{"$f":"BA28+1","v":2038},{"$f":"BB28+1","v":2039},{"$f":"BC28+1","v":2040},{"$f":"BD28+1","v":2041},{"$f":"BE28+1","v":2042},{"$f":"BF28+1","v":2043},{"$f":"BG28+1","v":2044},{"$f":"BH28+1","v":2045},{"$f":"BI28+1","v":2046},{"$f":"BJ28+1","v":2047},{"$f":"BK28+1","v":2048},{"$f":"BL28+1","v":2049},{"$f":"BM28+1","v":2050}]
[null,500,"Kiln feed (dry weight)",null,"[t/yr]"]
[null,501,"Dust return correction of kiln feed",null,"[%, dry weight]"]
[null,502,"Raw meal (RM) loss on ignition (LOIRM)",null,"[%, dry weight]"]
[null,503,"Raw meal consumed = Kiln feed *(1-Dust return correction)",null,"[t/yr]",{"$f":"F29*(1-F30)","v":0},0,0,0,0,0,0,0,0,0,0,0,0,0,0,0,0,0,0,0,0,0,0,0,0,0,{"$f":"AF29*(1-AF30)","v":0},0,0,0,0,0,0,0,0,0,{"$f":"AP29*(1-AP30)","v":0},0,0,0,0,0,0,0,0,0,0,0,0,0,0,0,0,0,0,0,0,0,0,{"$f":"BM29*(1-BM30)","v":0},0]
[null,504,"CO2 amount (LOI raw meal consumed)",null,"[t CO2/yr]",{"$f":"F29*(1-F30)*F31","v":0},0,0,0,0,0,0,0,0,0,0,0,0,0,0,0,0,0,0,0,0,0,0,0,0,0,{"$f":"AF29*(1-AF30)*AF31","v":0},0,0,0,0,0,0,0,0,0,{"$f":"AP29*(1-AP30)*AP31","v":0},0,0,0,0,0,0,0,0,0,0,0,0,0,0,0,0,0,0,0,0,0,0,{"$f":"BM29*(1-BM30)*BM31","v":0},0]
[null,505,"Emission factor of raw meal consumed",null,"[tCO2 /tRM]",{"$f":"IF(F32=0,\"\",F33/F32)","v":""},"","","","","","","","","","","","","","","","","","","","","","","","","",{"$f":"IF(AF32=0,\"\",AF33/AF32)","v":""},"","","","","","","","","",{"$f":"IF(AP32=0,\"\",AP33/AP32)","v":""},"","","","","","","","","","","","","","","","","","","","","","",{"$f":"IF(BM32=0,\"\",BM33/BM32)","v":""},""]
[]
[]
[]
[null,"CKD leaving the kiln system",null,null,null,{"$f":"F$28","v":1990},1991,1992,1993,1994,1995,1996,1997,1998,1999,2000,2001,2002,2003,2004,2005,2006,2007,2008,2009,2010,2011,2012,2013,2014,2015,2016,2017,2018,2019,2020,2021,2022,2023,2024,2025,2026,2027,2028,2029,2030,2031,2032,2033,2034,2035,2036,2037,2038,2039,2040,2041,2042,2043,2044,2045,2046,2047,2048,2049,2050]
[null,510,"CKD leaving the kiln system (dry weight)",null,"[t/yr]"]
[null,511,"CKD loss on ignition (LOICKD)",null,"[%, dry weight]"]
[null,512,"CKD calcination rate d ",null,"[%]",{"$f":"1-((F40*(1-F31))/((1-F40)*F31))","v":{"$error":"#DIV/0!"}},{"$f":"1-((G40*(1-G31))/((1-G40)*G31))","v":{"$error":"#DIV/0!"}},{"$error":"#DIV/0!"},{"$error":"#DIV/0!"},{"$error":"#DIV/0!"},{"$error":"#DIV/0!"},{"$error":"#DIV/0!"},{"$error":"#DIV/0!"},{"$error":"#DIV/0!"},{"$error":"#DIV/0!"},{"$error":"#DIV/0!"},{"$error":"#DIV/0!"},{"$error":"#DIV/0!"},{"$error":"#DIV/0!"},{"$error":"#DIV/0!"},{"$error":"#DIV/0!"},{"$error":"#DIV/0!"},{"$error":"#DIV/0!"},{"$error":"#DIV/0!"},{"$error":"#DIV/0!"},{"$error":"#DIV/0!"},{"$error":"#DIV/0!"},{"$error":"#DIV/0!"},{"$error":"#DIV/0!"},{"$error":"#DIV/0!"},{"$error":"#DIV/0!"},{"$f":"1-((AF40*(1-AF31))/((1-AF40)*AF31))","v":{"$error":"#DIV/0!"}},{"$error":"#DIV/0!"},{"$error":"#DIV/0!"},{"$error":"#DIV/0!"},{"$error":"#DIV/0!"},{"$error":"#DIV/0!"},{"$error":"#DIV/0!"},{"$error":"#DIV/0!"},{"$error":"#DIV/0!"},{"$error":"#DIV/0!"},{"$f":"1-((AP40*(1-AP31))/((1-AP40)*AP31))","v":{"$error":"#DIV/0!"}},{"$error":"#DIV/0!"},{"$error":"#DIV/0!"},{"$error":"#DIV/0!"},{"$error":"#DIV/0!"},{"$error":"#DIV/0!"},{"$error":"#DIV/0!"},{"$error":"#DIV/0!"},{"$error":"#DIV/0!"},{"$error":"#DIV/0!"},{"$error":"#DIV/0!"},{"$error":"#DIV/0!"},{"$error":"#DIV/0!"},{"$error":"#DIV/0!"},{"$error":"#DIV/0!"},{"$error":"#DIV/0!"},{"$error":"#DIV/0!"},{"$error":"#DIV/0!"},{"$error":"#DIV/0!"},{"$error":"#DIV/0!"},{"$error":"#DIV/0!"},{"$error":"#DIV/0!"},{"$error":"#DIV/0!"},{"$f":"1-((BM40*(1-BM31))/((1-BM40)*BM31))","v":{"$error":"#DIV/0!"}},{"$error":"#DIV/0!"}]
[null,513,"Emission factor CKD",null,"[tCO2/tCKD]",{"$f":"F31*F41/(1-F31*F41)","v":{"$error":"#DIV/0!"}},{"$error":"#DIV/0!"},{"$error":"#DIV/0!"},{"$error":"#DIV/0!"},{"$error":"#DIV/0!"},{"$error":"#DIV/0!"},{"$error":"#DIV/0!"},{"$error":"#DIV/0!"},{"$error":"#DIV/0!"},{"$error":"#DIV/0!"},{"$error":"#DIV/0!"},{"$error":"#DIV/0!"},{"$error":"#DIV/0!"},{"$error":"#DIV/0!"},{"$error":"#DIV/0!"},{"$error":"#DIV/0!"},{"$error":"#DIV/0!"},{"$error":"#DIV/0!"},{"$error":"#DIV/0!"},{"$error":"#DIV/0!"},{"$error":"#DIV/0!"},{"$error":"#DIV/0!"},{"$error":"#DIV/0!"},{"$error":"#DIV/0!"},{"$error":"#DIV/0!"},{"$error":"#DIV/0!"},{"$f":"AF31*AF41/(1-AF31*AF41)","v":{"$error":"#DIV/0!"}},{"$error":"#DIV/0!"},{"$error":"#DIV/0!"},{"$error":"#DIV/0!"},{"$error":"#DIV/0!"},{"$error":"#DIV/0!"},{"$error":"#DIV/0!"},{"$error":"#DIV/0!"},{"$error":"#DIV/0!"},{"$error":"#DIV/0!"},{"$f":"AP31*AP41/(1-AP31*AP41)","v":{"$error":"#DIV/0!"}},{"$error":"#DIV/0!"},{"$error":"#DIV/0!"},{"$error":"#DIV/0!"},{"$error":"#DIV/0!"},{"$error":"#DIV/0!"},{"$error":"#DIV/0!"},{"$error":"#DIV/0!"},{"$error":"#DIV/0!"},{"$error":"#DIV/0!"},{"$error":"#DIV/0!"},{"$error":"#DIV/0!"},{"$error":"#DIV/0!"},{"$error":"#DIV/0!"},{"$error":"#DIV/0!"},{"$error":"#DIV/0!"},{"$error":"#DIV/0!"},{"$error":"#DIV/0!"},{"$error":"#DIV/0!"},{"$error":"#DIV/0!"},{"$error":"#DIV/0!"},{"$error":"#DIV/0!"},{"$error":"#DIV/0!"},{"$f":"BM31*BM41/(1-BM31*BM41)","v":{"$error":"#DIV/0!"}},{"$error":"#DIV/0!"}]
[null,514,"CO2 amount of CKD leaving the kiln system",null,"[t CO2/yr]",{"$f":"IF(F39=0,0,F39*F42)","v":0},{"$f":"IF(G39=0,0,G39*G42)","v":0},0,0,0,0,0,0,0,0,0,0,0,0,0,0,0,0,0,0,0,0,0,0,0,0,{"$f":"IF(AF39=0,0,AF39*AF42)","v":0},0,0,0,0,0,0,0,0,0,{"$f":"IF(AP39=0,0,AP39*AP42)","v":0},0,0,0,0,0,0,0,0,0,0,0,0,0,0,0,0,0,0,0,0,0,0,{"$f":"IF(BM39=0,0,BM39*BM42)","v":0},0]
[]
[]
[]
[null,"Absolute CO2 emissions from calcination",null,null,null,{"$f":"F$28","v":1990},1991,1992,1993,1994,1995,1996,1997,1998,1999,2000,2001,2002,2003,2004,2005,2006,2007,2008,2009,2010,2011,2012,2013,2014,2015,2016,2017,2018,2019,2020,2021,2022,2023,2024,2025,2026,2027,2028,2029,2030,2031,2032,2033,2034,2035,2036,2037,2038,2039,2040,2041,2042,2043,2044,2045,2046,2047,2048,2049,2050]
[null,520,"CO2 amount (LOI raw meal consumed, fully calcined clinker and bypass dust)",null,"[t CO2/yr]",{"$f":"F33","v":0},0,0,0,0,0,0,0,0,0,0,0,0,0,0,0,0,0,0,0,0,0,0,0,0,0,{"$f":"AF33","v":0},0,0,0,0,0,0,0,0,0,{"$f":"AP33","v":0},0,0,0,0,0,0,0,0,0,0,0,0,0,0,0,0,0,0,0,0,0,0,{"$f":"BM33","v":0},0]
[null,521,"CO2 amount of CKD leaving the kiln system",null,"[t CO2/yr]",{"$f":"F43","v":0},0,0,0,0,0,0,0,0,0,0,0,0,0,0,0,0,0,0,0,0,0,0,0,0,0,{"$f":"AF43","v":0},0,0,0,0,0,0,0,0,0,{"$f":"AP43","v":0},0,0,0,0,0,0,0,0,0,0,0,0,0,0,0,0,0,0,0,0,0,0,{"$f":"BM43","v":0},0]
[null,522,"Total CO2 from raw materials (including CKD leaving the kiln system and organic carbon content)",null,"[t CO2/yr]",{"$f":"SUM(F48:F49)","v":0},0,0,0,0,0,0,0,0,0,0,0,0,0,0,0,0,0,0,0,0,0,0,0,0,0,{"$f":"SUM(AF48:AF49)","v":0},0,0,0,0,0,0,0,0,0,{"$f":"SUM(AP48:AP49)","v":0},0,0,0,0,0,0,0,0,0,0,0,0,0,0,0,0,0,0,0,0,0,0,{"$f":"SUM(BM48:BM49)","v":0},0]
[]
[null,"Data Simple Input Method (A1)"]
[null,525,"Output CalcA1: Raw meal consumption  (=Plant sheet lines 34e)",null,"[t/yr]",{"$f":"F32","v":0},0,0,0,0,0,0,0,0,0,0,0,0,0,0,0,0,0,0,0,0,0,0,0,0,0,{"$f":"AF32","v":0},0,0,0,0,0,0,0,0,0,{"$f":"AP32","v":0},0,0,0,0,0,0,0,0,0,0,0,0,0,0,0,0,0,0,0,0,0,0,{"$f":"BM32","v":0},0]
[null,526,"Output CalcA1: Total CO2 from raw materials (=Plant sheet line 34f)",null,"[t CO2/yr]",{"$f":"F50","v":0},0,0,0,0,0,0,0,0,0,0,0,0,0,0,0,0,0,0,0,0,0,0,0,0,0,{"$f":"AF50","v":0},0,0,0,0,0,0,0,0,0,{"$f":"AP50","v":0},0,0,0,0,0,0,0,0,0,0,0,0,0,0,0,0,0,0,0,0,0,0,{"$f":"BM50","v":0},0]

{"sheet":"CalcA2","index":10,"n_rows":131,"n_cols":66,"rows_kept":131,"cut":false,"hidden":true,"merged":[[0,0,0,3]]}
["GCCA (Global Cement and Concret Association)\nCement CO2 and Energy Protocol, Version 3.1, CO2 Emissions and Energy Inventory. \nDeveloped by the WBCSD Cement Sustainability Initiative (CSI) and European Cement Research Academy (ECRA).",null,null,null,"Detailed Input Method (A2): Auxiliary Sheet to Calculate CO2 Emission from raw material calcination - Plant Level"]
[]
[null,"Date of latest update",null,null,{"$f":"'Read Me'!B4","v":"2013-12-09"}]
[]
[null,"General Plant Information"]
[null,1,"Plant"]
[null,2,"Company"]
[null,3,"Country"]
[]
[null,"Detailed Input Method (A2) Input CO2 balance: Instructions for Users. ",null,null,null,null,null,null,null,null,null,null,null,null,null,"Molecular weights"]
[null,"To calculate CO2 from calcination of raw materials:",null,null,null,null,null,null,null,null,null,null,null,null,null,11,"CaCO3",null,"g/mol",100.0869]
[null,"- Lines 600 to 604 calculate the calcination of raw meal consumed based on a CO2 content of the raw meal (fCO2RM). ",null,null,null,null,null,null,null,null,null,null,null,null,null,{"$f":"P11+1","v":12},"MgCO3",null,"g/mol",84.313899000000006]
[null,"The determination is based on the amount of raw meal consumed, i.e. the measured amount of kiln feed corrected for dust return, in order to prevent double",null,null,null,null,null,null,null,null,null,null,null,null,null,{"$f":"P12+1","v":13},"CaO",null,"g/mol",56.077399999999997]
[null,"counting of the recycled part of the kiln feed.",null,null,null,null,null,null,null,null,null,null,null,null,null,{"$f":"P13+1","v":14},"MgO",null,"g/mol",40.304400000000001]
[null,"The complete CO2 content of the raw meal must be determined, e.g. from total carbon (TC) analysis (or CO2 IR-analysis of the gases released from the heated and fully oxidised sample)."]
[null,"- Lines 671 to 676 determine the total CO2 emissions from the calcination of raw materials and from their organic carbon content. ",null,null,null,null,null,null,null,null,null,null,null,null,null,{"$f":"P14+1","v":15},"CO2",null,"g/mol",44.009500000000003]
[null,null,null,null,null,null,null,null,null,null,null,null,null,null,null,{"$f":"P16+1","v":16},"Ca",null,"g/mol",40.078000000000003]
[null,"Use lines 681 and 682 as input data for line 34i and line 34j in the plant sheet according to the detailed input Method (A2).",null,null,null,null,null,null,null,null,null,null,null,null,null,{"$f":"P17+1","v":17},"Mg",null,"g/mol",24.305]
[]
[null,"The detailed input method A2 is in principle based on the CO2 content of raw meal (fCO2RM, uncalcined). Instead of fCO2RM the CO2 content of the kiln feed (fCO2kiln feed) can be used, if it is demonstrated, "]
[null,"that no systematic difference exist between both parameters and that the complete CO2 emissions are reported, with regard to the limits of accuracy and practicality. "]
[]
[null,"The CO2 emissions from the total inorganic carbon content (TIC) of the input materials (raw meal and additional raw materials) and CKD and bypass dust leaving the kiln system "]
[null,"can alternatively be determined from CaCO3 and MgCO3 analysis. In this case the CO2 emissions from the organic carbon content (TOC) of the input materials consumed "]
[null,"must be added for determining the values for lines 602, 611, 614, 617, etc. in order to account the complete CO2 content (CO2 from total carbon content TC = TIC+TOC). "]
[]
[null,"The resulting ‘Total CO2 from raw materials’ in line 676 should in any case account CO2 emissions from the inorganic and organic carbon content of raw materials according to the detailed input method (A2)."]
[]
[null,"If additional raw materials (ARM, not part of the kiln feed) are used in the kiln, the CO2 emissions from their inorganic and organic carbon content (TIC+TOC) "]
[null,"should be accounted by determining the complete CO2 content and filling lines 610 to 639 as appropriate."]
[null,"As for raw meal, the complete CO2 content can be determined e.g. from total carbon (TC) analysis (or CO2 IR-analysis of the gases released from the heated and fully oxidised sample)."]
[null,"An alternative method of accounting of CO2 emissions from additional raw materials with very high organic carbon content (TOC) is described in the guidance document."]
[]
[null,"Further instructions are available in the Guidance Document and the Internet Manual of the Cement CO2 and Energy Protocol."]
[]
[]
[]
[null,"Raw meal",null,null,null,1990,{"$f":"F38+1","v":1991},1992,1993,1994,1995,1996,1997,1998,1999,2000,2001,2002,2003,2004,2005,2006,2007,2008,2009,2010,2011,2012,2013,2014,2015,{"$f":"AE38+1","v":2016},2017,2018,2019,2020,2021,2022,2023,2024,2025,{"$f":"AO38+1","v":2026},{"$f":"AP38+1","v":2027},{"$f":"AQ38+1","v":2028},{"$f":"AR38+1","v":2029},{"$f":"AS38+1","v":2030},{"$f":"AT38+1","v":2031},{"$f":"AU38+1","v":2032},{"$f":"AV38+1","v":2033},{"$f":"AW38+1","v":2034},{"$f":"AX38+1","v":2035},{"$f":"AY38+1","v":2036},{"$f":"AZ38+1","v":2037},{"$f":"BA38+1","v":2038},{"$f":"BB38+1","v":2039},{"$f":"BC38+1","v":2040},{"$f":"BD38+1","v":2041},{"$f":"BE38+1","v":2042},{"$f":"BF38+1","v":2043},{"$f":"BG38+1","v":2044},{"$f":"BH38+1","v":2045},{"$f":"BI38+1","v":2046},{"$f":"BJ38+1","v":2047},{"$f":"BK38+1","v":2048},{"$f":"BL38+1","v":2049},2050]
[null,600,"Kiln feed",null,"[t/yr, dry weight]"]
[null,601,"Dust return correction of kiln feed ",null,"[%, dry weight]"]
[null,602,"Raw meal CO2 content (fCO2RM)",null,"[%, dry weight]"]
[null,603,"Raw meal consumed = Kiln feed *(1-Dust return correction)",null,"[t/yr]",{"$f":"F39*(1-F40)","v":0},0,0,0,0,0,0,0,0,0,0,0,0,0,0,0,0,0,0,0,0,0,0,0,0,0,{"$f":"AF39*(1-AF40)","v":0},0,0,0,0,0,0,0,0,0,{"$f":"AP39*(1-AP40)","v":0},0,0,0,0,0,0,0,0,0,0,0,0,0,0,0,0,0,0,0,0,0,0,0,0]
[null,604,"CO2 amount (CO2 of raw meal consumed)",null,"[t CO2/yr]",{"$f":"F42*F41","v":0},0,0,0,0,0,0,0,0,0,0,0,0,0,0,0,0,0,0,0,0,0,0,0,0,0,{"$f":"AF42*AF41","v":0},0,0,0,0,0,0,0,0,0,{"$f":"AP42*AP41","v":0},0,0,0,0,0,0,0,0,0,0,0,0,0,0,0,0,0,0,0,0,0,0,0,0]
[null,605,"Emission factor of raw meal consumed",null,"[tCO2/tRM]",{"$f":"IF(F42=0,\"\",F43/F42)","v":""},"","","","","","","","","","","","","","","","","","","","","","","","","",{"$f":"IF(AF42=0,\"\",AF43/AF42)","v":""},"","","","","","","","","",{"$f":"IF(AP42=0,\"\",AP43/AP42)","v":""},"","","","","","","","","","","","","","","","","","","","","","","",""]
[]
[]
[]
[null,"Additional raw material  # 1 (not part of kiln feed)",null,null,null,{"$f":"F$38","v":1990},1991,1992,1993,1994,1995,1996,1997,1998,1999,2000,2001,2002,2003,2004,2005,2006,2007,2008,2009,2010,2011,2012,2013,2014,2015,2016,2017,2018,2019,2020,2021,2022,2023,2024,2025,2026,2027,2028,2029,2030,2031,2032,2033,2034,2035,2036,2037,2038,2039,2040,2041,2042,2043,2044,2045,2046,2047,2048,2049,2050]
[null,610,"Additional raw material (ARM)",null,"[t/yr, dry weight]"]
[null,611,"ARM CO2 content",null,"[%, dry weight]"]
[null,612,"ARM CO2 amount",null,"[t CO2/yr]",{"$f":"F49*F50","v":0},0,0,0,0,0,0,0,0,0,0,0,0,0,0,0,0,0,0,0,0,0,0,0,0,0,{"$f":"AF49*AF50","v":0},0,0,0,0,0,0,0,0,0,{"$f":"AP49*AP50","v":0},0,0,0,0,0,0,0,0,0,0,0,0,0,0,0,0,0,0,0,0,0,0,0,0]
[]
[null,"Additional raw material  # 2 (not part of kiln feed)",null,null,null,{"$f":"F$38","v":1990},1991,1992,1993,1994,1995,1996,1997,1998,1999,2000,2001,2002,2003,2004,2005,2006,2007,2008,2009,2010,2011,2012,2013,2014,2015,2016,2017,2018,2019,2020,2021,2022,2023,2024,2025,2026,2027,2028,2029,2030,2031,2032,2033,2034,2035,2036,2037,2038,2039,2040,2041,2042,2043,2044,2045,2046,2047,2048,2049,2050]
[null,{"$f":"B49+3","v":613},"Additional raw material (ARM)",null,"[t/yr, dry weight]"]
[null,{"$f":"B50+3","v":614},"ARM CO2 content",null,"[%, dry weight]"]
[null,{"$f":"B51+3","v":615},"ARM CO2 amount",null,"[t CO2/yr]",{"$f":"F54*F55","v":0},0,0,0,0,0,0,0,0,0,0,0,0,0,0,0,0,0,0,0,0,0,0,0,0,0,{"$f":"AF54*AF55","v":0},0,0,0,0,0,0,0,0,0,{"$f":"AP54*AP55","v":0},0,0,0,0,0,0,0,0,0,0,0,0,0,0,0,0,0,0,0,0,0,0,0,0]
[]
[null,"Additional raw material  # 3 (not part of kiln feed)",null,null,null,{"$f":"F$38","v":1990},1991,1992,1993,1994,1995,1996,1997,1998,1999,2000,2001,2002,2003,2004,2005,2006,2007,2008,2009,2010,2011,2012,2013,2014,2015,2016,2017,2018,2019,2020,2021,2022,2023,2024,2025,2026,2027,2028,2029,2030,2031,2032,2033,2034,2035,2036,2037,2038,2039,2040,2041,2042,2043,2044,2045,2046,2047,2048,2049,2050]
[null,{"$f":"B54+3","v":616},"Additional raw material (ARM)",null,"[t/yr, dry weight]"]
[null,{"$f":"B55+3","v":617},"ARM CO2 content",null,"[%, dry weight]"]
[null,{"$f":"B56+3","v":618},"ARM CO2 amount",null,"[t CO2/yr]",{"$f":"F59*F60","v":0},0,0,0,0,0,0,0,0,0,0,0,0,0,0,0,0,0,0,0,0,0,0,0,0,0,{"$f":"AF59*AF60","v":0},0,0,0,0,0,0,0,0,0,{"$f":"AP59*AP60","v":0},0,0,0,0,0,0,0,0,0,0,0,0,0,0,0,0,0,0,0,0,0,0,0,0]
[]
[null,"Additional raw material  # 4 (not part of kiln feed)",null,null,null,{"$f":"F$38","v":1990},1991,1992,1993,1994,1995,1996,1997,1998,1999,2000,2001,2002,2003,2004,2005,2006,2007,2008,2009,2010,2011,2012,2013,2014,2015,2016,2017,2018,2019,2020,2021,2022,2023,2024,2025,2026,2027,2028,2029,2030,2031,2032,2033,2034,2035,2036,2037,2038,2039,2040,2041,2042,2043,2044,2045,2046,2047,2048,2049,2050]
[null,{"$f":"B59+3","v":619},"Additional raw material (ARM)",null,"[t/yr, dry weight]"]
[null,{"$f":"B60+3","v":620},"ARM CO2 content",null,"[%, dry weight]"]
[null,{"$f":"B61+3","v":621},"ARM CO2 amount",null,"[t CO2/yr]",{"$f":"F64*F65","v":0},0,0,0,0,0,0,0,0,0,0,0,0,0,0,0,0,0,0,0,0,0,0,0,0,0,{"$f":"AF64*AF65","v":0},0,0,0,0,0,0,0,0,0,{"$f":"AP64*AP65","v":0},0,0,0,0,0,0,0,0,0,0,0,0,0,0,0,0,0,0,0,0,0,0,0,0]
[]
[null,"Additional raw material  # 5 (not part of kiln feed)",null,null,null,{"$f":"F$38","v":1990},1991,1992,1993,1994,1995,1996,1997,1998,1999,2000,2001,2002,2003,2004,2005,2006,2007,2008,2009,2010,2011,2012,2013,2014,2015,2016,2017,2018,2019,2020,2021,2022,2023,2024,2025,2026,2027,2028,2029,2030,2031,2032,2033,2034,2035,2036,2037,2038,2039,2040,2041,2042,2043,2044,2045,2046,2047,2048,2049,2050]
[null,{"$f":"B64+3","v":622},"Additional raw material (ARM)",null,"[t/yr, dry weight]"]
[null,{"$f":"B65+3","v":623},"ARM CO2 content",null,"[%, dry weight]"]
[null,{"$f":"B66+3","v":624},"ARM CO2 amount",null,"[t CO2/yr]",{"$f":"F69*F70","v":0},0,0,0,0,0,0,0,0,0,0,0,0,0,0,0,0,0,0,0,0,0,0,0,0,0,{"$f":"AF69*AF70","v":0},0,0,0,0,0,0,0,0,0,{"$f":"AP69*AP70","v":0},0,0,0,0,0,0,0,0,0,0,0,0,0,0,0,0,0,0,0,0,0,0,0,0]
[]
[null,"Additional raw material  # 6 (not part of kiln feed)",null,null,null,{"$f":"F$38","v":1990},1991,1992,1993,1994,1995,1996,1997,1998,1999,2000,2001,2002,2003,2004,2005,2006,2007,2008,2009,2010,2011,2012,2013,2014,2015,2016,2017,2018,2019,2020,2021,2022,2023,2024,2025,2026,2027,2028,2029,2030,2031,2032,2033,2034,2035,2036,2037,2038,2039,2040,2041,2042,2043,2044,2045,2046,2047,2048,2049,2050]
[null,{"$f":"B69+3","v":625},"Additional raw material (ARM)",null,"[t/yr, dry weight]"]
[null,{"$f":"B70+3","v":626},"ARM CO2 content",null,"[%, dry weight]"]
[null,{"$f":"B71+3","v":627},"ARM CO2 amount",null,"[t CO2/yr]",{"$f":"F74*F75","v":0},0,0,0,0,0,0,0,0,0,0,0,0,0,0,0,0,0,0,0,0,0,0,0,0,0,{"$f":"AF74*AF75","v":0},0,0,0,0,0,0,0,0,0,{"$f":"AP74*AP75","v":0},0,0,0,0,0,0,0,0,0,0,0,0,0,0,0,0,0,0,0,0,0,0,0,0]
[]
[null,"Additional raw material  # 7 (not part of kiln feed)",null,null,null,{"$f":"F$38","v":1990},1991,1992,1993,1994,1995,1996,1997,1998,1999,2000,2001,2002,2003,2004,2005,2006,2007,2008,2009,2010,2011,2012,2013,2014,2015,2016,2017,2018,2019,2020,2021,2022,2023,2024,2025,2026,2027,2028,2029,2030,2031,2032,2033,2034,2035,2036,2037,2038,2039,2040,2041,2042,2043,2044,2045,2046,2047,2048,2049,2050]
[null,{"$f":"B74+3","v":628},"Additional raw material (ARM)",null,"[t/yr, dry weight]"]
[null,{"$f":"B75+3","v":629},"ARM CO2 content",null,"[%, dry weight]"]
[null,{"$f":"B76+3","v":630},"ARM CO2 amount",null,"[t CO2/yr]",{"$f":"F79*F80","v":0},0,0,0,0,0,0,0,0,0,0,0,0,0,0,0,0,0,0,0,0,0,0,0,0,0,{"$f":"AF79*AF80","v":0},0,0,0,0,0,0,0,0,0,{"$f":"AP79*AP80","v":0},0,0,0,0,0,0,0,0,0,0,0,0,0,0,0,0,0,0,0,0,0,0,0,0]
[]
[null,"Additional raw material  # 8 (not part of kiln feed)",null,null,null,{"$f":"F$38","v":1990},1991,1992,1993,1994,1995,1996,1997,1998,1999,2000,2001,2002,2003,2004,2005,2006,2007,2008,2009,2010,2011,2012,2013,2014,2015,2016,2017,2018,2019,2020,2021,2022,2023,2024,2025,2026,2027,2028,2029,2030,2031,2032,2033,2034,2035,2036,2037,2038,2039,2040,2041,2042,2043,2044,2045,2046,2047,2048,2049,2050]
[null,{"$f":"B79+3","v":631},"Additional raw material (ARM)",null,"[t/yr, dry weight]"]
[null,{"$f":"B80+3","v":632},"ARM CO2 content",null,"[%, dry weight]"]
[null,{"$f":"B81+3","v":633},"ARM CO2 amount",null,"[t CO2/yr]",{"$f":"F84*F85","v":0},0,0,0,0,0,0,0,0,0,0,0,0,0,0,0,0,0,0,0,0,0,0,0,0,0,{"$f":"AF84*AF85","v":0},0,0,0,0,0,0,0,0,0,{"$f":"AP84*AP85","v":0},0,0,0,0,0,0,0,0,0,0,0,0,0,0,0,0,0,0,0,0,0,0,0,0]
[]
[null,"Additional raw material  # 9 (not part of kiln feed)",null,null,null,{"$f":"F$38","v":1990},1991,1992,1993,1994,1995,1996,1997,1998,1999,2000,2001,2002,2003,2004,2005,2006,2007,2008,2009,2010,2011,2012,2013,2014,2015,2016,2017,2018,2019,2020,2021,2022,2023,2024,2025,2026,2027,2028,2029,2030,2031,2032,2033,2034,2035,2036,2037,2038,2039,2040,2041,2042,2043,2044,2045,2046,2047,2048,2049,2050]
[null,{"$f":"B84+3","v":634},"Additional raw material (ARM)",null,"[t/yr, dry weight]"]
[null,{"$f":"B85+3","v":635},"ARM CO2 content",null,"[%, dry weight]"]
[null,{"$f":"B86+3","v":636},"ARM CO2 amount",null,"[t CO2/yr]",{"$f":"F89*F90","v":0},0,0,0,0,0,0,0,0,0,0,0,0,0,0,0,0,0,0,0,0,0,0,0,0,0,{"$f":"AF89*AF90","v":0},0,0,0,0,0,0,0,0,0,{"$f":"AP89*AP90","v":0},0,0,0,0,0,0,0,0,0,0,0,0,0,0,0,0,0,0,0,0,0,0,0,0]
[]
[null,"Additional raw material  # 10 (not part of kiln feed)",null,null,null,{"$f":"F$38","v":1990},1991,1992,1993,1994,1995,1996,1997,1998,1999,2000,2001,2002,2003,2004,2005,2006,2007,2008,2009,2010,2011,2012,2013,2014,2015,2016,2017,2018,2019,2020,2021,2022,2023,2024,2025,2026,2027,2028,2029,2030,2031,2032,2033,2034,2035,2036,2037,2038,2039,2040,2041,2042,2043,2044,2045,2046,2047,2048,2049,2050]
[null,{"$f":"B89+3","v":637},"Additional raw material (ARM)",null,"[t/yr, dry weight]"]
[null,{"$f":"B90+3","v":638},"ARM CO2 content",null,"[%, dry weight]"]
[null,{"$f":"B91+3","v":639},"ARM CO2 amount",null,"[t CO2/yr]",{"$f":"F94*F95","v":0},0,0,0,0,0,0,0,0,0,0,0,0,0,0,0,0,0,0,0,0,0,0,0,0,0,{"$f":"AF94*AF95","v":0},0,0,0,0,0,0,0,0,0,{"$f":"AP94*AP95","v":0},0,0,0,0,0,0,0,0,0,0,0,0,0,0,0,0,0,0,0,0,0,0,0,0]
[null,"add additional raw material types, which are not part of the kiln feed, by pressing '+' on the left margin"]
[]
[]
[]
[null,"Bypass dust correction for uncalcined fraction",null,null,null,{"$f":"F$38","v":1990},1991,1992,1993,1994,1995,1996,1997,1998,1999,2000,2001,2002,2003,2004,2005,2006,2007,2008,2009,2010,2011,2012,2013,2014,2015,2016,2017,2018,2019,2020,2021,2022,2023,2024,2025,2026,2027,2028,2029,2030,2031,2032,2033,2034,2035,2036,2037,2038,2039,2040,2041,2042,2043,2044,2045,2046,2047,2048,2049,2050]
[null,650,"Bypass dust leaving the kiln system",null,"[t/yr, dry weight]"]
[null,651,"Bypass dust CO2 content",null,"[%, dry weight]"]
[null,652,"Correction for uncalcined fraction of Bypass dust (residual CO2 content)",null,"[t CO2/yr]",{"$f":"F102*F103","v":0},0,0,0,0,0,0,0,0,0,0,0,0,0,0,0,0,0,0,0,0,0,0,0,0,0,{"$f":"AF102*AF103","v":0},0,0,0,0,0,0,0,0,0,{"$f":"AP102*AP103","v":0},0,0,0,0,0,0,0,0,0,0,0,0,0,0,0,0,0,0,0,0,0,0,0,0]
[]
[null,"CKD leaving the kiln system",null,null,null,{"$f":"F$38","v":1990},1991,1992,1993,1994,1995,1996,1997,1998,1999,2000,2001,2002,2003,2004,2005,2006,2007,2008,2009,2010,2011,2012,2013,2014,2015,2016,2017,2018,2019,2020,2021,2022,2023,2024,2025,2026,2027,2028,2029,2030,2031,2032,2033,2034,2035,2036,2037,2038,2039,2040,2041,2042,2043,2044,2045,2046,2047,2048,2049,2050]
[null,655,"CKD leaving the kiln system",null,"[t/yr, dry weight]"]
[null,656,"CKD CO2 content (fCO2CKD)",null,"[%, dry weight]"]
[null,657,"d (CKD calcination rate)",null,"[%]",{"$f":"1-((F108*(1-F41))/((1-F108)*F41))","v":{"$error":"#DIV/0!"}},{"$error":"#DIV/0!"},{"$error":"#DIV/0!"},{"$error":"#DIV/0!"},{"$error":"#DIV/0!"},{"$error":"#DIV/0!"},{"$error":"#DIV/0!"},{"$error":"#DIV/0!"},{"$error":"#DIV/0!"},{"$error":"#DIV/0!"},{"$error":"#DIV/0!"},{"$error":"#DIV/0!"},{"$error":"#DIV/0!"},{"$error":"#DIV/0!"},{"$error":"#DIV/0!"},{"$error":"#DIV/0!"},{"$error":"#DIV/0!"},{"$error":"#DIV/0!"},{"$error":"#DIV/0!"},{"$error":"#DIV/0!"},{"$error":"#DIV/0!"},{"$error":"#DIV/0!"},{"$error":"#DIV/0!"},{"$error":"#DIV/0!"},{"$error":"#DIV/0!"},{"$error":"#DIV/0!"},{"$f":"1-((AF108*(1-AF41))/((1-AF108)*AF41))","v":{"$error":"#DIV/0!"}},{"$error":"#DIV/0!"},{"$error":"#DIV/0!"},{"$error":"#DIV/0!"},{"$error":"#DIV/0!"},{"$error":"#DIV/0!"},{"$error":"#DIV/0!"},{"$error":"#DIV/0!"},{"$error":"#DIV/0!"},{"$error":"#DIV/0!"},{"$f":"1-((AP108*(1-AP41))/((1-AP108)*AP41))","v":{"$error":"#DIV/0!"}},{"$error":"#DIV/0!"},{"$error":"#DIV/0!"},{"$error":"#DIV/0!"},{"$error":"#DIV/0!"},{"$error":"#DIV/0!"},{"$error":"#DIV/0!"},{"$error":"#DIV/0!"},{"$error":"#DIV/0!"},{"$error":"#DIV/0!"},{"$error":"#DIV/0!"},{"$error":"#DIV/0!"},{"$error":"#DIV/0!"},{"$error":"#DIV/0!"},{"$error":"#DIV/0!"},{"$error":"#DIV/0!"},{"$error":"#DIV/0!"},{"$error":"#DIV/0!"},{"$error":"#DIV/0!"},{"$error":"#DIV/0!"},{"$error":"#DIV/0!"},{"$error":"#DIV/0!"},{"$error":"#DIV/0!"},{"$error":"#DIV/0!"},{"$error":"#DIV/0!"}]
[null,658,"Emission Factor CKD",null,"[tCO2/tCKD]",{"$f":"F41*F109/(1-F41*F109)","v":{"$error":"#DIV/0!"}},{"$error":"#DIV/0!"},{"$error":"#DIV/0!"},{"$error":"#DIV/0!"},{"$error":"#DIV/0!"},{"$error":"#DIV/0!"},{"$error":"#DIV/0!"},{"$error":"#DIV/0!"},{"$error":"#DIV/0!"},{"$error":"#DIV/0!"},{"$error":"#DIV/0!"},{"$error":"#DIV/0!"},{"$error":"#DIV/0!"},{"$error":"#DIV/0!"},{"$error":"#DIV/0!"},{"$error":"#DIV/0!"},{"$error":"#DIV/0!"},{"$error":"#DIV/0!"},{"$error":"#DIV/0!"},{"$error":"#DIV/0!"},{"$error":"#DIV/0!"},{"$error":"#DIV/0!"},{"$error":"#DIV/0!"},{"$error":"#DIV/0!"},{"$error":"#DIV/0!"},{"$error":"#DIV/0!"},{"$f":"AF41*AF109/(1-AF41*AF109)","v":{"$error":"#DIV/0!"}},{"$error":"#DIV/0!"},{"$error":"#DIV/0!"},{"$error":"#DIV/0!"},{"$error":"#DIV/0!"},{"$error":"#DIV/0!"},{"$error":"#DIV/0!"},{"$error":"#DIV/0!"},{"$error":"#DIV/0!"},{"$error":"#DIV/0!"},{"$f":"AP41*AP109/(1-AP41*AP109)","v":{"$error":"#DIV/0!"}},{"$error":"#DIV/0!"},{"$error":"#DIV/0!"},{"$error":"#DIV/0!"},{"$error":"#DIV/0!"},{"$error":"#DIV/0!"},{"$error":"#DIV/0!"},{"$error":"#DIV/0!"},{"$error":"#DIV/0!"},{"$error":"#DIV/0!"},{"$error":"#DIV/0!"},{"$error":"#DIV/0!"},{"$error":"#DIV/0!"},{"$error":"#DIV/0!"},{"$error":"#DIV/0!"},{"$error":"#DIV/0!"},{"$error":"#DIV/0!"},{"$error":"#DIV/0!"},{"$error":"#DIV/0!"},{"$error":"#DIV/0!"},{"$error":"#DIV/0!"},{"$error":"#DIV/0!"},{"$error":"#DIV/0!"},{"$error":"#DIV/0!"},{"$error":"#DIV/0!"}]
[null,659,"CO2 amount of CKD leaving the kiln system",null,"[t CO2/yr]",{"$f":"IF(F107=0,0,F107*F110)","v":0},{"$f":"IF(G107=0,0,G107*G110)","v":0},0,0,0,0,0,0,0,0,0,0,0,0,0,0,0,0,0,0,0,0,0,0,0,0,{"$f":"IF(AF107=0,0,AF107*AF110)","v":0},0,0,0,0,0,0,0,0,0,{"$f":"IF(AP107=0,0,AP107*AP110)","v":0},0,0,0,0,0,0,0,0,0,0,0,0,0,0,0,0,0,0,0,0,0,0,0,0]
[]
[]
[]
[null,"Total of additional raw materials (not part of kiln feed)",null,null,null,{"$f":"F$38","v":1990},1991,1992,1993,1994,1995,1996,1997,1998,1999,2000,2001,2002,2003,2004,2005,2006,2007,2008,2009,2010,2011,2012,2013,2014,2015,2016,2017,2018,2019,2020,2021,2022,2023,2024,2025,2026,2027,2028,2029,2030,2031,2032,2033,2034,2035,2036,2037,2038,2039,2040,2041,2042,2043,2044,2045,2046,2047,2048,2049,2050]
[null,665,"Additional raw materials (ARM)",null,"[t/yr, dry weight]",{"$f":"SUM(F49,F54,F59,F64,F69,F74,F79,F84,F89,F94)","v":0},0,0,0,0,0,0,0,0,0,0,0,0,0,0,0,0,0,0,0,0,0,0,0,0,0,{"$f":"SUM(AF49,AF54,AF59,AF64,AF69,AF74,AF79,AF84,AF89,AF94)","v":0},0,0,0,0,0,0,0,0,0,{"$f":"SUM(AP49,AP54,AP59,AP64,AP69,AP74,AP79,AP84,AP89,AP94)","v":0},0,0,0,0,0,0,0,0,0,0,0,0,0,0,0,0,0,0,0,0,0,0,0,0]
[null,666,"ARM CO2 content",null,"[%, dry weight]",{"$f":"IF(F116>0,F118/F116,\"\")","v":""},"","","","","","","","","","","","","","","","","","","","","","","","","",{"$f":"IF(AF116>0,AF118/AF116,\"\")","v":""},"","","","","","","","","",{"$f":"IF(AP116>0,AP118/AP116,\"\")","v":""},"","","","","","","","","","","","","","","","","","","","","","","",""]
[null,667,"CO2 amount of additional raw materials",null,"[t CO2/yr]",{"$f":"SUM(F51,F56,F61,F66,F71,F76,F81,F86,F91,F96)","v":0},0,0,0,0,0,0,0,0,0,0,0,0,0,0,0,0,0,0,0,0,0,0,0,0,0,{"$f":"SUM(AF51,AF56,AF61,AF66,AF71,AF76,AF81,AF86,AF91,AF96)","v":0},0,0,0,0,0,0,0,0,0,{"$f":"SUM(AP51,AP56,AP61,AP66,AP71,AP76,AP81,AP86,AP91,AP96)","v":0},0,0,0,0,0,0,0,0,0,0,0,0,0,0,0,0,0,0,0,0,0,0,0,0]
[]
[]
[]
[null,"Absolute CO2 emissions from raw material calcination and organic carbon content",null,null,null,{"$f":"F$38","v":1990},1991,1992,1993,1994,1995,1996,1997,1998,1999,2000,2001,2002,2003,2004,2005,2006,2007,2008,2009,2010,2011,2012,2013,2014,2015,2016,2017,2018,2019,2020,2021,2022,2023,2024,2025,2026,2027,2028,2029,2030,2031,2032,2033,2034,2035,2036,2037,2038,2039,2040,2041,2042,2043,2044,2045,2046,2047,2048,2049,2050]
[null,671,"CO2 amount of raw material consumed",null,"[t CO2/yr]",{"$f":"F43","v":0},0,0,0,0,0,0,0,0,0,0,0,0,0,0,0,0,0,0,0,0,0,0,0,0,0,{"$f":"AF43","v":0},0,0,0,0,0,0,0,0,0,{"$f":"AP43","v":0},0,0,0,0,0,0,0,0,0,0,0,0,0,0,0,0,0,0,0,0,0,0,0,0]
[null,672,"CO2 amount of CKD leaving the kiln system",null,"[t CO2/yr]",{"$f":"F111","v":0},0,0,0,0,0,0,0,0,0,0,0,0,0,0,0,0,0,0,0,0,0,0,0,0,0,{"$f":"AF111","v":0},0,0,0,0,0,0,0,0,0,{"$f":"AP111","v":0},0,0,0,0,0,0,0,0,0,0,0,0,0,0,0,0,0,0,0,0,0,0,0,0]
[null,673,"Correction for uncalcined fraction of bypass dust",null,"[t CO2/yr]",{"$f":"F104","v":0},0,0,0,0,0,0,0,0,0,0,0,0,0,0,0,0,0,0,0,0,0,0,0,0,0,{"$f":"AF104","v":0},0,0,0,0,0,0,0,0,0,{"$f":"AP104","v":0},0,0,0,0,0,0,0,0,0,0,0,0,0,0,0,0,0,0,0,0,0,0,0,0]
[null,674,"CO2 amount of additional raw materials",null,"[t CO2/yr]",{"$f":"F118","v":0},0,0,0,0,0,0,0,0,0,0,0,0,0,0,0,0,0,0,0,0,0,0,0,0,0,{"$f":"AF118","v":0},0,0,0,0,0,0,0,0,0,{"$f":"AP118","v":0},0,0,0,0,0,0,0,0,0,0,0,0,0,0,0,0,0,0,0,0,0,0,0,0]
[null,676,"Total CO2 from raw materials (including CKD leaving the kiln system and organic carbon content)",null,"[t CO2/yr]",{"$f":"IF(F123>0,F123+F124-F125+F126,\"\")","v":""},"","","","","","","","","","","","","","","","","","","","","","","","","",{"$f":"IF(AF123>0,AF123+AF124-AF125+AF126,\"\")","v":""},"","","","","","","","","",{"$f":"IF(AP123>0,AP123+AP124-AP125+AP126,\"\")","v":""},"","","","","","","","","","","","","","","","","","","","","","","",""]
[]
[null,"Data Detailed Input Method (A2)"]
[null,681,"Output CalcA2: Raw meal consumption (=Plant sheet lines 34i)",null,"[t/yr]",{"$f":"F42","v":0},0,0,0,0,0,0,0,0,0,0,0,0,0,0,0,0,0,0,0,0,0,0,0,0,0,{"$f":"AF42","v":0},0,0,0,0,0,0,0,0,0,{"$f":"AP42","v":0},0,0,0,0,0,0,0,0,0,0,0,0,0,0,0,0,0,0,0,0,0,0,0,0]
[null,682,"Output CalcA2: Total CO2 from raw materials (=Plant sheet line 34j)",null,"[t CO2/yr]",{"$f":"F127","v":""},"","","","","","","","","","","","","","","","","","","","","","","","","",{"$f":"AF127","v":""},"","","","","","","","","",{"$f":"AP127","v":""},"","","","","","","","","","","","","","","","","","","","","","","",""]

{"sheet":"CalcB2","index":11,"n_rows":112,"n_cols":66,"rows_kept":112,"cut":false,"hidden":true,"merged":[[108,2,108,3],[0,0,0,3],[111,2,111,3]]}
["GCCA (Global Cement and Concret Association)\nCement CO2 and Energy Protocol, Version 3.1, CO2 Emissions and Energy Inventory. \nDeveloped by the WBCSD Cement Sustainability Initiative (CSI) and European Cement Research Academy (ECRA).",null,null,null,"Detailed Output Method (B2) Auxiliary Sheet to Calculate corrrected CO2 Emission Factor for Raw Material Calcination - Plant Level"]
[]
[null,"Date of latest update",null,null,{"$f":"'Read Me'!B4","v":"2013-12-09"}]
[]
[null,"General Plant Information"]
[null,1,"Plant"]
[null,2,"Company"]
[null,3,"Country"]
[]
[null,"Detailed Output Method (B2) corrected calcination CO2 emission factor: Instructions for Users",null,null,null,null,null,null,null,null,null,null,null,null,null,"Molecular weights"]
[null,"To calculate CO2 from calcination of raw materials:",null,null,null,null,null,null,null,null,null,null,null,null,null,11,"CaCO3",null,"g/mol",100.0869]
[null,"- Lines 700-734 calculate the amount of CaO and MgO that is contained in the clinker. Data filled in must cover ALL clinker produced, to ensure completeness.",null,null,null,null,null,null,null,null,null,null,null,null,null,{"$f":"P11+1","v":12},"MgCO3",null,"g/mol",84.313899000000006]
[null,"- Lines 740-774 calculate the amount of CaO and MgO in the clinker which stems from non-carbonate sources. Only pre-calcined raw materials entering the kiln (e.g., fly ash, slag) ",null,null,null,null,null,null,null,null,null,null,null,null,null,13,"CaO",null,"g/mol",56.077399999999997]
[null,"   and raw natural materials with relevant content of non-carbonate CaO and MgO must be reported here. Recycled dust should not be counted.",null,null,null,null,null,null,null,null,null,null,null,null,null,14,"MgO",null,"g/mol",40.304400000000001]
[null,"- Lines 780-804 calculate the amount of Ca and Mg in the clinker which stems from silicate sources. Only raw materials entering the kiln and raw materials with relevant ",null,null,null,null,null,null,null,null,null,null,null,null,null,15,"CO2",null,"g/mol",44.009500000000003]
[null,"   content of Ca-silicate and Mg-silicate must be reported here. Recycled dust should not be counted.",null,null,null,null,null,null,null,null,null,null,null,null,null,16,"Ca",null,"g/mol",40.078000000000003]
[null,"- Lines 810-813 automatically calculate the CO2 emissions based on the amounts of CaO and MgO found in clinker and correct them for non-carbonate and silicate sources of CaO and MgO.",null,null,null,null,null,null,null,null,null,null,null,null,null,17,"Mg",null,"g/mol",24.305]
[null,"Use line 820 as input data in the plant sheet according to the Detailed Output Method (B2)"]
[]
[null,"In case that raw material inputs contain significant amounts of carbonates other than CaCO3, MgCO3 and CaMg(CO3)2, such as e.g. FeCO3, MnCO3, Na2CO3, K2CO3,"]
[null,"then a CO2 equivalent should be added to the MgO content for the CO2 emissions from calcination of these carbonates in order to assure complete reporting of CO2 emissions."]
[]
[]
["Clinker production and composition"]
[]
[null,"Clinker # 1",null,null,null,1990,{"$f":"F26+1","v":1991},1992,1993,1994,1995,1996,1997,1998,1999,2000,2001,2002,2003,2004,2005,2006,2007,2008,2009,2010,2011,2012,2013,2014,2015,{"$f":"AE26+1","v":2016},2017,2018,2019,2020,2021,2022,2023,2024,2025,{"$f":"AO26+1","v":2026},{"$f":"AP26+1","v":2027},{"$f":"AQ26+1","v":2028},{"$f":"AR26+1","v":2029},{"$f":"AS26+1","v":2030},{"$f":"AT26+1","v":2031},{"$f":"AU26+1","v":2032},{"$f":"AV26+1","v":2033},{"$f":"AW26+1","v":2034},{"$f":"AX26+1","v":2035},{"$f":"AY26+1","v":2036},{"$f":"AZ26+1","v":2037},{"$f":"BA26+1","v":2038},{"$f":"BB26+1","v":2039},{"$f":"BC26+1","v":2040},{"$f":"BD26+1","v":2041},{"$f":"BE26+1","v":2042},{"$f":"BF26+1","v":2043},{"$f":"BG26+1","v":2044},{"$f":"BH26+1","v":2045},{"$f":"BI26+1","v":2046},{"$f":"BJ26+1","v":2047},{"$f":"BK26+1","v":2048},{"$f":"BL26+1","v":2049},{"$f":"BM26+1","v":2050}]
[null,700,"Clinker produced",null,"[t/yr]"]
[null,{"$f":"B27+1","v":701},"CaO content (incl. free lime)",null,"[%]"]
[null,{"$f":"B28+1","v":702},"MgO content",null,"[%]"]
[null,{"$f":"B29+1","v":703},"CaO amount",null,"[t/yr]",{"$f":"F27*F28","v":0},0,0,0,0,0,0,0,0,0,0,0,0,0,0,0,0,0,0,0,0,0,0,0,0,0,{"$f":"AF27*AF28","v":0},0,0,0,0,0,0,0,0,0,{"$f":"AP27*AP28","v":0},0,0,0,0,0,0,0,0,0,0,0,0,0,0,0,0,0,0,0,0,0,0,0,0]
[null,{"$f":"B30+1","v":704},"MgO amount",null,"[t/yr]",{"$f":"F27*F29","v":0},0,0,0,0,0,0,0,0,0,0,0,0,0,0,0,0,0,0,0,0,0,0,0,0,0,{"$f":"AF27*AF29","v":0},0,0,0,0,0,0,0,0,0,{"$f":"AP27*AP29","v":0},0,0,0,0,0,0,0,0,0,0,0,0,0,0,0,0,0,0,0,0,0,0,0,0]
[]
[null,"Clinker # 2",null,null,null,{"$f":"F$26","v":1990},1991,1992,1993,1994,1995,1996,1997,1998,1999,2000,2001,2002,2003,2004,2005,2006,2007,2008,2009,2010,2011,2012,2013,2014,2015,2016,2017,2018,2019,2020,2021,2022,2023,2024,2025,2026,2027,2028,2029,2030,2031,2032,2033,2034,2035,2036,2037,2038,2039,2040,2041,2042,2043,2044,2045,2046,2047,2048,2049,2050]
[null,705,"Clinker produced",null,"[t/yr]"]
[null,{"$f":"B34+1","v":706},"CaO content (incl. free lime)",null,"[%]"]
[null,{"$f":"B35+1","v":707},"MgO content",null,"[%]"]
[null,{"$f":"B36+1","v":708},"CaO amount",null,"[t/yr]",{"$f":"F34*F35","v":0},0,0,0,0,0,0,0,0,0,0,0,0,0,0,0,0,0,0,0,0,0,0,0,0,0,{"$f":"AF34*AF35","v":0},0,0,0,0,0,0,0,0,0,{"$f":"AP34*AP35","v":0},0,0,0,0,0,0,0,0,0,0,0,0,0,0,0,0,0,0,0,0,0,0,0,0]
[null,{"$f":"B37+1","v":709},"MgO amount",null,"[t/yr]",{"$f":"F34*F36","v":0},0,0,0,0,0,0,0,0,0,0,0,0,0,0,0,0,0,0,0,0,0,0,0,0,0,{"$f":"AF34*AF36","v":0},0,0,0,0,0,0,0,0,0,{"$f":"AP34*AP36","v":0},0,0,0,0,0,0,0,0,0,0,0,0,0,0,0,0,0,0,0,0,0,0,0,0]
[]
[null,"(If more than 2 types of clinker are produced, add lines for clinkers #3 - n, and adjust formulae in lines 730, 733 and 734)"]
[]
[null,"Total clinker",null,null,null,{"$f":"F$26","v":1990},1991,1992,1993,1994,1995,1996,1997,1998,1999,2000,2001,2002,2003,2004,2005,2006,2007,2008,2009,2010,2011,2012,2013,2014,2015,2016,2017,2018,2019,2020,2021,2022,2023,2024,2025,2026,2027,2028,2029,2030,2031,2032,2033,2034,2035,2036,2037,2038,2039,2040,2041,2042,2043,2044,2045,2046,2047,2048,2049,2050]
[null,730,"Total clinker produced",null,"[t/yr]",{"$f":"F27+F34","v":0},0,0,0,0,0,0,0,0,0,0,0,0,0,0,0,0,0,0,0,0,0,0,0,0,0,{"$f":"AF27+AF34","v":0},0,0,0,0,0,0,0,0,0,{"$f":"AP27+AP34","v":0},0,0,0,0,0,0,0,0,0,0,0,0,0,0,0,0,0,0,0,0,0,0,0,0]
[null,{"$f":"B43+1","v":731},"Average CaO content (incl. free lime)",null,"[%]",{"$f":"IF(F43=0,0,F46/F43)","v":0},0,0,0,0,0,0,0,0,0,0,0,0,0,0,0,0,0,0,0,0,0,0,0,0,0,{"$f":"IF(AF43=0,0,AF46/AF43)","v":0},0,0,0,0,0,0,0,0,0,{"$f":"IF(AP43=0,0,AP46/AP43)","v":0},0,0,0,0,0,0,0,0,0,0,0,0,0,0,0,0,0,0,0,0,0,0,0,0]
[null,{"$f":"B44+1","v":732},"Average MgO content",null,"[%]",{"$f":"IF(F43=0,0,F47/F43)","v":0},0,0,0,0,0,0,0,0,0,0,0,0,0,0,0,0,0,0,0,0,0,0,0,0,0,{"$f":"IF(AF43=0,0,AF47/AF43)","v":0},0,0,0,0,0,0,0,0,0,{"$f":"IF(AP43=0,0,AP47/AP43)","v":0},0,0,0,0,0,0,0,0,0,0,0,0,0,0,0,0,0,0,0,0,0,0,0,0]
[null,{"$f":"B45+1","v":733},"Total CaO amount",null,"[t/yr]",{"$f":"F30+F37","v":0},0,0,0,0,0,0,0,0,0,0,0,0,0,0,0,0,0,0,0,0,0,0,0,0,0,{"$f":"AF30+AF37","v":0},0,0,0,0,{"$f":"AK30+AK37","v":0},0,0,0,0,{"$f":"AP30+AP37","v":0},0,0,0,0,0,0,0,0,0,0,0,0,0,0,0,0,0,0,0,0,0,0,0,0]
[null,{"$f":"B46+1","v":734},"Total MgO amount",null,"[t/yr]",{"$f":"F31+F38","v":0},0,0,0,0,0,0,0,0,0,0,0,0,0,0,0,0,0,0,0,0,0,0,0,0,0,0,0,0,0,0,0,0,0,0,0,{"$f":"AP31+AP38","v":0},0,0,0,0,0,0,0,0,0,0,0,0,0,0,0,0,0,0,0,0,0,0,0,0]
[]
["Correction for non-carbonate sources of CaO, MgO found in clinker (input of CaO and MgO into kiln, e.g. raw materials which are already calcined)"]
[]
[null,"Raw material # 1",null,null,null,{"$f":"F$26","v":1990},1991,1992,1993,1994,1995,1996,1997,1998,1999,2000,2001,2002,2003,2004,2005,2006,2007,2008,2009,2010,2011,2012,2013,2014,2015,2016,2017,2018,2019,2020,2021,2022,2023,2024,2025,2026,2027,2028,2029,2030,2031,2032,2033,2034,2035,2036,2037,2038,2039,2040,2041,2042,2043,2044,2045,2046,2047,2048,2049,2050]
[null,740,"non-carbonate source in raw material consumed",null,"[t/yr, dry weight]"]
[null,{"$f":"B52+1","v":741},"CaO content",null,"[%, dry weight]"]
[null,{"$f":"B53+1","v":742},"MgO content",null,"[%, dry weight]"]
[null,{"$f":"B54+1","v":743},"CaO amount",null,"[t/yr]",{"$f":"F52*F53","v":0},0,0,0,0,0,0,0,0,0,0,0,0,0,0,0,0,0,0,0,0,0,0,0,0,0,{"$f":"AF52*AF53","v":0},0,0,0,0,0,0,0,0,0,{"$f":"AP52*AP53","v":0},0,0,0,0,0,0,0,0,0,0,0,0,0,0,0,0,0,0,0,0,0,0,0,0]
[null,{"$f":"B55+1","v":744},"MgO amount",null,"[t/yr]",{"$f":"F52*F54","v":0},0,0,0,0,0,0,0,0,0,0,0,0,0,0,0,0,0,0,0,0,0,0,0,0,0,{"$f":"AF52*AF54","v":0},0,0,0,0,0,0,0,0,0,{"$f":"AP52*AP54","v":0},0,0,0,0,0,0,0,0,0,0,0,0,0,0,0,0,0,0,0,0,0,0,0,0]
[]
[null,"Raw material # 2",null,null,null,{"$f":"F$26","v":1990},1991,1992,1993,1994,1995,1996,1997,1998,1999,2000,2001,2002,2003,2004,2005,2006,2007,2008,2009,2010,2011,2012,2013,2014,2015,2016,2017,2018,2019,2020,2021,2022,2023,2024,2025,2026,2027,2028,2029,2030,2031,2032,2033,2034,2035,2036,2037,2038,2039,2040,2041,2042,2043,2044,2045,2046,2047,2048,2049,2050]
[null,745,"non-carbonate source in raw material consumed",null,"[t/yr, dry weight]"]
[null,{"$f":"B59+1","v":746},"CaO content",null,"[%, dry weight]"]
[null,{"$f":"B60+1","v":747},"MgO content",null,"[%, dry weight]"]
[null,{"$f":"B61+1","v":748},"CaO amount",null,"[t/yr]",{"$f":"F59*F60","v":0},0,0,0,0,0,0,0,0,0,0,0,0,0,0,0,0,0,0,0,0,0,0,0,0,0,{"$f":"AF59*AF60","v":0},0,0,0,0,0,0,0,0,0,{"$f":"AP59*AP60","v":0},0,0,0,0,0,0,0,0,0,0,0,0,0,0,0,0,0,0,0,0,0,0,0,0]
[null,{"$f":"B62+1","v":749},"MgO amount",null,"[t/yr]",{"$f":"F59*F61","v":0},0,0,0,0,0,0,0,0,0,0,0,0,0,0,0,0,0,0,0,0,0,0,0,0,0,{"$f":"AF59*AF61","v":0},0,0,0,0,0,0,0,0,0,{"$f":"AP59*AP61","v":0},0,0,0,0,0,0,0,0,0,0,0,0,0,0,0,0,0,0,0,0,0,0,0,0]
[]
[null,"(If more than 2 types of pre-calcined raw materials are consumed, add lines for raw materials #3 - n, and adjust formulae in lines 770, 773 and 774)."]
[]
[null,"Total of raw materials",null,null,null,{"$f":"F$26","v":1990},1991,1992,1993,1994,1995,1996,1997,1998,1999,2000,2001,2002,2003,2004,2005,2006,2007,2008,2009,2010,2011,2012,2013,2014,2015,2016,2017,2018,2019,2020,2021,2022,2023,2024,2025,2026,2027,2028,2029,2030,2031,2032,2033,2034,2035,2036,2037,2038,2039,2040,2041,2042,2043,2044,2045,2046,2047,2048,2049,2050]
[null,770,"Total raw material consumed",null,"[t/yr, dry weight]",{"$f":"F52+F59","v":0},0,0,0,0,0,0,0,0,0,0,0,0,0,0,0,0,0,0,0,0,0,0,0,0,0,{"$f":"AF52+AF59","v":0},0,0,0,0,0,0,0,0,0,{"$f":"AP52+AP59","v":0},0,0,0,0,0,0,0,0,0,0,0,0,0,0,0,0,0,0,0,0,0,0,0,0]
[null,{"$f":"B68+1","v":771},"Average CaO content",null,"[%, dry weight]",{"$f":"IF(F68=0,0,F71/F68)","v":0},0,0,0,0,0,0,0,0,0,0,0,0,0,0,0,0,0,0,0,0,0,0,0,0,0,{"$f":"IF(AF68=0,0,AF71/AF68)","v":0},0,0,0,0,0,0,0,0,0,{"$f":"IF(AP68=0,0,AP71/AP68)","v":0},0,0,0,0,0,0,0,0,0,0,0,0,0,0,0,0,0,0,0,0,0,0,0,0]
[null,{"$f":"B69+1","v":772},"Average MgO content",null,"[%, dry weight]",{"$f":"IF(F68=0,0,F72/F68)","v":0},0,0,0,0,0,0,0,0,0,0,0,0,0,0,0,0,0,0,0,0,0,0,0,0,0,{"$f":"IF(AF68=0,0,AF72/AF68)","v":0},0,0,0,0,0,0,0,0,0,{"$f":"IF(AP68=0,0,AP72/AP68)","v":0},0,0,0,0,0,0,0,0,0,0,0,0,0,0,0,0,0,0,0,0,0,0,0,0]
[null,{"$f":"B70+1","v":773},"Total CaO amount",null,"[t/yr]",{"$f":"F55+F62","v":0},0,0,0,0,0,0,0,0,0,0,0,0,0,0,0,0,0,0,0,0,0,0,0,0,0,{"$f":"AF55+AF62","v":0},0,0,0,0,{"$f":"AK55+AK62","v":0},0,0,0,0,{"$f":"AP55+AP62","v":0},0,0,0,0,0,0,0,0,0,0,0,0,0,0,0,0,0,0,0,0,0,0,0,0]
[null,{"$f":"B71+1","v":774},"Total MgO amount",null,"[t/yr]",{"$f":"F56+F63","v":0},0,0,0,0,0,0,0,0,0,0,0,0,0,0,0,0,0,0,0,0,0,0,0,0,0,0,0,0,0,0,0,0,0,0,0,{"$f":"AP56+AP63","v":0},0,0,0,0,0,0,0,0,0,0,0,0,0,0,0,0,0,0,0,0,0,0,0,0]
[]
["Correction for Ca/Mg-silicate sources in raw materials"]
[]
[null,"Raw material # 1",null,null,null,{"$f":"F$26","v":1990},1991,1992,1993,1994,1995,1996,1997,1998,1999,2000,2001,2002,2003,2004,2005,2006,2007,2008,2009,2010,2011,2012,2013,2014,2015,2016,2017,2018,2019,2020,2021,2022,2023,2024,2025,2026,2027,2028,2029,2030,2031,2032,2033,2034,2035,2036,2037,2038,2039,2040,2041,2042,2043,2044,2045,2046,2047,2048,2049,2050]
[null,780,"Ca/Mg-silicate source Raw material consumed",null,"[t/yr, dry weight]"]
[null,{"$f":"B77+1","v":781},"Ca content of Ca-Silicate raw materials",null,"[%, dry weight]"]
[null,{"$f":"B78+1","v":782},"Mg content of Mg-Silicate raw materials",null,"[%, dry weight]"]
[null,{"$f":"B79+1","v":783},"CaSi amount",null,"[t/yr]",{"$f":"F77*F78","v":0},0,0,0,0,0,0,0,0,0,0,0,0,0,0,0,0,0,0,0,0,0,0,0,0,0,{"$f":"AF77*AF78","v":0},0,0,0,0,0,0,0,0,0,{"$f":"AP77*AP78","v":0},0,0,0,0,0,0,0,0,0,0,0,0,0,0,0,0,0,0,0,0,0,0,0,0]
[null,{"$f":"B80+1","v":784},"MgSi amount",null,"[t/yr]",{"$f":"F77*F79","v":0},0,0,0,0,0,0,0,0,0,0,0,0,0,0,0,0,0,0,0,0,0,0,0,0,0,{"$f":"AF77*AF79","v":0},0,0,0,0,0,0,0,0,0,{"$f":"AP77*AP79","v":0},0,0,0,0,0,0,0,0,0,0,0,0,0,0,0,0,0,0,0,0,0,0,0,0]
[]
[null,"Raw material # 2",null,null,null,{"$f":"F$26","v":1990},1991,1992,1993,1994,1995,1996,1997,1998,1999,2000,2001,2002,2003,2004,2005,2006,2007,2008,2009,2010,2011,2012,2013,2014,2015,2016,2017,2018,2019,2020,2021,2022,2023,2024,2025,2026,2027,2028,2029,2030,2031,2032,2033,2034,2035,2036,2037,2038,2039,2040,2041,2042,2043,2044,2045,2046,2047,2048,2049,2050]
[null,785,"Ca/Mg-silicate source Raw material consumed",null,"[t/yr, dry weight]"]
[null,{"$f":"B84+1","v":786},"Ca content of Ca-Silicate raw materials",null,"[%, dry weight]"]
[null,{"$f":"B85+1","v":787},"Mg content of Mg-Silicate raw materials",null,"[%, dry weight]"]
[null,{"$f":"B86+1","v":788},"Ca amount",null,"[t/yr]",{"$f":"F84*F85","v":0},0,0,0,0,0,0,0,0,0,0,0,0,0,0,0,0,0,0,0,0,0,0,0,0,0,{"$f":"AF84*AF85","v":0},0,0,0,0,0,0,0,0,0,{"$f":"AP84*AP85","v":0},0,0,0,0,0,0,0,0,0,0,0,0,0,0,0,0,0,0,0,0,0,0,0,0]
[null,{"$f":"B87+1","v":789},"Mg amount",null,"[t/yr]",{"$f":"F84*F86","v":0},0,0,0,0,0,0,0,0,0,0,0,0,0,0,0,0,0,0,0,0,0,0,0,0,0,{"$f":"AF84*AF86","v":0},0,0,0,0,0,0,0,0,0,{"$f":"AP84*AP86","v":0},0,0,0,0,0,0,0,0,0,0,0,0,0,0,0,0,0,0,0,0,0,0,0,0]
[]
[null,"(If more than 2 types of pre-calcined raw materials are consumed, add lines for raw materials #3 - n, and adjust formulae in lines 800, 803 and 804)."]
[]
[null,"Total of raw materials",null,null,null,{"$f":"F$26","v":1990},1991,1992,1993,1994,1995,1996,1997,1998,1999,2000,2001,2002,2003,2004,2005,2006,2007,2008,2009,2010,2011,2012,2013,2014,2015,2016,2017,2018,2019,2020,2021,2022,2023,2024,2025,2026,2027,2028,2029,2030,2031,2032,2033,2034,2035,2036,2037,2038,2039,2040,2041,2042,2043,2044,2045,2046,2047,2048,2049,2050]
[null,800,"Total raw material consumed",null,"[t/yr, dry weight]",{"$f":"F77+F84","v":0},0,0,0,0,0,0,0,0,0,0,0,0,0,0,0,0,0,0,0,0,0,0,0,0,0,{"$f":"AF77+AF84","v":0},0,0,0,0,0,0,0,0,0,{"$f":"AP77+AP84","v":0},0,0,0,0,0,0,0,0,0,0,0,0,0,0,0,0,0,0,0,0,0,0,0,0]
[null,{"$f":"B93+1","v":801},"Average Ca content",null,"[%, dry weight]",{"$f":"IF(F93=0,0,F96/F93)","v":0},0,0,0,0,0,0,0,0,0,0,0,0,0,0,0,0,0,0,0,0,0,0,0,0,0,{"$f":"IF(AF93=0,0,AF96/AF93)","v":0},0,0,0,0,0,0,0,0,0,{"$f":"IF(AP93=0,0,AP96/AP93)","v":0},0,0,0,0,0,0,0,0,0,0,0,0,0,0,0,0,0,0,0,0,0,0,0,0]
[null,{"$f":"B94+1","v":802},"Average Mg content",null,"[%, dry weight]",{"$f":"IF(F93=0,0,F97/F93)","v":0},0,0,0,0,0,0,0,0,0,0,0,0,0,0,0,0,0,0,0,0,0,0,0,0,0,{"$f":"IF(AF93=0,0,AF97/AF93)","v":0},0,0,0,0,0,0,0,0,0,{"$f":"IF(AP93=0,0,AP97/AP93)","v":0},0,0,0,0,0,0,0,0,0,0,0,0,0,0,0,0,0,0,0,0,0,0,0,0]
[null,{"$f":"B95+1","v":803},"Total Ca amount",null,"[t/yr]",{"$f":"F80+F87","v":0},0,0,0,0,0,0,0,0,0,0,0,0,0,0,0,0,0,0,0,0,0,0,0,0,0,{"$f":"AF80+AF87","v":0},0,0,0,0,{"$f":"AK80+AK87","v":0},0,0,0,0,{"$f":"AP80+AP87","v":0},0,0,0,0,0,0,0,0,0,0,0,0,0,0,0,0,0,0,0,0,0,0,0,0]
[null,{"$f":"B96+1","v":804},"Total Mg amount",null,"[t/yr]",{"$f":"F81+F88","v":0},0,0,0,0,0,0,0,0,0,0,0,0,0,0,0,0,0,0,0,0,0,0,0,0,0,0,0,0,0,0,0,0,0,0,0,{"$f":"AP81+AP88","v":0},0,0,0,0,0,0,0,0,0,0,0,0,0,0,0,0,0,0,0,0,0,0,0,0]
[]
["CO2 emissions from raw material calcination"]
[]
[null,"Absolute CO2 emissions",null,null,null,{"$f":"F$26","v":1990},1991,1992,1993,1994,1995,1996,1997,1998,1999,2000,2001,2002,2003,2004,2005,2006,2007,2008,2009,2010,2011,2012,2013,2014,2015,2016,2017,2018,2019,2020,2021,2022,2023,2024,2025,2026,2027,2028,2029,2030,2031,2032,2033,2034,2035,2036,2037,2038,2039,2040,2041,2042,2043,2044,2045,2046,2047,2048,2049,2050]
[null,810,"Uncorrected CO2 emissions, based on CaO- and MgO content of clinker",null,"[t CO2/yr]",{"$f":"F46/$T$13*$T$15+F47/$T$14*$T$15","v":0},0,0,0,0,0,0,0,0,0,0,0,0,0,0,0,0,0,0,0,0,0,0,0,0,0,{"$f":"AF46/$T$13*$T$15+AF47/$T$14*$T$15","v":0},0,0,0,0,0,0,0,0,0,{"$f":"AP46/$T$13*$T$15+AP47/$T$14*$T$15","v":0},0,0,0,0,0,0,0,0,0,0,0,0,0,0,0,0,0,0,0,0,0,0,0,0]
[null,{"$f":"B102+1","v":811},"Correction for non-carbonate sources of CaO and MgO ",null,"[t CO2/yr]",{"$f":"F71/$T$13*$T$15+F72/$T$14*$T$15","v":0},0,0,0,0,0,0,0,0,0,0,0,0,0,0,0,0,0,0,0,0,0,0,0,0,0,{"$f":"AF71/$T$13*$T$15+AF72/$T$14*$T$15","v":0},0,0,0,0,0,0,0,0,0,{"$f":"AP71/$T$13*$T$15+AP72/$T$14*$T$15","v":0},0,0,0,0,0,0,0,0,0,0,0,0,0,0,0,0,0,0,0,0,0,0,0,0]
[null,{"$f":"B103+1","v":812},"Correction for silicate sources of CaO and MgO found in clinker",null,"[t CO2/yr]",{"$f":"F96/$T$16*$T$15+F97/$T$17*$T$15","v":0},0,0,0,0,0,0,0,0,0,0,0,0,0,0,0,0,0,0,0,0,0,0,0,0,0,{"$f":"AF96/$T$16*$T$15+AF97/$T$17*$T$15","v":0},0,0,0,0,0,0,0,0,0,{"$f":"AP96/$T$16*$T$15+AP97/$T$17*$T$15","v":0},0,0,0,0,0,0,0,0,0,0,0,0,0,0,0,0,0,0,0,0,0,0,0,0]
[null,{"$f":"B104+1","v":813},"Corrected, direct CO2 emissions",null,"[t CO2/yr]",{"$f":"F102-F103-F104","v":0},0,0,0,0,0,0,0,0,0,0,0,0,0,0,0,0,0,0,0,0,0,0,0,0,0,{"$f":"AF102-AF103-AF104","v":0},0,0,0,0,0,0,0,0,0,{"$f":"AP102-AP103-AP104","v":0},0,0,0,0,0,0,0,0,0,0,0,0,0,0,0,0,0,0,0,0,0,0,0,0]
[]
[null,"Specific CO2 emissions per ton of clinker",null,null,null,{"$f":"F$26","v":1990},1991,1992,1993,1994,1995,1996,1997,1998,1999,2000,2001,2002,2003,2004,2005,2006,2007,2008,2009,2010,2011,2012,2013,2014,2015,2016,2017,2018,2019,2020,2021,2022,2023,2024,2025,2026,2027,2028,2029,2030,2031,2032,2033,2034,2035,2036,2037,2038,2039,2040,2041,2042,2043,2044,2045,2046,2047,2048,2049,2050]
[null,815,"Calcination factor, uncorrected",null,"[kg CO2/t cli]",{"$f":"IF(F$43=0,0,F102/F$43*1000)","v":0},0,0,0,0,0,0,0,0,0,0,0,0,0,0,0,0,0,0,0,0,0,0,0,0,0,{"$f":"IF(AF$43=0,0,AF102/AF$43*1000)","v":0},0,0,0,0,0,0,0,0,0,{"$f":"IF(AP$43=0,0,AP102/AP$43*1000)","v":0},0,0,0,0,0,0,0,0,0,0,0,0,0,0,0,0,0,0,0,0,0,0,0,0]
[null,816,"Calcination emission factor corrected for non-carbonate and silicate sources of CaO,MgO",null,"[kg CO2/t cli]",{"$f":"IF(F$43=0,0,F105/F$43*1000)","v":0},0,0,0,0,0,0,0,0,0,0,0,0,0,0,0,0,0,0,0,0,0,0,0,0,0,{"$f":"IF(AF$43=0,0,AF105/AF$43*1000)","v":0},0,0,0,0,0,0,0,0,0,{"$f":"IF(AP$43=0,0,AP105/AP$43*1000)","v":0},0,0,0,0,0,0,0,0,0,0,0,0,0,0,0,0,0,0,0,0,0,0,0,0]
[]
[null,"Data Detailed Output Method (B2)"]
[null,820,"Output CalcB2: Calcination emission factor corrected for non-carbonate and silicate sources of CaO, MgO in clinker (=Plant sheet line 34q)",null,"[kg CO2/t cli]",{"$f":"F109","v":0},0,0,0,0,0,0,0,0,0,0,0,0,0,0,0,0,0,0,0,0,0,0,0,0,0,{"$f":"AF109","v":0},0,0,0,0,0,0,0,0,0,{"$f":"AP109","v":0},0,0,0,0,0,0,0,0,0,0,0,0,0,0,0,0,0,0,0,0,0,0,0,0]

{"sheet":"ControlRangesPlant","index":12,"n_rows":519,"n_cols":9,"rows_kept":519,"cut":false,"hidden":true,"merged":[[0,0,0,3],[0,4,0,7],[151,6,151,7]]}
["WBCSD Cement Sustainability Initiative\nCO2 Emissions Inventory Protocol, draft of Version 3.0"]
[]
[null,"Date of latest update",null,null,"2010-01-22"]
[]
["INFORMATION"]
[]
[null,"General Plant Information",null,null,null,null,"Min","Max"]
[null,1,"Plant"]
[null,2,"Company"]
[null,3,"Country"]
[null,4,"Continent"]
[null,5,"\"Kyoto\" Region (Annex 1 or non-Annex 1)"]
[null,6,"Kiln types"]
[null,"6a","Nominal clinker capacity",null,"[t/d]"]
[null,"6b","Plant type"]
[null,7,"Shares owned by Company",null,"[%]"]
[null,"7aa","Third party verification"]
[]
[null,"Inventory Boundaries: Coverage of Main Process Steps",null,null,"[yes, no or n.a.]",null,"Min","Max"]
[null,"7a","Raw material supply (quarrying, mining, crushing)"]
[null,"7b","Preparation of raw materials, fuels and additives"]
[null,"7c","Kiln operation (pyro-processing)"]
[null,"7d","Cement grinding, blending"]
[null,"7e","On-site (internal) transport"]
[null,"7f","Off-site transport with company-owned fleets"]
[null,"7g","On-site power generation"]
[null,"7h","Room heating / cooling"]
[null,"7i","(add other processes as appropriate)"]
[]
[null,"Clinker and Cement Production",null,null,null,null,"Min","Max"]
[null,null,"Clinker:"]
[null,8,"Clinker production",null,"[t/yr]",null,0,10000000]
[null,9,"Clinker bought",null,"[t/yr]"]
[null,10,"Clinker sold",null,"[t/yr]"]
[null,"10a","Change in clinker stocks (+ = increase; - = reduction)",null,"[t/yr]"]
[null,11,"Total clinker consumed",null,"[t/yr]"]
[]
[null,null,"Mineral components (MIC) used to produce Portland and blended cements:"]
[null,12,"Gypsum",null,"[t/yr, dry weight]",null,0,300000]
[null,13,"Limestone",null,"[t/yr, dry weight]",null,0,500000]
[null,14,"Slag",null,"[t/yr, dry weight]",null,0,1000000]
[null,15,"Fly ash (for blending)",null,"[t/yr, dry weight]",null,0,1000000]
[null,16,"Puzzolana",null,"[t/yr, dry weight]",null,0,1000000]
[null,17,"Others (e.g., CKD added to cement mill)",null,"[t/yr, dry weight]",null,0,300000]
[null,18,"Total MIC consumed for Portland and blended cements (dry weight)",null,"[t/yr, dry weight]"]
[null,"18a","Clinker/cement (eq.) ratio",null,"%"]
[]
[null,null,"Mineral components (MIC) used as cement substitutes (direct additions to concrete):"]
[null,"19a","MIC consumed for production of pure slag cement",null,"[t/yr, dry weight]",null,0,3000000]
[null,"19b","Fly ash and puzzolana (direct sales)",null,"[t/yr, dry weight]",null,0,3000000]
[null,19,"Total pure MIC products used as cement substitutes",null,"[t/yr, dry weight]"]
[]
[null,null,"Production totals:"]
[null,20,"Total Portland + Blended cements ",null,"[t/yr]"]
[null,21,"Total cements + substitutes: Portland, Blended, Slag  ",null,"[t/yr]",null,0,15000000]
[null,"21a","Total cementitious products",null,"[t/yr]",null,0,15000000]
[null,"21b","Total cement equivalent",null,"[t/yr]"]
[]
[null,"Dust Production (dry weight)",null,null,null,null,"Min","Max"]
[null,22,"Bypass dust leaving kiln system",null,"[t/yr, dry weight]"]
[null,23,"CKD leaving the kiln system",null,"[t/yr, dry weight]"]
[null,24,"Calcination rate of CKD",null,"[%]",null,0,1]
[]
[null,"Kiln Fuel Consumption incl. raw material and fuel drying",null,null,null,null,"Min","Max"]
[null,25,"Total heat consumption of kilns",null,"[TJ/yr]"]
[null,"25a","Total heat consumption of kilns excluding drying of fuels and raw materials",null,"[TJ/yr]"]
[null,26,"Conventional fossil fuels",null,"[TJ/yr]"]
[null,27,"Alternative fuels, fossil content; excluding biomass fraction of mixed fuels",null,"[TJ/yr]"]
[null,28,"Biomass fuels, incl. biomass content of alternative fuels",null,"[TJ/yr]"]
[]
[null,"Non-Kiln Fuel Consumption",null,null,null,null,"Min","Max"]
[null,30,"Equipment and on-site vehicles",null,"[TJ/yr]"]
[null,"31a","Room heating / cooling",null,"[TJ/yr]"]
[null,"31b","Drying of mineral components",null,"[TJ/yr]"]
[null,"31c","On-site power generation",null,"[TJ/yr]"]
[null,32,"Total non-kiln fuel consumption",null,"[TJ/yr]"]
[]
[null,"Power Balance",null,null,null,null,"Min","Max"]
[null,"33a","Total power production from separate on-site power generation",null,"[MWh/yr]"]
[null,"33aa","       Power delivered to cement plant",null,"[MWh/yr]"]
[null,"33ab","       Power delivered externally",null,"[MWh/yr]"]
[null,"33ac","       Power consumed by on site power generation equipment",null,"[MWh/yr]"]
[null,"33ad","       CO2 per power unit produced by separate onsite power generation",null,"[kg CO2/MWh]"]
[null,"33b","Total power production from waste heat recovery",null,"[MWh/yr]"]
[null,"33ba","       Power delivered to cement plant",null,"[MWh/yr]"]
[null,"33bb","       Power delivered externally",null,"[MWh/yr]"]
[null,"33bc","       Power consumed by waste heat recovery equipment",null,"[MWh/yr]"]
[null,"33c","Total external power consumption for cement manufacturing",null,"[MWh/yr]"]
[null,"33ca","      Total external power consumption at cement plant",null,"[MWh/yr]"]
[null,"33cb","      Cement-related external power consumption at on site power generation plant",null,"[MWh/yr]"]
[null,"33cc","      Cement-related external power consumption at waste heat recovery plant",null,"[MWh/yr]"]
[null,"33d","CO2 per power unit produced externally",null,"[kg CO2/MWh]"]
[null,"33e","Power consumption up to and including clinker production",null,"[MWh/yr]"]
[null,33,"Total cement plant power consumption",null,"[MWh/yr]"]
[]
[null,"Waste Heat Use",null,null,null,null,"Min","Max"]
[null,34,"Waste heat supplied to external consumers",null,"[GJ/yr]"]
[null,"34a","Waste heat used internally (incl. power generation)",null,"[GJ/yr]"]
[]
["CO2 EMISSIONS "]
[]
["Direct CO2 Emissions"]
[null,"CO2 from Raw Materials",null,null,null,null,"Min","Max"]
[null,"35a","Calcination emission factor, corrected for CaO- and MgO imports",null,"[kg CO2/ t cli]",null,460,570]
[null,"35b","Organic carbon content of raw meal (average)",null,"[%, dry weight]",null,2E-3,2E-3]
[null,"35c","Raw meal : clinker ratio",null,"[--, dry weight]",null,1.55,1.55]
[null,"35d","Raw meal consumption",null,"[t/yr, dry weight]"]
[null,36,"CO2 from calcination of clinker",null,"[t CO2/yr]"]
[null,37,"CO2 from calcination of bypass dust leaving the kiln system",null,"[t CO2/yr]"]
[null,"38a","CO2 from calcination of CKD leaving the kiln system",null,"[t CO2/yr]"]
[null,"38b","CO2 from organic carbon content of raw meal",null,"[t CO2/yr]"]
[null,39,"Total CO2 from raw materials",null,"[t CO2/yr]",null,"=(Min Code 35a) * (Code 8) / 1000","=(Max Code 35a) * 1,3 * (Code 8) / 1000"]
[]
[null,"CO2 from Kiln Fuels",null,null,null,null,"Min","Max"]
[null,40,"CO2 from conventional fossil fuels (incl. drying of fuels and raw materials)",null,"[t CO2/yr]"]
[null,41,"CO2 from alternative fossil fuels (incl. drying of fuels and raw materials)",null,"[t CO2/yr]"]
[null,43,"Total CO2 from fossil-based kiln fuels",null,"[t CO2/yr]"]
[]
[null,"CO2 from Non-Kiln Fuels",null,null,null,null,"Min","Max"]
[null,44,"CO2 from equipment and on-site vehicles",null,"[t CO2/yr]"]
[null,"45a","CO2 from room heating / cooling",null,"[t CO2/yr]"]
[null,"45b","CO2 from drying of mineral components",null,"[t CO2/yr]"]
[null,"45c","CO2 from seperate on-site power generation",null,"[t CO2/yr]"]
[null,46,"Total CO2 from non-kiln fuels",null,"[t CO2/yr]"]
[]
[null,"Total Direct CO2 Emissions ",null,null,null,null,"Min","Max"]
[null,48,"Total direct CO2: all sources",null,"[t CO2/yr]"]
[]
["Indirect CO2 Emissions (Main Sources)",null,null,null,null,null,"Min","Max"]
[null,"49a","CO2 from external power generation",null,"[t CO2/yr]"]
[null,"49b","Emission factor for bought clinker",null,"[kg CO2/t cli]",null,865,865,"alt 862"]
[null,"49c","CO2 from net clinker imports (+) / exports (-)",null,"[t CO2/yr]"]
[null,"49d","Total indirect CO2 (main sources)",null,"[t CO2/yr]"]
[]
["Direct CO2 from Biomass Fuels (Memo Item)",null,null,null,null,null,"Min","Max"]
[null,50,"CO2 from combustion of biomass fuels (kiln and non-kiln)",null,"[t CO2/yr]",null,"=(Min Code 83) * (Code 21a) / 1000","=(Max Code 83) * (Code 21a) / 1000"]
[]
["PERFORMANCE INDICATORS"]
[]
[null,"Gross CO2 Emissions (= total direct CO2; all sources)",null,null,null,null,"Min","Max"]
[null,59,"Absolute gross CO2",null,"[t CO2/yr]",null,"=(Code 8)*(MinCode 60)/1000","=(Code 8)*(MaxCode 60)/1000"]
[null,"59c","Absolute gross CO2 (excluding CO2 from on-site power gen.) ",null,"[t CO2/yr]"]
[null,"59a",null,"calcination component","[t CO2/yr]"]
[null,"59b",null,"fuel component","[t CO2/yr]"]
[null,60,"Specific gross CO2 per","tonne of clinker produced","[kg CO2/t cli]",null,475,1600]
[null,62,null,"tonne of cementitious product","[kg CO2/t cem prod]",null,"=(Min Code 60) * (Code 8) / (Code 21a)","=(Max Code 60) * (Code 8) / (Code 21a)"]
[null,"62a",null,"calcination component","[kg CO2/t cem prod]"]
[null,"62b",null,"fuel component","[kg CO2/t cem prod]"]
[null,63,"Specific gross CO2 per","tonne of cement (eq.) produced","[kg CO2/t cem prod]"]
[]
[null,"Net CO2 Emissions (= gross CO2 minus alternative fossil fuels CO2)",null,null,null,null,"Min","Max"]
[null,71,"Absolute net CO2 ",null,"[t CO2/yr]",null,"<= (Code 59)"]
[null,73,"Specific net CO2 per","tonne of clinker produced","[kg CO2/t cli]",null,475,"=(Max Code 60)"]
[null,74,null,"tonne of cementitious product","[kg CO2/t cem prod]",null,"=(Min Code 73) * (Code 8) / (Code  21a)","=(Max Code 73) * (Code 8) / (Code  21a)"]
[]
[null,77,"Improvement rate  -  net CO2 per tonne of cementitious product",null,"[% relative to base yr]"]
[]
[null,"Specific CO2 from Indirect and Biomass Sources",null,null,null,null,"Min","Max"]
[null,"82a","Specific indirect CO2 from external power generation",null,"[kg CO2/t cem prod]"]
[null,"82b","Specific indirect CO2 from net clinker imports (+) / exports (-)",null,"[kg CO2/t cem prod]"]
[null,83,"Specific CO2 from biomass fuels (Memo Item)",null,"[kg CO2/t cem prod]",null,0,"150*"]
[]
[null,"General Performance Indicators",null,null,null,null,"Min","Max"]
[null,91,"Net clinker sales per net clinker consumption",null,"[%]"]
[null,92,"Clinker/cement factor in cements",null,"[%]",null,0,0.97]
[]
[null,93,"Specific heat consumption of clinker production",null,"[MJ/t cli]",null,2800,9000]
[null,94,"Conventional fossil fuel rate (kiln fuels)",null,"[%]"]
[null,95,"Alternative fossil fuel rate (kiln fuels)",null,"[%]",null,0,1]
[null,96,"Biomass fuel rate (kiln fuels)",null,"[%]"]
[null,"96a","CO2 emission factor for kiln fuel mix ",null,"[t CO2/GJ]",null,0,"100%*"]
[null,"96b","Total Conventional Fossil Fuel Rate at Plant Level ",null,"[%]"]
[null,"96c","Total Alternative Fossil Fuel Rate at Plant Level ",null,"[%]"]
[null,"96d","Total Biomass Fuel Rate at Plant Level ",null,"[%]"]
[]
[null,97,"Specific power consumption",null,"[kWh/t cement]",null,80,250]
[null,98,"Specific power consumption of clinker production",null,"[kWh/t clinker]"]
[null,"98a","National energy conversion factor",null,"[MJ/KWh]"]
[null,"98b","Total energy intensity of clinker production (fuel and power)",null,"[MJ/t cli]"]
[]
["KILN FUELS - DETAILED INFORMATION"]
[]
[null,"Kiln Fuel Consumption in tonnes per year",null,null,null,null,"Min","Max"]
[null,101,"Conventional fossil fuels (excl. drying of raw materials and fuels)"]
[null,102,null,"coal + anthracite + waste coal","[t/yr]",null,0,300000]
[null,103,null,"petrol coke","[t/yr]",null,0,300000]
[null,104,null,"(ultra) heavy fuel","[t/yr]",null,0,300000]
[null,105,null,"diesel oil","[t/yr]",null,0,100000]
[null,106,null,"natural gas ","[1'000 Nm3/yr]",null,0,300000]
[null,107,null,"shale","[t/yr]",null,0,100000]
[null,"107a",null,"lignite","[t/yr]",null,0,300000]
[null,108,"Alternative fossil fuels (excl. drying of raw materials and fuels)"]
[null,109,null,"waste oil","[t/yr]",null,0,100000]
[null,110,null,"tyres ","[t/yr]",null,0,100000]
[null,111,null,"RDF including plastics","[t/yr]",null,0,100000]
[null,112,null,"solvents","[t/yr]",null,0,100000]
[null,113,null,"impregnated saw dust","[t/yr]",null,0,100000]
[null,"113a",null,"mixed industrial waste","[t/yr]",null,0,100000]
[null,114,null,"other fossil based wastes","[t/yr]",null,0,100000]
[null,115,"Biomass fuels (excl. drying of raw materials and fuels)"]
[null,116,null,"dried sewage sludge","[t/yr]",null,0,100000]
[null,117,null,"wood, non impregnated saw dust","[t/yr]",null,0,100000]
[null,118,null,"paper, carton","[t/yr]",null,0,100000]
[null,119,null,"animal meal","[t/yr]",null,0,100000]
[null,120,null,"animal bone meal","[t/yr]",null,0,100000]
[null,121,null,"animal fat","[t/yr]",null,0,100000]
[null,122,null,"agricultural, organic, diaper waste, charcoal","[t/yr]",null,0,100000]
[null,123,null,"other biomass","[t/yr]",null,0,100000]
[null,"Drying of raw materials and fuels",null,null,null,null,"Min","Max"]
[null,124,"Conventional fossil fuels"]
[null,"124a",null,"coal + anthracite + waste coal","[t/yr]",null,0,100000]
[null,"124b",null,"petrol coke","[t/yr]",null,0,100000]
[null,"124c",null,"(ultra) heavy fuel","[t/yr]",null,0,100000]
[null,"124d",null,"diesel oil","[t/yr]",null,0,100000]
[null,"124e",null,"natural gas ","[1'000 Nm3/yr]",null,0,100000]
[null,"124f",null,"shale","[t/yr]",null,0,100000]
[null,125,"Alternative fossil fuels"]
[null,"125a",null,"other fossil based wastes","[t/yr]",null,0,100000]
[null,126,"Alternative biomass fuels"]
[null,"126a",null,"other biomass","[t/yr]",null,0,100000]
[]
[null,"Fuel Lower Heating Values",null,null,null,null,"Min","Max"]
[null,131,"Conventional fossil fuels"]
[null,132,null,"coal + anthracite + waste coal","[GJ/t]",null,5,40]
[null,133,null,"petrol coke","[GJ/t]",null,30,45]
[null,134,null,"(ultra) heavy fuel","[GJ/t]",null,10,45]
[null,135,null,"diesel oil","[GJ/t]",null,10,50]
[null,136,null,"natural gas ","[GJ/1'000 Nm3]",null,10,40]
[null,137,null,"shale","[GJ/t]",null,10,25]
[null,"137a",null,"lignite","[GJ/t]",null,10,25]
[null,138,"Alternative fossil fuels"]
[null,139,null,"waste oil","[GJ/t]",null,10,45]
[null,140,null,"tyres","[GJ/t]",null,10,40]
[null,141,null,"RDF including plastics","[GJ/t]",null,10,40]
[null,142,null,"solvents","[GJ/t]",null,10,40]
[null,143,null,"impregnated saw dust","[GJ/t]",null,10,40]
[null,"143a",null,"mixed industrial waste","[GJ/t]",null,10,40]
[null,144,null,"other fossil based wastes","[GJ/t]",null,10,40]
[null,145,"Biomass fuels"]
[null,146,null,"sewage sludge","[GJ/t]",null,10,25]
[null,147,null,"wood, non impregnated saw dust","[GJ/t]",null,10,25]
[null,148,null,"paper, carton","[GJ/t]",null,10,25]
[null,149,null,"animal meal","[GJ/t]",null,10,25]
[null,150,null,"animal bone meal","[GJ/t]",null,10,25]
[null,151,null,"animal fat","[GJ/t]",null,10,40]
[null,152,null,"agricultural, organic, diaper waste, charcoal","[GJ/t]",null,10,25]
[null,153,null,"other biomass","[GJ/t]",null,10,25]
[null,"Drying of raw materials and fuels",null,null,null,null,"Min","Max"]
[null,154,"Conventional fossil fuels"]
[null,"154a",null,"coal + anthracite + waste coal","[GJ/t]",null,5,40]
[null,"154b",null,"petrol coke","[GJ/t]",null,30,45]
[null,"154c",null,"(ultra) heavy fuel","[GJ/t]",null,10,45]
[null,"154d",null,"diesel oil","[GJ/t]",null,10,50]
[null,"154e",null,"natural gas ","[GJ/1'000 Nm3]",null,10,40]
[null,"154f",null,"shale","[GJ/t]",null,10,25]
[null,155,"Alternative fossil fuels"]
[null,"155a",null,"other fossil based wastes","[GJ/t]",null,10,40]
[null,156,"Alternative biomass fuels"]
[null,"156a",null,"other biomass","[GJ/t]",null,10,25]
[]
[null,"Kiln Fuel Consumption in terajoules (TJ) per year",null,null,null,null,"Min","Max"]
[null,161,"Conventional fossil fuels",null,"[TJ/yr]"]
[null,162,null,"coal + anthracite + waste coal","[TJ/yr]"]
[null,163,null,"petrol coke","[TJ/yr]"]
[null,164,null,"(ultra) heavy fuel","[TJ/yr]"]
[null,165,null,"diesel oil","[TJ/yr]"]
[null,166,null,"natural gas ","[TJ/yr]"]
[null,167,null,"shale","[TJ/yr]"]
[null,"167a",null,"lignite","[TJ/yr]"]
[null,168,"Alternative fossil fuels, excluding biomass fraction of mixed fuels",null,"[TJ/yr]"]
[null,169,null,"waste oil","[TJ/yr]"]
[null,170,null,"tyres","[TJ/yr]"]
[null,171,null,"RDF including plastics","[TJ/yr]"]
[null,172,null,"solvents","[TJ/yr]"]
[null,173,null,"impregnated saw dust","[TJ/yr]"]
[null,"173a",null,"mixed industrial waste","[TJ/yr]"]
[null,174,null,"other fossil based wastes","[TJ/yr]"]
[null,175,"Biomass fuels - total, incl. biomass cont. from alternative fossil fuels",null,"[TJ/yr]"]
[null,176,null,"sewage sludge","[TJ/yr]"]
[null,177,null,"wood, non impregnated saw dust","[TJ/yr]"]
[null,178,null,"paper, carton","[TJ/yr]"]
[null,179,null,"animal meal","[TJ/yr]"]
[null,180,null,"animal bone meal","[TJ/yr]"]
[null,181,null,"animal fat","[TJ/yr]"]
[null,182,null,"agricultural, organic, diaper waste, charcoal","[TJ/yr]"]
[null,183,null,"other biomass","[TJ/yr]"]
[null,"183a",null,"biomass from alternative fuels","[TJ/yr]"]
[null,"Drying of raw materials and fuels",null,null,null,null,"Min","Max"]
[null,184,"Conventional fossil fuels",null,"[TJ/yr]"]
[null,"184a",null,"coal + anthracite + waste coal","[TJ/yr]"]
[null,"184b",null,"petrol coke","[TJ/yr]"]
[null,"184c",null,"(ultra) heavy fuel","[TJ/yr]"]
[null,"184d",null,"diesel oil","[TJ/yr]"]
[null,"184e",null,"natural gas ","[TJ/yr]"]
[null,"184f",null,"shale","[TJ/yr]"]
[null,"184g","Alternative fossil fuels",null,"[TJ/yr]"]
[null,"184h",null,"other fossil based wastes","[TJ/yr]"]
[null,"184i","Alternative biomass fuels",null,"[TJ/yr]"]
[null,"184j",null,"other biomass","[TJ/yr]"]
[]
[null,"CO2 Emission Factors of Kiln Fuels (per lower heating value)",null,null,null,null,"Min","Max"]
[null,185,"Conventional fossil fuels"]
[null,186,null,"coal + anthracite + waste coal","[kg CO2/GJ]"]
[null,187,null,"petrol coke","[kg CO2/GJ]"]
[null,188,null,"(ultra) heavy fuel","[kg CO2/GJ]"]
[null,189,null,"diesel oil","[kg CO2/GJ]"]
[null,190,null,"natural gas ","[kg CO2/GJ]"]
[null,191,null,"shale","[kg CO2/GJ]"]
[null,192,null,"lignite","[kg CO2/GJ]"]
[null,"192a",null,"other fossil fuels","[kg CO2/GJ]"]
[null,193,"Alternative fossil fuels, including mixed fuels"]
[null,194,null,"waste oil","[kg CO2/GJ]"]
[null,195,null,"tyres","[kg CO2/GJ]"]
[null,196,null,"RDF including plastics","[kg CO2/GJ]"]
[null,197,null,"solvents","[kg CO2/GJ]"]
[null,198,null,"impregnated saw dust","[kg CO2/GJ]"]
[null,199,null,"mixed industrial waste","[kg CO2/GJ]"]
[null,"199a",null,"(bio and mixed) diesel","[kg CO2/GJ]"]
[null,200,null,"other fossil based wastes","[kg CO2/GJ]"]
[null,"200a",null,"% biomass in waste oil","[ % Cbio/TOC]"]
[null,"200b",null,"% biomass in tyres","[ % Cbio/TOC]"]
[null,"200c",null,"% biomass in plastics","[ % Cbio/TOC]"]
[null,"200d",null,"% biomass in solvents","[ % Cbio/TOC]"]
[null,"200e",null,"% biomass in impregnated saw dust","[ % Cbio/TOC]"]
[null,"200f",null,"% biomass in mixed industrial waste","[ % Cbio/TOC]"]
[null,"200g",null,"% biomass in bio diesel","[ % Cbio/TOC]"]
[null,"200h",null,"% biomass in other fossil fuels","[ % Cbio/TOC]"]
[null,201,"Biomass fuels"]
[null,202,null,"sewage sludge","[kg CO2/GJ]"]
[null,203,null,"wood, non impregnated saw dust","[kg CO2/GJ]"]
[null,204,null,"paper, carton","[kg CO2/GJ]"]
[null,205,null,"animal meal","[kg CO2/GJ]"]
[null,206,null,"animal bone meal","[kg CO2/GJ]"]
[null,207,null,"animal fat","[kg CO2/GJ]"]
[null,208,null,"agricultural, organic, diaper waste, charcoal","[kg CO2/GJ]"]
[null,209,null,"other biomass","[kg CO2/GJ]"]
[]
[null,"CO2 Emissions from Kiln Fuels",null,null,null,null,"Min","Max"]
[null,211,"Conventional fossil fuels - total emissions",null,"[t CO2/yr]"]
[null,212,null,"coal + anthracite + waste coal","[t CO2/yr]"]
[null,213,null,"petrol coke","[t CO2/yr]"]
[null,214,null,"(ultra) heavy fuel","[t CO2/yr]"]
[null,215,null,"diesel oil","[t CO2/yr]"]
[null,216,null,"natural gas ","[t CO2/yr]"]
[null,217,null,"shale","[t CO2/yr]"]
[null,"217a",null,"lignite","[t CO2/yr]"]
[null,218,"Alternative fossil fuels - total fossil emissions",null,"[t CO2/yr]"]
[null,219,null,"waste oil / fossil content","[t CO2/yr]"]
[null,220,null,"waste tyres / fossil content","[t CO2/yr]"]
[null,221,null,"RDF including plastics / fossil content","[t CO2/yr]"]
[null,222,null,"solvents / fossil content","[t CO2/yr]"]
[null,223,null,"impregnated saw dust / fossil content","[t CO2/yr]"]
[null,"223a",null,"mixed industrial waste / fossil content","[t CO2/yr]"]
[null,224,null,"other fossil based wastes / fossil content","[t CO2/yr]"]
[null,225,"Biomass fuels - total, incl. biomass cont. from alternative fossil fuels",null,"[t CO2/yr]"]
[null,226,null,"sewage sludge","[t CO2/yr]"]
[null,227,null,"wood, non impregnated saw dust","[t CO2/yr]"]
[null,228,null,"paper, carton","[t CO2/yr]"]
[null,229,null,"animal meal","[t CO2/yr]"]
[null,230,null,"animal bone meal","[t CO2/yr]"]
[null,231,null,"animal fat","[t CO2/yr]"]
[null,232,null,"agricultural, organic, diaper waste, charcoal","[t CO2/yr]"]
[null,233,null,"other biomass","[t CO2/yr]"]
[null,"233a",null,"biomass from alternative fuels","[t CO2/yr]"]
[null,"Drying of raw materials and fuels",null,null,null,null,"Min","Max"]
[null,234,"Conventional fossil fuels - total emissions",null,"[t CO2/yr]"]
[null,"234a",null,"coal + anthracite + waste coal","[t CO2/yr]"]
[null,"234b",null,"petrol coke","[t CO2/yr]"]
[null,"234c",null,"(ultra) heavy fuel","[t CO2/yr]"]
[null,"234d",null,"diesel oil","[t CO2/yr]"]
[null,"234e",null,"natural gas ","[t CO2/yr]"]
[null,"234f",null,"shale","[t CO2/yr]"]
[null,235,"Alternative fossil fuels - fossil total emissions",null,"[t CO2/yr]"]
[null,"235a",null,"other fossil based wastes / fossil content","[t CO2/yr]"]
[null,236,"Alternative biomass fuels - total emissions",null,"[t CO2/yr]"]
[null,"236a",null,"other biomass","[t CO2/yr]"]
[]
["NON-KILN FUELS - DETAILED INFORMATION"]
[]
[null,"Non-Kiln Fuel Consumption in tonnes per year",null,null,null,null,"Min","Max"]
[null,301,"Equipment and On-Site Vehicles fossil fuels"]
[null,"301a",null,"diesel oil","[t/yr]",null,0,100000]
[null,"301b",null,"gasoline","[t/yr]",null,0,100000]
[null,"301ba",null,"other fossil based wastes","[t/yr]",null,0,100000]
[null,"301c","Equipment and On-Site Vehicles fuels (containing biomass)"]
[null,"301d",null,"diesel oil (e.g. bio diesel)","[t/yr]",null,0,100000]
[null,302,"Room Heating and Cooling"]
[null,"302a",null,"diesel oil","[t/yr]",null,0,100000]
[null,"302b",null,"natural gas","[1'000 Nm3/yr]",null,0,100000]
[null,"302c",null,"other fossil fuels","[t/yr]",null,0,100000]
[null,303,"Drying of mineral components"]
[null,"303k","     Conventional fossil fuels"]
[null,"303a",null,"coal + anthracite + waste coal","[t/yr]",null,0,100000]
[null,"303b",null,"petrol coke","[t/yr]",null,0,100000]
[null,"303c",null,"(ultra) heavy fuel","[t/yr]",null,0,100000]
[null,"303d",null,"diesel oil","[t/yr]",null,0,100000]
[null,"303e",null,"natural gas ","[1'000 Nm3/yr]",null,0,100000]
[null,"303f",null,"shale","[t/yr]",null,0,100000]
[null,"303g","     Alternative fossil fuels"]
[null,"303h",null,"other fossil based wastes","[t/yr]",null,0,100000]
[null,"303i","     Alternative biomass fuels"]
[null,"303j",null,"other biomass","[t/yr]",null,0,100000]
[]
[null,304,"On-site power generation"]
[null,"304a",null,"coal + anthracite + waste coal","[t/yr]",null,0,100000]
[null,"304b",null,"(ultra) heavy fuel","[t/yr]",null,0,100000]
[null,"304c",null,"diesel oil","[t/yr]",null,0,100000]
[null,"304d",null,"natural gas ","[1'000 Nm3/yr]",null,0,100000]
[null,"304i",null,"petrol coke","[t/yr]",null,0,100000]
[null,"304f","     Alternative fossil fuels"]
[null,"304g",null,"other fossil based wastes","[t/yr]",null,0,100000]
[null,"304h","     Alternative biomass fuels"]
[null,"304e",null,"other biomass","[t/yr]",null,0,100000]
[]
[null,"Non-Kiln Fuel Lower Heating Values and CO2 Emission Factors",null,null,null,null,"Min","Max"]
[null,310,"kg CO2/GJ","fuel name"]
[null,311,"Equipment and On-Site Vehicles fossil fuels"]
[null,"311a",null,"diesel oil","[GJ/t]",null,10,50]
[null,"311b",69.2,"gasoline","[GJ/t]",null,10,50]
[null,"311ba",null,"other fossil based wastes","[GJ/t]",null,10,40]
[null,"311c","Equipment and On-Site Vehicles fuels (containing biomass)"]
[null,"311d",null,"diesel oil (e.g. bio diesel)","[GJ/t]",null,10,50]
[null,312,"Room Heating and Cooling"]
[null,"312a",null,"diesel oil","[GJ/t]",null,10,50]
[null,"312b",null,"natural gas","[GJ/1'000 Nm3]",null,10,40]
[null,"312c",null,"other fossil fuels","[GJ/t]",null,10,40]
[null,313,"Drying of mineral components"]
[null,"313k","     Conventional fossil fuels"]
[null,"313a",null,"coal + anthracite + waste coal","[GJ/t]",null,5,40]
[null,"313b",null,"petrol coke","[GJ/t]",null,30,45]
[null,"313c",null,"(ultra) heavy fuel","[GJ/t]",null,10,45]
[null,"313d",null,"diesel oil","[GJ/t]",null,10,50]
[null,"313e",null,"natural gas ","[GJ/1'000 Nm3]",null,10,40]
[null,"313f",null,"shale","[GJ/t]",null,10,25]
[null,"313g","     Alternative fossil fuels"]
[null,"313h",null,"other fossil based wastes","[GJ/t]",null,10,40]
[null,"313i","     Alternativebiomass fuels"]
[null,"313j",null,"other biomass","[GJ/t]",null,10,25]
[]
[null,314,"On-site power generation"]
[null,"314a",null,"coal + anthracite + waste coal","[GJ/t]",null,5,40]
[null,"314b",null,"(ultra) heavy fuel","[GJ/t]",null,10,45]
[null,"314c",null,"diesel oil","[GJ/t]",null,10,50]
[null,"314d",null,"natural gas ","[GJ/1'000 Nm3]",null,10,40]
[null,"314i",null,"petrol coke","[GJ/t]",null,30,45]
[null,"314f","     Alternative fossil fuels"]
[null,"314g",null,"other fossil based wastes","[GJ/t]",null,10,40]
[null,"314h","     Alternativebiomass fuels"]
[null,"314e",null,"other biomass","[GJ/t]",null,10,25]
[]
[null,"Non-Kiln Fuel Consumption in terajoules (TJ) per year",null,null,null,null,"Min","Max"]
[null,321,"Equipment and On-Site Vehicles fossil fuels",null,"[TJ/yr]",null,"",""]
[null,"321a",null,"diesel oil","[TJ/yr]",null,"",""]
[null,"321b",null,"gasoline","[TJ/yr]",null,"",""]
[null,"321ba",null,"other fossil based wastes","[TJ/yr]",null,"",""]
[null,"321c","Equipment and On-Site Vehicles fuels (containing biomass)",null,"[TJ/yr]",null,"",""]
[null,"321d",null,"diesel oil (e.g. bio diesel)","[TJ/yr]",null,"",""]
[null,322,"Room Heating and Cooling",null,"[TJ/yr]",null,"",""]
[null,"322a",null,"diesel oil","[TJ/yr]",null,"",""]
[null,"322b",null,"natural gas","[TJ/yr]",null,"",""]
[null,"322c",null,"other fossil fuels","[TJ/yr]",null,""]
[null,323,"Drying of mineral components"]
[null,"323k","     Conventional fossil fuels",null,"[TJ/yr]"]
[null,"323a",null,"coal + anthracite + waste coal","[TJ/yr]"]
[null,"323b",null,"petrol coke","[TJ/yr]"]
[null,"323c",null,"(ultra) heavy fuel","[TJ/yr]"]
[null,"323d",null,"diesel oil","[TJ/yr]"]
[null,"323e",null,"natural gas ","[TJ/yr]"]
[null,"323f",null,"shale","[TJ/yr]"]
[null,"323g","     Alternative fossil fuels",null,"[TJ/yr]"]
[null,"323h",null,"other fossil based wastes","[TJ/yr]"]
[null,"323i","     Alternative biomass fuels",null,"[TJ/yr]"]
[null,"323j",null,"other biomass","[TJ/yr]"]
[]
[null,324,"On-site power generation",null,"[TJ/yr]"]
[null,"324a",null,"coal + anthracite + waste coal","[TJ/yr]"]
[null,"324b",null,"(ultra) heavy fuel","[TJ/yr]"]
[null,"324c",null,"diesel oil","[TJ/yr]"]
[null,"324d",null,"natural gas ","[TJ/yr]"]
[null,"324i",null,"petrol coke","[TJ/yr]"]
[null,"324f","     Alternative fossil fuels",null,"[TJ/yr]"]
[null,"324g",null,"other fossil based wastes","[TJ/yr]"]
[null,"324h","     Alternative biomass fuels",null,"[TJ/yr]"]
[null,"324e",null,"other biomass","[TJ/yr]"]
[]
[null,"CO2 Emissions from Non-Kiln fuels",null,null,null,null,"Min","Max"]
[null,331,"Equipment and On-Site Vehicles",null,"[t CO2/yr]",null,"",""]
[null,"331a",null,"diesel oil","[t CO2/yr]",null,"",""]
[null,"331b",null,"gasoline","[t CO2/yr]",null,"",""]
[null,"331ba",null,"other fossil based wastes","[t CO2/yr]",null,"",""]
[null,"331c","Equipment and On-Site Vehicles biomass fuels",null,"[t CO2/yr]",null,"",""]
[null,"331d",null,"diesel oil (e.g. bio diesel)","[t CO2/yr]",null,"",""]
[null,332,"Room Heating and Cooling",null,"[t CO2/yr]",null,"",""]
[null,"332a",null,"diesel oil","[t CO2/yr]",null,"",""]
[null,"332b",null,"natural gas","[t CO2/yr]",null,"",""]
[null,"332c",null,"other fossil fuels","[t CO2/yr]",null,""]
[null,333,"Drying of mineral components"]
[null,"333k","     Conventional fossil fuels",null,"[t CO2/yr]"]
[null,"333a",null,"coal + anthracite + waste coal","[t CO2/yr]"]
[null,"333b",null,"petrol coke","[t CO2/yr]"]
[null,"333c",null,"(ultra) heavy fuel","[t CO2/yr]"]
[null,"333d",null,"diesel oil","[t CO2/yr]"]
[null,"333e",null,"natural gas ","[t CO2/yr]"]
[null,"333f",null,"shale","[t CO2/yr]"]
[null,"333g","     Alternative fossil fuels - fossil total emissions",null,"[t CO2/yr]"]
[null,"333h",null,"other fossil based wastes","[t CO2/yr]"]
[null,"333i","     Alternative biomass fuels ",null,"[t CO2/yr]"]
[null,"333j",null,"other biomass","[t CO2/yr]"]
[]
[null,334,"On-site power generation",null,"[t CO2/yr]"]
[null,"334a",null,"coal + anthracite + waste coal","[t CO2/yr]"]
[null,"334b",null,"(ultra) heavy fuel","[t CO2/yr]"]
[null,"334c",null,"diesel oil","[t CO2/yr]"]
[null,"334d",null,"natural gas ","[t CO2/yr]"]
[null,"334i",null,"petrol coke","[t CO2/yr]"]
[null,"334f","     Alternative fossil fuels",null,"[t CO2/yr]"]
[null,"334g",null,"other fossil based wastes / fossil content","[t CO2/yr]"]
[null,"334h","     Alternative biomass fuels",null,"[t CO2/yr]"]
[null,"334e",null,"other biomass","[t CO2/yr]"]

{"sheet":"ControlRangesGrCent","index":13,"n_rows":126,"n_cols":8,"rows_kept":126,"cut":false,"hidden":true,"merged":[[123,3,123,4],[124,3,124,4],[125,3,125,4],[119,3,119,4],[120,3,120,4],[121,3,121,4],[122,3,122,4],[118,3,118,4],[112,3,112,4],[113,3,113,4],[114,3,114,4],[115,3,115,4],[116,3,116,4],[117,3,117,4],[110,3,110,4],[111,3,111,4],[106,3,106,4],[107,3,107,4],[108,3,108,4],[109,3,109,4],[95,3,95,4],[96,3,96,4],[97,3,97,4],[104,3,104,4],[105,3,105,4],[103,2,103,5],[98,3,98,4],[99,3,99,4],[100,3,100,4],[101,3,101,4],[89,3,89,4],[90,3,90,4],[91,3,91,4],[92,3,92,4],[93,3,93,4],[94,3,94,4],[71,3,71,4],[73,3,73,4],[69,3,69,4],[83,3,83,4],[88,3,88,4],[87,3,87,4],[84,3,84,4],[85,3,85,4],[86,3,86,4],[79,3,79,4],[80,3,80,4],[81,3,81,4],[82,3,82,4],[29,3,29,4],[78,3,78,4],[72,3,72,4],[66,3,66,4],[70,3,70,4],[77,2,77,5],[65,2,65,5],[68,2,68,5],[55,2,55,5],[60,2,60,5],[56,3,56,4],[57,3,57,4],[48,3,48,4],[62,3,62,4],[14,6,14,7],[12,6,12,7],[30,3,30,4],[31,3,31,4],[14,3,14,4],[16,3,16,4],[36,3,36,4],[61,6,61,7],[28,3,28,4],[58,3,58,4],[37,3,37,4],[15,6,15,7],[27,2,27,5],[18,3,19,3],[22,3,22,4],[23,3,23,4],[21,2,21,5],[16,6,16,7],[17,3,17,4],[34,3,34,4],[33,3,33,4],[32,3,32,4],[24,3,24,4],[25,3,25,4],[104,1,110,1],[111,1,117,1],[118,1,125,1],[78,1,84,1],[85,1,92,1],[93,1,101,1],[1,1,1,4],[12,3,12,4],[15,3,15,4],[13,3,13,4],[11,2,11,5],[1,5,1,6],[13,6,13,7],[61,3,61,4],[63,3,63,4],[41,2,41,5],[47,2,47,5],[50,2,50,5],[43,3,43,4],[46,3,46,4],[42,2,42,5],[44,3,44,4],[45,2,45,5],[51,3,51,4]]}
[]
[null,"WBCSD - GNR Project\nref. : CO2 Emissions Inventory Protocol, Version 2.0",null,null,null,"Grinding center"]
[]
[]
[null,"DATA VERIFICATION"]
[]
[null,null,null,null,null,null,"min","max"]
[null,null,0,"Third party verification"]
[]
[null,"INFORMATION"]
[]
[null,null,"General Plant Information",null,null,null,"min","max"]
[null,null,"A1","Company"]
[null,null,"A2","Coownership 1"]
[null,null,"A3","Coownership 2"]
[null,null,"B","Plant country"]
[null,null,"C","Plant name"]
[null,null,"D","Plant type"]
[null,null,"E1","Plant description","kiln type"]
[null,null,"E2",null,"nominal capacity"," [tpd]"]
[]
[null,null,"Clinker and Cement Production",null,null,null,{"$f":"G$12","v":"min"},{"$f":"H$12","v":"max"}]
[null,null,null,"Clinker:"]
[null,null,8,"Clinker production",null,"[t/yr]"]
[null,null,21,"Total cements + substitutes: Portland, Blended, Slag  ",null,"[t/yr]",0,15000000]
[null,null,"21a","Total cementitious products",null,"[t/yr]",0,15000000]
[]
[null,null,"Mineral components (MIC) used to produce Portland and blended cements:",null,null,null,"min","max"]
[null,null,12,"Gypsum",null,"[t/yr, dry weight]",0,300000]
[null,null,13,"Limestone",null,"[t/yr, dry weight]",0,500000]
[null,null,14,"Slag",null,"[t/yr, dry weight]",0,1000000]
[null,null,15,"Fly ash (for blending)",null,"[t/yr, dry weight]",0,1000000]
[null,null,16,"Puzzolana",null,"[t/yr, dry weight]",0,1000000]
[null,null,17,"Others (e.g., CKD added to cement mill)",null,"[t/yr, dry weight]",0,300000]
[]
[null,null,"Mineral components (MIC) used as cement substitutes (direct additions to concrete):",null,null,null,"min","max"]
[null,null,"19a","MIC consumed for production of pure slag cement",null,"[t/yr, dry weight]",0,3000000]
[null,null,"19b","Fly ash and puzzolana (direct sales)",null,"[t/yr, dry weight]",0,3000000]
[]
[null,"CO2 Emissions"]
[]
[null,null,"Direct CO2 Emissions",null,null,null,{"$f":"G$12","v":"min"},{"$f":"H$12","v":"max"}]
[null,null,"CO2 from Raw Materials"]
[null,null,"35a","Calcination emission factor, corrected for CaO- and MgO imports",null,"[kg CO2/ t cli]"]
[null,null,39,"Total CO2 from raw materials",null,"[t CO2/yr]"]
[null,null,"CO2 from Kiln Fuels"]
[null,null,41,"CO2 from alternative fossil fuels",null,"[t CO2/yr]"]
[null,null,"CO2 from Non-Kiln Fuels"]
[null,null,"45c","CO2 from on-site power generation",null,"[t CO2/yr]"]
[]
[null,null,"Direct CO2 from Biomass Fuels (Memo Item)",null,null,null,{"$f":"G$12","v":"min"},{"$f":"H$12","v":"max"}]
[null,null,50,"CO2 from combustion of biomass fuels (kiln and non-kiln)",null,"[t CO2/yr]","=(Min Code 83) * (Code 21a) / 1000","=(Max Code 83) * (Code 21a) / 1000"]
[]
[null,"PERFORMANCE INDICATORS"]
[]
[null,null,"Gross CO2 Emissions (= total direct CO2; all sources)",null,null,null,{"$f":"G$12","v":"min"},{"$f":"H$12","v":"max"}]
[null,null,59,"Absolute gross CO2",null,"[t CO2/yr]","=(Code 21a) * (Min Code 62) / 1000","=(Code 21a) * (Max Code 62) / 1000"]
[null,null,60,"Specific gross CO2 per tonne of clinker produced",null,"[kg CO2/t cli]","NA","NA"]
[null,null,62,"Specific gross CO2 per tonne of cementitious product","tonne of cementitious product","[kg CO2/t cem prod]",0,300]
[]
[null,null,"Net CO2 Emissions (= gross CO2 minus emission savings through alternative fossil fuels)",null,null,null,{"$f":"G$12","v":"min"},{"$f":"H$12","v":"max"}]
[null,null,71,"Absolute net CO2 ",null,"[t CO2/yr]","<= (Code 59)"]
[null,null,73,"Specific net CO2 per tonne of clinker produced",null,"[kg CO2/t cli]","NA","NA"]
[null,null,74,"Specific net CO2 per tonne of cementitious product","tonne of clinker produced","[kg CO2/t cem prod]",0,300]
[]
[null,null,"Specific CO2 from Indirect and Biomass Sources",null,null,null,{"$f":"G$12","v":"min"},{"$f":"H$12","v":"max"}]
[null,null,83,"Specific CO2 from biomass fuels (Memo Item)",null,"[t CO2/t cem prod]","NA","NA"]
[]
[null,null,"General Performance Indicators",null,null,null,{"$f":"G$12","v":"min"},{"$f":"H$12","v":"max"}]
[null,null,92,"Clinker/cement factor in cements",null,"[%]",0,0.97]
[null,null,93,"Specific heat consumption of clinker production",null,"[MJ/t cli]","NA","NA"]
[null,null,95,"Alternative fossil fuel rate (fossil wastes)",null,"[%]",0,1]
[null,null,96,"Biomass fuel rate",null,"[%]",0,1]
[null,null,97,"Specific power consumption",null,"[kWh/t cement]",30,120]
[]
[null,"KILN FUELS - DETAILED INFORMATION"]
[]
[null,null,"Kiln Fuel Consumption in tonnes per year",null,null,null,{"$f":"G$12","v":"min"},{"$f":"H$12","v":"max"}]
[null,"Conventional fossil fuels",102,"coal + anthracite + waste coal",null,"[t/yr]"]
[null,null,103,"petrol coke",null,"[t/yr]"]
[null,null,104,"(ultra) heavy fuel",null,"[t/yr]"]
[null,null,105,"diesel oil",null,"[t/yr]"]
[null,null,106,"natural gas ",null,"[1'000 Nm3/yr]"]
[null,null,107,"shale",null,"[t/yr]"]
[null,null,"107a","lignite",null,"[t/yr]"]
[null,"Alternative fossil fuels",108,"Alternative fossil fuels",null,"[t/yr]"]
[null,null,109,"waste oil",null,"[t/yr]"]
[null,null,110,"tyres ",null,"[t/yr]"]
[null,null,111,"plastics",null,"[t/yr]"]
[null,null,112,"solvents",null,"[t/yr]"]
[null,null,113,"impregnated saw dust",null,"[t/yr]"]
[null,null,"113a","mixed industrial waste",null,"[t/yr]"]
[null,null,114,"other fossil based wastes",null,"[t/yr]"]
[null,"Biomass fuels",115,"Biomass fuels",null,"[t/yr]"]
[null,null,116,"dried sewage sludge",null,"[t/yr]"]
[null,null,117,"wood, non impregnated saw dust",null,"[t/yr]"]
[null,null,118,"paper, carton",null,"[t/yr]"]
[null,null,119,"animal meal",null,"[t/yr]"]
[null,null,120,"animal bone meal",null,"[t/yr]"]
[null,null,121,"animal fat",null,"[t/yr]"]
[null,null,122,"agricultural, organic, diaper waste, charcoal",null,"[t/yr]"]
[null,null,123,"other biomass",null,"[t/yr]"]
[]
[null,null,"Fuel Lower Heating Values",null,null,null,{"$f":"G$12","v":"min"},{"$f":"H$12","v":"max"}]
[null,"Conventional fossil fuels",132,"coal + anthracite + waste coal",null,"[GJ/t]"]
[null,null,133,"petrol coke",null,"[GJ/t]"]
[null,null,134,"(ultra) heavy fuel",null,"[GJ/t]"]
[null,null,135,"diesel oil",null,"[GJ/t]"]
[null,null,136,"natural gas ",null,"[GJ/1'000 Nm3]"]
[null,null,137,"shale",null,"[GJ/t]"]
[null,null,"137a","lignite",null,"[GJ/t]"]
[null,"Alternative fossil fuels",139,"waste oil",null,"[GJ/t]"]
[null,null,140,"tyres",null,"[GJ/t]"]
[null,null,141,"plastics",null,"[GJ/t]"]
[null,null,142,"solvents",null,"[GJ/t]"]
[null,null,143,"impregnated saw dust",null,"[GJ/t]"]
[null,null,"143a","mixed industrial waste",null,"[GJ/t]"]
[null,null,144,"other fossil based wastes",null,"[GJ/t]"]
[null,"Biomass fuels",146,"sewage sludge",null,"[GJ/t]"]
[null,null,147,"wood, non impregnated saw dust",null,"[GJ/t]"]
[null,null,148,"paper, carton",null,"[GJ/t]"]
[null,null,149,"animal meal",null,"[GJ/t]"]
[null,null,150,"animal bone meal",null,"[GJ/t]"]
[null,null,151,"animal fat",null,"[GJ/t]"]
[null,null,152,"agricultural, organic, diaper waste, charcoal",null,"[GJ/t]"]
[null,null,153,"other biomass",null,"[GJ/t]"]

{"sheet":"InputLines","index":14,"n_rows":140,"n_cols":2,"rows_kept":140,"cut":false,"hidden":true,"merged":[]}
["Excel Line","Int - Line"]
[15,"6b"]
[34,"7n"]
[40,8]
[41,9]
[42,10]
[43,"10a"]
[44,"10b"]
[45,"10c"]
[49,12]
[50,13]
[51,14]
[52,15]
[53,16]
[54,17]
[55,"17a"]
[59,"19a"]
[60,"19b"]
[61,"19c"]
[71,22]
[72,23]
[73,24]
[90,"33a"]
[91,"33aa"]
[92,"33ab"]
[95,"33b"]
[96,"33ba"]
[97,"33bb"]
[100,"33ca"]
[101,"33cb"]
[102,"33cc"]
[103,"33d"]
[104,"33e"]
[108,34]
[231,102]
[232,103]
[233,104]
[234,105]
[235,106]
[236,107]
[237,"107a"]
[239,109]
[240,110]
[241,111]
[242,112]
[243,113]
[244,"113a"]
[245,114]
[247,116]
[248,117]
[249,118]
[250,119]
[251,120]
[252,121]
[253,122]
[254,123]
[257,"124a"]
[258,"124b"]
[259,"124c"]
[260,"124d"]
[261,"124e"]
[262,"124f"]
[264,"125a"]
[266,"126a"]
[270,132]
[271,133]
[272,134]
[273,135]
[274,136]
[275,137]
[276,"137a"]
[278,139]
[279,140]
[280,141]
[281,142]
[282,143]
[283,"143a"]
[284,144]
[286,146]
[287,147]
[288,148]
[289,149]
[290,150]
[291,151]
[292,152]
[293,153]
[296,"154a"]
[297,"154b"]
[298,"154c"]
[299,"154d"]
[300,"154e"]
[301,"154f"]
[303,"155a"]
[305,"156a"]
[431,"301a"]
[432,"301b"]
[433,"301ba"]
[435,"301d"]
[437,"302a"]
[438,"302b"]
[439,"302c"]
[442,"303a"]
[443,"303b"]
[444,"303c"]
[445,"303d"]
[446,"303e"]
[447,"303f"]
[449,"303h"]
[451,"303j"]
[454,"304a"]
[455,"304b"]
[456,"304c"]
[457,"304d"]
[458,"304i"]
[459,"304j"]
[461,"304g"]
[463,"304e"]
[467,"311a"]
[468,"311b"]
[469,"311ba"]
[471,"311d"]
[473,"312a"]
[474,"312b"]
[475,"312c"]
[478,"313a"]
[479,"313b"]
[480,"313c"]
[481,"313d"]
[482,"313e"]
[483,"313f"]
[485,"313h"]
[487,"313j"]
[490,"314a"]
[491,"314b"]
[492,"314c"]
[493,"314d"]
[494,"314i"]
[495,"314j"]
[497,"314g"]
[499,"314e"]

{"sheet":"KilnControlRanges","index":15,"n_rows":140,"n_cols":5,"rows_kept":140,"cut":false,"hidden":true,"merged":[]}
["Excel Line","Int - Line","MIN","MAX"]
[40,8,0,10000000]
[49,12,0,300000]
[50,13,0,500000]
[51,14,0,1000000]
[52,15,0,1000000]
[53,16,0,1000000]
[54,17,0,300000]
[55,"17a",0,1000000]
[59,"19a",0,3000000]
[60,"19b",0,3000000]
[61,"19c",0,3000000]
[66,21,0,15000000]
[67,"21a",0,15000000]
[68,"21b",0,15000000]
[73,24,0,1]
[136,"35a",460,570]
[144,39,345956.43199999997,557290.68719999993]
[163,"49b",865,865]
[168,50,0,10000000]
[173,59,357237.62,1203326.72]
[184,60,475,1600]
[196,62,438.50915223945083,1477.0834601749923]
[179,71,0,620830.08302628004]
[187,73,475,1600]
[199,74,438.50915223945083,1477.0834601749923]
[193,75,438.50915223945083,1477.0834601749923]
[181,"83a",0,2000000,"new (83 delete, fixed value)"]
[210,92,0,0.97]
[209,"92a",0,0.97]
[212,93,2800,9000]
[214,95,0,1]
[215,96,0,1]
[221,97,80,250]
[231,102,0,300000]
[232,103,0,300000]
[233,104,0,300000]
[234,105,0,100000]
[235,106,0,300000]
[236,107,0,100000]
[237,"107a",0,300000]
[239,109,0,100000]
[240,110,0,100000]
[241,111,0,100000]
[242,112,0,100000]
[243,113,0,100000]
[244,"113a",0,100000]
[245,114,0,100000]
[247,116,0,100000]
[248,117,0,100000]
[249,118,0,100000]
[250,119,0,100000]
[251,120,0,100000]
[252,121,0,100000]
[253,122,0,100000]
[254,123,0,100000]
[257,"124a",0,100000]
[258,"124b",0,100000]
[259,"124c",0,100000]
[260,"124d",0,100000]
[261,"124e",0,100000]
[262,"124f",0,100000]
[264,"125a",0,100000]
[266,"126a",0,100000]
[270,132,5,40]
[271,133,30,45]
[272,134,10,45]
[273,135,10,50]
[274,136,10,40]
[275,137,10,25]
[276,"137a",10,25]
[278,139,10,45]
[279,140,10,40]
[280,141,10,40]
[281,142,10,40]
[282,143,10,40]
[283,"143a",10,40]
[284,144,10,40]
[286,146,10,25]
[287,147,10,25]
[288,148,10,25]
[289,149,10,25]
[290,150,10,25]
[291,151,10,40]
[292,152,10,25]
[293,153,10,25]
[296,"154a",5,40]
[297,"154b",30,45]
[298,"154c",10,45]
[299,"154d",10,50]
[300,"154e",10,40]
[301,"154f",10,25]
[303,"155a",10,40]
[305,"156a",10,25]
[431,"301a",0,100000]
[432,"301b",0,100000]
[433,"301ba",0,100000]
[435,"301d",0,100000]
[437,"302a",0,100000]
[438,"302b",0,100000]
[439,"302c",0,100000]
[442,"303a",0,100000]
[443,"303b",0,100000]
[444,"303c",0,100000]
[445,"303d",0,100000]
[446,"303e",0,100000]
[447,"303f",0,100000]
[449,"303h",0,100000]
[451,"303j",0,100000]
[454,"304a",0,100000]
[455,"304b",0,100000]
[456,"304c",0,100000]
[457,"304d",0,100000]
[458,"304i",0,100000]
[459,"304j",0,100000]
[461,"304g",0,100000]
[463,"304e",0,100000]
[467,"311a",10,50]
[468,"311b",10,50]
[469,"311ba",10,40]
[471,"311d",10,50]
[473,"312a",10,50]
[474,"312b",10,40]
[475,"312c",10,40]
[478,"313a",5,40]
[479,"313b",30,45]
[480,"313c",10,45]
[481,"313d",10,50]
[482,"313e",10,40]
[483,"313f",10,25]
[485,"313h",10,40]
[487,"313j",10,25]
[490,"314a",5,40]
[491,"314b",10,45]
[492,"314c",10,50]
[493,"314d",10,40]
[494,"314i",30,45]
[495,"314j",10,45]
[497,"314g",10,40]
[499,"314e",10,25]

{"sheet":"GrCentControlRanges","index":16,"n_rows":129,"n_cols":4,"rows_kept":129,"cut":false,"hidden":true,"merged":[]}
["Excel Line","Int - Line","MIN","MAX"]
[49,12,0,300000]
[50,13,0,500000]
[51,14,0,1000000]
[52,15,0,1000000]
[53,16,0,1000000]
[54,17,0,300000]
[55,"17a",0,1000000]
[59,"19a",0,3000000]
[60,"19b",0,3000000]
[61,"19c",0,3000000]
[66,21,0,15000000]
[67,"21a",0,15000000]
[168,50]
[173,59,0,19824.3]
[196,62,0,300]
[179,71,0,703.36310249515429]
[199,74,0,300]
[210,92,0,0.97]
[209,"92a",0,0.97]
[214,95,0,1]
[215,96,0,1]
[221,97,30,120]
[231,102,0,300000]
[232,103,0,300000]
[233,104,0,300000]
[234,105,0,100000]
[235,106,0,300000]
[236,107,0,100000]
[237,"107a",0,300000]
[239,109,0,100000]
[240,110,0,100000]
[241,111,0,100000]
[242,112,0,100000]
[243,113,0,100000]
[244,"113a",0,100000]
[245,114,0,100000]
[247,116,0,100000]
[248,117,0,100000]
[249,118,0,100000]
[250,119,0,100000]
[251,120,0,100000]
[252,121,0,100000]
[253,122,0,100000]
[254,123,0,100000]
[257,"124a",0,100000]
[258,"124b",0,100000]
[259,"124c",0,100000]
[260,"124d",0,100000]
[261,"124e",0,100000]
[262,"124f",0,100000]
[264,"125a",0,100000]
[266,"126a",0,100000]
[270,132,5,40]
[271,133,30,45]
[272,134,10,45]
[273,135,10,50]
[274,136,10,40]
[275,137,10,25]
[276,"137a",10,25]
[278,139,10,45]
[279,140,10,40]
[280,141,10,40]
[281,142,10,40]
[282,143,10,40]
[283,"143a",10,40]
[284,144,10,40]
[286,146,10,25]
[287,147,10,25]
[288,148,10,25]
[289,149,10,25]
[290,150,10,25]
[291,151,10,40]
[292,152,10,25]
[293,153,10,25]
[296,"154a",5,40]
[297,"154b",30,45]
[298,"154c",10,45]
[299,"154d",10,50]
[300,"154e",10,40]
[301,"154f",10,25]
[303,"155a",10,40]
[305,"156a",10,25]
[431,"301a",0,100000]
[432,"301b",0,100000]
[433,"301ba",0,100000]
[435,"301d",0,100000]
[437,"302a",0,100000]
[438,"302b",0,100000]
[439,"302c",0,100000]
[442,"303a",0,100000]
[443,"303b",0,100000]
[444,"303c",0,100000]
[445,"303d",0,100000]
[446,"303e",0,100000]
[447,"303f",0,100000]
[449,"303h",0,100000]
[451,"303j",0,100000]
[454,"304a",0,100000]
[455,"304b",0,100000]
[456,"304c",0,100000]
[457,"304d",0,100000]
[458,"304i",0,100000]
[459,"304j",0,100000]
[461,"304g",0,100000]
[463,"304e",0,100000]
[467,"311a",10,50]
[468,"311b",10,50]
[469,"311ba",10,40]
[471,"311d",10,50]
[473,"312a",10,50]
[474,"312b",10,40]
[475,"312c",10,40]
[478,"313a",5,40]
[479,"313b",30,45]
[480,"313c",10,45]
[481,"313d",10,50]
[482,"313e",10,40]
[483,"313f",10,25]
[485,"313h",10,40]
[487,"313j",10,25]
[490,"314a",5,40]
[491,"314b",10,45]
[492,"314c",10,50]
[493,"314d",10,40]
[494,"314i",30,45]
[495,"314j",10,45]
[497,"314g",10,40]
[499,"314e",10,25]

{"sheet":"Plant_newOLD","index":17,"n_rows":571,"n_cols":42,"rows_kept":571,"cut":false,"hidden":true,"merged":[[0,0,0,3],[0,4,0,15],[35,2,35,3],[31,2,31,3],[32,4,32,5],[194,1,194,5],[188,1,188,5],[171,1,171,5],[182,1,182,5],[179,1,179,5]]}
["WBCSD Cement Sustainability Initiative\nCement CO2 and Energy Protocol, Version 3.1, CO2 Emissions and Energy Inventory "]
[]
[null,"Date of latest update",null,null,{"$f":"Plant!E3","v":"2013-12-09"}]
[]
["INFORMATION"]
[]
[null,"General Plant Information",null,null,null,null,1990,1991,1992,1993,1994,1995,1996,1997,1998,1999,2000,2001,2002,2003,2004,2005,2006,2007,2008,2009,2010,2011,2012,2013,2014,2015,2016,2017,2018,2019,2020,2021,2022,2023,2024,2025]
[null,1,"Plant"]
[null,2,"Company"]
[null,3,"Country"]
[null,4,"Continent"]
[null,5,"\"Kyoto\" Region (Annex 1 or non-Annex 1)"]
[null,6,"Kiln types"]
[null,"6a","Nominal clinker capacity",null,"[t/d]"]
[null,"6b","Plant type"]
[null,7,"Shares owned by Company",null,"[%]"]
[null,"7aa","Third party verification"]
[null,"7ab","Used Cement CO2 and Energy Protocol version ",null,null,null,"V3.1","V3.1","V3.1","V3.1","V3.1","V3.1","V3.1","V3.1","V3.1","V3.1","V3.1","V3.1","V3.1","V3.1","V3.1","V3.1","V3.1","V3.1","V3.1","V3.1","V3.1","V3.1","V3.1","V3.1","V3.1","V3.1","V3.1","V3.1","V3.1","V3.1","V3.1","V3.1","V3.1","V3.1","V3.1","V3.1"]
[null,"7ac","Short notes or user comment (max. 250 characters)",null,null,null,"Recalculation with protocol V3 (GNR data until 2010 according to V2)","Recalculation with protocol V3 (GNR data until 2010 according to V2)",null,null,null,null,null,null,null,null,"Recalculation with protocol V3 (GNR data until 2010 according to V2)",null,null,null,null,"Recalculation with protocol V3 (GNR data until 2010 according to V2)","Recalculation with protocol V3 (GNR data until 2010 according to V2)","Recalculation with protocol V3 (GNR data until 2010 according to V2)","Recalculation with protocol V3 (GNR data until 2010 according to V2)","Recalculation with protocol V3 (GNR data until 2010 according to V2)","Recalculation with protocol V3 (GNR data until 2010 according to V2)"]
[null,null,null,null,null,null,"."]
[null,"Inventory Boundaries: Coverage of Main Process Steps",null,null,"[yes, no or n.a.]",null,{"$f":"G$7","v":1990},1991,1992,1993,1994,1995,1996,1997,1998,1999,2000,2001,2002,2003,2004,2005,2006,2007,2008,2009,2010,2011,2012,2013,2014,2015,2016,2017,2018,2019,2020,2021,2022,2023,2024,2025]
[null,"7a","Raw material supply (quarrying, mining, crushing)",null,"no"]
[null,"7b","Preparation of raw materials, fuels and additives",null,"no"]
[null,"7c","Kiln operation (pyro-processing)",null,"no"]
[null,"7d","Cement grinding, blending",null,"no"]
[null,"7e","On-site (internal) transport",null,"no"]
[null,"7f","Off-site transport with company-owned fleets",null,"no"]
[null,"7g","On-site power generation",null,"no"]
[null,"7h","Room heating and cooling",null,"no"]
[null,"7i","(add other processes as appropriate)",null,"no"]
[null,"7j","use of internal cement transfer for blending",null,"no"]
[null,"7k","Select year to copy and apply inventory boundaries (7a - 7j) "]
[]
[null,"7n","1.) Select calcination CO2 method (A1; A2; B1; B2)  B1=Standard (no seperate calcination sheet needed).",null,null,null,"B1","B1","B1","B1","B1","B1","B1","B1","B1","B1","B1","B1","B1","B1","B1","B1","B1","B1","B1","B1","B1","B1","B1","B1","B1","B1","B1","B1","B1","B1","B1","B1","B1","B1","B1","B1"]
[null,null,"2.) For A1; A2; B2 check if appropriate calcination sheet (CalcA1; CalcA2 or CalcB2) is already availabe next to plant sheet."]
[null,null,"3.) If not, press the 'create' button one time in order to create one new calcination sheet."]
[]
[null,"Clinker and Cement Production",null,null,null,null,{"$f":"G$7","v":1990},1991,1992,1993,1994,1995,1996,1997,1998,1999,2000,2001,2002,2003,2004,2005,2006,2007,2008,2009,2010,2011,2012,2013,2014,2015,2016,2017,2018,2019,2020,2021,2022,2023,2024,2025]
[null,null,"Clinker:"]
[null,{"$f":"B16+1","v":8},"Clinker production",null,"[t/yr]"]
[null,{"$f":"B40+1","v":9},"Clinker bought from other companies and from cross-border transfer",null,"[t/yr]"]
[null,{"$f":"B41+1","v":10},"Clinker sold to other companies and from cross-border transfer",null,"[t/yr]"]
[null,"10a","Change in clinker stocks (+ = increase; - = reduction)",null,"[t/yr]"]
[null,"10b","Internal clinker transfer (+ = clinker received; - = clinker sent)",null,"[t/yr]"]
[null,"10c","Clinker from internal transfer of processed cement (+ = cement received; - = cement sent)",null,"[t/yr]"]
[null,{"$f":"B42+1","v":11},"Total clinker consumed",null,"[t/yr]",null,{"$f":"IF(COUNTBLANK(G40:G45)=6,\"\",G40+G41-G42-G43+G44+G45)","v":""},"","","","","","","","","","","","","","","","","","","","","","","","","","","","","","","","","","",""]
[]
[null,null,"Mineral components (MIC) used to produce Portland and blended cements:"]
[null,{"$f":"B46+1","v":12},"Gypsum",null,"[t/yr, dry weight]"]
[null,{"$f":"B49+1","v":13},"Limestone",null,"[t/yr, dry weight]"]
[null,{"$f":"B50+1","v":14},"Slag",null,"[t/yr, dry weight]"]
[null,{"$f":"B51+1","v":15},"Fly ash (for blending)",null,"[t/yr, dry weight]"]
[null,{"$f":"B52+1","v":16},"Puzzolana",null,"[t/yr, dry weight]"]
[null,{"$f":"B53+1","v":17},"Others (e.g., CKD added to cement mill)",null,"[t/yr, dry weight]"]
[null,"17a","MIC from internal transfer of processed cement (+ = cement received; - = cement sent)",null,"[t/yr, dry weight]"]
[null,{"$f":"B54+1","v":18},"Total MIC consumed for Portland and blended cements (dry weight)",null,"[t/yr, dry weight]",null,{"$f":"IF(COUNTBLANK(G49:G55)=7,\"\",SUM(G49:G55))","v":""},"","","","","","","","","","","","","","","","","","","","","","","","","","","","","","","","","","",""]
[]
[null,null,"Processed mineral components (MIC) sold externally or transferred internally (dry weight):"]
[null,"19a","Processed slag sold externally",null,"[t/yr, dry weight]"]
[null,"19b","Processed fly ash and other puzzolana sold externally",null,"[t/yr, dry weight]"]
[null,"19c","Total internal processed MIC transfer (+ = received; - = sent)",null,"[t/yr, dry weight]"]
[null,19,"Total processed MIC's used as clinker or cement substitute sold externally",null,"[t/yr, dry weight]",null,{"$f":"IF(COUNTBLANK(G59:G61)=3,\"\",SUM(G59:G61))","v":""},"","","","","","","","","","","","","","","","","","","","","","","","","","","","","","","","","","",""]
[]
[null,null,"Production totals:"]
[null,{"$f":"B62+1","v":20},"Total Portland and Blended cements ",null,"[t/yr]",null,{"$f":"IF(OR(G46=\"\",G56=\"\"),\"\",G46+G56)","v":""},"","","","","","","","","","","","","","","","","","","","","","","","","","","","","","","","","","",""]
[null,{"$f":"B65+1","v":21},"Total cements + substitutes: Portland, Blended, Slag, etc.",null,"[t/yr]",null,{"$f":"IF(OR(G46=\"\",G56=\"\",G62=\"\"),\"\",G46+G56+G62)","v":""},"","","","","","","","","","","","","","","","","","","","","","","","","","","","","","","","","","",""]
[null,"21a","Total cementitious products",null,"[t/yr]",null,{"$f":"IF(OR(G40=\"\",G56=\"\",G62=\"\"),\"\",G40+G56+G62)","v":""},"","","","","","","","","","","","","","","","","","","","","","","","","","","","","","","","","","",""]
[null,"21b","Total cement equivalent",null,"[t/yr]",null,{"$f":"IF(OR(G40=\"\",G40=0,G209=\"n. appl.\"),\"n. appl.\",G40/G209)","v":"n. appl."},{"$f":"IF(OR(H40=\"\",H40=0,H209=\"n. appl.\"),\"n. appl.\",H40/H209)","v":"n. appl."},"n. appl.","n. appl.","n. appl.","n. appl.","n. appl.","n. appl.","n. appl.","n. appl.","n. appl.","n. appl.","n. appl.","n. appl.","n. appl.","n. appl.","n. appl.","n. appl.","n. appl.","n. appl.","n. appl.","n. appl.","n. appl.","n. appl.","n. appl.","n. appl.","n. appl.","n. appl.","n. appl.","n. appl.","n. appl.","n. appl.","n. appl.","n. appl.","n. appl.","n. appl."]
[]
[null,"Dust Production (dry weight)",null,null,null,null,{"$f":"G$7","v":1990},1991,1992,1993,1994,1995,1996,1997,1998,1999,2000,2001,2002,2003,2004,2005,2006,2007,2008,2009,2010,2011,2012,2013,2014,2015,2016,2017,2018,2019,2020,2021,2022,2023,2024,2025]
[null,22,"Bypass dust leaving kiln system",null,"[t/yr, dry weight]",null,0,0,0,0,0,0,0,0,0,0,0,0,0,0,0,0,0,0,0,0,0,0,0,0,0,0,0,0,0,0,0,0,0,0,0,0]
[null,{"$f":"B71+1","v":23},"CKD leaving the kiln system",null,"[t/yr, dry weight]",null,0,0,0,0,0,0,0,0,0,0,0,0,0,0,0,0,0,0,0,0,0,0,0,0,0,0,0,0,0,0,0,0,0,0,0,0]
[null,{"$f":"B72+1","v":24},"CKD calcination rate d (Plant specific value or default 0%= dry kilns, 100%= for other kiln types)",null,"[%]",null,0,0,0,0,0,0,0,0,0,0,0,0,0,0,0,0,0,0,0,0,0,0,0,0,0,0,0,0,0,0,0,0,0,0,0,0]
[]
[null,"Kiln Fuel Consumption incl. raw material and fuel drying",null,null,null,null,{"$f":"G$7","v":1990},1991,1992,1993,1994,1995,1996,1997,1998,1999,2000,2001,2002,2003,2004,2005,2006,2007,2008,2009,2010,2011,2012,2013,2014,2015,2016,2017,2018,2019,2020,2021,2022,2023,2024,2025]
[null,25,"Total heat consumption of kilns",null,"[TJ/yr]",null,{"$f":"IF(COUNTBLANK(G78:G80)=3,\"\",SUM(G78:G80))","v":0},0,0,0,0,0,0,0,0,0,0,0,0,0,0,0,0,0,0,0,0,0,0,0,0,0,0,0,0,0,0,0,0,0,0,0]
[null,"25a","Total heat consumption of kilns excluding drying of fuels and raw materials",null,"[TJ/yr]",null,{"$f":"IF(OR(G76=\"\",G335=\"\",G342=\"\",G344=\"\"),\"\",G76-G335-G342-G344)","v":0},0,0,0,0,0,0,0,0,0,0,0,0,0,0,0,0,0,0,0,0,0,0,0,0,0,0,0,0,0,0,0,0,0,0,0]
[null,{"$f":"B76+1","v":26},"Conventional fossil fuels",null,"[TJ/yr]",null,{"$f":"IF(OR(G308=\"\",G335=\"\"),\"\",G308+G335)","v":0},0,0,0,0,0,0,0,0,0,0,0,0,0,0,0,0,0,0,0,0,0,0,0,0,0,0,0,0,0,0,0,0,0,0,0]
[null,{"$f":"B78+1","v":27},"Alternative fuels, fossil content; excluding biomass fraction of mixed fuels",null,"[TJ/yr]",null,{"$f":"IF(OR(G316=\"\",G342=\"\"),\"\",G316+G342)","v":0},0,0,0,0,0,0,0,0,0,0,0,0,0,0,0,0,0,0,0,0,0,0,0,0,0,0,0,0,0,0,0,0,0,0,0]
[null,{"$f":"B79+1","v":28},"Biomass fuels, incl. biomass content of alternative fuels",null,"[TJ/yr]",null,{"$f":"IF(OR(G324=\"\",G344=\"\"),\"\",G324+G344)","v":0},0,0,0,0,0,0,0,0,0,0,0,0,0,0,0,0,0,0,0,0,0,0,0,0,0,0,0,0,0,0,0,0,0,0,0]
[]
[null,"Non-Kiln Fuel Consumption",null,null,null,null,{"$f":"G$7","v":1990},1991,1992,1993,1994,1995,1996,1997,1998,1999,2000,2001,2002,2003,2004,2005,2006,2007,2008,2009,2010,2011,2012,2013,2014,2015,2016,2017,2018,2019,2020,2021,2022,2023,2024,2025]
[null,30,"Equipment and on-site vehicles",null,"[TJ/yr]",null,{"$f":"G502+G506","v":0},0,0,0,0,0,0,0,0,0,0,0,0,0,0,0,0,0,0,0,0,0,0,0,0,0,0,0,0,0,0,0,0,0,0,0]
[null,"31a","Room heating and cooling",null,"[TJ/yr]",null,{"$f":"G508","v":0},0,0,0,0,0,0,0,0,0,0,0,0,0,0,0,0,0,0,0,0,0,0,0,0,0,0,0,0,0,0,0,0,0,0,0]
[null,"31b","Drying of mineral components",null,"[TJ/yr]",null,{"$f":"IF(OR(G513=\"\",G520=\"\",G522=\"\"),\"\",G513+G520+G522)","v":0},0,0,0,0,0,0,0,0,0,0,0,0,0,0,0,0,0,0,0,0,0,0,0,0,0,0,0,0,0,0,0,0,0,0,0]
[null,"31c","On-site power generation",null,"[TJ/yr]",null,{"$f":"IF(OR(G525=\"\",G532=\"\",G534=\"\"),\"\",G525+G532+G534)","v":0},0,0,0,0,0,0,0,0,0,0,0,0,0,0,0,0,0,0,0,0,0,0,0,0,0,0,0,0,0,0,0,0,0,0,0]
[null,32,"Total non-kiln fuel consumption",null,"[TJ/yr]",null,{"$f":"IF(COUNTBLANK(G83:G86)=4,\"\",SUM(G83:G86))","v":0},0,0,0,0,0,0,0,0,0,0,0,0,0,0,0,0,0,0,0,0,0,0,0,0,0,0,0,0,0,0,0,0,0,0,0]
[]
[null,"Power Balance",null,null,null,null,{"$f":"G$7","v":1990},1991,1992,1993,1994,1995,1996,1997,1998,1999,2000,2001,2002,2003,2004,2005,2006,2007,2008,2009,2010,2011,2012,2013,2014,2015,2016,2017,2018,2019,2020,2021,2022,2023,2024,2025]
[null,"33a","Total power production from separate on-site power generation",null,"[MWh/yr]",null,0,0,0,0,0,0,0,0,0,0,0,0,0,0,0,0,0,0,0,0,0,0,0,0,0,0,0,0,0,0,0,0,0,0,0,0]
[null,"33aa","       Power delivered to cement plant",null,"[MWh/yr]",null,0,0,0,0,0,0,0,0,0,0,0,0,0,0,0,0,0,0,0,0,0,0,0,0,0,0,0,0,0,0,0,0,0,0,0,0]
[null,"33ab","       Power delivered externally",null,"[MWh/yr]",null,0,0,0,0,0,0,0,0,0,0,0,0,0,0,0,0,0,0,0,0,0,0,0,0,0,0,0,0,0,0,0,0,0,0,0,0]
[null,"33ac","       Power consumed by on-site power generation equipment",null,"[MWh/yr]",null,{"$f":"IF(OR(G90=\"\",G91=\"\",G92=\"\"),\"\",G90-G91-G92)","v":0},0,0,0,0,0,0,0,0,0,0,0,0,0,0,0,0,0,0,0,0,0,0,0,0,0,0,0,0,0,0,0,0,0,0,0]
[null,"33ad","       CO2 per power unit produced by separate on-site power generation",null,"[kg CO2/MWh]",null,{"$f":"IF(G90=0,\"\",G155/G90*1000)","v":""},"","","","","","","","","","","","","","","","","","","","","","","","","","","","","","","","","","",""]
[null,"33b","Total power production from waste heat recovery",null,"[MWh/yr]",null,0,0,0,0,0,0,0,0,0,0,0,0,0,0,0,0,0,0,0,0,0,0,0,0,0,0,0,0,0,0,0,0,0,0,0,0]
[null,"33ba","       Power delivered to cement plant",null,"[MWh/yr]",null,0,0,0,0,0,0,0,0,0,0,0,0,0,0,0,0,0,0,0,0,0,0,0,0,0,0,0,0,0,0,0,0,0,0,0,0]
[null,"33bb","       Power delivered externally",null,"[MWh/yr]",null,0,0,0,0,0,0,0,0,0,0,0,0,0,0,0,0,0,0,0,0,0,0,0,0,0,0,0,0,0,0,0,0,0,0,0,0]
[null,"33bc","       Power consumed by waste heat recovery equipment",null,"[MWh/yr]",null,{"$f":"IF(OR(G95=\"\",G96=\"\",G97=\"\"),\"\",G95-G96-G97)","v":0},0,0,0,0,0,0,0,0,0,0,0,0,0,0,0,0,0,0,0,0,0,0,0,0,0,0,0,0,0,0,0,0,0,0,0]
[null,"33c","Total external power consumption for cement manufacturing",null,"[MWh/yr]",null,{"$f":"IF(COUNTBLANK(G100:G102)=3,\"\",SUM(G100:G102))","v":0},0,0,0,0,0,0,0,0,0,0,0,0,0,0,0,0,0,0,0,0,0,0,0,0,0,0,0,0,0,0,0,0,0,0,0]
[null,"33ca","      External power delivered to cement plant",null,"[MWh/yr]"]
[null,"33cb","      Cement-related external power delivered to on-site power generation plant",null,"[MWh/yr]",null,0,0,0,0,0,0,0,0,0,0,0,0,0,0,0,0,0,0,0,0,0,0,0,0,0,0,0,0,0,0,0,0,0,0,0,0]
[null,"33cc","      Cement-related external power delivered to waste heat recovery plant",null,"[MWh/yr]",null,0,0,0,0,0,0,0,0,0,0,0,0,0,0,0,0,0,0,0,0,0,0,0,0,0,0,0,0,0,0,0,0,0,0,0,0]
[null,"33d","      CO2 per power unit produced externally",null,"[kg CO2/MWh]"]
[null,"33e","Power consumption up to and including clinker production",null,"[MWh/yr]"]
[null,33,"Total cement plant power consumption",null,"[MWh/yr]",null,{"$f":"IF(AND(G91=0,G96=0,G100=\"\"),\"\",G91+G96+G100)","v":""},"","","","","","","","","","","","","","","","","","","","","","","","","","","","","","","","","","",""]
[]
[null,"Waste Heat Use",null,null,null,null,{"$f":"G$7","v":1990},1991,1992,1993,1994,1995,1996,1997,1998,1999,2000,2001,2002,2003,2004,2005,2006,2007,2008,2009,2010,2011,2012,2013,2014,2015,2016,2017,2018,2019,2020,2021,2022,2023,2024,2025]
[null,34,"Waste heat supplied to external consumers",null,"[GJ/yr]",null,0,0,0,0,0,0,0,0,0,0,0,0,0,0,0,0,0,0,0,0,0,0,0,0,0,0,0,0,0,0,0,0,0,0,0,0]
[null,"34a","Waste heat used internally (incl. power generation)",null,"[GJ/yr]"]
[]
["CO2 EMISSIONS "]
[]
[null,"Calculation method in calcination sheet",null,null,null,null,{"$f":"G$7","v":1990},1991,1992,1993,1994,1995,1996,1997,1998,1999,2000,2001,2002,2003,2004,2005,2006,2007,2008,2009,2010,2011,2012,2013,2014,2015,2016,2017,2018,2019,2020,2021,2022,2023,2024,2025]
[null,"34d","Calculation method in calcination sheet",null,"A1; A2; B1; B2",null,{"$f":"IF(G34=\"\",\"\",G34)","v":"B1"},"B1","B1","B1","B1","B1","B1","B1","B1","B1","B1","B1","B1","B1","B1","B1","B1","B1","B1","B1","B1","B1","B1","B1","B1","B1","B1","B1","B1","B1","B1","B1","B1","B1","B1","B1"]
[]
[null,"Data for Simple Input Method (A1)",null,null,null,null,{"$f":"G$7","v":1990},1991,1992,1993,1994,1995,1996,1997,1998,1999,2000,2001,2002,2003,2004,2005,2006,2007,2008,2009,2010,2011,2012,2013,2014,2015,2016,2017,2018,2019,2020,2021,2022,2023,2024,2025]
[null,"34e","Input CalcA1: Raw meal consumption (Line 525)",null,"[t/yr, dry weight]"]
[null,"34f","Input CalcA1: Total CO2 from raw materials (Line 526)",null,"[t CO2/yr]"]
[]
[null,"Data for Detailed Input Method (A2)",null,null,null,null,{"$f":"G$7","v":1990},1991,1992,1993,1994,1995,1996,1997,1998,1999,2000,2001,2002,2003,2004,2005,2006,2007,2008,2009,2010,2011,2012,2013,2014,2015,2016,2017,2018,2019,2020,2021,2022,2023,2024,2025]
[null,"34i","Input CalcA2: Raw meal consumption (Line 681)",null,"[t/yr, dry weight]"]
[null,"34j","Input CalcA2: Total CO2 from raw materials (Line 682)",null,"[t CO2/yr]"]
[]
[null,"Data for Simple Output Method (B1)",null,null,null,null,{"$f":"G$7","v":1990},1991,1992,1993,1994,1995,1996,1997,1998,1999,2000,2001,2002,2003,2004,2005,2006,2007,2008,2009,2010,2011,2012,2013,2014,2015,2016,2017,2018,2019,2020,2021,2022,2023,2024,2025]
[null,"34m","Standard calcination emission factor [default 525 kg CO2/t clinker]",null,"[kg CO2/t cli]",null,525,525,525,525,525,525,525,525,525,525,525,525,525,525,525,525,525,525,525,525,525,525,525,525,525,525,525,525,525,525,525,525,525,525,525,525]
[null,"34n","Organic carbon content of raw meal (average), default value 0.2%, or set plant specific value",null,"[%, dry weight]",null,2E-3,2E-3,2E-3,2E-3,2E-3,2E-3,2E-3,2E-3,2E-3,2E-3,2E-3,2E-3,2E-3,2E-3,2E-3,2E-3,2E-3,2E-3,2E-3,2E-3,2E-3,2E-3,2E-3,2E-3,2E-3,2E-3,2E-3,2E-3,2E-3,2E-3,2E-3,2E-3,2E-3,2E-3,2E-3,2E-3]
[null,"34o","Raw meal : clinker ratio, default value 1.55, or set plant specific value",null,"[--, dry weight]",null,1.55,1.55,1.55,1.55,1.55,1.55,1.55,1.55,1.55,1.55,1.55,1.55,1.55,1.55,1.55,1.55,1.55,1.55,1.55,1.55,1.55,1.55,1.55,1.55,1.55,1.55,1.55,1.55,1.55,1.55,1.55,1.55,1.55,1.55,1.55,1.55]
[]
[null,"Data for Detailed Output Method (B2)",null,null,null,null,{"$f":"G$7","v":1990},1991,1992,1993,1994,1995,1996,1997,1998,1999,2000,2001,2002,2003,2004,2005,2006,2007,2008,2009,2010,2011,2012,2013,2014,2015,2016,2017,2018,2019,2020,2021,2022,2023,2024,2025]
[null,"34q","Input CalcB2: Calcination emission factor corrected for CaO,MgO, Ca-Si, Mg-Si imports (Line 820)",null,"[kg CO2/t cli]"]
[null,"34r","Organic carbon content of raw meal (average), default value 0.2%, or set plant specific value",null,"[%, dry weight]",null,2E-3,2E-3,2E-3,2E-3,2E-3,2E-3,2E-3,2E-3,2E-3,2E-3,2E-3,2E-3,2E-3,2E-3,2E-3,2E-3,2E-3,2E-3,2E-3,2E-3,2E-3,2E-3,2E-3,2E-3,2E-3,2E-3,2E-3,2E-3,2E-3,2E-3,2E-3,2E-3,2E-3,2E-3,2E-3,2E-3]
[null,"34s","Raw meal : clinker ratio, default value 1.55, or set plant specific value",null,"[--, dry weight]",null,1.55,1.55,1.55,1.55,1.55,1.55,1.55,1.55,1.55,1.55,1.55,1.55,1.55,1.55,1.55,1.55,1.55,1.55,1.55,1.55,1.55,1.55,1.55,1.55,1.55,1.55,1.55,1.55,1.55,1.55,1.55,1.55,1.55,1.55,1.55,1.55]
[]
["Direct CO2 Emissions"]
[null,"CO2 from Raw Materials",null,null,null,null,{"$f":"G$7","v":1990},1991,1992,1993,1994,1995,1996,1997,1998,1999,2000,2001,2002,2003,2004,2005,2006,2007,2008,2009,2010,2011,2012,2013,2014,2015,2016,2017,2018,2019,2020,2021,2022,2023,2024,2025]
[null,"35a","Calcination emission factor, corrected for CaO- and MgO imports",null,"[kg CO2/t cli]",null,{"$f":"IF(G114=\"B2\",G130,IF(G114=\"B1\",G125,\"n. appl.\"))","v":525},525,525,525,525,525,525,525,525,525,525,525,525,525,525,525,525,525,525,525,525,525,525,525,525,525,525,525,525,525,525,525,525,525,525,525]
[null,"35b","Organic carbon content of raw meal (average)",null,"[%, dry weight]",null,{"$f":"IF(G114=\"B1\",G126,IF(G114=\"B2\",G131,\"n. appl.\"))","v":2E-3},2E-3,2E-3,2E-3,2E-3,2E-3,2E-3,2E-3,2E-3,2E-3,2E-3,2E-3,2E-3,2E-3,2E-3,2E-3,2E-3,2E-3,2E-3,2E-3,2E-3,2E-3,2E-3,2E-3,2E-3,2E-3,2E-3,2E-3,2E-3,2E-3,2E-3,2E-3,2E-3,2E-3,2E-3,2E-3]
[null,"35c","Raw meal : clinker ratio",null,"[--, dry weight]",null,{"$f":"IF(G114=\"B1\",G127,IF(G114=\"B2\",G132,\"n. appl.\"))","v":1.55},1.55,1.55,1.55,1.55,1.55,1.55,1.55,1.55,1.55,1.55,1.55,1.55,1.55,1.55,1.55,1.55,1.55,1.55,1.55,1.55,1.55,1.55,1.55,1.55,1.55,1.55,1.55,1.55,1.55,1.55,1.55,1.55,1.55,1.55,1.55]
[null,"35d","Raw meal consumption",null,"[t/yr, dry weight]",null,{"$f":"IF(G114=\"A1\",G117,IF(G114=\"A2\",G121,IF(G40=\"\",\"\",G40*G138)))","v":""},"","","","","","","","","","","","","","","","","","","","","","","","","","","","","","","","","","",""]
[null,36,"CO2 from calcination of raw materials consumed for clinker production",null,"[t CO2/yr]",null,{"$f":"IF(OR(G114=\"A1\",G114=\"A2\"),\"n. appl.\",IF(G40=\"\",\"\",G$136/1000*G40))","v":""},"","","","","","","","","","","","","","","","","","","","","","","","","","","","","","","","","","",""]
[null,{"$f":"B140+1","v":37},"CO2 from calcination of bypass dust leaving the kiln system",null,"[t CO2/yr]",null,{"$f":"IF(OR(G114=\"A1\",G114=\"A2\"),\"n. appl.\",IF(G71=\"\",\"\",G$136/1000*G71))","v":0},0,0,0,0,0,0,0,0,0,0,0,0,0,0,0,0,0,0,0,0,0,0,0,0,0,0,0,0,0,0,0,0,0,0,0]
[null,"38a","CO2 from calcination of CKD leaving the kiln system",null,"[t CO2/yr]",null,{"$f":"IF(OR(G114=\"A1\",G114=\"A2\"),\"n. appl.\",IF(G72=\"\",\"\",G72*G136/1000/(1+G136/1000)*G73/(1-G136/1000/(1+G136/1000)*G73)))","v":0},0,0,0,0,0,0,0,0,0,0,0,0,0,0,0,0,0,0,0,0,0,0,0,0,0,0,0,0,0,0,0,0,0,0,0]
[null,"38b","CO2 from organic carbon content of raw meal",null,"[t CO2/yr]",null,{"$f":"IF(OR(G114=\"A1\",G114=\"A2\"),\"n. appl.\",IF(G139=\"\",\"\",G137*G139*3.664))","v":""},"","","","","","","","","","","","","","","","","","","","","","","","","","","","","","","","","","",""]
[null,39,"Total CO2 from raw materials",null,"[t CO2/yr]",null,{"$f":"IF(G114=\"A1\",G118,IF(G114=\"A2\",G122,SUM(G140:G143)))","v":0},0,0,0,0,0,0,0,0,0,0,0,0,0,0,0,0,0,0,0,0,0,0,0,0,0,0,0,0,0,0,0,0,0,0,0]
[]
[null,"CO2 from Kiln Fuels (incl. drying of fuels and raw materials)",null,null,null,null,{"$f":"G$7","v":1990},1991,1992,1993,1994,1995,1996,1997,1998,1999,2000,2001,2002,2003,2004,2005,2006,2007,2008,2009,2010,2011,2012,2013,2014,2015,2016,2017,2018,2019,2020,2021,2022,2023,2024,2025]
[null,{"$f":"B144+1","v":40},"CO2 from conventional fossil fuels",null,"[t CO2/yr]",null,{"$f":"IF(OR(G388=\"\",G415=\"\"),\"\",G388+G415)","v":0},0,0,0,0,0,0,0,0,0,0,0,0,0,0,0,0,0,0,0,0,0,0,0,0,0,0,0,0,0,0,0,0,0,0,0]
[null,{"$f":"B147+1","v":41},"CO2 from alternative fossil fuels",null,"[t CO2/yr]",null,{"$f":"IF(OR(G396=\"\",G422=\"\"),\"\",G396+G422)","v":0},0,0,0,0,0,0,0,0,0,0,0,0,0,0,0,0,0,0,0,0,0,0,0,0,0,0,0,0,0,0,0,0,0,0,0]
[null,43,"Total CO2 from fossil-based kiln fuels",null,"[t CO2/yr]",null,{"$f":"IF(COUNTBLANK(G147:G148)=2,\"\",SUM(G147:G148))","v":0},0,0,0,0,0,0,0,0,0,0,0,0,0,0,0,0,0,0,0,0,0,0,0,0,0,0,0,0,0,0,0,0,0,0,0]
[]
[null,"CO2 from Non-Kiln Fuels",null,null,null,null,{"$f":"G$7","v":1990},1991,1992,1993,1994,1995,1996,1997,1998,1999,2000,2001,2002,2003,2004,2005,2006,2007,2008,2009,2010,2011,2012,2013,2014,2015,2016,2017,2018,2019,2020,2021,2022,2023,2024,2025]
[null,44,"CO2 from equipment and on-site vehicles (fossil fuels)",null,"[t CO2/yr]",null,{"$f":"G538","v":0},0,0,0,0,0,0,0,0,0,0,0,0,0,0,0,0,0,0,0,0,0,0,0,0,0,0,0,0,0,0,0,0,0,0,0]
[null,"45a","CO2 from room heating and cooling (fossil fuels)",null,"[t CO2/yr]",null,{"$f":"G544","v":0},0,0,0,0,0,0,0,0,0,0,0,0,0,0,0,0,0,0,0,0,0,0,0,0,0,0,0,0,0,0,0,0,0,0,0]
[null,"45b","CO2 from drying of mineral components (fossil fuels)",null,"[t CO2/yr]",null,{"$f":"IF(OR(G549=\"\",G556=\"\"),\"\",G549+G556)","v":0},0,0,0,0,0,0,0,0,0,0,0,0,0,0,0,0,0,0,0,0,0,0,0,0,0,0,0,0,0,0,0,0,0,0,0]
[null,"45c","CO2 from seperate on-site power generation (fossil fuels)",null,"[t CO2/yr]",null,{"$f":"IF(OR(G561=\"\",G568=\"\"),\"\",G561+G568)","v":0},0,0,0,0,0,0,0,0,0,0,0,0,0,0,0,0,0,0,0,0,0,0,0,0,0,0,0,0,0,0,0,0,0,0,0]
[null,46,"Total CO2 from non-kiln fossil fuels",null,"[t CO2/yr]",null,{"$f":"IF(COUNTBLANK(G152:G155)=4,\"\",SUM(G152:G155))","v":0},0,0,0,0,0,0,0,0,0,0,0,0,0,0,0,0,0,0,0,0,0,0,0,0,0,0,0,0,0,0,0,0,0,0,0]
[]
[null,"Total Direct CO2 Emissions ",null,null,null,null,{"$f":"G$7","v":1990},1991,1992,1993,1994,1995,1996,1997,1998,1999,2000,2001,2002,2003,2004,2005,2006,2007,2008,2009,2010,2011,2012,2013,2014,2015,2016,2017,2018,2019,2020,2021,2022,2023,2024,2025]
[null,48,"Total direct CO2: all fossil CO2 sources",null,"[t CO2/yr]",null,{"$f":"IF(OR(G144=\"\",G149=\"\",G156=\"\"),\"\",G144+G149+G156)","v":0},0,0,0,0,0,0,0,0,0,0,0,0,0,0,0,0,0,0,0,0,0,0,0,0,0,0,0,0,0,0,0,0,0,0,0]
[]
["Indirect CO2 Emissions (Main Sources)",null,null,null,null,null,{"$f":"G$7","v":1990},1991,1992,1993,1994,1995,1996,1997,1998,1999,2000,2001,2002,2003,2004,2005,2006,2007,2008,2009,2010,2011,2012,2013,2014,2015,2016,2017,2018,2019,2020,2021,2022,2023,2024,2025]
[null,"49a","CO2 from external power generation",null,"[t CO2/yr]",null,{"$f":"IF(G99=0,\"\",G99*G103/1000)","v":""},"","","","","","","","","","","","","","","","","","","","","","","","","","","","","","","","","","",""]
[null,"49b","Emission factor for inbound clinker",null,"[kg CO2/t cli]",null,865,865,865,865,865,865,865,865,865,865,865,865,865,865,865,865,865,865,865,865,865,865,865,865,865,865,865,865,865,865,865,865,865,865,865,865]
[null,"49c","CO2 from net inbound (+) / outbound (-) clinker",null,"[t CO2/yr]",null,{"$f":"IF(OR(G41=\"\",G44=\"\",G45=\"\",G42=\"\"),\"\",IF(G184<>\"n. appl.\",(((G41+G44+G45)*G163)-(G42*G184))/1000,(G41+G44+G45)*G163/1000))","v":""},"","","","","","","","","","","","","","","","","","","","","","","","","","","","","","","","","","",""]
[null,"49d","Total indirect CO2 (main sources)",null,"[t CO2/yr]",null,{"$f":"IF(OR(G162=\"\",G164=\"\"),\"\",G162+G164)","v":""},"","","","","","","","","","","","","","","","","","","","","","","","","","","","","","","","","","",""]
[]
["Direct CO2 from Biomass (Memo Item)",null,null,null,null,null,{"$f":"G$7","v":1990},1991,1992,1993,1994,1995,1996,1997,1998,1999,2000,2001,2002,2003,2004,2005,2006,2007,2008,2009,2010,2011,2012,2013,2014,2015,2016,2017,2018,2019,2020,2021,2022,2023,2024,2025]
[null,50,"CO2 from combustion of biomass (kiln and non-kiln fuels, incl. biomass content of mixed fuels)",null,"[t CO2/yr]",null,{"$f":"IF(OR(G404=\"\",G424=\"\",G542=\"\",G558=\"\",G570=\"\"),\"\",G404+G424+G542+G558+G570)","v":0},0,0,0,0,0,0,0,0,0,0,0,0,0,0,0,0,0,0,0,0,0,0,0,0,0,0,0,0,0,0,0,0,0,0,0]
[]
["PERFORMANCE INDICATORS"]
[]
[null,"Absolute Direct CO2 Emissions",null,null,null,null,{"$f":"G$7","v":1990},1991,1992,1993,1994,1995,1996,1997,1998,1999,2000,2001,2002,2003,2004,2005,2006,2007,2008,2009,2010,2011,2012,2013,2014,2015,2016,2017,2018,2019,2020,2021,2022,2023,2024,2025]
[null,59,"Absolute gross CO2 including CO2 from on-site power generation",null,"[t CO2/yr]",null,{"$f":"IF(OR(G144=\"\",G149=\"\",G156=\"\"),\"\",G144+G149+G156)","v":0},0,0,0,0,0,0,0,0,0,0,0,0,0,0,0,0,0,0,0,0,0,0,0,0,0,0,0,0,0,0,0,0,0,0,0]
[null,"Gross CO2 Emissions (=direct fossil CO2 excluding CO2 from on-site power generation)",null,null,null,null,{"$f":"G$7","v":1990},1991,1992,1993,1994,1995,1996,1997,1998,1999,2000,2001,2002,2003,2004,2005,2006,2007,2008,2009,2010,2011,2012,2013,2014,2015,2016,2017,2018,2019,2020,2021,2022,2023,2024,2025]
[null,"59c","Absolute gross CO2",null,"[t CO2/yr]",null,{"$f":"IF(OR(G173=\"\",G155=\"\"),\"\",G173-G155)","v":0},0,0,0,0,0,0,0,0,0,0,0,0,0,0,0,0,0,0,0,0,0,0,0,0,0,0,0,0,0,0,0,0,0,0,0]
[null,"59a",null,"calcination component","[t CO2/yr]",null,{"$f":"G144","v":0},0,0,0,0,0,0,0,0,0,0,0,0,0,0,0,0,0,0,0,0,0,0,0,0,0,0,0,0,0,0,0,0,0,0,0]
[null,"59b",null,"fuel component","[t CO2/yr]",null,{"$f":"IF(OR(G149=\"\",G152=\"\",G153=\"\",G154=\"\"),\"\",G149+G152+G153+G154)","v":0},0,0,0,0,0,0,0,0,0,0,0,0,0,0,0,0,0,0,0,0,0,0,0,0,0,0,0,0,0,0,0,0,0,0,0]
[null,"Net CO2 Emissions (= gross CO2 minus alternative fossil fuels CO2; excluding CO2 from on-site power generation)",null,null,null,null,{"$f":"G$7","v":1990},1991,1992,1993,1994,1995,1996,1997,1998,1999,2000,2001,2002,2003,2004,2005,2006,2007,2008,2009,2010,2011,2012,2013,2014,2015,2016,2017,2018,2019,2020,2021,2022,2023,2024,2025]
[null,71,"Absolute net CO2",null,"[t CO2/yr]",null,{"$f":"IF(OR(G175=\"\",G148=\"\"),\"\",G175-G148)","v":0},0,0,0,0,0,0,0,0,0,0,0,0,0,0,0,0,0,0,0,0,0,0,0,0,0,0,0,0,0,0,0,0,0,0,0]
[null,"Biomass CO2 Emissions (Memo Item)",null,null,null,null,{"$f":"G$7","v":1990},1991,1992,1993,1994,1995,1996,1997,1998,1999,2000,2001,2002,2003,2004,2005,2006,2007,2008,2009,2010,2011,2012,2013,2014,2015,2016,2017,2018,2019,2020,2021,2022,2023,2024,2025]
[null,"83a","Absolute CO2 from biomass sources (including biomass content of mixed fuels)",null,"[t CO2/yr]",null,{"$f":"G168","v":0},0,0,0,0,0,0,0,0,0,0,0,0,0,0,0,0,0,0,0,0,0,0,0,0,0,0,0,0,0,0,0,0,0,0,0]
[]
[null,"Specific Gross and Net CO2 Emissions per Clinker Produced",null,null,null,null,{"$f":"G$7","v":1990},1991,1992,1993,1994,1995,1996,1997,1998,1999,2000,2001,2002,2003,2004,2005,2006,2007,2008,2009,2010,2011,2012,2013,2014,2015,2016,2017,2018,2019,2020,2021,2022,2023,2024,2025]
[null,60,"Specific gross CO2 ","per tonne of clinker produced","[kg CO2/t cli]",null,{"$f":"IF(G$40=\"\",\"\",IF(G$40=0,\"n. appl.\",G175/G$40*1000))","v":""},"","","","","","","","","","","","","","","","","","","","","","","","","","","","","","","","","","",""]
[null,"60a",null,"calcination component","[kg CO2/t cli]",null,{"$f":"IF(G$40=\"\",\"\",IF(G$40=0,\"n. appl.\",G176/G$40*1000))","v":""},"","","","","","","","","","","","","","","","","","","","","","","","","","","","","","","","","","",""]
[null,"60b",null,"fuel component","[kg CO2/t cli]",null,{"$f":"IF(G$40=\"\",\"\",IF(G$40=0,\"n. appl.\",G177/G$40*1000))","v":""},"","","","","","","","","","","","","","","","","","","","","","","","","","","","","","","","","","",""]
[null,73,"Specific net CO2 ","per tonne of clinker produced","[kg CO2/t cli]",null,{"$f":"IF(G$40=\"\",\"\",IF(G$40=0,\"n. appl.\",G179/G$40*1000))","v":""},"","","","","","","","","","","","","","","","","","","","","","","","","","","","","","","","","","",""]
[]
[null,"Specific Gross and Net CO2 Emissions per Cement (equivalent)",null,null,null,null,{"$f":"G$7","v":1990},1991,1992,1993,1994,1995,1996,1997,1998,1999,2000,2001,2002,2003,2004,2005,2006,2007,2008,2009,2010,2011,2012,2013,2014,2015,2016,2017,2018,2019,2020,2021,2022,2023,2024,2025]
[null,63,"Specific gross CO2","per tonne of cement (eq.)","[kg CO2/t cem eq.]",null,{"$f":"IF(OR(G175=\"\",G68=\"n. appl.\"),\"n. appl.\",G175/G68*1000)","v":"n. appl."},{"$f":"IF(OR(H175=\"\",H68=\"n. appl.\"),\"n. appl.\",H175/H68*1000)","v":"n. appl."},"n. appl.","n. appl.","n. appl.","n. appl.","n. appl.","n. appl.","n. appl.","n. appl.","n. appl.","n. appl.","n. appl.","n. appl.","n. appl.","n. appl.","n. appl.","n. appl.","n. appl.","n. appl.","n. appl.","n. appl.","n. appl.","n. appl.","n. appl.","n. appl.","n. appl.","n. appl.","n. appl.","n. appl.","n. appl.","n. appl.","n. appl.","n. appl.","n. appl.","n. appl."]
[null,"63a",null,"calcination component","[kg CO2/t cem eq.]",null,{"$f":"IF(G$40=\"\",\"\",IF(OR(G$40=0,G46=0),\"n. appl.\",G176/G$68*1000))","v":""},{"$f":"IF(H$40=\"\",\"\",IF(OR(H$40=0,H46=0),\"n. appl.\",H176/H$68*1000))","v":""},"","","","","","","","","","","","","","","","","","","","","","","","","","","","","","","","","",""]
[null,"63b",null,"fuel component","[kg CO2/t cem eq.]",null,{"$f":"IF(G$40=\"\",\"\",IF(OR(G$40=0,G46=0),\"n. appl.\",G177/G$68*1000))","v":""},{"$f":"IF(H$40=\"\",\"\",IF(OR(H$40=0,H46=0),\"n. appl.\",H177/H$68*1000))","v":""},"","","","","","","","","","","","","","","","","","","","","","","","","","","","","","","","","",""]
[null,{"$f":"B199+1","v":75},"Specific net CO2 ","per tonne of cement (eq.)","[kg CO2/t cem eq.]",null,{"$f":"IF(OR(G$68=\"n. appl.\",G$68=0),\"n. appl.\",G179/G$68*1000)","v":"n. appl."},{"$f":"IF(OR(H$68=\"n. appl.\",H$68=0),\"n. appl.\",H179/H$68*1000)","v":"n. appl."},"n. appl.","n. appl.","n. appl.","n. appl.","n. appl.","n. appl.","n. appl.","n. appl.","n. appl.","n. appl.","n. appl.","n. appl.","n. appl.","n. appl.","n. appl.","n. appl.","n. appl.","n. appl.","n. appl.","n. appl.","n. appl.","n. appl.","n. appl.","n. appl.","n. appl.","n. appl.","n. appl.","n. appl.","n. appl.","n. appl.","n. appl.","n. appl.","n. appl.","n. appl."]
[]
[null,"Specific Gross and Net CO2 Emissions per Cementitious Produced",null,null,null,null,{"$f":"G$7","v":1990},1991,1992,1993,1994,1995,1996,1997,1998,1999,2000,2001,2002,2003,2004,2005,2006,2007,2008,2009,2010,2011,2012,2013,2014,2015,2016,2017,2018,2019,2020,2021,2022,2023,2024,2025]
[null,62,"Specific gross CO2 ","per tonne of cementitious product","[kg CO2/t cem prod]",null,{"$f":"IF(G$67=\"\",\"\",IF(G$67=0,\"n. appl.\",G175/G$67*1000))","v":""},"","","","","","","","","","","","","","","","","","","","","","","","","","","","","","","","","","",""]
[null,"62a",null,"calcination component","[kg CO2/t cem prod]",null,{"$f":"IF(G$67=\"\",\"\",IF(G$67=0,\"n. appl.\",G176/G$67*1000))","v":""},"","","","","","","","","","","","","","","","","","","","","","","","","","","","","","","","","","",""]
[null,"62b",null,"fuel component","[kg CO2/t cem prod]",null,{"$f":"IF(G$67=\"\",\"\",IF(G$67=0,\"n. appl.\",G177/G$67*1000))","v":""},"","","","","","","","","","","","","","","","","","","","","","","","","","","","","","","","","","",""]
[null,{"$f":"B187+1","v":74},"Specific net CO2 ","per tonne of cementitious product","[kg CO2/t cem prod]",null,{"$f":"IF(G$67=\"\",\"\",IF(G$67=0,\"n. appl.\",G179/G$67*1000))","v":""},"","","","","","","","","","","","","","","","","","","","","","","","","","","","","","","","","","",""]
[null,77,"Improvement rate  -  net CO2 per tonne of cementitious product",null,"[% relative to base yr]",null,{"$f":"IF(G199=\"\",\"\",IF(OR($G199=\"n. appl.\",$G199=0),\"n. appl.\",(G199-$G199)/$G199))","v":""},"","","","","","","","","","","","","","","","","","","","","","","","","","","","","","","","","","",""]
[]
[null,"Specific Indirect CO2 Emission",null,null,null,null,{"$f":"G$7","v":1990},1991,1992,1993,1994,1995,1996,1997,1998,1999,2000,2001,2002,2003,2004,2005,2006,2007,2008,2009,2010,2011,2012,2013,2014,2015,2016,2017,2018,2019,2020,2021,2022,2023,2024,2025]
[null,"82c","Specific indirect CO2 from external power generation per tonne of cement (eq.)",null,"[kg CO2/t cem eq.]",null,{"$f":"IF(OR(G$68=\"n. appl.\",G$68=0),\"n. appl.\",G162/G$68*1000)","v":"n. appl."},{"$f":"IF(OR(H$68=\"n. appl.\",H$68=0),\"n. appl.\",H162/H$68*1000)","v":"n. appl."},"n. appl.","n. appl.","n. appl.","n. appl.","n. appl.","n. appl.","n. appl.","n. appl.","n. appl.","n. appl.","n. appl.","n. appl.","n. appl.","n. appl.","n. appl.","n. appl.","n. appl.","n. appl.","n. appl.","n. appl.","n. appl.","n. appl.","n. appl.","n. appl.","n. appl.","n. appl.","n. appl.","n. appl.","n. appl.","n. appl.","n. appl.","n. appl.","n. appl.","n. appl."]
[null,"82a","Specific indirect CO2 from external power generation per tonne of cementitious product",null,"[kg CO2/t cem prod]",null,{"$f":"IF(G$67=\"\",\"\",IF(G$67=0,\"n. appl.\",G162/G$67*1000))","v":""},"","","","","","","","","","","","","","","","","","","","","","","","","","","","","","","","","","",""]
[null,"82b","Specific indirect CO2 from net clinker imports (+) / exports (-) per tonne of cementitious product",null,"[kg CO2/t cem prod]",null,{"$f":"IF(G$67=\"\",\"\",IF(G$67=0,\"n. appl.\",G164/G$67*1000))","v":""},"","","","","","","","","","","","","","","","","","","","","","","","","","","","","","","","","","",""]
[]
[null,"General Performance Indicators",null,null,null,null,{"$f":"G$7","v":1990},1991,1992,1993,1994,1995,1996,1997,1998,1999,2000,2001,2002,2003,2004,2005,2006,2007,2008,2009,2010,2011,2012,2013,2014,2015,2016,2017,2018,2019,2020,2021,2022,2023,2024,2025]
[null,91,"Net outbound clinker per net clinker consumption",null,"[%]",null,{"$f":"IF(G46=\"\",\"\",IF(G46=0,\"n. appl.\",(G42-G41-G44-G45)/G46))","v":""},"","","","","","","","","","","","","","","","","","","","","","","","","","","","","","","","","","",""]
[null,"92a","Clinker/cement (eq.) factor*",null,"[%]",null,{"$f":"IF(OR(G46=\"\",G65=\"\",G46=0,G65=0),\"n. appl.\",G46/G65)","v":"n. appl."},{"$f":"IF(OR(H46=\"\",H65=\"\",H46=0,H65=0),\"n. appl.\",H46/H65)","v":"n. appl."},"n. appl.","n. appl.","n. appl.","n. appl.","n. appl.","n. appl.","n. appl.","n. appl.","n. appl.","n. appl.","n. appl.","n. appl.","n. appl.","n. appl.","n. appl.","n. appl.","n. appl.","n. appl.","n. appl.","n. appl.","n. appl.","n. appl.","n. appl.","n. appl.","n. appl.","n. appl.","n. appl.","n. appl.","n. appl.","n. appl.","n. appl.","n. appl.","n. appl.","n. appl."]
[null,{"$f":"B208+1","v":92},"Clinker/cementitious factor*",null,"[%]",null,{"$f":"IF(G66=\"\",\"\",IF(G66=0,\"n. appl.\",G46/G66))","v":""},"","","","","","","","","","","","","","","","","","","","","","","","","","","","","","","","","","",""]
[]
[null,{"$f":"B210+1","v":93},"Specific heat consumption of clinker production",null,"[MJ/t cli]",null,{"$f":"IF(G40=\"\",\"\",IF(G40=0,\"n. appl.\",G76*10^6/G40))","v":""},"","","","","","","","","","","","","","","","","","","","","","","","","","","","","","","","","","",""]
[null,{"$f":"B212+1","v":94},"Conventional fossil fuel rate (kiln fuels)",null,"[%]",null,{"$f":"IF(G$76=\"\",\"\",IF(G$76=0,\"n. appl.\",G78/G$76))","v":"n. appl."},"n. appl.","n. appl.","n. appl.","n. appl.","n. appl.","n. appl.","n. appl.","n. appl.","n. appl.","n. appl.","n. appl.","n. appl.","n. appl.","n. appl.","n. appl.","n. appl.","n. appl.","n. appl.","n. appl.","n. appl.","n. appl.","n. appl.","n. appl.","n. appl.","n. appl.","n. appl.","n. appl.","n. appl.","n. appl.","n. appl.","n. appl.","n. appl.","n. appl.","n. appl.","n. appl."]
[null,{"$f":"B213+1","v":95},"Alternative fossil fuel rate (kiln fuels)",null,"[%]",null,{"$f":"IF(G$76=\"\",\"\",IF(G$76=0,\"n. appl.\",G79/G$76))","v":"n. appl."},"n. appl.","n. appl.","n. appl.","n. appl.","n. appl.","n. appl.","n. appl.","n. appl.","n. appl.","n. appl.","n. appl.","n. appl.","n. appl.","n. appl.","n. appl.","n. appl.","n. appl.","n. appl.","n. appl.","n. appl.","n. appl.","n. appl.","n. appl.","n. appl.","n. appl.","n. appl.","n. appl.","n. appl.","n. appl.","n. appl.","n. appl.","n. appl.","n. appl.","n. appl.","n. appl."]
[null,{"$f":"B214+1","v":96},"Biomass fuel rate (kiln fuels)",null,"[%]",null,{"$f":"IF(G$76=\"\",\"\",IF(G$76=0,\"n. appl.\",G80/G$76))","v":"n. appl."},"n. appl.","n. appl.","n. appl.","n. appl.","n. appl.","n. appl.","n. appl.","n. appl.","n. appl.","n. appl.","n. appl.","n. appl.","n. appl.","n. appl.","n. appl.","n. appl.","n. appl.","n. appl.","n. appl.","n. appl.","n. appl.","n. appl.","n. appl.","n. appl.","n. appl.","n. appl.","n. appl.","n. appl.","n. appl.","n. appl.","n. appl.","n. appl.","n. appl.","n. appl.","n. appl."]
[null,"96a","CO2 emission factor for kiln fuel mix ",null,"[kg CO2/GJ]",null,{"$f":"IF(G149=\"\",\"\",IF(G149=0,\"n. appl.\",G149/G76))","v":"n. appl."},"n. appl.","n. appl.","n. appl.","n. appl.","n. appl.","n. appl.","n. appl.","n. appl.","n. appl.","n. appl.","n. appl.","n. appl.","n. appl.","n. appl.","n. appl.","n. appl.","n. appl.","n. appl.","n. appl.","n. appl.","n. appl.","n. appl.","n. appl.","n. appl.","n. appl.","n. appl.","n. appl.","n. appl.","n. appl.","n. appl.","n. appl.","n. appl.","n. appl.","n. appl.","n. appl."]
[null,"96b","Total conventional fossil fuel rate at plant level ",null,"[%]",null,{"$f":"IF(AND(G$76=0,G$502=0,G$506=0,G$508=0,G$513=0,G$520=0,G$522=0,G$525=0,G$532=0,G$534=0),\"n. appl.\",(G78+G502+(G506*(1-G375))+G508+G513+G525)/(G$76+G$502+G$506+G$508+G$513+G$520+G$522+G$525+G$532+G$534))","v":"n. appl."},"n. appl.","n. appl.","n. appl.","n. appl.","n. appl.","n. appl.","n. appl.","n. appl.","n. appl.","n. appl.","n. appl.","n. appl.","n. appl.","n. appl.","n. appl.","n. appl.","n. appl.","n. appl.","n. appl.","n. appl.","n. appl.","n. appl.","n. appl.","n. appl.","n. appl.","n. appl.","n. appl.","n. appl.","n. appl.","n. appl.","n. appl.","n. appl.","n. appl.","n. appl.","n. appl."]
[null,"96c","Total alternative fossil fuel rate at plant level ",null,"[%]",null,{"$f":"IF(AND(G$76=0,G$502=0,G$506=0,G$508=0,G$513=0,G$520=0,G$522=0,G$525=0,G$532=0,G$534=0),\"n. appl.\",(G79+G520+G532)/(G$76+G$502+G$506+G$508+G$513+G$520+G$522+G$525+G$532+G$534))","v":"n. appl."},"n. appl.","n. appl.","n. appl.","n. appl.","n. appl.","n. appl.","n. appl.","n. appl.","n. appl.","n. appl.","n. appl.","n. appl.","n. appl.","n. appl.","n. appl.","n. appl.","n. appl.","n. appl.","n. appl.","n. appl.","n. appl.","n. appl.","n. appl.","n. appl.","n. appl.","n. appl.","n. appl.","n. appl.","n. appl.","n. appl.","n. appl.","n. appl.","n. appl.","n. appl.","n. appl."]
[null,"96d","Total biomass fuel rate at plant level ",null,"[%]",null,{"$f":"IF(AND(G$76=0,G$502=0,G$506=0,G$508=0,G$513=0,G$520=0,G$522=0,G$525=0,G$532=0,G$534=0),\"n. appl.\",(G80+(G506*G375)+G522+G534)/(G$76+G$502+G$506+G$508+G$513+G$520+G$522+G$525+G$532+G$534))","v":"n. appl."},"n. appl.","n. appl.","n. appl.","n. appl.","n. appl.","n. appl.","n. appl.","n. appl.","n. appl.","n. appl.","n. appl.","n. appl.","n. appl.","n. appl.","n. appl.","n. appl.","n. appl.","n. appl.","n. appl.","n. appl.","n. appl.","n. appl.","n. appl.","n. appl.","n. appl.","n. appl.","n. appl.","n. appl.","n. appl.","n. appl.","n. appl.","n. appl.","n. appl.","n. appl.","n. appl."]
[]
[null,{"$f":"B215+1","v":97},"Specific total power consumption*",null,"[kWh/t cem prod]",null,{"$f":"IF(G66=\"\",\"\",IF(G66=0,\"n. appl.\",G105/G66*1000))","v":""},"","","","","","","","","","","","","","","","","","","","","","","","","","","","","","","","","","",""]
[null,98,"Specific power consumption of clinker production",null,"[kWh/t cli]",null,{"$f":"IF(G40=\"\",\"\",IF(G40=0,\"n. appl.\",G104/G40*1000))","v":""},"","","","","","","","","","","","","","","","","","","","","","","","","","","","","","","","","","",""]
[null,"98c","Specific power consumption of cement production*",null,"[kWh/t cem prod]",null,{"$f":"IF(OR(G66=\"\",G66=0),\"n. appl.\",IF(G222<>\"n. appl.\",(G222*G210)+(G105-G104)*1000/G66,(G105-G104)*1000/G66))","v":"n. appl."},{"$f":"IF(OR(H66=\"\",H66=0),\"n. appl.\",IF(H222<>\"n. appl.\",(H222*H210)+(H105-H104)*1000/H66,(H105-H104)*1000/H66))","v":"n. appl."},"n. appl.","n. appl.","n. appl.","n. appl.","n. appl.","n. appl.","n. appl.","n. appl.","n. appl.","n. appl.","n. appl.","n. appl.","n. appl.","n. appl.","n. appl.","n. appl.","n. appl.","n. appl.","n. appl.","n. appl.","n. appl.","n. appl.","n. appl.","n. appl.","n. appl.","n. appl.","n. appl.","n. appl.","n. appl.","n. appl.","n. appl.","n. appl.","n. appl.","n. appl."]
[null,"98a","National energy conversion factor",null,"[MJ/kWh]"]
[null,"98b","Total energy intensity of clinker production (fuel and power)",null,"[MJ/t cli]",null,{"$f":"IF(G224<>\"\",G222*G224+G212,\"\")","v":""},"","","","","","","","","","","","","","","","","","","","","","","","","","","","","","","","","","",""]
[]
["KILN FUELS - DETAILED INFORMATION"]
[]
[null,"Kiln Fuel Consumption in tonnes per year",null,null,null,null,{"$f":"G$7","v":1990},1991,1992,1993,1994,1995,1996,1997,1998,1999,2000,2001,2002,2003,2004,2005,2006,2007,2008,2009,2010,2011,2012,2013,2014,2015,2016,2017,2018,2019,2020,2021,2022,2023,2024,2025]
[null,101,"Conventional fossil fuels (excl. drying of raw materials and fuels)"]
[null,{"$f":"B230+1","v":102},null,"coal + anthracite","[t/yr]",null,0,0,0,0,0,0,0,0,0,0,0,0,0,0,0,0,0,0,0,0,0,0,0,0,0,0,0,0,0,0,0,0,0,0,0,0]
[null,103,null,"petrol coke","[t/yr]",null,0,0,0,0,0,0,0,0,0,0,0,0,0,0,0,0,0,0,0,0,0,0,0,0,0,0,0,0,0,0,0,0,0,0,0,0]
[null,104,null,"(ultra) heavy fuel","[t/yr]",null,0,0,0,0,0,0,0,0,0,0,0,0,0,0,0,0,0,0,0,0,0,0,0,0,0,0,0,0,0,0,0,0,0,0,0,0]
[null,105,null,"diesel oil","[t/yr]",null,0,0,0,0,0,0,0,0,0,0,0,0,0,0,0,0,0,0,0,0,0,0,0,0,0,0,0,0,0,0,0,0,0,0,0,0]
[null,106,null,"natural gas ","[1'000 Nm3/yr]",null,0,0,0,0,0,0,0,0,0,0,0,0,0,0,0,0,0,0,0,0,0,0,0,0,0,0,0,0,0,0,0,0,0,0,0,0]
[null,107,null,"shale","[t/yr]",null,0,0,0,0,0,0,0,0,0,0,0,0,0,0,0,0,0,0,0,0,0,0,0,0,0,0,0,0,0,0,0,0,0,0,0,0]
[null,"107a",null,"lignite","[t/yr]",null,0,0,0,0,0,0,0,0,0,0,0,0,0,0,0,0,0,0,0,0,0,0,0,0,0,0,0,0,0,0,0,0,0,0,0,0]
[null,{"$f":"B236+1","v":108},"Alternative fossil and mixed fuels (excl. drying of raw materials and fuels)"]
[null,{"$f":"B238+1","v":109},null,"waste oil","[t/yr]",null,0,0,0,0,0,0,0,0,0,0,0,0,0,0,0,0,0,0,0,0,0,0,0,0,0,0,0,0,0,0,0,0,0,0,0,0]
[null,{"$f":"B239+1","v":110},null,"tyres ","[t/yr]",null,0,0,0,0,0,0,0,0,0,0,0,0,0,0,0,0,0,0,0,0,0,0,0,0,0,0,0,0,0,0,0,0,0,0,0,0]
[null,{"$f":"B240+1","v":111},null,"RDF including plastics","[t/yr]",null,0,0,0,0,0,0,0,0,0,0,0,0,0,0,0,0,0,0,0,0,0,0,0,0,0,0,0,0,0,0,0,0,0,0,0,0]
[null,{"$f":"B241+1","v":112},null,"solvents","[t/yr]",null,0,0,0,0,0,0,0,0,0,0,0,0,0,0,0,0,0,0,0,0,0,0,0,0,0,0,0,0,0,0,0,0,0,0,0,0]
[null,{"$f":"B242+1","v":113},null,"impregnated saw dust","[t/yr]",null,0,0,0,0,0,0,0,0,0,0,0,0,0,0,0,0,0,0,0,0,0,0,0,0,0,0,0,0,0,0,0,0,0,0,0,0]
[null,"113a",null,"mixed industrial waste","[t/yr]",null,0,0,0,0,0,0,0,0,0,0,0,0,0,0,0,0,0,0,0,0,0,0,0,0,0,0,0,0,0,0,0,0,0,0,0,0]
[null,114,null,"other fossil based wastes and mixed fuels","[t/yr]",null,0,0,0,0,0,0,0,0,0,0,0,0,0,0,0,0,0,0,0,0,0,0,0,0,0,0,0,0,0,0,0,0,0,0,0,0]
[null,{"$f":"B245+1","v":115},"Biomass fuels (excl. drying of raw materials and fuels)"]
[null,116,null,"dried sewage sludge","[t/yr]",null,0,0,0,0,0,0,0,0,0,0,0,0,0,0,0,0,0,0,0,0,0,0,0,0,0,0,0,0,0,0,0,0,0,0,0,0]
[null,117,null,"wood, non impregnated saw dust","[t/yr]",null,0,0,0,0,0,0,0,0,0,0,0,0,0,0,0,0,0,0,0,0,0,0,0,0,0,0,0,0,0,0,0,0,0,0,0,0]
[null,118,null,"paper, carton","[t/yr]",null,0,0,0,0,0,0,0,0,0,0,0,0,0,0,0,0,0,0,0,0,0,0,0,0,0,0,0,0,0,0,0,0,0,0,0,0]
[null,119,null,"animal meal","[t/yr]",null,0,0,0,0,0,0,0,0,0,0,0,0,0,0,0,0,0,0,0,0,0,0,0,0,0,0,0,0,0,0,0,0,0,0,0,0]
[null,120,null,"animal bone meal","[t/yr]",null,0,0,0,0,0,0,0,0,0,0,0,0,0,0,0,0,0,0,0,0,0,0,0,0,0,0,0,0,0,0,0,0,0,0,0,0]
[null,121,null,"animal fat","[t/yr]",null,0,0,0,0,0,0,0,0,0,0,0,0,0,0,0,0,0,0,0,0,0,0,0,0,0,0,0,0,0,0,0,0,0,0,0,0]
[null,122,null,"agricultural, organic, diaper waste, charcoal","[t/yr]",null,0,0,0,0,0,0,0,0,0,0,0,0,0,0,0,0,0,0,0,0,0,0,0,0,0,0,0,0,0,0,0,0,0,0,0,0]
[null,123,null,"other biomass","[t/yr]",null,0,0,0,0,0,0,0,0,0,0,0,0,0,0,0,0,0,0,0,0,0,0,0,0,0,0,0,0,0,0,0,0,0,0,0,0]
[null,"Drying of raw materials and fuels",null,null,null,null,{"$f":"G$7","v":1990},1991,1992,1993,1994,1995,1996,1997,1998,1999,2000,2001,2002,2003,2004,2005,2006,2007,2008,2009,2010,2011,2012,2013,2014,2015,2016,2017,2018,2019,2020,2021,2022,2023,2024,2025]
[null,124,"Conventional fossil fuels"]
[null,"124a",null,"coal + anthracite + lignite","[t/yr]",null,0,0,0,0,0,0,0,0,0,0,0,0,0,0,0,0,0,0,0,0,0,0,0,0,0,0,0,0,0,0,0,0,0,0,0,0]
[null,"124b",null,"petrol coke","[t/yr]",null,0,0,0,0,0,0,0,0,0,0,0,0,0,0,0,0,0,0,0,0,0,0,0,0,0,0,0,0,0,0,0,0,0,0,0,0]
[null,"124c",null,"(ultra) heavy fuel","[t/yr]",null,0,0,0,0,0,0,0,0,0,0,0,0,0,0,0,0,0,0,0,0,0,0,0,0,0,0,0,0,0,0,0,0,0,0,0,0]
[null,"124d",null,"diesel oil","[t/yr]",null,0,0,0,0,0,0,0,0,0,0,0,0,0,0,0,0,0,0,0,0,0,0,0,0,0,0,0,0,0,0,0,0,0,0,0,0]
[null,"124e",null,"natural gas ","[1'000 Nm3/yr]",null,0,0,0,0,0,0,0,0,0,0,0,0,0,0,0,0,0,0,0,0,0,0,0,0,0,0,0,0,0,0,0,0,0,0,0,0]
[null,"124f",null,"shale","[t/yr]",null,0,0,0,0,0,0,0,0,0,0,0,0,0,0,0,0,0,0,0,0,0,0,0,0,0,0,0,0,0,0,0,0,0,0,0,0]
[null,125,"Alternative fossil and mixed fuels"]
[null,"125a",null,"other fossil based wastes and mixed fuels","[t/yr]",null,0,0,0,0,0,0,0,0,0,0,0,0,0,0,0,0,0,0,0,0,0,0,0,0,0,0,0,0,0,0,0,0,0,0,0,0]
[null,126,"Alternative biomass fuels"]
[null,"126a",null,"other biomass","[t/yr]",null,0,0,0,0,0,0,0,0,0,0,0,0,0,0,0,0,0,0,0,0,0,0,0,0,0,0,0,0,0,0,0,0,0,0,0,0]
[]
[null,"Fuel Lower Heating Values",null,null,null,null,{"$f":"G$7","v":1990},1991,1992,1993,1994,1995,1996,1997,1998,1999,2000,2001,2002,2003,2004,2005,2006,2007,2008,2009,2010,2011,2012,2013,2014,2015,2016,2017,2018,2019,2020,2021,2022,2023,2024,2025]
[null,131,"Conventional fossil fuels"]
[null,{"$f":"B269+1","v":132},null,"coal + anthracite","[GJ/t]",null,0,0,0,0,0,0,0,0,0,0,0,0,0,0,0,0,0,0,0,0,0,0,0,0,0,0,0,0,0,0,0,0,0,0,0,0]
[null,133,null,"petrol coke","[GJ/t]",null,0,0,0,0,0,0,0,0,0,0,0,0,0,0,0,0,0,0,0,0,0,0,0,0,0,0,0,0,0,0,0,0,0,0,0,0]
[null,134,null,"(ultra) heavy fuel","[GJ/t]",null,0,0,0,0,0,0,0,0,0,0,0,0,0,0,0,0,0,0,0,0,0,0,0,0,0,0,0,0,0,0,0,0,0,0,0,0]
[null,135,null,"diesel oil","[GJ/t]",null,0,0,0,0,0,0,0,0,0,0,0,0,0,0,0,0,0,0,0,0,0,0,0,0,0,0,0,0,0,0,0,0,0,0,0,0]
[null,136,null,"natural gas ","[GJ/1'000 Nm3]",null,0,0,0,0,0,0,0,0,0,0,0,0,0,0,0,0,0,0,0,0,0,0,0,0,0,0,0,0,0,0,0,0,0,0,0,0]
[null,137,null,"shale","[GJ/t]",null,0,0,0,0,0,0,0,0,0,0,0,0,0,0,0,0,0,0,0,0,0,0,0,0,0,0,0,0,0,0,0,0,0,0,0,0]
[null,"137a",null,"lignite","[GJ/t]",null,0,0,0,0,0,0,0,0,0,0,0,0,0,0,0,0,0,0,0,0,0,0,0,0,0,0,0,0,0,0,0,0,0,0,0,0]
[null,{"$f":"B275+1","v":138},"Alternative fossil and mixed fuels"]
[null,{"$f":"B277+1","v":139},null,"waste oil","[GJ/t]",null,0,0,0,0,0,0,0,0,0,0,0,0,0,0,0,0,0,0,0,0,0,0,0,0,0,0,0,0,0,0,0,0,0,0,0,0]
[null,{"$f":"B278+1","v":140},null,"tyres","[GJ/t]",null,0,0,0,0,0,0,0,0,0,0,0,0,0,0,0,0,0,0,0,0,0,0,0,0,0,0,0,0,0,0,0,0,0,0,0,0]
[null,{"$f":"B279+1","v":141},null,"RDF including plastics","[GJ/t]",null,0,0,0,0,0,0,0,0,0,0,0,0,0,0,0,0,0,0,0,0,0,0,0,0,0,0,0,0,0,0,0,0,0,0,0,0]
[null,{"$f":"B280+1","v":142},null,"solvents","[GJ/t]",null,0,0,0,0,0,0,0,0,0,0,0,0,0,0,0,0,0,0,0,0,0,0,0,0,0,0,0,0,0,0,0,0,0,0,0,0]
[null,{"$f":"B281+1","v":143},null,"impregnated saw dust","[GJ/t]",null,0,0,0,0,0,0,0,0,0,0,0,0,0,0,0,0,0,0,0,0,0,0,0,0,0,0,0,0,0,0,0,0,0,0,0,0]
[null,"143a",null,"mixed industrial waste","[GJ/t]",null,0,0,0,0,0,0,0,0,0,0,0,0,0,0,0,0,0,0,0,0,0,0,0,0,0,0,0,0,0,0,0,0,0,0,0,0]
[null,144,null,"other fossil based wastes and mixed fuels","[GJ/t]",null,0,0,0,0,0,0,0,0,0,0,0,0,0,0,0,0,0,0,0,0,0,0,0,0,0,0,0,0,0,0,0,0,0,0,0,0]
[null,{"$f":"B284+1","v":145},"Biomass fuels"]
[null,146,null,"sewage sludge","[GJ/t]",null,0,0,0,0,0,0,0,0,0,0,0,0,0,0,0,0,0,0,0,0,0,0,0,0,0,0,0,0,0,0,0,0,0,0,0,0]
[null,147,null,"wood, non impregnated saw dust","[GJ/t]",null,0,0,0,0,0,0,0,0,0,0,0,0,0,0,0,0,0,0,0,0,0,0,0,0,0,0,0,0,0,0,0,0,0,0,0,0]
[null,148,null,"paper, carton","[GJ/t]",null,0,0,0,0,0,0,0,0,0,0,0,0,0,0,0,0,0,0,0,0,0,0,0,0,0,0,0,0,0,0,0,0,0,0,0,0]
[null,149,null,"animal meal","[GJ/t]",null,0,0,0,0,0,0,0,0,0,0,0,0,0,0,0,0,0,0,0,0,0,0,0,0,0,0,0,0,0,0,0,0,0,0,0,0]
[null,150,null,"animal bone meal","[GJ/t]",null,0,0,0,0,0,0,0,0,0,0,0,0,0,0,0,0,0,0,0,0,0,0,0,0,0,0,0,0,0,0,0,0,0,0,0,0]
[null,151,null,"animal fat","[GJ/t]",null,0,0,0,0,0,0,0,0,0,0,0,0,0,0,0,0,0,0,0,0,0,0,0,0,0,0,0,0,0,0,0,0,0,0,0,0]
[null,152,null,"agricultural, organic, diaper waste, charcoal","[GJ/t]",null,0,0,0,0,0,0,0,0,0,0,0,0,0,0,0,0,0,0,0,0,0,0,0,0,0,0,0,0,0,0,0,0,0,0,0,0]
[null,153,null,"other biomass","[GJ/t]",null,0,0,0,0,0,0,0,0,0,0,0,0,0,0,0,0,0,0,0,0,0,0,0,0,0,0,0,0,0,0,0,0,0,0,0,0]
[null,"Drying of raw materials and fuels",null,null,null,null,{"$f":"G$7","v":1990},1991,1992,1993,1994,1995,1996,1997,1998,1999,2000,2001,2002,2003,2004,2005,2006,2007,2008,2009,2010,2011,2012,2013,2014,2015,2016,2017,2018,2019,2020,2021,2022,2023,2024,2025]
[null,154,"Conventional fossil fuels"]
[null,"154a",null,"coal + anthracite + lignite","[GJ/t]",null,{"$f":"G270","v":0},0,0,0,0,0,0,0,0,0,0,0,0,0,0,0,0,0,0,0,0,0,0,0,0,0,0,0,0,0,0,0,0,0,0,0]
[null,"154b",null,"petrol coke","[GJ/t]",null,{"$f":"G271","v":0},0,0,0,0,0,0,0,0,0,0,0,0,0,0,0,0,0,0,0,0,0,0,0,0,0,0,0,0,0,0,0,0,0,0,0]
[null,"154c",null,"(ultra) heavy fuel","[GJ/t]",null,{"$f":"G272","v":0},0,0,0,0,0,0,0,0,0,0,0,0,0,0,0,0,0,0,0,0,0,0,0,0,0,0,0,0,0,0,0,0,0,0,0]
[null,"154d",null,"diesel oil","[GJ/t]",null,{"$f":"G273","v":0},0,0,0,0,0,0,0,0,0,0,0,0,0,0,0,0,0,0,0,0,0,0,0,0,0,0,0,0,0,0,0,0,0,0,0]
[null,"154e",null,"natural gas ","[GJ/1'000 Nm3]",null,{"$f":"G274","v":0},0,0,0,0,0,0,0,0,0,0,0,0,0,0,0,0,0,0,0,0,0,0,0,0,0,0,0,0,0,0,0,0,0,0,0]
[null,"154f",null,"shale","[GJ/t]",null,{"$f":"G275","v":0},0,0,0,0,0,0,0,0,0,0,0,0,0,0,0,0,0,0,0,0,0,0,0,0,0,0,0,0,0,0,0,0,0,0,0]
[null,155,"Alternative fossil and mixed fuels"]
[null,"155a",null,"other fossil based wastes and mixed fuels","[GJ/t]",null,0,0,0,0,0,0,0,0,0,0,0,0,0,0,0,0,0,0,0,0,0,0,0,0,0,0,0,0,0,0,0,0,0,0,0,0]
[null,156,"Alternative biomass fuels"]
[null,"156a",null,"other biomass","[GJ/t]",null,0,0,0,0,0,0,0,0,0,0,0,0,0,0,0,0,0,0,0,0,0,0,0,0,0,0,0,0,0,0,0,0,0,0,0,0]
[]
[null,"Kiln Fuel Consumption in terajoules (TJ) per year",null,null,null,null,{"$f":"G$7","v":1990},1991,1992,1993,1994,1995,1996,1997,1998,1999,2000,2001,2002,2003,2004,2005,2006,2007,2008,2009,2010,2011,2012,2013,2014,2015,2016,2017,2018,2019,2020,2021,2022,2023,2024,2025]
[null,161,"Conventional fossil fuels",null,"[TJ/yr]",null,{"$f":"IF(COUNTBLANK(G309:G315)=7,\"\",SUM(G309:G315))","v":0},0,0,0,0,0,0,0,0,0,0,0,0,0,0,0,0,0,0,0,0,0,0,0,0,0,0,0,0,0,0,0,0,0,0,0]
[null,{"$f":"B308+1","v":162},null,"coal + anthracite","[TJ/yr]",null,{"$f":"IF(G231=\"\",\"\",G231*G270/1000)","v":0},0,0,0,0,0,0,0,0,0,0,0,0,0,0,0,0,0,0,0,0,0,0,0,0,0,0,0,0,0,0,0,0,0,0,0]
[null,163,null,"petrol coke","[TJ/yr]",null,{"$f":"IF(G232=\"\",\"\",G232*G271/1000)","v":0},0,0,0,0,0,0,0,0,0,0,0,0,0,0,0,0,0,0,0,0,0,0,0,0,0,0,0,0,0,0,0,0,0,0,0]
[null,164,null,"(ultra) heavy fuel","[TJ/yr]",null,{"$f":"IF(G233=\"\",\"\",G233*G272/1000)","v":0},0,0,0,0,0,0,0,0,0,0,0,0,0,0,0,0,0,0,0,0,0,0,0,0,0,0,0,0,0,0,0,0,0,0,0]
[null,165,null,"diesel oil","[TJ/yr]",null,{"$f":"IF(G234=\"\",\"\",G234*G273/1000)","v":0},0,0,0,0,0,0,0,0,0,0,0,0,0,0,0,0,0,0,0,0,0,0,0,0,0,0,0,0,0,0,0,0,0,0,0]
[null,166,null,"natural gas ","[TJ/yr]",null,{"$f":"IF(G235=\"\",\"\",G235*G274/1000)","v":0},0,0,0,0,0,0,0,0,0,0,0,0,0,0,0,0,0,0,0,0,0,0,0,0,0,0,0,0,0,0,0,0,0,0,0]
[null,167,null,"shale","[TJ/yr]",null,{"$f":"IF(G236=\"\",\"\",G236*G275/1000)","v":0},0,0,0,0,0,0,0,0,0,0,0,0,0,0,0,0,0,0,0,0,0,0,0,0,0,0,0,0,0,0,0,0,0,0,0]
[null,"167a",null,"lignite","[TJ/yr]",null,{"$f":"IF(G237=\"\",\"\",G237*G276/1000)","v":0},0,0,0,0,0,0,0,0,0,0,0,0,0,0,0,0,0,0,0,0,0,0,0,0,0,0,0,0,0,0,0,0,0,0,0]
[null,{"$f":"B314+1","v":168},"Alternative fossil and mixed fuels, excluding biomass fraction of mixed fuels",null,"[TJ/yr]",null,{"$f":"IF(COUNTBLANK(G317:G323)=7,\"\",SUM(G317:G323))","v":0},0,0,0,0,0,0,0,0,0,0,0,0,0,0,0,0,0,0,0,0,0,0,0,0,0,0,0,0,0,0,0,0,0,0,0]
[null,{"$f":"B316+1","v":169},null,"waste oil","[TJ/yr]",null,{"$f":"IF(G239=\"\",\"\",G239*(G278/1000)*(1-G369))","v":0},0,0,0,0,0,0,0,0,0,0,0,0,0,0,0,0,0,0,0,0,0,0,0,0,0,0,0,0,0,0,0,0,0,0,0]
[null,{"$f":"B317+1","v":170},null,"tyres","[TJ/yr]",null,{"$f":"IF(G240=\"\",\"\",G240*(G279/1000)*(1-G370))","v":0},0,0,0,0,0,0,0,0,0,0,0,0,0,0,0,0,0,0,0,0,0,0,0,0,0,0,0,0,0,0,0,0,0,0,0]
[null,{"$f":"B318+1","v":171},null,"RDF including plastics","[TJ/yr]",null,{"$f":"IF(G241=\"\",\"\",G241*(G280/1000)*(1-G371))","v":0},0,0,0,0,0,0,0,0,0,0,0,0,0,0,0,0,0,0,0,0,0,0,0,0,0,0,0,0,0,0,0,0,0,0,0]
[null,{"$f":"B319+1","v":172},null,"solvents","[TJ/yr]",null,{"$f":"IF(G242=\"\",\"\",G242*(G281/1000)*(1-G372))","v":0},0,0,0,0,0,0,0,0,0,0,0,0,0,0,0,0,0,0,0,0,0,0,0,0,0,0,0,0,0,0,0,0,0,0,0]
[null,{"$f":"B320+1","v":173},null,"impregnated saw dust","[TJ/yr]",null,{"$f":"IF(G243=\"\",\"\",G243*(G282/1000)*(1-G373))","v":0},0,0,0,0,0,0,0,0,0,0,0,0,0,0,0,0,0,0,0,0,0,0,0,0,0,0,0,0,0,0,0,0,0,0,0]
[null,"173a",null,"mixed industrial waste","[TJ/yr]",null,{"$f":"IF(G244=\"\",\"\",G244*(G283/1000)*(1-G374))","v":0},0,0,0,0,0,0,0,0,0,0,0,0,0,0,0,0,0,0,0,0,0,0,0,0,0,0,0,0,0,0,0,0,0,0,0]
[null,174,null,"other fossil based wastes (excl. biomass content of mixed fuels)","[TJ/yr]",null,{"$f":"IF(G245=\"\",\"\",G245*(G284/1000)*(1-G376))","v":0},0,0,0,0,0,0,0,0,0,0,0,0,0,0,0,0,0,0,0,0,0,0,0,0,0,0,0,0,0,0,0,0,0,0,0]
[null,{"$f":"B323+1","v":175},"Biomass fuels - total, incl. biomass cont. from alternative fossil fuels",null,"[TJ/yr]",null,{"$f":"IF(COUNTBLANK(G325:G333)=9,\"\",SUM(G325:G333))","v":0},0,0,0,0,0,0,0,0,0,0,0,0,0,0,0,0,0,0,0,0,0,0,0,0,0,0,0,0,0,0,0,0,0,0,0]
[null,176,null,"sewage sludge","[TJ/yr]",null,{"$f":"IF(G247=\"\",\"\",G247*G286/1000)","v":0},0,0,0,0,0,0,0,0,0,0,0,0,0,0,0,0,0,0,0,0,0,0,0,0,0,0,0,0,0,0,0,0,0,0,0]
[null,177,null,"wood, non impregnated saw dust","[TJ/yr]",null,{"$f":"IF(G248=\"\",\"\",G248*G287/1000)","v":0},0,0,0,0,0,0,0,0,0,0,0,0,0,0,0,0,0,0,0,0,0,0,0,0,0,0,0,0,0,0,0,0,0,0,0]
[null,178,null,"paper, carton","[TJ/yr]",null,{"$f":"IF(G249=\"\",\"\",G249*G288/1000)","v":0},0,0,0,0,0,0,0,0,0,0,0,0,0,0,0,0,0,0,0,0,0,0,0,0,0,0,0,0,0,0,0,0,0,0,0]
[null,179,null,"animal meal","[TJ/yr]",null,{"$f":"IF(G250=\"\",\"\",G250*G289/1000)","v":0},0,0,0,0,0,0,0,0,0,0,0,0,0,0,0,0,0,0,0,0,0,0,0,0,0,0,0,0,0,0,0,0,0,0,0]
[null,180,null,"animal bone meal","[TJ/yr]",null,{"$f":"IF(G251=\"\",\"\",G251*G290/1000)","v":0},0,0,0,0,0,0,0,0,0,0,0,0,0,0,0,0,0,0,0,0,0,0,0,0,0,0,0,0,0,0,0,0,0,0,0]
[null,181,null,"animal fat","[TJ/yr]",null,{"$f":"IF(G252=\"\",\"\",G252*G291/1000)","v":0},0,0,0,0,0,0,0,0,0,0,0,0,0,0,0,0,0,0,0,0,0,0,0,0,0,0,0,0,0,0,0,0,0,0,0]
[null,182,null,"agricultural, organic, diaper waste, charcoal","[TJ/yr]",null,{"$f":"IF(G253=\"\",\"\",G253*G292/1000)","v":0},0,0,0,0,0,0,0,0,0,0,0,0,0,0,0,0,0,0,0,0,0,0,0,0,0,0,0,0,0,0,0,0,0,0,0]
[null,183,null,"other biomass","[TJ/yr]",null,{"$f":"IF(G254=\"\",\"\",G254*G293/1000)","v":0},0,0,0,0,0,0,0,0,0,0,0,0,0,0,0,0,0,0,0,0,0,0,0,0,0,0,0,0,0,0,0,0,0,0,0]
[null,"183a",null,"biomass content from alternative fuels","[TJ/yr]",null,{"$f":"(G239*G278*G$369+G240*G279*G$370+G241*G280*G$371+G242*G281*G$372+G243*G282*G$373+G244*G283*G$374+G245*G284*G$376)/1000","v":0},0,0,0,0,0,0,0,0,0,0,0,0,0,0,0,0,0,0,0,0,0,0,0,0,0,0,0,0,0,0,0,0,0,0,0]
[null,"Drying of raw materials and fuels",null,null,null,null,{"$f":"G$7","v":1990},1991,1992,1993,1994,1995,1996,1997,1998,1999,2000,2001,2002,2003,2004,2005,2006,2007,2008,2009,2010,2011,2012,2013,2014,2015,2016,2017,2018,2019,2020,2021,2022,2023,2024,2025]
[null,184,"Conventional fossil fuels",null,"[TJ/yr]",null,{"$f":"IF(COUNTBLANK(G336:G341)=6,\"\",SUM(G336:G341))","v":0},0,0,0,0,0,0,0,0,0,0,0,0,0,0,0,0,0,0,0,0,0,0,0,0,0,0,0,0,0,0,0,0,0,0,0]
[null,"184a",null,"coal + anthracite + lignite","[TJ/yr]",null,{"$f":"IF(G257=\"\",\"\",G257*G296/1000)","v":0},0,0,0,0,0,0,0,0,0,0,0,0,0,0,0,0,0,0,0,0,0,0,0,0,0,0,0,0,0,0,0,0,0,0,0]
[null,"184b",null,"petrol coke","[TJ/yr]",null,{"$f":"IF(G258=\"\",\"\",G258*G297/1000)","v":0},0,0,0,0,0,0,0,0,0,0,0,0,0,0,0,0,0,0,0,0,0,0,0,0,0,0,0,0,0,0,0,0,0,0,0]
[null,"184c",null,"(ultra) heavy fuel","[TJ/yr]",null,{"$f":"IF(G259=\"\",\"\",G259*G298/1000)","v":0},0,0,0,0,0,0,0,0,0,0,0,0,0,0,0,0,0,0,0,0,0,0,0,0,0,0,0,0,0,0,0,0,0,0,0]
[null,"184d",null,"diesel oil","[TJ/yr]",null,{"$f":"IF(G260=\"\",\"\",G260*G299/1000)","v":0},0,0,0,0,0,0,0,0,0,0,0,0,0,0,0,0,0,0,0,0,0,0,0,0,0,0,0,0,0,0,0,0,0,0,0]
[null,"184e",null,"natural gas ","[TJ/yr]",null,{"$f":"IF(G261=\"\",\"\",G261*G300/1000)","v":0},0,0,0,0,0,0,0,0,0,0,0,0,0,0,0,0,0,0,0,0,0,0,0,0,0,0,0,0,0,0,0,0,0,0,0]
[null,"184f",null,"shale","[TJ/yr]",null,{"$f":"IF(G262=\"\",\"\",G262*G301/1000)","v":0},0,0,0,0,0,0,0,0,0,0,0,0,0,0,0,0,0,0,0,0,0,0,0,0,0,0,0,0,0,0,0,0,0,0,0]
[null,"184g","Alternative fossil fuels",null,"[TJ/yr]",null,{"$f":"G343","v":0},0,0,0,0,0,0,0,0,0,0,0,0,0,0,0,0,0,0,0,0,0,0,0,0,0,0,0,0,0,0,0,0,0,0,0]
[null,"184h",null,"other fossil based wastes (excl. biomass content of mixed fuels)","[TJ/yr]",null,{"$f":"IF(G264=\"\",\"\",G264*(G303/1000)*(1-G376))","v":0},0,0,0,0,0,0,0,0,0,0,0,0,0,0,0,0,0,0,0,0,0,0,0,0,0,0,0,0,0,0,0,0,0,0,0]
[null,"184i","Alternative biomass fuels",null,"[TJ/yr]",null,{"$f":"G345","v":0},0,0,0,0,0,0,0,0,0,0,0,0,0,0,0,0,0,0,0,0,0,0,0,0,0,0,0,0,0,0,0,0,0,0,0]
[null,"184j",null,"other biomass (incl. biomass content of mixed fuels)","[TJ/yr]",null,{"$f":"IF(G266=\"\",\"\",(G266*G305/1000)+(G264*G303/1000*G376))","v":0},0,0,0,0,0,0,0,0,0,0,0,0,0,0,0,0,0,0,0,0,0,0,0,0,0,0,0,0,0,0,0,0,0,0,0]
[]
[null,"CO2 Emission Factors of Kiln and Non-Kiln Fuels (per lower heating value)",null,null,null,null,{"$f":"G$7","v":1990},1991,1992,1993,1994,1995,1996,1997,1998,1999,2000,2001,2002,2003,2004,2005,2006,2007,2008,2009,2010,2011,2012,2013,2014,2015,2016,2017,2018,2019,2020,2021,2022,2023,2024,2025]
[null,185,"Conventional fossil fuels"]
[null,{"$f":"B348+1","v":186},null,"coal + anthracite","[kg CO2/GJ]",null,{"$f":"'Fuel CO2 Factors'!$D7","v":96},{"$f":"'Fuel CO2 Factors'!$D7","v":96},{"$f":"'Fuel CO2 Factors'!$D7","v":96},{"$f":"'Fuel CO2 Factors'!$D7","v":96},{"$f":"'Fuel CO2 Factors'!$D7","v":96},{"$f":"'Fuel CO2 Factors'!$D7","v":96},{"$f":"'Fuel CO2 Factors'!$D7","v":96},{"$f":"'Fuel CO2 Factors'!$D7","v":96},{"$f":"'Fuel CO2 Factors'!$D7","v":96},{"$f":"'Fuel CO2 Factors'!$D7","v":96},{"$f":"'Fuel CO2 Factors'!$D7","v":96},{"$f":"'Fuel CO2 Factors'!$D7","v":96},{"$f":"'Fuel CO2 Factors'!$D7","v":96},{"$f":"'Fuel CO2 Factors'!$D7","v":96},{"$f":"'Fuel CO2 Factors'!$D7","v":96},{"$f":"'Fuel CO2 Factors'!$D7","v":96},{"$f":"'Fuel CO2 Factors'!$D7","v":96},{"$f":"'Fuel CO2 Factors'!$D7","v":96},{"$f":"'Fuel CO2 Factors'!$D7","v":96},{"$f":"'Fuel CO2 Factors'!$D7","v":96},{"$f":"'Fuel CO2 Factors'!$D7","v":96},{"$f":"'Fuel CO2 Factors'!$D7","v":96},{"$f":"'Fuel CO2 Factors'!$D7","v":96},{"$f":"'Fuel CO2 Factors'!$D7","v":96},{"$f":"'Fuel CO2 Factors'!$D7","v":96},{"$f":"'Fuel CO2 Factors'!$D7","v":96},{"$f":"'Fuel CO2 Factors'!$D7","v":96},{"$f":"'Fuel CO2 Factors'!$D7","v":96},{"$f":"'Fuel CO2 Factors'!$D7","v":96},{"$f":"'Fuel CO2 Factors'!$D7","v":96},{"$f":"'Fuel CO2 Factors'!$D7","v":96},{"$f":"'Fuel CO2 Factors'!$D7","v":96},{"$f":"'Fuel CO2 Factors'!$D7","v":96},{"$f":"'Fuel CO2 Factors'!$D7","v":96},{"$f":"'Fuel CO2 Factors'!$D7","v":96},{"$f":"'Fuel CO2 Factors'!$D7","v":96}]
[null,187,null,"petrol coke","[kg CO2/GJ]",null,{"$f":"'Fuel CO2 Factors'!$E8","v":92.8},{"$f":"'Fuel CO2 Factors'!$E8","v":92.8},{"$f":"'Fuel CO2 Factors'!$E8","v":92.8},{"$f":"'Fuel CO2 Factors'!$E8","v":92.8},{"$f":"'Fuel CO2 Factors'!$E8","v":92.8},{"$f":"'Fuel CO2 Factors'!$E8","v":92.8},{"$f":"'Fuel CO2 Factors'!$E8","v":92.8},{"$f":"'Fuel CO2 Factors'!$E8","v":92.8},{"$f":"'Fuel CO2 Factors'!$E8","v":92.8},{"$f":"'Fuel CO2 Factors'!$E8","v":92.8},{"$f":"'Fuel CO2 Factors'!$E8","v":92.8},{"$f":"'Fuel CO2 Factors'!$E8","v":92.8},{"$f":"'Fuel CO2 Factors'!$E8","v":92.8},{"$f":"'Fuel CO2 Factors'!$E8","v":92.8},{"$f":"'Fuel CO2 Factors'!$E8","v":92.8},{"$f":"'Fuel CO2 Factors'!$E8","v":92.8},{"$f":"'Fuel CO2 Factors'!$E8","v":92.8},{"$f":"'Fuel CO2 Factors'!$E8","v":92.8},{"$f":"'Fuel CO2 Factors'!$E8","v":92.8},{"$f":"'Fuel CO2 Factors'!$E8","v":92.8},{"$f":"'Fuel CO2 Factors'!$E8","v":92.8},{"$f":"'Fuel CO2 Factors'!$E8","v":92.8},{"$f":"'Fuel CO2 Factors'!$E8","v":92.8},{"$f":"'Fuel CO2 Factors'!$E8","v":92.8},{"$f":"'Fuel CO2 Factors'!$E8","v":92.8},{"$f":"'Fuel CO2 Factors'!$E8","v":92.8},{"$f":"'Fuel CO2 Factors'!$E8","v":92.8},{"$f":"'Fuel CO2 Factors'!$E8","v":92.8},{"$f":"'Fuel CO2 Factors'!$E8","v":92.8},{"$f":"'Fuel CO2 Factors'!$E8","v":92.8},{"$f":"'Fuel CO2 Factors'!$E8","v":92.8},{"$f":"'Fuel CO2 Factors'!$E8","v":92.8},{"$f":"'Fuel CO2 Factors'!$E8","v":92.8},{"$f":"'Fuel CO2 Factors'!$E8","v":92.8},{"$f":"'Fuel CO2 Factors'!$E8","v":92.8},{"$f":"'Fuel CO2 Factors'!$E8","v":92.8}]
[null,188,null,"(ultra) heavy fuel","[kg CO2/GJ]",null,{"$f":"'Fuel CO2 Factors'!$D9","v":77.400000000000006},{"$f":"'Fuel CO2 Factors'!$D9","v":77.400000000000006},{"$f":"'Fuel CO2 Factors'!$D9","v":77.400000000000006},{"$f":"'Fuel CO2 Factors'!$D9","v":77.400000000000006},{"$f":"'Fuel CO2 Factors'!$D9","v":77.400000000000006},{"$f":"'Fuel CO2 Factors'!$D9","v":77.400000000000006},{"$f":"'Fuel CO2 Factors'!$D9","v":77.400000000000006},{"$f":"'Fuel CO2 Factors'!$D9","v":77.400000000000006},{"$f":"'Fuel CO2 Factors'!$D9","v":77.400000000000006},{"$f":"'Fuel CO2 Factors'!$D9","v":77.400000000000006},{"$f":"'Fuel CO2 Factors'!$D9","v":77.400000000000006},{"$f":"'Fuel CO2 Factors'!$D9","v":77.400000000000006},{"$f":"'Fuel CO2 Factors'!$D9","v":77.400000000000006},{"$f":"'Fuel CO2 Factors'!$D9","v":77.400000000000006},{"$f":"'Fuel CO2 Factors'!$D9","v":77.400000000000006},{"$f":"'Fuel CO2 Factors'!$D9","v":77.400000000000006},{"$f":"'Fuel CO2 Factors'!$D9","v":77.400000000000006},{"$f":"'Fuel CO2 Factors'!$D9","v":77.400000000000006},{"$f":"'Fuel CO2 Factors'!$D9","v":77.400000000000006},{"$f":"'Fuel CO2 Factors'!$D9","v":77.400000000000006},{"$f":"'Fuel CO2 Factors'!$D9","v":77.400000000000006},{"$f":"'Fuel CO2 Factors'!$D9","v":77.400000000000006},{"$f":"'Fuel CO2 Factors'!$D9","v":77.400000000000006},{"$f":"'Fuel CO2 Factors'!$D9","v":77.400000000000006},{"$f":"'Fuel CO2 Factors'!$D9","v":77.400000000000006},{"$f":"'Fuel CO2 Factors'!$D9","v":77.400000000000006},{"$f":"'Fuel CO2 Factors'!$D9","v":77.400000000000006},{"$f":"'Fuel CO2 Factors'!$D9","v":77.400000000000006},{"$f":"'Fuel CO2 Factors'!$D9","v":77.400000000000006},{"$f":"'Fuel CO2 Factors'!$D9","v":77.400000000000006},{"$f":"'Fuel CO2 Factors'!$D9","v":77.400000000000006},{"$f":"'Fuel CO2 Factors'!$D9","v":77.400000000000006},{"$f":"'Fuel CO2 Factors'!$D9","v":77.400000000000006},{"$f":"'Fuel CO2 Factors'!$D9","v":77.400000000000006},{"$f":"'Fuel CO2 Factors'!$D9","v":77.400000000000006},{"$f":"'Fuel CO2 Factors'!$D9","v":77.400000000000006}]
[null,189,null,"diesel oil","[kg CO2/GJ]",null,{"$f":"'Fuel CO2 Factors'!$D10","v":74.099999999999994},{"$f":"'Fuel CO2 Factors'!$D10","v":74.099999999999994},{"$f":"'Fuel CO2 Factors'!$D10","v":74.099999999999994},{"$f":"'Fuel CO2 Factors'!$D10","v":74.099999999999994},{"$f":"'Fuel CO2 Factors'!$D10","v":74.099999999999994},{"$f":"'Fuel CO2 Factors'!$D10","v":74.099999999999994},{"$f":"'Fuel CO2 Factors'!$D10","v":74.099999999999994},{"$f":"'Fuel CO2 Factors'!$D10","v":74.099999999999994},{"$f":"'Fuel CO2 Factors'!$D10","v":74.099999999999994},{"$f":"'Fuel CO2 Factors'!$D10","v":74.099999999999994},{"$f":"'Fuel CO2 Factors'!$D10","v":74.099999999999994},{"$f":"'Fuel CO2 Factors'!$D10","v":74.099999999999994},{"$f":"'Fuel CO2 Factors'!$D10","v":74.099999999999994},{"$f":"'Fuel CO2 Factors'!$D10","v":74.099999999999994},{"$f":"'Fuel CO2 Factors'!$D10","v":74.099999999999994},{"$f":"'Fuel CO2 Factors'!$D10","v":74.099999999999994},{"$f":"'Fuel CO2 Factors'!$D10","v":74.099999999999994},{"$f":"'Fuel CO2 Factors'!$D10","v":74.099999999999994},{"$f":"'Fuel CO2 Factors'!$D10","v":74.099999999999994},{"$f":"'Fuel CO2 Factors'!$D10","v":74.099999999999994},{"$f":"'Fuel CO2 Factors'!$D10","v":74.099999999999994},{"$f":"'Fuel CO2 Factors'!$D10","v":74.099999999999994},{"$f":"'Fuel CO2 Factors'!$D10","v":74.099999999999994},{"$f":"'Fuel CO2 Factors'!$D10","v":74.099999999999994},{"$f":"'Fuel CO2 Factors'!$D10","v":74.099999999999994},{"$f":"'Fuel CO2 Factors'!$D10","v":74.099999999999994},{"$f":"'Fuel CO2 Factors'!$D10","v":74.099999999999994},{"$f":"'Fuel CO2 Factors'!$D10","v":74.099999999999994},{"$f":"'Fuel CO2 Factors'!$D10","v":74.099999999999994},{"$f":"'Fuel CO2 Factors'!$D10","v":74.099999999999994},{"$f":"'Fuel CO2 Factors'!$D10","v":74.099999999999994},{"$f":"'Fuel CO2 Factors'!$D10","v":74.099999999999994},{"$f":"'Fuel CO2 Factors'!$D10","v":74.099999999999994},{"$f":"'Fuel CO2 Factors'!$D10","v":74.099999999999994},{"$f":"'Fuel CO2 Factors'!$D10","v":74.099999999999994},{"$f":"'Fuel CO2 Factors'!$D10","v":74.099999999999994}]
[null,190,null,"natural gas ","[kg CO2/GJ]",null,{"$f":"'Fuel CO2 Factors'!$D11","v":56.1},{"$f":"'Fuel CO2 Factors'!$D11","v":56.1},{"$f":"'Fuel CO2 Factors'!$D11","v":56.1},{"$f":"'Fuel CO2 Factors'!$D11","v":56.1},{"$f":"'Fuel CO2 Factors'!$D11","v":56.1},{"$f":"'Fuel CO2 Factors'!$D11","v":56.1},{"$f":"'Fuel CO2 Factors'!$D11","v":56.1},{"$f":"'Fuel CO2 Factors'!$D11","v":56.1},{"$f":"'Fuel CO2 Factors'!$D11","v":56.1},{"$f":"'Fuel CO2 Factors'!$D11","v":56.1},{"$f":"'Fuel CO2 Factors'!$D11","v":56.1},{"$f":"'Fuel CO2 Factors'!$D11","v":56.1},{"$f":"'Fuel CO2 Factors'!$D11","v":56.1},{"$f":"'Fuel CO2 Factors'!$D11","v":56.1},{"$f":"'Fuel CO2 Factors'!$D11","v":56.1},{"$f":"'Fuel CO2 Factors'!$D11","v":56.1},{"$f":"'Fuel CO2 Factors'!$D11","v":56.1},{"$f":"'Fuel CO2 Factors'!$D11","v":56.1},{"$f":"'Fuel CO2 Factors'!$D11","v":56.1},{"$f":"'Fuel CO2 Factors'!$D11","v":56.1},{"$f":"'Fuel CO2 Factors'!$D11","v":56.1},{"$f":"'Fuel CO2 Factors'!$D11","v":56.1},{"$f":"'Fuel CO2 Factors'!$D11","v":56.1},{"$f":"'Fuel CO2 Factors'!$D11","v":56.1},{"$f":"'Fuel CO2 Factors'!$D11","v":56.1},{"$f":"'Fuel CO2 Factors'!$D11","v":56.1},{"$f":"'Fuel CO2 Factors'!$D11","v":56.1},{"$f":"'Fuel CO2 Factors'!$D11","v":56.1},{"$f":"'Fuel CO2 Factors'!$D11","v":56.1},{"$f":"'Fuel CO2 Factors'!$D11","v":56.1},{"$f":"'Fuel CO2 Factors'!$D11","v":56.1},{"$f":"'Fuel CO2 Factors'!$D11","v":56.1},{"$f":"'Fuel CO2 Factors'!$D11","v":56.1},{"$f":"'Fuel CO2 Factors'!$D11","v":56.1},{"$f":"'Fuel CO2 Factors'!$D11","v":56.1},{"$f":"'Fuel CO2 Factors'!$D11","v":56.1}]
[null,191,null,"shale","[kg CO2/GJ]",null,{"$f":"'Fuel CO2 Factors'!$D12","v":107},{"$f":"'Fuel CO2 Factors'!$D12","v":107},{"$f":"'Fuel CO2 Factors'!$D12","v":107},{"$f":"'Fuel CO2 Factors'!$D12","v":107},{"$f":"'Fuel CO2 Factors'!$D12","v":107},{"$f":"'Fuel CO2 Factors'!$D12","v":107},{"$f":"'Fuel CO2 Factors'!$D12","v":107},{"$f":"'Fuel CO2 Factors'!$D12","v":107},{"$f":"'Fuel CO2 Factors'!$D12","v":107},{"$f":"'Fuel CO2 Factors'!$D12","v":107},{"$f":"'Fuel CO2 Factors'!$D12","v":107},{"$f":"'Fuel CO2 Factors'!$D12","v":107},{"$f":"'Fuel CO2 Factors'!$D12","v":107},{"$f":"'Fuel CO2 Factors'!$D12","v":107},{"$f":"'Fuel CO2 Factors'!$D12","v":107},{"$f":"'Fuel CO2 Factors'!$D12","v":107},{"$f":"'Fuel CO2 Factors'!$D12","v":107},{"$f":"'Fuel CO2 Factors'!$D12","v":107},{"$f":"'Fuel CO2 Factors'!$D12","v":107},{"$f":"'Fuel CO2 Factors'!$D12","v":107},{"$f":"'Fuel CO2 Factors'!$D12","v":107},{"$f":"'Fuel CO2 Factors'!$D12","v":107},{"$f":"'Fuel CO2 Factors'!$D12","v":107},{"$f":"'Fuel CO2 Factors'!$D12","v":107},{"$f":"'Fuel CO2 Factors'!$D12","v":107},{"$f":"'Fuel CO2 Factors'!$D12","v":107},{"$f":"'Fuel CO2 Factors'!$D12","v":107},{"$f":"'Fuel CO2 Factors'!$D12","v":107},{"$f":"'Fuel CO2 Factors'!$D12","v":107},{"$f":"'Fuel CO2 Factors'!$D12","v":107},{"$f":"'Fuel CO2 Factors'!$D12","v":107},{"$f":"'Fuel CO2 Factors'!$D12","v":107},{"$f":"'Fuel CO2 Factors'!$D12","v":107},{"$f":"'Fuel CO2 Factors'!$D12","v":107},{"$f":"'Fuel CO2 Factors'!$D12","v":107},{"$f":"'Fuel CO2 Factors'!$D12","v":107}]
[null,192,null,"lignite","[kg CO2/GJ]",null,{"$f":"'Fuel CO2 Factors'!$D13","v":101},{"$f":"'Fuel CO2 Factors'!$D13","v":101},{"$f":"'Fuel CO2 Factors'!$D13","v":101},{"$f":"'Fuel CO2 Factors'!$D13","v":101},{"$f":"'Fuel CO2 Factors'!$D13","v":101},{"$f":"'Fuel CO2 Factors'!$D13","v":101},{"$f":"'Fuel CO2 Factors'!$D13","v":101},{"$f":"'Fuel CO2 Factors'!$D13","v":101},{"$f":"'Fuel CO2 Factors'!$D13","v":101},{"$f":"'Fuel CO2 Factors'!$D13","v":101},{"$f":"'Fuel CO2 Factors'!$D13","v":101},{"$f":"'Fuel CO2 Factors'!$D13","v":101},{"$f":"'Fuel CO2 Factors'!$D13","v":101},{"$f":"'Fuel CO2 Factors'!$D13","v":101},{"$f":"'Fuel CO2 Factors'!$D13","v":101},{"$f":"'Fuel CO2 Factors'!$D13","v":101},{"$f":"'Fuel CO2 Factors'!$D13","v":101},{"$f":"'Fuel CO2 Factors'!$D13","v":101},{"$f":"'Fuel CO2 Factors'!$D13","v":101},{"$f":"'Fuel CO2 Factors'!$D13","v":101},{"$f":"'Fuel CO2 Factors'!$D13","v":101},{"$f":"'Fuel CO2 Factors'!$D13","v":101},{"$f":"'Fuel CO2 Factors'!$D13","v":101},{"$f":"'Fuel CO2 Factors'!$D13","v":101},{"$f":"'Fuel CO2 Factors'!$D13","v":101},{"$f":"'Fuel CO2 Factors'!$D13","v":101},{"$f":"'Fuel CO2 Factors'!$D13","v":101},{"$f":"'Fuel CO2 Factors'!$D13","v":101},{"$f":"'Fuel CO2 Factors'!$D13","v":101},{"$f":"'Fuel CO2 Factors'!$D13","v":101},{"$f":"'Fuel CO2 Factors'!$D13","v":101},{"$f":"'Fuel CO2 Factors'!$D13","v":101},{"$f":"'Fuel CO2 Factors'!$D13","v":101},{"$f":"'Fuel CO2 Factors'!$D13","v":101},{"$f":"'Fuel CO2 Factors'!$D13","v":101},{"$f":"'Fuel CO2 Factors'!$D13","v":101}]
[null,"192a",null,"gasoline","[kg CO2/GJ]",null,{"$f":"'Fuel CO2 Factors'!$D14","v":69.3},{"$f":"'Fuel CO2 Factors'!$D14","v":69.3},{"$f":"'Fuel CO2 Factors'!$D14","v":69.3},{"$f":"'Fuel CO2 Factors'!$D14","v":69.3},{"$f":"'Fuel CO2 Factors'!$D14","v":69.3},{"$f":"'Fuel CO2 Factors'!$D14","v":69.3},{"$f":"'Fuel CO2 Factors'!$D14","v":69.3},{"$f":"'Fuel CO2 Factors'!$D14","v":69.3},{"$f":"'Fuel CO2 Factors'!$D14","v":69.3},{"$f":"'Fuel CO2 Factors'!$D14","v":69.3},{"$f":"'Fuel CO2 Factors'!$D14","v":69.3},{"$f":"'Fuel CO2 Factors'!$D14","v":69.3},{"$f":"'Fuel CO2 Factors'!$D14","v":69.3},{"$f":"'Fuel CO2 Factors'!$D14","v":69.3},{"$f":"'Fuel CO2 Factors'!$D14","v":69.3},{"$f":"'Fuel CO2 Factors'!$D14","v":69.3},{"$f":"'Fuel CO2 Factors'!$D14","v":69.3},{"$f":"'Fuel CO2 Factors'!$D14","v":69.3},{"$f":"'Fuel CO2 Factors'!$D14","v":69.3},{"$f":"'Fuel CO2 Factors'!$D14","v":69.3},{"$f":"'Fuel CO2 Factors'!$D14","v":69.3},{"$f":"'Fuel CO2 Factors'!$D14","v":69.3},{"$f":"'Fuel CO2 Factors'!$D14","v":69.3},{"$f":"'Fuel CO2 Factors'!$D14","v":69.3},{"$f":"'Fuel CO2 Factors'!$D14","v":69.3},{"$f":"'Fuel CO2 Factors'!$D14","v":69.3},{"$f":"'Fuel CO2 Factors'!$D14","v":69.3},{"$f":"'Fuel CO2 Factors'!$D14","v":69.3},{"$f":"'Fuel CO2 Factors'!$D14","v":69.3},{"$f":"'Fuel CO2 Factors'!$D14","v":69.3},{"$f":"'Fuel CO2 Factors'!$D14","v":69.3},{"$f":"'Fuel CO2 Factors'!$D14","v":69.3},{"$f":"'Fuel CO2 Factors'!$D14","v":69.3},{"$f":"'Fuel CO2 Factors'!$D14","v":69.3},{"$f":"'Fuel CO2 Factors'!$D14","v":69.3},{"$f":"'Fuel CO2 Factors'!$D14","v":69.3}]
[null,"192d",null,"other fossil fuels (Equipment and On-Site Vehicles)","[kg CO2/GJ]",null,0,0,0,0,0,0,0,0,0,0,0,0,0,0,0,0,0,0,0,0,0,0,0,0,0,0,0,0,0,0,0,0,0,0,0,0]
[null,"192b",null,"other fossil fuels (Room Heating and Cooling)","[kg CO2/GJ]",null,0,0,0,0,0,0,0,0,0,0,0,0,0,0,0,0,0,0,0,0,0,0,0,0,0,0,0,0,0,0,0,0,0,0,0,0]
[null,"192c",null,"other fossil fuels (On-Site Power Generation)","[kg CO2/GJ]",null,0,0,0,0,0,0,0,0,0,0,0,0,0,0,0,0,0,0,0,0,0,0,0,0,0,0,0,0,0,0,0,0,0,0,0,0]
[null,{"$f":"B355+1","v":193},"Alternative fossil fuels, including mixed fuels"]
[null,{"$f":"B360+1","v":194},null,"waste oil","[kg CO2/GJ]",null,{"$f":"'Fuel CO2 Factors'!$E16","v":74},{"$f":"'Fuel CO2 Factors'!$E16","v":74},74,{"$f":"'Fuel CO2 Factors'!$E16","v":74},{"$f":"'Fuel CO2 Factors'!$E16","v":74},{"$f":"'Fuel CO2 Factors'!$E16","v":74},{"$f":"'Fuel CO2 Factors'!$E16","v":74},{"$f":"'Fuel CO2 Factors'!$E16","v":74},{"$f":"'Fuel CO2 Factors'!$E16","v":74},{"$f":"'Fuel CO2 Factors'!$E16","v":74},{"$f":"'Fuel CO2 Factors'!$E16","v":74},{"$f":"'Fuel CO2 Factors'!$E16","v":74},{"$f":"'Fuel CO2 Factors'!$E16","v":74},{"$f":"'Fuel CO2 Factors'!$E16","v":74},{"$f":"'Fuel CO2 Factors'!$E16","v":74},{"$f":"'Fuel CO2 Factors'!$E16","v":74},{"$f":"'Fuel CO2 Factors'!$E16","v":74},{"$f":"'Fuel CO2 Factors'!$E16","v":74},{"$f":"'Fuel CO2 Factors'!$E16","v":74},{"$f":"'Fuel CO2 Factors'!$E16","v":74},{"$f":"'Fuel CO2 Factors'!$E16","v":74},{"$f":"'Fuel CO2 Factors'!$E16","v":74},{"$f":"'Fuel CO2 Factors'!$E16","v":74},{"$f":"'Fuel CO2 Factors'!$E16","v":74},{"$f":"'Fuel CO2 Factors'!$E16","v":74},{"$f":"'Fuel CO2 Factors'!$E16","v":74},{"$f":"'Fuel CO2 Factors'!$E16","v":74},{"$f":"'Fuel CO2 Factors'!$E16","v":74},{"$f":"'Fuel CO2 Factors'!$E16","v":74},{"$f":"'Fuel CO2 Factors'!$E16","v":74},{"$f":"'Fuel CO2 Factors'!$E16","v":74},{"$f":"'Fuel CO2 Factors'!$E16","v":74},{"$f":"'Fuel CO2 Factors'!$E16","v":74},{"$f":"'Fuel CO2 Factors'!$E16","v":74},{"$f":"'Fuel CO2 Factors'!$E16","v":74},{"$f":"'Fuel CO2 Factors'!$E16","v":74}]
[null,195,null,"tyres","[kg CO2/GJ]",null,{"$f":"'Fuel CO2 Factors'!$E17","v":85},{"$f":"'Fuel CO2 Factors'!$E17","v":85},{"$f":"'Fuel CO2 Factors'!$E17","v":85},{"$f":"'Fuel CO2 Factors'!$E17","v":85},{"$f":"'Fuel CO2 Factors'!$E17","v":85},{"$f":"'Fuel CO2 Factors'!$E17","v":85},{"$f":"'Fuel CO2 Factors'!$E17","v":85},{"$f":"'Fuel CO2 Factors'!$E17","v":85},{"$f":"'Fuel CO2 Factors'!$E17","v":85},{"$f":"'Fuel CO2 Factors'!$E17","v":85},{"$f":"'Fuel CO2 Factors'!$E17","v":85},{"$f":"'Fuel CO2 Factors'!$E17","v":85},{"$f":"'Fuel CO2 Factors'!$E17","v":85},{"$f":"'Fuel CO2 Factors'!$E17","v":85},{"$f":"'Fuel CO2 Factors'!$E17","v":85},{"$f":"'Fuel CO2 Factors'!$E17","v":85},{"$f":"'Fuel CO2 Factors'!$E17","v":85},{"$f":"'Fuel CO2 Factors'!$E17","v":85},{"$f":"'Fuel CO2 Factors'!$E17","v":85},{"$f":"'Fuel CO2 Factors'!$E17","v":85},{"$f":"'Fuel CO2 Factors'!$E17","v":85},{"$f":"'Fuel CO2 Factors'!$E17","v":85},{"$f":"'Fuel CO2 Factors'!$E17","v":85},{"$f":"'Fuel CO2 Factors'!$E17","v":85},{"$f":"'Fuel CO2 Factors'!$E17","v":85},{"$f":"'Fuel CO2 Factors'!$E17","v":85},{"$f":"'Fuel CO2 Factors'!$E17","v":85},{"$f":"'Fuel CO2 Factors'!$E17","v":85},{"$f":"'Fuel CO2 Factors'!$E17","v":85},{"$f":"'Fuel CO2 Factors'!$E17","v":85},{"$f":"'Fuel CO2 Factors'!$E17","v":85},{"$f":"'Fuel CO2 Factors'!$E17","v":85},{"$f":"'Fuel CO2 Factors'!$E17","v":85},{"$f":"'Fuel CO2 Factors'!$E17","v":85},{"$f":"'Fuel CO2 Factors'!$E17","v":85},{"$f":"'Fuel CO2 Factors'!$E17","v":85}]
[null,196,null,"RDF including plastics","[kg CO2/GJ]",null,{"$f":"'Fuel CO2 Factors'!$E18","v":75},{"$f":"'Fuel CO2 Factors'!$E18","v":75},{"$f":"'Fuel CO2 Factors'!$E18","v":75},{"$f":"'Fuel CO2 Factors'!$E18","v":75},{"$f":"'Fuel CO2 Factors'!$E18","v":75},{"$f":"'Fuel CO2 Factors'!$E18","v":75},{"$f":"'Fuel CO2 Factors'!$E18","v":75},{"$f":"'Fuel CO2 Factors'!$E18","v":75},{"$f":"'Fuel CO2 Factors'!$E18","v":75},{"$f":"'Fuel CO2 Factors'!$E18","v":75},{"$f":"'Fuel CO2 Factors'!$E18","v":75},{"$f":"'Fuel CO2 Factors'!$E18","v":75},{"$f":"'Fuel CO2 Factors'!$E18","v":75},{"$f":"'Fuel CO2 Factors'!$E18","v":75},{"$f":"'Fuel CO2 Factors'!$E18","v":75},{"$f":"'Fuel CO2 Factors'!$E18","v":75},{"$f":"'Fuel CO2 Factors'!$E18","v":75},{"$f":"'Fuel CO2 Factors'!$E18","v":75},{"$f":"'Fuel CO2 Factors'!$E18","v":75},{"$f":"'Fuel CO2 Factors'!$E18","v":75},{"$f":"'Fuel CO2 Factors'!$E18","v":75},{"$f":"'Fuel CO2 Factors'!$E18","v":75},{"$f":"'Fuel CO2 Factors'!$E18","v":75},{"$f":"'Fuel CO2 Factors'!$E18","v":75},{"$f":"'Fuel CO2 Factors'!$E18","v":75},{"$f":"'Fuel CO2 Factors'!$E18","v":75},{"$f":"'Fuel CO2 Factors'!$E18","v":75},{"$f":"'Fuel CO2 Factors'!$E18","v":75},{"$f":"'Fuel CO2 Factors'!$E18","v":75},{"$f":"'Fuel CO2 Factors'!$E18","v":75},{"$f":"'Fuel CO2 Factors'!$E18","v":75},{"$f":"'Fuel CO2 Factors'!$E18","v":75},{"$f":"'Fuel CO2 Factors'!$E18","v":75},{"$f":"'Fuel CO2 Factors'!$E18","v":75},{"$f":"'Fuel CO2 Factors'!$E18","v":75},{"$f":"'Fuel CO2 Factors'!$E18","v":75}]
[null,197,null,"solvents","[kg CO2/GJ]",null,{"$f":"'Fuel CO2 Factors'!$E19","v":74},{"$f":"'Fuel CO2 Factors'!$E19","v":74},{"$f":"'Fuel CO2 Factors'!$E19","v":74},{"$f":"'Fuel CO2 Factors'!$E19","v":74},{"$f":"'Fuel CO2 Factors'!$E19","v":74},{"$f":"'Fuel CO2 Factors'!$E19","v":74},{"$f":"'Fuel CO2 Factors'!$E19","v":74},{"$f":"'Fuel CO2 Factors'!$E19","v":74},{"$f":"'Fuel CO2 Factors'!$E19","v":74},{"$f":"'Fuel CO2 Factors'!$E19","v":74},{"$f":"'Fuel CO2 Factors'!$E19","v":74},{"$f":"'Fuel CO2 Factors'!$E19","v":74},{"$f":"'Fuel CO2 Factors'!$E19","v":74},{"$f":"'Fuel CO2 Factors'!$E19","v":74},{"$f":"'Fuel CO2 Factors'!$E19","v":74},{"$f":"'Fuel CO2 Factors'!$E19","v":74},{"$f":"'Fuel CO2 Factors'!$E19","v":74},{"$f":"'Fuel CO2 Factors'!$E19","v":74},{"$f":"'Fuel CO2 Factors'!$E19","v":74},{"$f":"'Fuel CO2 Factors'!$E19","v":74},{"$f":"'Fuel CO2 Factors'!$E19","v":74},{"$f":"'Fuel CO2 Factors'!$E19","v":74},{"$f":"'Fuel CO2 Factors'!$E19","v":74},{"$f":"'Fuel CO2 Factors'!$E19","v":74},{"$f":"'Fuel CO2 Factors'!$E19","v":74},{"$f":"'Fuel CO2 Factors'!$E19","v":74},{"$f":"'Fuel CO2 Factors'!$E19","v":74},{"$f":"'Fuel CO2 Factors'!$E19","v":74},{"$f":"'Fuel CO2 Factors'!$E19","v":74},{"$f":"'Fuel CO2 Factors'!$E19","v":74},{"$f":"'Fuel CO2 Factors'!$E19","v":74},{"$f":"'Fuel CO2 Factors'!$E19","v":74},{"$f":"'Fuel CO2 Factors'!$E19","v":74},{"$f":"'Fuel CO2 Factors'!$E19","v":74},{"$f":"'Fuel CO2 Factors'!$E19","v":74},{"$f":"'Fuel CO2 Factors'!$E19","v":74}]
[null,198,null,"impregnated saw dust","[kg CO2/GJ]",null,{"$f":"'Fuel CO2 Factors'!$E20","v":75},{"$f":"'Fuel CO2 Factors'!$E20","v":75},{"$f":"'Fuel CO2 Factors'!$E20","v":75},{"$f":"'Fuel CO2 Factors'!$E20","v":75},{"$f":"'Fuel CO2 Factors'!$E20","v":75},{"$f":"'Fuel CO2 Factors'!$E20","v":75},{"$f":"'Fuel CO2 Factors'!$E20","v":75},{"$f":"'Fuel CO2 Factors'!$E20","v":75},{"$f":"'Fuel CO2 Factors'!$E20","v":75},{"$f":"'Fuel CO2 Factors'!$E20","v":75},{"$f":"'Fuel CO2 Factors'!$E20","v":75},{"$f":"'Fuel CO2 Factors'!$E20","v":75},{"$f":"'Fuel CO2 Factors'!$E20","v":75},{"$f":"'Fuel CO2 Factors'!$E20","v":75},{"$f":"'Fuel CO2 Factors'!$E20","v":75},{"$f":"'Fuel CO2 Factors'!$E20","v":75},{"$f":"'Fuel CO2 Factors'!$E20","v":75},{"$f":"'Fuel CO2 Factors'!$E20","v":75},{"$f":"'Fuel CO2 Factors'!$E20","v":75},{"$f":"'Fuel CO2 Factors'!$E20","v":75},{"$f":"'Fuel CO2 Factors'!$E20","v":75},{"$f":"'Fuel CO2 Factors'!$E20","v":75},{"$f":"'Fuel CO2 Factors'!$E20","v":75},{"$f":"'Fuel CO2 Factors'!$E20","v":75},{"$f":"'Fuel CO2 Factors'!$E20","v":75},{"$f":"'Fuel CO2 Factors'!$E20","v":75},{"$f":"'Fuel CO2 Factors'!$E20","v":75},{"$f":"'Fuel CO2 Factors'!$E20","v":75},{"$f":"'Fuel CO2 Factors'!$E20","v":75},{"$f":"'Fuel CO2 Factors'!$E20","v":75},{"$f":"'Fuel CO2 Factors'!$E20","v":75},{"$f":"'Fuel CO2 Factors'!$E20","v":75},{"$f":"'Fuel CO2 Factors'!$E20","v":75},{"$f":"'Fuel CO2 Factors'!$E20","v":75},{"$f":"'Fuel CO2 Factors'!$E20","v":75},{"$f":"'Fuel CO2 Factors'!$E20","v":75}]
[null,199,null,"mixed industrial waste","[kg CO2/GJ]",null,{"$f":"'Fuel CO2 Factors'!$E21","v":83},{"$f":"'Fuel CO2 Factors'!$E21","v":83},{"$f":"'Fuel CO2 Factors'!$E21","v":83},{"$f":"'Fuel CO2 Factors'!$E21","v":83},{"$f":"'Fuel CO2 Factors'!$E21","v":83},{"$f":"'Fuel CO2 Factors'!$E21","v":83},{"$f":"'Fuel CO2 Factors'!$E21","v":83},{"$f":"'Fuel CO2 Factors'!$E21","v":83},{"$f":"'Fuel CO2 Factors'!$E21","v":83},{"$f":"'Fuel CO2 Factors'!$E21","v":83},{"$f":"'Fuel CO2 Factors'!$E21","v":83},{"$f":"'Fuel CO2 Factors'!$E21","v":83},{"$f":"'Fuel CO2 Factors'!$E21","v":83},{"$f":"'Fuel CO2 Factors'!$E21","v":83},{"$f":"'Fuel CO2 Factors'!$E21","v":83},{"$f":"'Fuel CO2 Factors'!$E21","v":83},{"$f":"'Fuel CO2 Factors'!$E21","v":83},{"$f":"'Fuel CO2 Factors'!$E21","v":83},{"$f":"'Fuel CO2 Factors'!$E21","v":83},{"$f":"'Fuel CO2 Factors'!$E21","v":83},{"$f":"'Fuel CO2 Factors'!$E21","v":83},{"$f":"'Fuel CO2 Factors'!$E21","v":83},{"$f":"'Fuel CO2 Factors'!$E21","v":83},{"$f":"'Fuel CO2 Factors'!$E21","v":83},{"$f":"'Fuel CO2 Factors'!$E21","v":83},{"$f":"'Fuel CO2 Factors'!$E21","v":83},{"$f":"'Fuel CO2 Factors'!$E21","v":83},{"$f":"'Fuel CO2 Factors'!$E21","v":83},{"$f":"'Fuel CO2 Factors'!$E21","v":83},{"$f":"'Fuel CO2 Factors'!$E21","v":83},{"$f":"'Fuel CO2 Factors'!$E21","v":83},{"$f":"'Fuel CO2 Factors'!$E21","v":83},{"$f":"'Fuel CO2 Factors'!$E21","v":83},{"$f":"'Fuel CO2 Factors'!$E21","v":83},{"$f":"'Fuel CO2 Factors'!$E21","v":83},{"$f":"'Fuel CO2 Factors'!$E21","v":83}]
[null,"199a",null,"bio and mixed diesel","[kg CO2/GJ]",null,74,74,74,74,74,74,74,74,74,74,74,74,74,74,74,74,74,74,74,74,74,74,74,74,74,74,74,74,74,74,74,74,74,74,74,74]
[null,{"$f":"B366+1","v":200},null,"other fossil based wastes and mixed fuels","[kg CO2/GJ]",null,80,{"$f":"'Fuel CO2 Factors'!$E22","v":80},{"$f":"'Fuel CO2 Factors'!$E22","v":80},{"$f":"'Fuel CO2 Factors'!$E22","v":80},{"$f":"'Fuel CO2 Factors'!$E22","v":80},{"$f":"'Fuel CO2 Factors'!$E22","v":80},{"$f":"'Fuel CO2 Factors'!$E22","v":80},{"$f":"'Fuel CO2 Factors'!$E22","v":80},{"$f":"'Fuel CO2 Factors'!$E22","v":80},{"$f":"'Fuel CO2 Factors'!$E22","v":80},{"$f":"'Fuel CO2 Factors'!$E22","v":80},{"$f":"'Fuel CO2 Factors'!$E22","v":80},{"$f":"'Fuel CO2 Factors'!$E22","v":80},{"$f":"'Fuel CO2 Factors'!$E22","v":80},{"$f":"'Fuel CO2 Factors'!$E22","v":80},{"$f":"'Fuel CO2 Factors'!$E22","v":80},{"$f":"'Fuel CO2 Factors'!$E22","v":80},{"$f":"'Fuel CO2 Factors'!$E22","v":80},{"$f":"'Fuel CO2 Factors'!$E22","v":80},{"$f":"'Fuel CO2 Factors'!$E22","v":80},{"$f":"'Fuel CO2 Factors'!$E22","v":80},{"$f":"'Fuel CO2 Factors'!$E22","v":80},{"$f":"'Fuel CO2 Factors'!$E22","v":80},{"$f":"'Fuel CO2 Factors'!$E22","v":80},{"$f":"'Fuel CO2 Factors'!$E22","v":80},{"$f":"'Fuel CO2 Factors'!$E22","v":80},{"$f":"'Fuel CO2 Factors'!$E22","v":80},{"$f":"'Fuel CO2 Factors'!$E22","v":80},{"$f":"'Fuel CO2 Factors'!$E22","v":80},{"$f":"'Fuel CO2 Factors'!$E22","v":80},{"$f":"'Fuel CO2 Factors'!$E22","v":80},{"$f":"'Fuel CO2 Factors'!$E22","v":80},{"$f":"'Fuel CO2 Factors'!$E22","v":80},{"$f":"'Fuel CO2 Factors'!$E22","v":80},{"$f":"'Fuel CO2 Factors'!$E22","v":80},{"$f":"'Fuel CO2 Factors'!$E22","v":80}]
[null,"200a",null,"biomass in waste oil","[ % Cbio/TC]",null,0,0,0,0,0,0,0,0,0,0,0,0,0,0,0,0,0,0,0,0,0,0,0,0,0,0,0,0,0,0,0,0,0,0,0,0]
[null,"200b",null,"biomass in tyres","[ % Cbio/TC]",null,{"$f":"'Fuel CO2 Factors'!$F17","v":0.27},{"$f":"'Fuel CO2 Factors'!$F17","v":0.27},{"$f":"'Fuel CO2 Factors'!$F17","v":0.27},{"$f":"'Fuel CO2 Factors'!$F17","v":0.27},{"$f":"'Fuel CO2 Factors'!$F17","v":0.27},{"$f":"'Fuel CO2 Factors'!$F17","v":0.27},{"$f":"'Fuel CO2 Factors'!$F17","v":0.27},{"$f":"'Fuel CO2 Factors'!$F17","v":0.27},{"$f":"'Fuel CO2 Factors'!$F17","v":0.27},{"$f":"'Fuel CO2 Factors'!$F17","v":0.27},{"$f":"'Fuel CO2 Factors'!$F17","v":0.27},{"$f":"'Fuel CO2 Factors'!$F17","v":0.27},{"$f":"'Fuel CO2 Factors'!$F17","v":0.27},{"$f":"'Fuel CO2 Factors'!$F17","v":0.27},{"$f":"'Fuel CO2 Factors'!$F17","v":0.27},{"$f":"'Fuel CO2 Factors'!$F17","v":0.27},{"$f":"'Fuel CO2 Factors'!$F17","v":0.27},{"$f":"'Fuel CO2 Factors'!$F17","v":0.27},{"$f":"'Fuel CO2 Factors'!$F17","v":0.27},{"$f":"'Fuel CO2 Factors'!$F17","v":0.27},{"$f":"'Fuel CO2 Factors'!$F17","v":0.27},{"$f":"'Fuel CO2 Factors'!$F17","v":0.27},{"$f":"'Fuel CO2 Factors'!$F17","v":0.27},{"$f":"'Fuel CO2 Factors'!$F17","v":0.27},{"$f":"'Fuel CO2 Factors'!$F17","v":0.27},{"$f":"'Fuel CO2 Factors'!$F17","v":0.27},{"$f":"'Fuel CO2 Factors'!$F17","v":0.27},{"$f":"'Fuel CO2 Factors'!$F17","v":0.27},{"$f":"'Fuel CO2 Factors'!$F17","v":0.27},{"$f":"'Fuel CO2 Factors'!$F17","v":0.27},{"$f":"'Fuel CO2 Factors'!$F17","v":0.27},{"$f":"'Fuel CO2 Factors'!$F17","v":0.27},{"$f":"'Fuel CO2 Factors'!$F17","v":0.27},{"$f":"'Fuel CO2 Factors'!$F17","v":0.27},{"$f":"'Fuel CO2 Factors'!$F17","v":0.27},{"$f":"'Fuel CO2 Factors'!$F17","v":0.27}]
[null,"200c",null,"biomass in RDF including plastics","[ % Cbio/TC]",null,0,0,0,0,0,0,0,0,0,0,0,0,0,0,0,0,0,0,0,0,0,0,0,0,0,0,0,0,0,0,0,0,0,0,0,0]
[null,"200d",null,"biomass in solvents","[ % Cbio/TC]",null,0,0,0,0,0,0,0,0,0,0,0,0,0,0,0,0,0,0,0,0,0,0,0,0,0,0,0,0,0,0,0,0,0,0,0,0]
[null,"200e",null,"biomass in impregnated saw dust","[ % Cbio/TC]",null,0,0,0,0,0,0,0,0,0,0,0,0,0,0,0,0,0,0,0,0,0,0,0,0,0,0,0,0,0,0,0,0,0,0,0,0]
[null,"200f",null,"biomass in mixed industrial waste","[ % Cbio/TC]",null,0,0,0,0,0,0,0,0,0,0,0,0,0,0,0,0,0,0,0,0,0,0,0,0,0,0,0,0,0,0,0,0,0,0,0,0]
[null,"200g",null,"biomass in bio and mixed diesel","[ % Cbio/TC]",null,0,0,0,0,0,0,0,0,0,0,0,0,0,0,0,0,0,0,0,0,0,0,0,0,0,0,0,0,0,0,0,0,0,0,0,0]
[null,"200h",null,"biomass in other fossil based wastes and mixed fuels","[ % Cbio/TC]",null,0,0,0,0,0,0,0,0,0,0,0,0,0,0,0,0,0,0,0,0,0,0,0,0,0,0,0,0,0,0,0,0,0,0,0,0]
[null,{"$f":"B368+1","v":201},"Biomass fuels"]
[null,{"$f":"B377+1","v":202},null,"sewage sludge","[kg CO2/GJ]",null,{"$f":"'Fuel CO2 Factors'!$E24","v":110},{"$f":"'Fuel CO2 Factors'!$E24","v":110},{"$f":"'Fuel CO2 Factors'!$E24","v":110},{"$f":"'Fuel CO2 Factors'!$E24","v":110},{"$f":"'Fuel CO2 Factors'!$E24","v":110},{"$f":"'Fuel CO2 Factors'!$E24","v":110},{"$f":"'Fuel CO2 Factors'!$E24","v":110},{"$f":"'Fuel CO2 Factors'!$E24","v":110},{"$f":"'Fuel CO2 Factors'!$E24","v":110},{"$f":"'Fuel CO2 Factors'!$E24","v":110},{"$f":"'Fuel CO2 Factors'!$E24","v":110},{"$f":"'Fuel CO2 Factors'!$E24","v":110},{"$f":"'Fuel CO2 Factors'!$E24","v":110},{"$f":"'Fuel CO2 Factors'!$E24","v":110},{"$f":"'Fuel CO2 Factors'!$E24","v":110},{"$f":"'Fuel CO2 Factors'!$E24","v":110},{"$f":"'Fuel CO2 Factors'!$E24","v":110},{"$f":"'Fuel CO2 Factors'!$E24","v":110},{"$f":"'Fuel CO2 Factors'!$E24","v":110},{"$f":"'Fuel CO2 Factors'!$E24","v":110},{"$f":"'Fuel CO2 Factors'!$E24","v":110},{"$f":"'Fuel CO2 Factors'!$E24","v":110},{"$f":"'Fuel CO2 Factors'!$E24","v":110},{"$f":"'Fuel CO2 Factors'!$E24","v":110},{"$f":"'Fuel CO2 Factors'!$E24","v":110},{"$f":"'Fuel CO2 Factors'!$E24","v":110},{"$f":"'Fuel CO2 Factors'!$E24","v":110},{"$f":"'Fuel CO2 Factors'!$E24","v":110},{"$f":"'Fuel CO2 Factors'!$E24","v":110},{"$f":"'Fuel CO2 Factors'!$E24","v":110},{"$f":"'Fuel CO2 Factors'!$E24","v":110},{"$f":"'Fuel CO2 Factors'!$E24","v":110},{"$f":"'Fuel CO2 Factors'!$E24","v":110},{"$f":"'Fuel CO2 Factors'!$E24","v":110},{"$f":"'Fuel CO2 Factors'!$E24","v":110},{"$f":"'Fuel CO2 Factors'!$E24","v":110}]
[null,203,null,"wood, non impregnated saw dust","[kg CO2/GJ]",null,{"$f":"'Fuel CO2 Factors'!$E25","v":110},{"$f":"'Fuel CO2 Factors'!$E25","v":110},{"$f":"'Fuel CO2 Factors'!$E25","v":110},{"$f":"'Fuel CO2 Factors'!$E25","v":110},{"$f":"'Fuel CO2 Factors'!$E25","v":110},{"$f":"'Fuel CO2 Factors'!$E25","v":110},{"$f":"'Fuel CO2 Factors'!$E25","v":110},{"$f":"'Fuel CO2 Factors'!$E25","v":110},{"$f":"'Fuel CO2 Factors'!$E25","v":110},{"$f":"'Fuel CO2 Factors'!$E25","v":110},{"$f":"'Fuel CO2 Factors'!$E25","v":110},{"$f":"'Fuel CO2 Factors'!$E25","v":110},{"$f":"'Fuel CO2 Factors'!$E25","v":110},{"$f":"'Fuel CO2 Factors'!$E25","v":110},{"$f":"'Fuel CO2 Factors'!$E25","v":110},{"$f":"'Fuel CO2 Factors'!$E25","v":110},{"$f":"'Fuel CO2 Factors'!$E25","v":110},{"$f":"'Fuel CO2 Factors'!$E25","v":110},{"$f":"'Fuel CO2 Factors'!$E25","v":110},{"$f":"'Fuel CO2 Factors'!$E25","v":110},{"$f":"'Fuel CO2 Factors'!$E25","v":110},{"$f":"'Fuel CO2 Factors'!$E25","v":110},{"$f":"'Fuel CO2 Factors'!$E25","v":110},{"$f":"'Fuel CO2 Factors'!$E25","v":110},110,{"$f":"'Fuel CO2 Factors'!$E25","v":110},{"$f":"'Fuel CO2 Factors'!$E25","v":110},{"$f":"'Fuel CO2 Factors'!$E25","v":110},{"$f":"'Fuel CO2 Factors'!$E25","v":110},{"$f":"'Fuel CO2 Factors'!$E25","v":110},{"$f":"'Fuel CO2 Factors'!$E25","v":110},{"$f":"'Fuel CO2 Factors'!$E25","v":110},{"$f":"'Fuel CO2 Factors'!$E25","v":110},{"$f":"'Fuel CO2 Factors'!$E25","v":110},{"$f":"'Fuel CO2 Factors'!$E25","v":110},{"$f":"'Fuel CO2 Factors'!$E25","v":110}]
[null,204,null,"paper, carton","[kg CO2/GJ]",null,{"$f":"'Fuel CO2 Factors'!$E26","v":110},{"$f":"'Fuel CO2 Factors'!$E26","v":110},{"$f":"'Fuel CO2 Factors'!$E26","v":110},{"$f":"'Fuel CO2 Factors'!$E26","v":110},{"$f":"'Fuel CO2 Factors'!$E26","v":110},{"$f":"'Fuel CO2 Factors'!$E26","v":110},{"$f":"'Fuel CO2 Factors'!$E26","v":110},{"$f":"'Fuel CO2 Factors'!$E26","v":110},{"$f":"'Fuel CO2 Factors'!$E26","v":110},{"$f":"'Fuel CO2 Factors'!$E26","v":110},{"$f":"'Fuel CO2 Factors'!$E26","v":110},{"$f":"'Fuel CO2 Factors'!$E26","v":110},{"$f":"'Fuel CO2 Factors'!$E26","v":110},{"$f":"'Fuel CO2 Factors'!$E26","v":110},{"$f":"'Fuel CO2 Factors'!$E26","v":110},{"$f":"'Fuel CO2 Factors'!$E26","v":110},{"$f":"'Fuel CO2 Factors'!$E26","v":110},{"$f":"'Fuel CO2 Factors'!$E26","v":110},{"$f":"'Fuel CO2 Factors'!$E26","v":110},{"$f":"'Fuel CO2 Factors'!$E26","v":110},{"$f":"'Fuel CO2 Factors'!$E26","v":110},{"$f":"'Fuel CO2 Factors'!$E26","v":110},{"$f":"'Fuel CO2 Factors'!$E26","v":110},{"$f":"'Fuel CO2 Factors'!$E26","v":110},{"$f":"'Fuel CO2 Factors'!$E26","v":110},{"$f":"'Fuel CO2 Factors'!$E26","v":110},{"$f":"'Fuel CO2 Factors'!$E26","v":110},{"$f":"'Fuel CO2 Factors'!$E26","v":110},{"$f":"'Fuel CO2 Factors'!$E26","v":110},{"$f":"'Fuel CO2 Factors'!$E26","v":110},{"$f":"'Fuel CO2 Factors'!$E26","v":110},{"$f":"'Fuel CO2 Factors'!$E26","v":110},{"$f":"'Fuel CO2 Factors'!$E26","v":110},{"$f":"'Fuel CO2 Factors'!$E26","v":110},{"$f":"'Fuel CO2 Factors'!$E26","v":110},{"$f":"'Fuel CO2 Factors'!$E26","v":110}]
[null,205,null,"animal meal","[kg CO2/GJ]",null,{"$f":"'Fuel CO2 Factors'!$E27","v":89},{"$f":"'Fuel CO2 Factors'!$E27","v":89},{"$f":"'Fuel CO2 Factors'!$E27","v":89},{"$f":"'Fuel CO2 Factors'!$E27","v":89},{"$f":"'Fuel CO2 Factors'!$E27","v":89},{"$f":"'Fuel CO2 Factors'!$E27","v":89},{"$f":"'Fuel CO2 Factors'!$E27","v":89},{"$f":"'Fuel CO2 Factors'!$E27","v":89},{"$f":"'Fuel CO2 Factors'!$E27","v":89},{"$f":"'Fuel CO2 Factors'!$E27","v":89},{"$f":"'Fuel CO2 Factors'!$E27","v":89},{"$f":"'Fuel CO2 Factors'!$E27","v":89},{"$f":"'Fuel CO2 Factors'!$E27","v":89},{"$f":"'Fuel CO2 Factors'!$E27","v":89},{"$f":"'Fuel CO2 Factors'!$E27","v":89},{"$f":"'Fuel CO2 Factors'!$E27","v":89},{"$f":"'Fuel CO2 Factors'!$E27","v":89},{"$f":"'Fuel CO2 Factors'!$E27","v":89},{"$f":"'Fuel CO2 Factors'!$E27","v":89},{"$f":"'Fuel CO2 Factors'!$E27","v":89},{"$f":"'Fuel CO2 Factors'!$E27","v":89},{"$f":"'Fuel CO2 Factors'!$E27","v":89},{"$f":"'Fuel CO2 Factors'!$E27","v":89},{"$f":"'Fuel CO2 Factors'!$E27","v":89},{"$f":"'Fuel CO2 Factors'!$E27","v":89},{"$f":"'Fuel CO2 Factors'!$E27","v":89},{"$f":"'Fuel CO2 Factors'!$E27","v":89},{"$f":"'Fuel CO2 Factors'!$E27","v":89},{"$f":"'Fuel CO2 Factors'!$E27","v":89},{"$f":"'Fuel CO2 Factors'!$E27","v":89},{"$f":"'Fuel CO2 Factors'!$E27","v":89},{"$f":"'Fuel CO2 Factors'!$E27","v":89},{"$f":"'Fuel CO2 Factors'!$E27","v":89},{"$f":"'Fuel CO2 Factors'!$E27","v":89},{"$f":"'Fuel CO2 Factors'!$E27","v":89},{"$f":"'Fuel CO2 Factors'!$E27","v":89}]
[null,206,null,"animal bone meal","[kg CO2/GJ]",null,{"$f":"'Fuel CO2 Factors'!$E28","v":89},{"$f":"'Fuel CO2 Factors'!$E28","v":89},{"$f":"'Fuel CO2 Factors'!$E28","v":89},{"$f":"'Fuel CO2 Factors'!$E28","v":89},{"$f":"'Fuel CO2 Factors'!$E28","v":89},{"$f":"'Fuel CO2 Factors'!$E28","v":89},{"$f":"'Fuel CO2 Factors'!$E28","v":89},{"$f":"'Fuel CO2 Factors'!$E28","v":89},{"$f":"'Fuel CO2 Factors'!$E28","v":89},{"$f":"'Fuel CO2 Factors'!$E28","v":89},{"$f":"'Fuel CO2 Factors'!$E28","v":89},{"$f":"'Fuel CO2 Factors'!$E28","v":89},{"$f":"'Fuel CO2 Factors'!$E28","v":89},{"$f":"'Fuel CO2 Factors'!$E28","v":89},{"$f":"'Fuel CO2 Factors'!$E28","v":89},{"$f":"'Fuel CO2 Factors'!$E28","v":89},{"$f":"'Fuel CO2 Factors'!$E28","v":89},{"$f":"'Fuel CO2 Factors'!$E28","v":89},{"$f":"'Fuel CO2 Factors'!$E28","v":89},{"$f":"'Fuel CO2 Factors'!$E28","v":89},{"$f":"'Fuel CO2 Factors'!$E28","v":89},{"$f":"'Fuel CO2 Factors'!$E28","v":89},{"$f":"'Fuel CO2 Factors'!$E28","v":89},{"$f":"'Fuel CO2 Factors'!$E28","v":89},{"$f":"'Fuel CO2 Factors'!$E28","v":89},{"$f":"'Fuel CO2 Factors'!$E28","v":89},{"$f":"'Fuel CO2 Factors'!$E28","v":89},{"$f":"'Fuel CO2 Factors'!$E28","v":89},{"$f":"'Fuel CO2 Factors'!$E28","v":89},{"$f":"'Fuel CO2 Factors'!$E28","v":89},{"$f":"'Fuel CO2 Factors'!$E28","v":89},{"$f":"'Fuel CO2 Factors'!$E28","v":89},{"$f":"'Fuel CO2 Factors'!$E28","v":89},{"$f":"'Fuel CO2 Factors'!$E28","v":89},{"$f":"'Fuel CO2 Factors'!$E28","v":89},{"$f":"'Fuel CO2 Factors'!$E28","v":89}]
[null,207,null,"animal fat","[kg CO2/GJ]",null,{"$f":"'Fuel CO2 Factors'!$E29","v":89},{"$f":"'Fuel CO2 Factors'!$E29","v":89},{"$f":"'Fuel CO2 Factors'!$E29","v":89},{"$f":"'Fuel CO2 Factors'!$E29","v":89},{"$f":"'Fuel CO2 Factors'!$E29","v":89},{"$f":"'Fuel CO2 Factors'!$E29","v":89},{"$f":"'Fuel CO2 Factors'!$E29","v":89},{"$f":"'Fuel CO2 Factors'!$E29","v":89},{"$f":"'Fuel CO2 Factors'!$E29","v":89},{"$f":"'Fuel CO2 Factors'!$E29","v":89},{"$f":"'Fuel CO2 Factors'!$E29","v":89},{"$f":"'Fuel CO2 Factors'!$E29","v":89},{"$f":"'Fuel CO2 Factors'!$E29","v":89},{"$f":"'Fuel CO2 Factors'!$E29","v":89},{"$f":"'Fuel CO2 Factors'!$E29","v":89},{"$f":"'Fuel CO2 Factors'!$E29","v":89},{"$f":"'Fuel CO2 Factors'!$E29","v":89},{"$f":"'Fuel CO2 Factors'!$E29","v":89},{"$f":"'Fuel CO2 Factors'!$E29","v":89},{"$f":"'Fuel CO2 Factors'!$E29","v":89},{"$f":"'Fuel CO2 Factors'!$E29","v":89},{"$f":"'Fuel CO2 Factors'!$E29","v":89},{"$f":"'Fuel CO2 Factors'!$E29","v":89},{"$f":"'Fuel CO2 Factors'!$E29","v":89},{"$f":"'Fuel CO2 Factors'!$E29","v":89},{"$f":"'Fuel CO2 Factors'!$E29","v":89},{"$f":"'Fuel CO2 Factors'!$E29","v":89},{"$f":"'Fuel CO2 Factors'!$E29","v":89},{"$f":"'Fuel CO2 Factors'!$E29","v":89},{"$f":"'Fuel CO2 Factors'!$E29","v":89},{"$f":"'Fuel CO2 Factors'!$E29","v":89},{"$f":"'Fuel CO2 Factors'!$E29","v":89},{"$f":"'Fuel CO2 Factors'!$E29","v":89},{"$f":"'Fuel CO2 Factors'!$E29","v":89},{"$f":"'Fuel CO2 Factors'!$E29","v":89},{"$f":"'Fuel CO2 Factors'!$E29","v":89}]
[null,208,null,"agricultural, organic, diaper waste, charcoal","[kg CO2/GJ]",null,{"$f":"'Fuel CO2 Factors'!$E30","v":110},{"$f":"'Fuel CO2 Factors'!$E30","v":110},{"$f":"'Fuel CO2 Factors'!$E30","v":110},{"$f":"'Fuel CO2 Factors'!$E30","v":110},{"$f":"'Fuel CO2 Factors'!$E30","v":110},{"$f":"'Fuel CO2 Factors'!$E30","v":110},{"$f":"'Fuel CO2 Factors'!$E30","v":110},{"$f":"'Fuel CO2 Factors'!$E30","v":110},{"$f":"'Fuel CO2 Factors'!$E30","v":110},{"$f":"'Fuel CO2 Factors'!$E30","v":110},{"$f":"'Fuel CO2 Factors'!$E30","v":110},{"$f":"'Fuel CO2 Factors'!$E30","v":110},{"$f":"'Fuel CO2 Factors'!$E30","v":110},{"$f":"'Fuel CO2 Factors'!$E30","v":110},{"$f":"'Fuel CO2 Factors'!$E30","v":110},{"$f":"'Fuel CO2 Factors'!$E30","v":110},{"$f":"'Fuel CO2 Factors'!$E30","v":110},{"$f":"'Fuel CO2 Factors'!$E30","v":110},{"$f":"'Fuel CO2 Factors'!$E30","v":110},{"$f":"'Fuel CO2 Factors'!$E30","v":110},{"$f":"'Fuel CO2 Factors'!$E30","v":110},{"$f":"'Fuel CO2 Factors'!$E30","v":110},{"$f":"'Fuel CO2 Factors'!$E30","v":110},{"$f":"'Fuel CO2 Factors'!$E30","v":110},{"$f":"'Fuel CO2 Factors'!$E30","v":110},{"$f":"'Fuel CO2 Factors'!$E30","v":110},{"$f":"'Fuel CO2 Factors'!$E30","v":110},{"$f":"'Fuel CO2 Factors'!$E30","v":110},{"$f":"'Fuel CO2 Factors'!$E30","v":110},{"$f":"'Fuel CO2 Factors'!$E30","v":110},{"$f":"'Fuel CO2 Factors'!$E30","v":110},{"$f":"'Fuel CO2 Factors'!$E30","v":110},{"$f":"'Fuel CO2 Factors'!$E30","v":110},{"$f":"'Fuel CO2 Factors'!$E30","v":110},{"$f":"'Fuel CO2 Factors'!$E30","v":110},{"$f":"'Fuel CO2 Factors'!$E30","v":110}]
[null,209,null,"other biomass","[kg CO2/GJ]",null,{"$f":"'Fuel CO2 Factors'!$E31","v":110},{"$f":"'Fuel CO2 Factors'!$E31","v":110},{"$f":"'Fuel CO2 Factors'!$E31","v":110},{"$f":"'Fuel CO2 Factors'!$E31","v":110},{"$f":"'Fuel CO2 Factors'!$E31","v":110},{"$f":"'Fuel CO2 Factors'!$E31","v":110},{"$f":"'Fuel CO2 Factors'!$E31","v":110},{"$f":"'Fuel CO2 Factors'!$E31","v":110},{"$f":"'Fuel CO2 Factors'!$E31","v":110},{"$f":"'Fuel CO2 Factors'!$E31","v":110},{"$f":"'Fuel CO2 Factors'!$E31","v":110},{"$f":"'Fuel CO2 Factors'!$E31","v":110},{"$f":"'Fuel CO2 Factors'!$E31","v":110},{"$f":"'Fuel CO2 Factors'!$E31","v":110},{"$f":"'Fuel CO2 Factors'!$E31","v":110},{"$f":"'Fuel CO2 Factors'!$E31","v":110},{"$f":"'Fuel CO2 Factors'!$E31","v":110},{"$f":"'Fuel CO2 Factors'!$E31","v":110},{"$f":"'Fuel CO2 Factors'!$E31","v":110},{"$f":"'Fuel CO2 Factors'!$E31","v":110},{"$f":"'Fuel CO2 Factors'!$E31","v":110},{"$f":"'Fuel CO2 Factors'!$E31","v":110},{"$f":"'Fuel CO2 Factors'!$E31","v":110},{"$f":"'Fuel CO2 Factors'!$E31","v":110},{"$f":"'Fuel CO2 Factors'!$E31","v":110},{"$f":"'Fuel CO2 Factors'!$E31","v":110},{"$f":"'Fuel CO2 Factors'!$E31","v":110},{"$f":"'Fuel CO2 Factors'!$E31","v":110},{"$f":"'Fuel CO2 Factors'!$E31","v":110},{"$f":"'Fuel CO2 Factors'!$E31","v":110},{"$f":"'Fuel CO2 Factors'!$E31","v":110},{"$f":"'Fuel CO2 Factors'!$E31","v":110},{"$f":"'Fuel CO2 Factors'!$E31","v":110},{"$f":"'Fuel CO2 Factors'!$E31","v":110},{"$f":"'Fuel CO2 Factors'!$E31","v":110},{"$f":"'Fuel CO2 Factors'!$E31","v":110}]
[]
[null,"CO2 Emissions from Kiln Fuels",null,null,null,null,{"$f":"G$7","v":1990},1991,1992,1993,1994,1995,1996,1997,1998,1999,2000,2001,2002,2003,2004,2005,2006,2007,2008,2009,2010,2011,2012,2013,2014,2015,2016,2017,2018,2019,2020,2021,2022,2023,2024,2025]
[null,211,"Conventional fossil fuels - total emissions",null,"[t CO2/yr]",null,{"$f":"IF(COUNTBLANK(G389:G395)=7,\"\",SUM(G389:G395))","v":0},0,0,0,0,0,0,0,0,0,0,0,0,0,0,0,0,0,0,0,0,0,0,0,0,0,0,0,0,0,0,0,0,0,0,0]
[null,{"$f":"B388+1","v":212},null,"coal + anthracite","[t CO2/yr]",null,{"$f":"IF(G309=\"\",\"\",G309*G349)","v":0},0,0,0,0,0,0,0,0,0,0,0,0,0,0,0,0,0,0,0,0,0,0,0,0,0,0,0,0,0,0,0,0,0,0,0]
[null,213,null,"petrol coke","[t CO2/yr]",null,{"$f":"IF(G310=\"\",\"\",G310*G350)","v":0},0,0,0,0,0,0,0,0,0,0,0,0,0,0,0,0,0,0,0,0,0,0,0,0,0,0,0,0,0,0,0,0,0,0,0]
[null,214,null,"(ultra) heavy fuel","[t CO2/yr]",null,{"$f":"IF(G311=\"\",\"\",G311*G351)","v":0},0,0,0,0,0,0,0,0,0,0,0,0,0,0,0,0,0,0,0,0,0,0,0,0,0,0,0,0,0,0,0,0,0,0,0]
[null,215,null,"diesel oil","[t CO2/yr]",null,{"$f":"IF(G312=\"\",\"\",G312*G352)","v":0},0,0,0,0,0,0,0,0,0,0,0,0,0,0,0,0,0,0,0,0,0,0,0,0,0,0,0,0,0,0,0,0,0,0,0]
[null,216,null,"natural gas ","[t CO2/yr]",null,{"$f":"IF(G313=\"\",\"\",G313*G353)","v":0},0,0,0,0,0,0,0,0,0,0,0,0,0,0,0,0,0,0,0,0,0,0,0,0,0,0,0,0,0,0,0,0,0,0,0]
[null,217,null,"shale","[t CO2/yr]",null,{"$f":"IF(G314=\"\",\"\",G314*G354)","v":0},0,0,0,0,0,0,0,0,0,0,0,0,0,0,0,0,0,0,0,0,0,0,0,0,0,0,0,0,0,0,0,0,0,0,0]
[null,"217a",null,"lignite","[t CO2/yr]",null,{"$f":"IF(G315=\"\",\"\",G315*G355)","v":0},0,0,0,0,0,0,0,0,0,0,0,0,0,0,0,0,0,0,0,0,0,0,0,0,0,0,0,0,0,0,0,0,0,0,0]
[null,{"$f":"B394+1","v":218},"Alternative fossil and mixed fuels - total fossil emissions",null,"[t CO2/yr]",null,{"$f":"IF(COUNTBLANK(G397:G403)=7,\"\",SUM(G397:G403))","v":0},0,0,0,0,0,0,0,0,0,0,0,0,0,0,0,0,0,0,0,0,0,0,0,0,0,0,0,0,0,0,0,0,0,0,0]
[null,{"$f":"B396+1","v":219},null,"waste oil / fossil content","[t CO2/yr]",null,{"$f":"IF(G317=\"\",\"\",G317*G361)","v":0},0,0,0,0,0,0,0,0,0,0,0,0,0,0,0,0,0,0,0,0,0,0,0,0,0,0,0,0,0,0,0,0,0,0,0]
[null,{"$f":"B397+1","v":220},null,"waste tyres / fossil content","[t CO2/yr]",null,{"$f":"IF(G318=\"\",\"\",G318*G362)","v":0},0,0,0,0,0,0,0,0,0,0,0,0,0,0,0,0,0,0,0,0,0,0,0,0,0,0,0,0,0,0,0,0,0,0,0]
[null,{"$f":"B398+1","v":221},null,"RDF including plastics / fossil content","[t CO2/yr]",null,{"$f":"IF(G319=\"\",\"\",G319*G363)","v":0},0,0,0,0,0,0,0,0,0,0,0,0,0,0,0,0,0,0,0,0,0,0,0,0,0,0,0,0,0,0,0,0,0,0,0]
[null,{"$f":"B399+1","v":222},null,"solvents / fossil content","[t CO2/yr]",null,{"$f":"IF(G320=\"\",\"\",G320*G364)","v":0},0,0,0,0,0,0,0,0,0,0,0,0,0,0,0,0,0,0,0,0,0,0,0,0,0,0,0,0,0,0,0,0,0,0,0]
[null,{"$f":"B400+1","v":223},null,"impregnated saw dust / fossil content","[t CO2/yr]",null,{"$f":"IF(G321=\"\",\"\",G321*G365)","v":0},0,0,0,0,0,0,0,0,0,0,0,0,0,0,0,0,0,0,0,0,0,0,0,0,0,0,0,0,0,0,0,0,0,0,0]
[null,"223a",null,"mixed industrial waste / fossil content","[t CO2/yr]",null,{"$f":"IF(G322=\"\",\"\",G322*G366)","v":0},0,0,0,0,0,0,0,0,0,0,0,0,0,0,0,0,0,0,0,0,0,0,0,0,0,0,0,0,0,0,0,0,0,0,0]
[null,224,null,"other fossil based wastes / fossil content","[t CO2/yr]",null,{"$f":"IF(G323=\"\",\"\",G323*G368)","v":0},0,0,0,0,0,0,0,0,0,0,0,0,0,0,0,0,0,0,0,0,0,0,0,0,0,0,0,0,0,0,0,0,0,0,0]
[null,{"$f":"B403+1","v":225},"Biomass fuels - total, incl. biomass cont. from alternative mixed fuels",null,"[t CO2/yr]",null,{"$f":"IF(COUNTBLANK(G405:G413)=9,\"\",SUM(G405:G413))","v":0},0,0,0,0,0,0,0,0,0,0,0,0,0,0,0,0,0,0,0,0,0,0,0,0,0,0,0,0,0,0,0,0,0,0,0]
[null,226,null,"sewage sludge","[t CO2/yr]",null,{"$f":"IF(G325=\"\",\"\",G325*G378)","v":0},0,0,0,0,0,0,0,0,0,0,0,0,0,0,0,0,0,0,0,0,0,0,0,0,0,0,0,0,0,0,0,0,0,0,0]
[null,227,null,"wood, non impregnated saw dust","[t CO2/yr]",null,{"$f":"IF(G326=\"\",\"\",G326*G379)","v":0},0,0,0,0,0,0,0,0,0,0,0,0,0,0,0,0,0,0,0,0,0,0,0,0,0,0,0,0,0,0,0,0,0,0,0]
[null,228,null,"paper, carton","[t CO2/yr]",null,{"$f":"IF(G327=\"\",\"\",G327*G380)","v":0},0,0,0,0,0,0,0,0,0,0,0,0,0,0,0,0,0,0,0,0,0,0,0,0,0,0,0,0,0,0,0,0,0,0,0]
[null,229,null,"animal meal","[t CO2/yr]",null,{"$f":"IF(G328=\"\",\"\",G328*G381)","v":0},0,0,0,0,0,0,0,0,0,0,0,0,0,0,0,0,0,0,0,0,0,0,0,0,0,0,0,0,0,0,0,0,0,0,0]
[null,230,null,"animal bone meal","[t CO2/yr]",null,{"$f":"IF(G329=\"\",\"\",G329*G382)","v":0},0,0,0,0,0,0,0,0,0,0,0,0,0,0,0,0,0,0,0,0,0,0,0,0,0,0,0,0,0,0,0,0,0,0,0]
[null,231,null,"animal fat","[t CO2/yr]",null,{"$f":"IF(G330=\"\",\"\",G330*G383)","v":0},0,0,0,0,0,0,0,0,0,0,0,0,0,0,0,0,0,0,0,0,0,0,0,0,0,0,0,0,0,0,0,0,0,0,0]
[null,232,null,"agricultural, organic, diaper waste, charcoal","[t CO2/yr]",null,{"$f":"IF(G331=\"\",\"\",G331*G384)","v":0},0,0,0,0,0,0,0,0,0,0,0,0,0,0,0,0,0,0,0,0,0,0,0,0,0,0,0,0,0,0,0,0,0,0,0]
[null,233,null,"other biomass","[t CO2/yr]",null,{"$f":"IF(G332=\"\",\"\",G332*G385)","v":0},0,0,0,0,0,0,0,0,0,0,0,0,0,0,0,0,0,0,0,0,0,0,0,0,0,0,0,0,0,0,0,0,0,0,0]
[null,"233a",null,"biomass content from alternative fuels","[t CO2/yr]",null,{"$f":"(G239*G278*G$369*G361+G240*G279*G$370*G362+G241*G280*G$371*G363+G242*G281*G$372*G364+G243*G282*G$373*G365+G244*G283*G$374*G366+G245*G284*G$376*G368)/1000","v":0},0,0,0,0,0,0,0,0,0,0,0,0,0,0,0,0,0,0,0,0,0,0,0,0,0,0,0,0,0,0,0,0,0,0,0]
[null,"Drying of raw materials and fuels",null,null,null,null,{"$f":"G$7","v":1990},1991,1992,1993,1994,1995,1996,1997,1998,1999,2000,2001,2002,2003,2004,2005,2006,2007,2008,2009,2010,2011,2012,2013,2014,2015,2016,2017,2018,2019,2020,2021,2022,2023,2024,2025]
[null,234,"Conventional fossil fuels - total emissions",null,"[t CO2/yr]",null,{"$f":"IF(COUNTBLANK(G416:G421)=6,\"\",SUM(G416:G421))","v":0},0,0,0,0,0,0,0,0,0,0,0,0,0,0,0,0,0,0,0,0,0,0,0,0,0,0,0,0,0,0,0,0,0,0,0]
[null,"234a",null,"coal + anthracite + lignite","[t CO2/yr]",null,{"$f":"IF(G336=\"\",\"\",G336*G349)","v":0},0,0,0,0,0,0,0,0,0,0,0,0,0,0,0,0,0,0,0,0,0,0,0,0,0,0,0,0,0,0,0,0,0,0,0]
[null,"234b",null,"petrol coke","[t CO2/yr]",null,{"$f":"IF(G337=\"\",\"\",G337*G350)","v":0},0,0,0,0,0,0,0,0,0,0,0,0,0,0,0,0,0,0,0,0,0,0,0,0,0,0,0,0,0,0,0,0,0,0,0]
[null,"234c",null,"(ultra) heavy fuel","[t CO2/yr]",null,{"$f":"IF(G338=\"\",\"\",G338*G351)","v":0},0,0,0,0,0,0,0,0,0,0,0,0,0,0,0,0,0,0,0,0,0,0,0,0,0,0,0,0,0,0,0,0,0,0,0]
[null,"234d",null,"diesel oil","[t CO2/yr]",null,{"$f":"IF(G339=\"\",\"\",G339*G352)","v":0},0,0,0,0,0,0,0,0,0,0,0,0,0,0,0,0,0,0,0,0,0,0,0,0,0,0,0,0,0,0,0,0,0,0,0]
[null,"234e",null,"natural gas ","[t CO2/yr]",null,{"$f":"IF(G340=\"\",\"\",G340*G353)","v":0},0,0,0,0,0,0,0,0,0,0,0,0,0,0,0,0,0,0,0,0,0,0,0,0,0,0,0,0,0,0,0,0,0,0,0]
[null,"234f",null,"shale","[t CO2/yr]",null,{"$f":"IF(G341=\"\",\"\",G341*G354)","v":0},0,0,0,0,0,0,0,0,0,0,0,0,0,0,0,0,0,0,0,0,0,0,0,0,0,0,0,0,0,0,0,0,0,0,0]
[null,235,"Alternative fossil fuels - fossil total emissions",null,"[t CO2/yr]",null,{"$f":"G423","v":0},0,0,0,0,0,0,0,0,0,0,0,0,0,0,0,0,0,0,0,0,0,0,0,0,0,0,0,0,0,0,0,0,0,0,0]
[null,"235a",null,"other fossil based wastes / fossil content","[t CO2/yr]",null,{"$f":"IF(G343=\"\",\"\",G343*G368)","v":0},0,0,0,0,0,0,0,0,0,0,0,0,0,0,0,0,0,0,0,0,0,0,0,0,0,0,0,0,0,0,0,0,0,0,0]
[null,236,"Alternative biomass fuels - biomass total emissions",null,"[t CO2/yr]",null,{"$f":"G425","v":0},0,0,0,0,0,0,0,0,0,0,0,0,0,0,0,0,0,0,0,0,0,0,0,0,0,0,0,0,0,0,0,0,0,0,0]
[null,"236a",null,"other biomass (incl. biomass content of mixed fuels)","[t CO2/yr]",null,{"$f":"IF(G345=\"\",\"\",(G266*G305/1000*G385)+(G264*G303/1000*G368*G376))","v":0},0,0,0,0,0,0,0,0,0,0,0,0,0,0,0,0,0,0,0,0,0,0,0,0,0,0,0,0,0,0,0,0,0,0,0]
[]
["NON-KILN FUELS - DETAILED INFORMATION"]
[]
[null,"Non-Kiln Fuel Consumption in tonnes per year",null,null,null,null,{"$f":"G$7","v":1990},1991,1992,1993,1994,1995,1996,1997,1998,1999,2000,2001,2002,2003,2004,2005,2006,2007,2008,2009,2010,2011,2012,2013,2014,2015,2016,2017,2018,2019,2020,2021,2022,2023,2024,2025]
[null,301,"Equipment and On-Site Vehicles fossil fuels"]
[null,"301a",null,"diesel oil","[t/yr]",null,0,0,0,0,0,0,0,0,0,0,0,0,0,0,0,0,0,0,0,0,0,0,0,0,0,0,0,0,0,0,0,0,0,0,0,0]
[null,"301b",null,"gasoline","[t/yr]",null,0,0,0,0,0,0,0,0,0,0,0,0,0,0,0,0,0,0,0,0,0,0,0,0,0,0,0,0,0,0,0,0,0,0,0,0]
[null,"301ba",null,"other fossil fuels","[t/yr]",null,0,0,0,0,0,0,0,0,0,0,0,0,0,0,0,0,0,0,0,0,0,0,0,0,0,0,0,0,0,0,0,0,0,0,0,0]
[null,"301c","Equipment and On-Site Vehicles fuels (containing biomass)"]
[null,"301d",null,"bio and mixed diesel ","[t/yr]",null,0,0,0,0,0,0,0,0,0,0,0,0,0,0,0,0,0,0,0,0,0,0,0,0,0,0,0,0,0,0,0,0,0,0,0,0]
[null,302,"Room Heating and Cooling"]
[null,"302a",null,"diesel oil","[t/yr]",null,0,0,0,0,0,0,0,0,0,0,0,0,0,0,0,0,0,0,0,0,0,0,0,0,0,0,0,0,0,0,0,0,0,0,0,0]
[null,"302b",null,"natural gas","[1'000 Nm3/yr]",null,0,0,0,0,0,0,0,0,0,0,0,0,0,0,0,0,0,0,0,0,0,0,0,0,0,0,0,0,0,0,0,0,0,0,0,0]
[null,"302c",null,"other fossil fuels","[t/yr]",null,0,0,0,0,0,0,0,0,0,0,0,0,0,0,0,0,0,0,0,0,0,0,0,0,0,0,0,0,0,0,0,0,0,0,0,0]
[null,303,"Drying of mineral components"]
[null,"303k","     Conventional fossil fuels"]
[null,"303a",null,"coal + anthracite+ lignite","[t/yr]",null,0,0,0,0,0,0,0,0,0,0,0,0,0,0,0,0,0,0,0,0,0,0,0,0,0,0,0,0,0,0,0,0,0,0,0,0]
[null,"303b",null,"petrol coke","[t/yr]",null,0,0,0,0,0,0,0,0,0,0,0,0,0,0,0,0,0,0,0,0,0,0,0,0,0,0,0,0,0,0,0,0,0,0,0,0]
[null,"303c",null,"(ultra) heavy fuel","[t/yr]",null,0,0,0,0,0,0,0,0,0,0,0,0,0,0,0,0,0,0,0,0,0,0,0,0,0,0,0,0,0,0,0,0,0,0,0,0]
[null,"303d",null,"diesel oil","[t/yr]",null,0,0,0,0,0,0,0,0,0,0,0,0,0,0,0,0,0,0,0,0,0,0,0,0,0,0,0,0,0,0,0,0,0,0,0,0]
[null,"303e",null,"natural gas ","[1'000 Nm3/yr]",null,0,0,0,0,0,0,0,0,0,0,0,0,0,0,0,0,0,0,0,0,0,0,0,0,0,0,0,0,0,0,0,0,0,0,0,0]
[null,"303f",null,"shale","[t/yr]",null,0,0,0,0,0,0,0,0,0,0,0,0,0,0,0,0,0,0,0,0,0,0,0,0,0,0,0,0,0,0,0,0,0,0,0,0]
[null,"303g","     Alternative fossil and mixed fuels"]
[null,"303h",null,"other fossil based wastes and mixed fuels","[t/yr]",null,0,0,0,0,0,0,0,0,0,0,0,0,0,0,0,0,0,0,0,0,0,0,0,0,0,0,0,0,0,0,0,0,0,0,0,0]
[null,"303i","     Alternative biomass fuels"]
[null,"303j",null,"other biomass","[t/yr]",null,0,0,0,0,0,0,0,0,0,0,0,0,0,0,0,0,0,0,0,0,0,0,0,0,0,0,0,0,0,0,0,0,0,0,0,0]
[null,304,"On-site power generation"]
[null,"304aa","     Conventional fossil fuels"]
[null,"304a",null,"coal + anthracite + lignite","[t/yr]",null,0,0,0,0,0,0,0,0,0,0,0,0,0,0,0,0,0,0,0,0,0,0,0,0,0,0,0,0,0,0,0,0,0,0,0,0]
[null,"304b",null,"(ultra) heavy fuel","[t/yr]",null,0,0,0,0,0,0,0,0,0,0,0,0,0,0,0,0,0,0,0,0,0,0,0,0,0,0,0,0,0,0,0,0,0,0,0,0]
[null,"304c",null,"diesel oil","[t/yr]",null,0,0,0,0,0,0,0,0,0,0,0,0,0,0,0,0,0,0,0,0,0,0,0,0,0,0,0,0,0,0,0,0,0,0,0,0]
[null,"304d",null,"natural gas ","[1'000 Nm3/yr]",null,0,0,0,0,0,0,0,0,0,0,0,0,0,0,0,0,0,0,0,0,0,0,0,0,0,0,0,0,0,0,0,0,0,0,0,0]
[null,"304i",null,"petrol coke","[t/yr]",null,0,0,0,0,0,0,0,0,0,0,0,0,0,0,0,0,0,0,0,0,0,0,0,0,0,0,0,0,0,0,0,0,0,0,0,0]
[null,"304j",null,"other fossil fuels","[t/yr]",null,0,0,0,0,0,0,0,0,0,0,0,0,0,0,0,0,0,0,0,0,0,0,0,0,0,0,0,0,0,0,0,0,0,0,0,0]
[null,"304f","     Alternative fossil and mixed fuels"]
[null,"304g",null,"other fossil based wastes and mixed fuels","[t/yr]",null,0,0,0,0,0,0,0,0,0,0,0,0,0,0,0,0,0,0,0,0,0,0,0,0,0,0,0,0,0,0,0,0,0,0,0,0]
[null,"304h","     Alternative biomass fuels"]
[null,"304e",null,"other biomass","[t/yr]",null,0,0,0,0,0,0,0,0,0,0,0,0,0,0,0,0,0,0,0,0,0,0,0,0,0,0,0,0,0,0,0,0,0,0,0,0]
[]
[null,"Non-Kiln Fuel Lower Heating Values ",null,null,null,null,{"$f":"G$7","v":1990},1991,1992,1993,1994,1995,1996,1997,1998,1999,2000,2001,2002,2003,2004,2005,2006,2007,2008,2009,2010,2011,2012,2013,2014,2015,2016,2017,2018,2019,2020,2021,2022,2023,2024,2025]
[null,311,"Equipment and On-Site Vehicles fossil fuels"]
[null,"311a",null,"diesel oil","[GJ/t]",null,{"$f":"G299","v":0},0,0,0,0,0,0,0,0,0,0,0,0,0,0,0,0,0,0,0,0,0,0,0,0,0,0,0,0,0,0,0,0,0,0,0]
[null,"311b",null,"gasoline","[GJ/t]",null,0,0,0,0,0,0,0,0,0,0,0,0,0,0,0,0,0,0,0,0,0,0,0,0,0,0,0,0,0,0,0,0,0,0,0,0]
[null,"311ba",null,"other fossil fuels","[GJ/t]",null,0,0,0,0,0,0,0,0,0,0,0,0,0,0,0,0,0,0,0,0,0,0,0,0,0,0,0,0,0,0,0,0,0,0,0,0]
[null,"311c","Equipment and On-Site Vehicles fuels (containing biomass)"]
[null,"311d",null,"bio and mixed diesel ","[GJ/t]",null,0,0,0,0,0,0,0,0,0,0,0,0,0,0,0,0,0,0,0,0,0,0,0,0,0,0,0,0,0,0,0,0,0,0,0,0]
[null,312,"Room Heating and Cooling"]
[null,"312a",null,"diesel oil","[GJ/t]",null,{"$f":"G299","v":0},0,0,0,0,0,0,0,0,0,0,0,0,0,0,0,0,0,0,0,0,0,0,0,0,0,0,0,0,0,0,0,0,0,0,0]
[null,"312b",null,"natural gas","[GJ/1'000 Nm3]",null,{"$f":"G300","v":0},0,0,0,0,0,0,0,0,0,0,0,0,0,0,0,0,0,0,0,0,0,0,0,0,0,0,0,0,0,0,0,0,0,0,0]
[null,"312c",null,"other fossil fuels","[GJ/t]",null,0,0,0,0,0,0,0,0,0,0,0,0,0,0,0,0,0,0,0,0,0,0,0,0,0,0,0,0,0,0,0,0,0,0,0,0]
[null,313,"Drying of mineral components"]
[null,"313k","     Conventional fossil fuels"]
[null,"313a",null,"coal + anthracite + lignite","[GJ/t]",null,{"$f":"G270","v":0},0,0,0,0,0,0,0,0,0,0,0,0,0,0,0,0,0,0,0,0,0,0,0,0,0,0,0,0,0,0,0,0,0,0,0]
[null,"313b",null,"petrol coke","[GJ/t]",null,{"$f":"G271","v":0},0,0,0,0,0,0,0,0,0,0,0,0,0,0,0,0,0,0,0,0,0,0,0,0,0,0,0,0,0,0,0,0,0,0,0]
[null,"313c",null,"(ultra) heavy fuel","[GJ/t]",null,{"$f":"G272","v":0},0,0,0,0,0,0,0,0,0,0,0,0,0,0,0,0,0,0,0,0,0,0,0,0,0,0,0,0,0,0,0,0,0,0,0]
[null,"313d",null,"diesel oil","[GJ/t]",null,{"$f":"G273","v":0},0,0,0,0,0,0,0,0,0,0,0,0,0,0,0,0,0,0,0,0,0,0,0,0,0,0,0,0,0,0,0,0,0,0,0]
[null,"313e",null,"natural gas ","[GJ/1'000 Nm3]",null,{"$f":"G274","v":0},0,0,0,0,0,0,0,0,0,0,0,0,0,0,0,0,0,0,0,0,0,0,0,0,0,0,0,0,0,0,0,0,0,0,0]
[null,"313f",null,"shale","[GJ/t]",null,{"$f":"G275","v":0},0,0,0,0,0,0,0,0,0,0,0,0,0,0,0,0,0,0,0,0,0,0,0,0,0,0,0,0,0,0,0,0,0,0,0]
[null,"313g","     Alternative fossil and mixed fuels"]
[null,"313h",null,"other fossil based wastes and mixed fuels","[GJ/t]",null,0,0,0,0,0,0,0,0,0,0,0,0,0,0,0,0,0,0,0,0,0,0,0,0,0,0,0,0,0,0,0,0,0,0,0,0]
[null,"313i","     Alternative biomass fuels"]
[null,"313j",null,"other biomass","[GJ/t]",null,0,0,0,0,0,0,0,0,0,0,0,0,0,0,0,0,0,0,0,0,0,0,0,0,0,0,0,0,0,0,0,0,0,0,0,0]
[null,314,"On-site power generation"]
[null,"314aa","     Conventional fossil fuels"]
[null,"314a",null,"coal + anthracite + lignite","[GJ/t]",null,{"$f":"G270","v":0},0,0,0,0,0,0,0,0,0,0,0,0,0,0,0,0,0,0,0,0,0,0,0,0,0,0,0,0,0,0,0,0,0,0,0]
[null,"314b",null,"(ultra) heavy fuel","[GJ/t]",null,{"$f":"G272","v":0},0,0,0,0,0,0,0,0,0,0,0,0,0,0,0,0,0,0,0,0,0,0,0,0,0,0,0,0,0,0,0,0,0,0,0]
[null,"314c",null,"diesel oil","[GJ/t]",null,{"$f":"G273","v":0},0,0,0,0,0,0,0,0,0,0,0,0,0,0,0,0,0,0,0,0,0,0,0,0,0,0,0,0,0,0,0,0,0,0,0]
[null,"314d",null,"natural gas ","[GJ/1'000 Nm3]",null,{"$f":"G274","v":0},0,0,0,0,0,0,0,0,0,0,0,0,0,0,0,0,0,0,0,0,0,0,0,0,0,0,0,0,0,0,0,0,0,0,0]
[null,"314i",null,"petrol coke","[GJ/t]",null,{"$f":"G271","v":0},0,0,0,0,0,0,0,0,0,0,0,0,0,0,0,0,0,0,0,0,0,0,0,0,0,0,0,0,0,0,0,0,0,0,0]
[null,"314j",null,"other fossil fuels","[GJ/t]",null,0,0,0,0,0,0,0,0,0,0,0,0,0,0,0,0,0,0,0,0,0,0,0,0,0,0,0,0,0,0,0,0,0,0,0,0]
[null,"314f","     Alternative fossil and mixed fuels"]
[null,"314g",null,"other fossil based wastes and mixed fuels","[GJ/t]",null,0,0,0,0,0,0,0,0,0,0,0,0,0,0,0,0,0,0,0,0,0,0,0,0,0,0,0,0,0,0,0,0,0,0,0,0]
[null,"314h","     Alternative biomass fuels"]
[null,"314e",null,"other biomass","[GJ/t]",null,0,0,0,0,0,0,0,0,0,0,0,0,0,0,0,0,0,0,0,0,0,0,0,0,0,0,0,0,0,0,0,0,0,0,0,0]
[]
[null,"Non-Kiln Fuel Consumption in terajoules (TJ) per year",null,null,null,null,{"$f":"G$7","v":1990},1991,1992,1993,1994,1995,1996,1997,1998,1999,2000,2001,2002,2003,2004,2005,2006,2007,2008,2009,2010,2011,2012,2013,2014,2015,2016,2017,2018,2019,2020,2021,2022,2023,2024,2025]
[null,321,"Equipment and On-Site Vehicles fossil fuels",null,"[TJ/yr]",null,{"$f":"IF(COUNTBLANK(G503:G505)=3,\"\",SUM(G503:G505))","v":0},0,0,0,0,0,0,0,0,0,0,0,0,0,0,0,0,0,0,0,0,0,0,0,0,0,0,0,0,0,0,0,0,0,0,0]
[null,"321a",null,"diesel oil","[TJ/yr]",null,{"$f":"IF(G431=\"\",\"\",G431*G467/1000)","v":0},0,0,0,0,0,0,0,0,0,0,0,0,0,0,0,0,0,0,0,0,0,0,0,0,0,0,0,0,0,0,0,0,0,0,0]
[null,"321b",null,"gasoline","[TJ/yr]",null,{"$f":"IF(G432=\"\",\"\",G432*G468/1000)","v":0},0,0,0,0,0,0,0,0,0,0,0,0,0,0,0,0,0,0,0,0,0,0,0,0,0,0,0,0,0,0,0,0,0,0,0]
[null,"321ba",null,"other fossil fuels","[TJ/yr]",null,{"$f":"IF(G433=\"\",\"\",G433*G469/1000)","v":0},0,0,0,0,0,0,0,0,0,0,0,0,0,0,0,0,0,0,0,0,0,0,0,0,0,0,0,0,0,0,0,0,0,0,0]
[null,"321c","Equipment and On-Site Vehicles fuels (containing biomass)",null,"[TJ/yr]",null,{"$f":"G507","v":0},0,0,0,0,0,0,0,0,0,0,0,0,0,0,0,0,0,0,0,0,0,0,0,0,0,0,0,0,0,0,0,0,0,0,0]
[null,"321d",null,"bio and mixed diesel ","[TJ/yr]",null,{"$f":"IF(G435=\"\",\"\",G435*G471/1000)","v":0},0,0,0,0,0,0,0,0,0,0,0,0,0,0,0,0,0,0,0,0,0,0,0,0,0,0,0,0,0,0,0,0,0,0,0]
[null,322,"Room Heating and Cooling",null,"[TJ/yr]",null,{"$f":"IF(COUNTBLANK(G509:G511)=3,\"\",SUM(G509:G511))","v":0},0,0,0,0,0,0,0,0,0,0,0,0,0,0,0,0,0,0,0,0,0,0,0,0,0,0,0,0,0,0,0,0,0,0,0]
[null,"322a",null,"diesel oil","[TJ/yr]",null,{"$f":"IF(G437=\"\",\"\",G437*G473/1000)","v":0},0,0,0,0,0,0,0,0,0,0,0,0,0,0,0,0,0,0,0,0,0,0,0,0,0,0,0,0,0,0,0,0,0,0,0]
[null,"322b",null,"natural gas","[TJ/yr]",null,{"$f":"IF(G438=\"\",\"\",G438*G474/1000)","v":0},0,0,0,0,0,0,0,0,0,0,0,0,0,0,0,0,0,0,0,0,0,0,0,0,0,0,0,0,0,0,0,0,0,0,0]
[null,"322c",null,"other fossil fuels","[TJ/yr]",null,{"$f":"IF(G439=\"\",\"\",G439*G475/1000)","v":0},0,0,0,0,0,0,0,0,0,0,0,0,0,0,0,0,0,0,0,0,0,0,0,0,0,0,0,0,0,0,0,0,0,0,0]
[null,323,"Drying of mineral components"]
[null,"323k","     Conventional fossil fuels",null,"[TJ/yr]",null,{"$f":"IF(COUNTBLANK(G514:G519)=6,\"\",SUM(G514:G519))","v":0},0,0,0,0,0,0,0,0,0,0,0,0,0,0,0,0,0,0,0,0,0,0,0,0,0,0,0,0,0,0,0,0,0,0,0]
[null,"323a",null,"coal + anthracite + lignite","[TJ/yr]",null,{"$f":"IF(G442=\"\",\"\",G442*G478/1000)","v":0},0,0,0,0,0,0,0,0,0,0,0,0,0,0,0,0,0,0,0,0,0,0,0,0,0,0,0,0,0,0,0,0,0,0,0]
[null,"323b",null,"petrol coke","[TJ/yr]",null,{"$f":"IF(G443=\"\",\"\",G443*G479/1000)","v":0},0,0,0,0,0,0,0,0,0,0,0,0,0,0,0,0,0,0,0,0,0,0,0,0,0,0,0,0,0,0,0,0,0,0,0]
[null,"323c",null,"(ultra) heavy fuel","[TJ/yr]",null,{"$f":"IF(G444=\"\",\"\",G444*G480/1000)","v":0},0,0,0,0,0,0,0,0,0,0,0,0,0,0,0,0,0,0,0,0,0,0,0,0,0,0,0,0,0,0,0,0,0,0,0]
[null,"323d",null,"diesel oil","[TJ/yr]",null,{"$f":"IF(G445=\"\",\"\",G445*G481/1000)","v":0},0,0,0,0,0,0,0,0,0,0,0,0,0,0,0,0,0,0,0,0,0,0,0,0,0,0,0,0,0,0,0,0,0,0,0]
[null,"323e",null,"natural gas ","[TJ/yr]",null,{"$f":"IF(G446=\"\",\"\",G446*G482/1000)","v":0},0,0,0,0,0,0,0,0,0,0,0,0,0,0,0,0,0,0,0,0,0,0,0,0,0,0,0,0,0,0,0,0,0,0,0]
[null,"323f",null,"shale","[TJ/yr]",null,{"$f":"IF(G447=\"\",\"\",G447*G483/1000)","v":0},0,0,0,0,0,0,0,0,0,0,0,0,0,0,0,0,0,0,0,0,0,0,0,0,0,0,0,0,0,0,0,0,0,0,0]
[null,"323g","     Alternative fossil and mixed fuels",null,"[TJ/yr]",null,{"$f":"G521","v":0},0,0,0,0,0,0,0,0,0,0,0,0,0,0,0,0,0,0,0,0,0,0,0,0,0,0,0,0,0,0,0,0,0,0,0]
[null,"323h",null,"other fossil based wastes and mixed fuels","[TJ/yr]",null,{"$f":"IF(G449=\"\",\"\",G449*G485/1000)","v":0},0,0,0,0,0,0,0,0,0,0,0,0,0,0,0,0,0,0,0,0,0,0,0,0,0,0,0,0,0,0,0,0,0,0,0]
[null,"323i","     Alternative biomass fuels",null,"[TJ/yr]",null,{"$f":"G523","v":0},0,0,0,0,0,0,0,0,0,0,0,0,0,0,0,0,0,0,0,0,0,0,0,0,0,0,0,0,0,0,0,0,0,0,0]
[null,"323j",null,"other biomass","[TJ/yr]",null,{"$f":"IF(G451=\"\",\"\",G451*G487/1000)","v":0},0,0,0,0,0,0,0,0,0,0,0,0,0,0,0,0,0,0,0,0,0,0,0,0,0,0,0,0,0,0,0,0,0,0,0]
[null,324,"On-site power generation"]
[null,"324aa","     Conventional fossil fuels",null,"[TJ/yr]",null,{"$f":"IF(COUNTBLANK(G526:G531)=6,\"\",SUM(G526:G531))","v":0},0,0,0,0,0,0,0,0,0,0,0,0,0,0,0,0,0,0,0,0,0,0,0,0,0,0,0,0,0,0,0,0,0,0,0]
[null,"324a",null,"coal + anthracite + lignite","[TJ/yr]",null,{"$f":"IF(G454=\"\",\"\",G454*G490/1000)","v":0},0,0,0,0,0,0,0,0,0,0,0,0,0,0,0,0,0,0,0,0,0,0,0,0,0,0,0,0,0,0,0,0,0,0,0]
[null,"324b",null,"(ultra) heavy fuel","[TJ/yr]",null,{"$f":"IF(G455=\"\",\"\",G455*G491/1000)","v":0},0,0,0,0,0,0,0,0,0,0,0,0,0,0,0,0,0,0,0,0,0,0,0,0,0,0,0,0,0,0,0,0,0,0,0]
[null,"324c",null,"diesel oil","[TJ/yr]",null,{"$f":"IF(G456=\"\",\"\",G456*G492/1000)","v":0},0,0,0,0,0,0,0,0,0,0,0,0,0,0,0,0,0,0,0,0,0,0,0,0,0,0,0,0,0,0,0,0,0,0,0]
[null,"324d",null,"natural gas ","[TJ/yr]",null,{"$f":"IF(G457=\"\",\"\",G457*G493/1000)","v":0},0,0,0,0,0,0,0,0,0,0,0,0,0,0,0,0,0,0,0,0,0,0,0,0,0,0,0,0,0,0,0,0,0,0,0]
[null,"324i",null,"petrol coke","[TJ/yr]",null,{"$f":"IF(G458=\"\",\"\",G458*G494/1000)","v":0},0,0,0,0,0,0,0,0,0,0,0,0,0,0,0,0,0,0,0,0,0,0,0,0,0,0,0,0,0,0,0,0,0,0,0]
[null,"324j",null,"other fossil fuels","[TJ/yr]",null,{"$f":"IF(G459=\"\",\"\",G459*G495/1000)","v":0},0,0,0,0,0,0,0,0,0,0,0,0,0,0,0,0,0,0,0,0,0,0,0,0,0,0,0,0,0,0,0,0,0,0,0]
[null,"324f","     Alternative fossil and mixed fuels",null,"[TJ/yr]",null,{"$f":"G533","v":0},0,0,0,0,0,0,0,0,0,0,0,0,0,0,0,0,0,0,0,0,0,0,0,0,0,0,0,0,0,0,0,0,0,0,0]
[null,"324g",null,"other fossil based wastes and mixed fuels","[TJ/yr]",null,{"$f":"IF(G461=\"\",\"\",G461*G497/1000)","v":0},0,0,0,0,0,0,0,0,0,0,0,0,0,0,0,0,0,0,0,0,0,0,0,0,0,0,0,0,0,0,0,0,0,0,0]
[null,"324h","     Alternative biomass fuels",null,"[TJ/yr]",null,{"$f":"G535","v":0},0,0,0,0,0,0,0,0,0,0,0,0,0,0,0,0,0,0,0,0,0,0,0,0,0,0,0,0,0,0,0,0,0,0,0]
[null,"324e",null,"other biomass","[TJ/yr]",null,{"$f":"IF(G463=\"\",\"\",G463*G499/1000)","v":0},0,0,0,0,0,0,0,0,0,0,0,0,0,0,0,0,0,0,0,0,0,0,0,0,0,0,0,0,0,0,0,0,0,0,0]
[]
[null,"CO2 Emissions from Non-Kiln fuels",null,null,null,null,{"$f":"G$7","v":1990},1991,1992,1993,1994,1995,1996,1997,1998,1999,2000,2001,2002,2003,2004,2005,2006,2007,2008,2009,2010,2011,2012,2013,2014,2015,2016,2017,2018,2019,2020,2021,2022,2023,2024,2025]
[null,331,"Equipment and On-Site Vehicles",null,"[t CO2/yr]",null,{"$f":"IF(COUNTBLANK(G539:G541)=3,\"\",SUM(G539:G541))","v":0},0,0,0,0,0,0,0,0,0,0,0,0,0,0,0,0,0,0,0,0,0,0,0,0,0,0,0,0,0,0,0,0,0,0,0]
[null,"331a",null,"diesel oil (incl. fossil CO2 of mixed diesel)","[t CO2/yr]",null,{"$f":"IF(OR(G503=\"\",G506=\"\"),\"\",G503*G$352+G507*G367*(1-G375))","v":0},0,0,0,0,0,0,0,0,0,0,0,0,0,0,0,0,0,0,0,0,0,0,0,0,0,0,0,0,0,0,0,0,0,0,0]
[null,"331b",null,"gasoline","[t CO2/yr]",null,{"$f":"IF(G504=\"\",\"\",G504*G356)","v":0},0,0,0,0,0,0,0,0,0,0,0,0,0,0,0,0,0,0,0,0,0,0,0,0,0,0,0,0,0,0,0,0,0,0,0]
[null,"331ba",null,"other fossil fuels","[t CO2/yr]",null,{"$f":"IF(G505=\"\",\"\",G505*G$357)","v":0},0,0,0,0,0,0,0,0,0,0,0,0,0,0,0,0,0,0,0,0,0,0,0,0,0,0,0,0,0,0,0,0,0,0,0]
[null,"331c","Equipment and On-Site Vehicles biomass fuels",null,"[t CO2/yr]",null,{"$f":"G543","v":0},0,0,0,0,0,0,0,0,0,0,0,0,0,0,0,0,0,0,0,0,0,0,0,0,0,0,0,0,0,0,0,0,0,0,0]
[null,"331d",null,"bio diesel (biogenic CO2 of bio or mixed diesel)","[t CO2/yr]",null,{"$f":"IF(G507=\"\",\"\",G507*G367*G375)","v":0},0,0,0,0,0,0,0,0,0,0,0,0,0,0,0,0,0,0,0,0,0,0,0,0,0,0,0,0,0,0,0,0,0,0,0]
[null,332,"Room Heating and Cooling",null,"[t CO2/yr]",null,{"$f":"IF(COUNTBLANK(G545:G547)=3,\"\",SUM(G545:G547))","v":0},0,0,0,0,0,0,0,0,0,0,0,0,0,0,0,0,0,0,0,0,0,0,0,0,0,0,0,0,0,0,0,0,0,0,0]
[null,"332a",null,"diesel oil","[t CO2/yr]",null,{"$f":"IF(G509=\"\",\"\",G509*G$352)","v":0},0,0,0,0,0,0,0,0,0,0,0,0,0,0,0,0,0,0,0,0,0,0,0,0,0,0,0,0,0,0,0,0,0,0,0]
[null,"332b",null,"natural gas","[t CO2/yr]",null,{"$f":"IF(G510=\"\",\"\",G510*G$353)","v":0},0,0,0,0,0,0,0,0,0,0,0,0,0,0,0,0,0,0,0,0,0,0,0,0,0,0,0,0,0,0,0,0,0,0,0]
[null,"332c",null,"other fossil fuels","[t CO2/yr]",null,{"$f":"IF(G511=\"\",\"\",G511*G$358)","v":0},0,0,0,0,0,0,0,0,0,0,0,0,0,0,0,0,0,0,0,0,0,0,0,0,0,0,0,0,0,0,0,0,0,0,0]
[null,333,"Drying of mineral components"]
[null,"333k","     Conventional fossil fuels",null,"[t CO2/yr]",null,{"$f":"IF(COUNTBLANK(G550:G555)=6,\"\",SUM(G550:G555))","v":0},0,0,0,0,0,0,0,0,0,0,0,0,0,0,0,0,0,0,0,0,0,0,0,0,0,0,0,0,0,0,0,0,0,0,0]
[null,"333a",null,"coal + anthracite + lignite","[t CO2/yr]",null,{"$f":"IF(G514=\"\",\"\",G514*G$349)","v":0},0,0,0,0,0,0,0,0,0,0,0,0,0,0,0,0,0,0,0,0,0,0,0,0,0,0,0,0,0,0,0,0,0,0,0]
[null,"333b",null,"petrol coke","[t CO2/yr]",null,{"$f":"IF(G515=\"\",\"\",G515*G$350)","v":0},0,0,0,0,0,0,0,0,0,0,0,0,0,0,0,0,0,0,0,0,0,0,0,0,0,0,0,0,0,0,0,0,0,0,0]
[null,"333c",null,"(ultra) heavy fuel","[t CO2/yr]",null,{"$f":"IF(G516=\"\",\"\",G516*G$351)","v":0},0,0,0,0,0,0,0,0,0,0,0,0,0,0,0,0,0,0,0,0,0,0,0,0,0,0,0,0,0,0,0,0,0,0,0]
[null,"333d",null,"diesel oil","[t CO2/yr]",null,{"$f":"IF(G517=\"\",\"\",G517*G$352)","v":0},0,0,0,0,0,0,0,0,0,0,0,0,0,0,0,0,0,0,0,0,0,0,0,0,0,0,0,0,0,0,0,0,0,0,0]
[null,"333e",null,"natural gas ","[t CO2/yr]",null,{"$f":"IF(G518=\"\",\"\",G518*G$353)","v":0},0,0,0,0,0,0,0,0,0,0,0,0,0,0,0,0,0,0,0,0,0,0,0,0,0,0,0,0,0,0,0,0,0,0,0]
[null,"333f",null,"shale","[t CO2/yr]",null,{"$f":"IF(G519=\"\",\"\",G519*G$354)","v":0},0,0,0,0,0,0,0,0,0,0,0,0,0,0,0,0,0,0,0,0,0,0,0,0,0,0,0,0,0,0,0,0,0,0,0]
[null,"333g","     Alternative fossil fuels - fossil total emissions",null,"[t CO2/yr]",null,{"$f":"G557","v":0},0,0,0,0,0,0,0,0,0,0,0,0,0,0,0,0,0,0,0,0,0,0,0,0,0,0,0,0,0,0,0,0,0,0,0]
[null,"333h",null,"other fossil based wastes / fossil content","[t CO2/yr]",null,{"$f":"IF(G521=\"\",\"\",G521*G$368*(1-G376))","v":0},0,0,0,0,0,0,0,0,0,0,0,0,0,0,0,0,0,0,0,0,0,0,0,0,0,0,0,0,0,0,0,0,0,0,0]
[null,"333i","     Alternative biomass fuels - biomass total emissions",null,"[t CO2/yr]",null,{"$f":"G559","v":0},0,0,0,0,0,0,0,0,0,0,0,0,0,0,0,0,0,0,0,0,0,0,0,0,0,0,0,0,0,0,0,0,0,0,0]
[null,"333j",null,"other biomass (incl. biomass content of mixed fuels)","[t CO2/yr]",null,{"$f":"IF(G523=\"\",\"\",(G523*G385)+(G521*G368*G376))","v":0},0,0,0,0,0,0,0,0,0,0,0,0,0,0,0,0,0,0,0,0,0,0,0,0,0,0,0,0,0,0,0,0,0,0,0]
[null,334,"On-site power generation"]
[null,"334aa","     Conventional fossil fuels",null,"[t CO2/yr]",null,{"$f":"IF(COUNTBLANK(G562:G567)=6,\"\",SUM(G562:G567))","v":0},0,0,0,0,0,0,0,0,0,0,0,0,0,0,0,0,0,0,0,0,0,0,0,0,0,0,0,0,0,0,0,0,0,0,0]
[null,"334a",null,"coal + anthracite + lignite","[t CO2/yr]",null,{"$f":"IF(G526=\"\",\"\",G526*G$349)","v":0},0,0,0,0,0,0,0,0,0,0,0,0,0,0,0,0,0,0,0,0,0,0,0,0,0,0,0,0,0,0,0,0,0,0,0]
[null,"334b",null,"(ultra) heavy fuel","[t CO2/yr]",null,{"$f":"IF(G527=\"\",\"\",G527*G$351)","v":0},0,0,0,0,0,0,0,0,0,0,0,0,0,0,0,0,0,0,0,0,0,0,0,0,0,0,0,0,0,0,0,0,0,0,0]
[null,"334c",null,"diesel oil","[t CO2/yr]",null,{"$f":"IF(G528=\"\",\"\",G528*G$352)","v":0},0,0,0,0,0,0,0,0,0,0,0,0,0,0,0,0,0,0,0,0,0,0,0,0,0,0,0,0,0,0,0,0,0,0,0]
[null,"334d",null,"natural gas ","[t CO2/yr]",null,{"$f":"IF(G529=\"\",\"\",G529*G$353)","v":0},0,0,0,0,0,0,0,0,0,0,0,0,0,0,0,0,0,0,0,0,0,0,0,0,0,0,0,0,0,0,0,0,0,0,0]
[null,"334i",null,"petrol coke","[t CO2/yr]",null,{"$f":"IF(G530=\"\",\"\",G530*G$350)","v":0},0,0,0,0,0,0,0,0,0,0,0,0,0,0,0,0,0,0,0,0,0,0,0,0,0,0,0,0,0,0,0,0,0,0,0]
[null,"334j",null,"other fossil fuels","[t CO2/yr]",null,{"$f":"IF(G531=\"\",\"\",G531*G$359)","v":0},0,0,0,0,0,0,0,0,0,0,0,0,0,0,0,0,0,0,0,0,0,0,0,0,0,0,0,0,0,0,0,0,0,0,0]
[null,"334f","     Alternative fossil fuels - fossil total emissions",null,"[t CO2/yr]",null,{"$f":"G569","v":0},0,0,0,0,0,0,0,0,0,0,0,0,0,0,0,0,0,0,0,0,0,0,0,0,0,0,0,0,0,0,0,0,0,0,0]
[null,"334g",null,"other fossil based wastes / fossil content","[t CO2/yr]",null,{"$f":"IF(G533=\"\",\"\",G533*G$368*(1-G376))","v":0},0,0,0,0,0,0,0,0,0,0,0,0,0,0,0,0,0,0,0,0,0,0,0,0,0,0,0,0,0,0,0,0,0,0,0]
[null,"334h","     Alternative biomass fuels - biomass total emissions",null,"[t CO2/yr]",null,{"$f":"G571","v":0},0,0,0,0,0,0,0,0,0,0,0,0,0,0,0,0,0,0,0,0,0,0,0,0,0,0,0,0,0,0,0,0,0,0,0]
[null,"334e",null,"other biomass (incl. biomass content of mixed fuels)","[t CO2/yr]",null,{"$f":"IF(G535=\"\",\"\",(G535*G$385)+(G533*G368*G376))","v":0},0,0,0,0,0,0,0,0,0,0,0,0,0,0,0,0,0,0,0,0,0,0,0,0,0,0,0,0,0,0,0,0,0,0,0]

{"sheet":"Def","index":18,"n_rows":120,"n_cols":11,"rows_kept":120,"cut":false,"hidden":true,"merged":[]}
["Kiln_Type","Capacity","Plant_Type","Steps","ISO Country name","Region","Data verification","Annex","Year",null,"Method"]
["DRY WITHOUT PREHEATER (LONG DRY KILN)","0 < X < 500","GREY CEMENT","yes","ALBANIA","AFRICA","NO ASSURANCE","Annex 1",1990,null,"A1"]
["DRY WITH PREHEATER WITHOUT PRECALCINER","500 < X < 2000","WHITE CEMENT","no","ALGERIA","AMERICA","REASONABLE ASSURANCE","non-Annex 1",1991,null,"A2"]
["DRY WITH PREHEATER AND PRECALCINER","2000 < X < 5000","GRINDING CENTER","n.a.","ANGOLA","ASIA","MODERATE ASSURANCE",null,1992,null,"B1"]
["MIXED KILN TYPE","5000 < X < 8000","OTHER PLANT",null,"ARGENTINA","EUROPE",null,null,1993,null,"B2"]
["SEMI-WET/SEMI DRY","X > 8000","NOT IN USE",null,"ARMENIA","NORTH AMERICA",null,null,1994]
["SHAFT KILN",null,null,null,"AUSTRALIA","OCEANIA",null,null,1995]
["WET",null,null,null,"AUSTRIA",null,null,null,1996]
["N/A",null,null,null,"AZERBAIJAN",null,null,null,1997]
[null,null,null,null,"BAHRAIN",null,null,null,1998]
[null,null,null,null,"BANGLADESH",null,null,null,1999]
[null,null,null,null,"BELARUS",null,null,null,2000]
[null,null,null,null,"BELGIUM",null,null,null,2001]
[null,null,null,null,"BENIN",null,null,null,2002]
[null,null,null,null,"BOLIVIA",null,null,null,2003]
[null,null,null,null,"BOSNIA AND HERZEGOVINA",null,null,null,2004]
[null,null,null,null,"BRAZIL",null,null,null,2005]
[null,null,null,null,"BRUNEI DARUSSALAM",null,null,null,2006]
[null,null,null,null,"BULGARIA",null,null,null,2007]
[null,null,null,null,"CAMBODJA",null,null,null,2008]
[null,null,null,null,"CAMEROON",null,null,null,2009]
[null,null,null,null,"CANADA",null,null,null,2010]
[null,null,null,null,"CHILE",null,null,null,2011]
[null,null,null,null,"CHINA",null,null,null,2012]
[null,null,null,null,"COLOMBIA",null,null,null,2013]
[null,null,null,null,"CONGO",null,null,null,2014]
[null,null,null,null,"COSTA RICA",null,null,null,2015]
[null,null,null,null,"COTE D'IVOIRE",null,null,null,2016]
[null,null,null,null,"CROATIA",null,null,null,2017]
[null,null,null,null,"CUBA",null,null,null,2018]
[null,null,null,null,"CYPRUS",null,null,null,2019]
[null,null,null,null,"CZECH REPUBLIC",null,null,null,2020]
[null,null,null,null,"DENMARK",null,null,null,2021]
[null,null,null,null,"DOMINICAN REPUBLIC",null,null,null,2022]
[null,null,null,null,"ECUADOR",null,null,null,2023]
[null,null,null,null,"EGYPT",null,null,null,2024]
[null,null,null,null,"EL SALVADOR",null,null,null,2025]
[null,null,null,null,"ERITREA",null,null,null,2026]
[null,null,null,null,"ESTONIA",null,null,null,2027]
[null,null,null,null,"ETHIOPIA",null,null,null,2028]
[null,null,null,null,"FINLAND",null,null,null,2029]
[null,null,null,null,"FRANCE",null,null,null,2030]
[null,null,null,null,"GABON",null,null,null,2031]
[null,null,null,null,"GEORGIA",null,null,null,2032]
[null,null,null,null,"GERMANY",null,null,null,2033]
[null,null,null,null,"GHANA",null,null,null,2034]
[null,null,null,null,"GIBRALTAR",null,null,null,2035]
[null,null,null,null,"GREECE",null,null,null,2036]
[null,null,null,null,"GUATEMALA",null,null,null,2037]
[null,null,null,null,"HAITI",null,null,null,2038]
[null,null,null,null,"HONDURAS",null,null,null,2039]
[null,null,null,null,"HUNGARY",null,null,null,2040]
[null,null,null,null,"ICELAND",null,null,null,2041]
[null,null,null,null,"INDIA",null,null,null,2042]
[null,null,null,null,"INDONESIA",null,null,null,2043]
[null,null,null,null,"IRAN, ISLAMIC REPUBLIC OF",null,null,null,2044]
[null,null,null,null,"IRAQ",null,null,null,2045]
[null,null,null,null,"IRELAND",null,null,null,2046]
[null,null,null,null,"ISRAEL",null,null,null,2047]
[null,null,null,null,"ITALY",null,null,null,2048]
[null,null,null,null,"JAMAICA",null,null,null,2049]
[null,null,null,null,"JAPAN",null,null,null,2050]
[null,null,null,null,"JORDAN"]
[null,null,null,null,"KAZAKHSTAN"]
[null,null,null,null,"KENYA"]
[null,null,null,null,"KUWAIT"]
[null,null,null,null,"KYRGYZSTAN"]
[null,null,null,null,"LAOS"]
[null,null,null,null,"LATVIA"]
[null,null,null,null,"LEBANON"]
[null,null,null,null,"LIBYAN ARAB JAMAHIRIYA"]
[null,null,null,null,"LITHUANIA"]
[null,null,null,null,"LUXEMBOURG"]
[null,null,null,null,"MACEDONIA, THE FORMER YUGOSLAV REPUBLIC OF"]
[null,null,null,null,"MADAGASCAR"]
[null,null,null,null,"MALAYSIA"]
[null,null,null,null,"MALTA"]
[null,null,null,null,"MEXICO"]
[null,null,null,null,"MOROCCO"]
[null,null,null,null,"MOZAMBIQUE"]
[null,null,null,null,"MYANMAR"]
[null,null,null,null,"NAMIBIA"]
[null,null,null,null,"NEPAL"]
[null,null,null,null,"NETHERLANDS"]
[null,null,null,null,"NETHERLANDS ANTILLES"]
[null,null,null,null,"NEW ZEALAND"]
[null,null,null,null,"NICARAGUA"]
[null,null,null,null,"NIGERIA"]
[null,null,null,null,"NORWAY"]
[null,null,null,null,"OMAN"]
[null,null,null,null,"PARAGUAY"]
[null,null,null,null,"PHILIPPINES"]
[null,null,null,null,"POLAND"]
[null,null,null,null,"PORTUGAL"]
[null,null,null,null,"ROMANIA"]
[null,null,null,null,"RUSSIAN FEDERATION"]
[null,null,null,null,"SAOUDI ARABIA"]
[null,null,null,null,"SERBIA"]
[null,null,null,null,"SINGAPORE"]
[null,null,null,null,"SLOVAKIA"]
[null,null,null,null,"SLOVENIA"]
[null,null,null,null,"SOUTH AFRICA"]
[null,null,null,null,"SPAIN"]
[null,null,null,null,"SRI LANKA"]
[null,null,null,null,"SWEDEN"]
[null,null,null,null,"SWITZERLAND"]
[null,null,null,null,"THAILAND"]
[null,null,null,null,"TUNESIA"]
[null,null,null,null,"TURKEY"]
[null,null,null,null,"UKRAINE"]
[null,null,null,null,"UNITED KINGDOM"]
[null,null,null,null,"UNITED STATES OF AMERICA"]
[null,null,null,null,"URUGUAY"]
[null,null,null,null,"UZBEKISTAN"]
[null,null,null,null,"VENZUELA"]
[null,null,null,null,"VIETNAM"]
[null,null,null,null,"OTHER AFRICA XA"]
[null,null,null,null,"OTHER ASIA XS"]
[null,null,null,null,"OTHER AMERICA XL"]
[null,null,null,null,"OTHER EUROPE XE"]

{"sheet":"Plant_Template_bak","index":19,"n_rows":1,"n_cols":1,"rows_kept":1,"cut":false,"hidden":true,"merged":[[0,0,51,12]]}
["gelöscht"]